{"text_format":"1","workbook":"xlsx","n_sheets":13,"sheets":["readme","lgpl","data_lookup","coded OLH for 7 or fewer","OLH for up to 7 factors","coded NOLH for 8-11 factors","NOLH for up to 11 factors","coded NOLH for 12-16 factors","NOLH for up to 16 factors","coded NOLH for 17-22 factors","NOLH for up to 22 factors","coded NOLH for 23-29 factors","NOLH for up to 29 factors"],"not_rendered":{"charts":0,"images":0,"macros":1,"external_links":0,"defined_names":3,"comments":0,"pivot_tables":0},"unopened":[],"bounds":{"document_bytes":16777216,"sheet_cells":100000,"rows_first":2000,"rows_last":500,"rows_between":2000,"halvings":0,"cell_chars":16384,"cell_head_chars":4096},"cells_cut":0,"cells_raw":0,"read":"whole","date_system":"1900"}

{"sheet":"readme","index":0,"n_rows":0,"n_cols":0,"rows_kept":0,"cut":false,"hidden":false,"merged":[]}

{"sheet":"lgpl","index":1,"n_rows":0,"n_cols":0,"rows_kept":0,"cut":false,"hidden":false,"merged":[]}

{"sheet":"data_lookup","index":2,"n_rows":6,"n_cols":25,"rows_kept":6,"cut":false,"hidden":true,"merged":[]}
["sheet_name","num_dps","num_factors","rho_base","rho_1","rho_2","rho_3","rho_4","rho_5","rho_6","rho_7","rho_8","rho_9","rho_10","ml-2_base","ml-2_1","ml-2_2","ml-2_3","ml-2_4","ml-2_5","ml-2_6","ml-2_7","ml-2_8","ml-2_9","ml-2_10"]
["OLH for up to 7 factors",17,7]
["NOLH for up to 11 factors",33,11,2.33957219251337E-2,1.0026737967914401E-2,6.4616755793226403E-3,5.0133689839572202E-3,3.87700534759358E-3,3.1194295900178301E-3,2.4828113063407199E-3,2.2560160427807499E-3,2.0053475935828901E-3,1.8048128342246E-3,1.7015070491006299E-3,0.73182223678602998,0.413302651533069,0.30328339153105999,0.25579040890749699,0.225318147176608,0.20901042891371799,0.20139342740164101,0.184337729638195,0.17375944043303401,0.167747956983654,0.160107320795145]
["NOLH for up to 16 factors",65,16,2.19405594405594E-2,6.9055944055944098E-3,4.1666666666666701E-3,3.2124125874125899E-3,2.6223776223776199E-3,2.14160839160839E-3,1.87312687312687E-3,1.6389860139860101E-3,1.4471639471639499E-3,1.3636363636363601E-3,1.27145581691036E-3,4.4645614179804802,2.3729974911589999,1.6936229403246199,1.3427463333399601,1.1366745105709699,1.0116715706986701,0.92557862845566796,0.85199740766681498,0.79182108922290695,0.75028265839309005,0.71224650021261504]
["NOLH for up to 22 factors",129,22,7.4016100178890898E-3,3.34302325581395E-3,2.3479427549195002E-3,1.91469141323793E-3,1.7531305903398899E-3,1.55597793679189E-3,1.3512650140557101E-3,1.23546511627907E-3,1.0969489167163601E-3,1.05433810375671E-3,9.5543990892828104E-4,37.777055092455797,19.729031702602601,13.792502701478799,10.8698134625199,8.99921348991165,7.8546890966707696,6.9458026112116604,6.2470087634127403,5.6623162912004501,5.2421576133774597,4.9525695929286302]
["NOLH for up to 29 factors",257,29,3.8613587005700799E-3,1.9412835942448599E-3,1.64295086417519E-3,1.34603203330015E-3,1.16674961541942E-3,9.69227897927789E-4,9.6932889072740697E-4,9.23276174101891E-4,1.0305754129842401E-3,8.5173287485295398E-4,7.89726968353337E-4,482.913066011279,251.46456589067901,180.477543481357,138.671396521383,116.502445360674,101.142177113439,90.393804382229106,83.071086528253502,78.0508861044773,72.0607730407974,68.998665481318298]

{"sheet":"coded OLH for 7 or fewer","index":3,"n_rows":117,"n_cols":17,"rows_kept":117,"cut":false,"hidden":true,"merged":[]}
["Cioppa's factor ID","f4","f5","f7","f2","f3","f6","f1"]
[]
[]
[]
["base",6,17,14,7,5,16,10]
[null,2,5,15,10,1,6,11]
[null,3,8,2,5,11,14,17]
[null,4,11,6,17,10,3,13]
[null,13,16,8,3,6,1,14]
[null,17,6,7,14,2,13,15]
[null,11,4,17,6,15,8,16]
[null,10,15,13,16,14,11,12]
[null,9,9,9,9,9,9,9]
[null,12,1,4,11,13,2,8]
[null,16,13,3,8,17,12,7]
[null,15,10,16,13,7,4,1]
[null,14,7,12,1,8,15,5]
[null,5,2,10,15,12,17,4]
[null,1,12,11,4,16,5,3]
[null,7,14,1,12,3,10,2]
[null,8,3,5,2,4,7,6]
["shift_and_stack_1",17,14,7,5,16,10,6]
[null,5,15,10,1,6,11,2]
[null,8,2,5,11,14,17,3]
[null,11,6,17,10,3,13,4]
[null,16,8,3,6,1,14,13]
[null,6,7,14,2,13,15,17,null,null,6,17,14,7,5,16,10]
[null,4,17,6,15,8,16,11,null,null,2,5,15,10,1,6,11]
[null,15,13,16,14,11,12,10,null,null,3,8,2,5,11,14,17]
[null,1,4,11,13,2,8,12,null,null,4,11,6,17,10,3,13]
[null,13,3,8,17,12,7,16,null,null,13,16,8,3,6,1,14]
[null,10,16,13,7,4,1,15,null,null,17,6,7,14,2,13,15]
[null,7,12,1,8,15,5,14,null,null,11,4,17,6,15,8,16]
[null,2,10,15,12,17,4,5,null,null,10,15,13,16,14,11,12]
[null,12,11,4,16,5,3,1,null,null,12,1,4,11,13,2,8]
[null,14,1,12,3,10,2,7,null,null,16,13,3,8,17,12,7]
[null,3,5,2,4,7,6,8,null,null,15,10,16,13,7,4,1]
["shift_and_stack_2",14,7,5,16,10,6,17,null,null,14,7,12,1,8,15,5]
[null,15,10,1,6,11,2,5,null,null,5,2,10,15,12,17,4]
[null,2,5,11,14,17,3,8,null,null,1,12,11,4,16,5,3]
[null,6,17,10,3,13,4,11,null,null,7,14,1,12,3,10,2]
[null,8,3,6,1,14,13,16,null,null,8,3,5,2,4,7,6]
[null,7,14,2,13,15,17,6]
[null,17,6,15,8,16,11,4]
[null,13,16,14,11,12,10,15]
[null,4,11,13,2,8,12,1]
[null,3,8,17,12,7,16,13]
[null,16,13,7,4,1,15,10]
[null,12,1,8,15,5,14,7]
[null,10,15,12,17,4,5,2]
[null,11,4,16,5,3,1,12]
[null,1,12,3,10,2,7,14]
[null,5,2,4,7,6,8,3]
["shift_and_stack_3",7,5,16,10,6,17,14]
[null,10,1,6,11,2,5,15]
[null,5,11,14,17,3,8,2]
[null,17,10,3,13,4,11,6]
[null,3,6,1,14,13,16,8]
[null,14,2,13,15,17,6,7]
[null,6,15,8,16,11,4,17]
[null,16,14,11,12,10,15,13]
[null,11,13,2,8,12,1,4]
[null,8,17,12,7,16,13,3]
[null,13,7,4,1,15,10,16]
[null,1,8,15,5,14,7,12]
[null,15,12,17,4,5,2,10]
[null,4,16,5,3,1,12,11]
[null,12,3,10,2,7,14,1]
[null,2,4,7,6,8,3,5]
["shift_and_stack_4",5,16,10,6,17,14,7]
[null,1,6,11,2,5,15,10]
[null,11,14,17,3,8,2,5]
[null,10,3,13,4,11,6,17]
[null,6,1,14,13,16,8,3]
[null,2,13,15,17,6,7,14]
[null,15,8,16,11,4,17,6]
[null,14,11,12,10,15,13,16]
[null,13,2,8,12,1,4,11]
[null,17,12,7,16,13,3,8]
[null,7,4,1,15,10,16,13]
[null,8,15,5,14,7,12,1]
[null,12,17,4,5,2,10,15]
[null,16,5,3,1,12,11,4]
[null,3,10,2,7,14,1,12]
[null,4,7,6,8,3,5,2]
["shift_and_stack_5",16,10,6,17,14,7,5]
[null,6,11,2,5,15,10,1]
[null,14,17,3,8,2,5,11]
[null,3,13,4,11,6,17,10]
[null,1,14,13,16,8,3,6]
[null,13,15,17,6,7,14,2]
[null,8,16,11,4,17,6,15]
[null,11,12,10,15,13,16,14]
[null,2,8,12,1,4,11,13]
[null,12,7,16,13,3,8,17]
[null,4,1,15,10,16,13,7]
[null,15,5,14,7,12,1,8]
[null,17,4,5,2,10,15,12]
[null,5,3,1,12,11,4,16]
[null,10,2,7,14,1,12,3]
[null,7,6,8,3,5,2,4]
["shift_and_stack_6",10,6,17,14,7,5,16]
[null,11,2,5,15,10,1,6]
[null,17,3,8,2,5,11,14]
[null,13,4,11,6,17,10,3]
[null,14,13,16,8,3,6,1]
[null,15,17,6,7,14,2,13]
[null,16,11,4,17,6,15,8]
[null,12,10,15,13,16,14,11]
[null,8,12,1,4,11,13,2]
[null,7,16,13,3,8,17,12]
[null,1,15,10,16,13,7,4]
[null,5,14,7,12,1,8,15]
[null,4,5,2,10,15,12,17]
[null,3,1,12,11,4,16,5]
[null,2,7,14,1,12,3,10]
[null,6,8,3,5,2,4,7]

{"sheet":"OLH for up to 7 factors","index":4,"n_rows":22,"n_cols":8,"rows_kept":22,"cut":false,"hidden":false,"merged":[]}
[]
["low level",1,1,1,1,1,1,1]
["high level",17,17,17,17,17,17,17]
["decimals",0,0,0,0,0,0,0]
["factor name"]
[null,{"$f":"ROUND( B$2+(('coded OLH for 7 or fewer'!B5-1)*(B$3-B$2)/16), B$4)","v":6},{"$f":"ROUND( C$2+(('coded OLH for 7 or fewer'!C5-1)*(C$3-C$2)/16), C$4)","v":17},{"$f":"ROUND( D$2+(('coded OLH for 7 or fewer'!D5-1)*(D$3-D$2)/16), D$4)","v":14},{"$f":"ROUND( E$2+(('coded OLH for 7 or fewer'!E5-1)*(E$3-E$2)/16), E$4)","v":7},{"$f":"ROUND( F$2+(('coded OLH for 7 or fewer'!F5-1)*(F$3-F$2)/16), F$4)","v":5},{"$f":"ROUND( G$2+(('coded OLH for 7 or fewer'!G5-1)*(G$3-G$2)/16), G$4)","v":16},{"$f":"ROUND( H$2+(('coded OLH for 7 or fewer'!H5-1)*(H$3-H$2)/16), H$4)","v":10}]
[null,{"$f":"ROUND( B$2+(('coded OLH for 7 or fewer'!B6-1)*(B$3-B$2)/16), B$4)","v":2},{"$f":"ROUND( C$2+(('coded OLH for 7 or fewer'!C6-1)*(C$3-C$2)/16), C$4)","v":5},{"$f":"ROUND( D$2+(('coded OLH for 7 or fewer'!D6-1)*(D$3-D$2)/16), D$4)","v":15},{"$f":"ROUND( E$2+(('coded OLH for 7 or fewer'!E6-1)*(E$3-E$2)/16), E$4)","v":10},{"$f":"ROUND( F$2+(('coded OLH for 7 or fewer'!F6-1)*(F$3-F$2)/16), F$4)","v":1},{"$f":"ROUND( G$2+(('coded OLH for 7 or fewer'!G6-1)*(G$3-G$2)/16), G$4)","v":6},{"$f":"ROUND( H$2+(('coded OLH for 7 or fewer'!H6-1)*(H$3-H$2)/16), H$4)","v":11}]
[null,{"$f":"ROUND( B$2+(('coded OLH for 7 or fewer'!B7-1)*(B$3-B$2)/16), B$4)","v":3},{"$f":"ROUND( C$2+(('coded OLH for 7 or fewer'!C7-1)*(C$3-C$2)/16), C$4)","v":8},{"$f":"ROUND( D$2+(('coded OLH for 7 or fewer'!D7-1)*(D$3-D$2)/16), D$4)","v":2},{"$f":"ROUND( E$2+(('coded OLH for 7 or fewer'!E7-1)*(E$3-E$2)/16), E$4)","v":5},{"$f":"ROUND( F$2+(('coded OLH for 7 or fewer'!F7-1)*(F$3-F$2)/16), F$4)","v":11},{"$f":"ROUND( G$2+(('coded OLH for 7 or fewer'!G7-1)*(G$3-G$2)/16), G$4)","v":14},{"$f":"ROUND( H$2+(('coded OLH for 7 or fewer'!H7-1)*(H$3-H$2)/16), H$4)","v":17}]
[null,{"$f":"ROUND( B$2+(('coded OLH for 7 or fewer'!B8-1)*(B$3-B$2)/16), B$4)","v":4},{"$f":"ROUND( C$2+(('coded OLH for 7 or fewer'!C8-1)*(C$3-C$2)/16), C$4)","v":11},{"$f":"ROUND( D$2+(('coded OLH for 7 or fewer'!D8-1)*(D$3-D$2)/16), D$4)","v":6},{"$f":"ROUND( E$2+(('coded OLH for 7 or fewer'!E8-1)*(E$3-E$2)/16), E$4)","v":17},{"$f":"ROUND( F$2+(('coded OLH for 7 or fewer'!F8-1)*(F$3-F$2)/16), F$4)","v":10},{"$f":"ROUND( G$2+(('coded OLH for 7 or fewer'!G8-1)*(G$3-G$2)/16), G$4)","v":3},{"$f":"ROUND( H$2+(('coded OLH for 7 or fewer'!H8-1)*(H$3-H$2)/16), H$4)","v":13}]
[null,{"$f":"ROUND( B$2+(('coded OLH for 7 or fewer'!B9-1)*(B$3-B$2)/16), B$4)","v":13},{"$f":"ROUND( C$2+(('coded OLH for 7 or fewer'!C9-1)*(C$3-C$2)/16), C$4)","v":16},{"$f":"ROUND( D$2+(('coded OLH for 7 or fewer'!D9-1)*(D$3-D$2)/16), D$4)","v":8},{"$f":"ROUND( E$2+(('coded OLH for 7 or fewer'!E9-1)*(E$3-E$2)/16), E$4)","v":3},{"$f":"ROUND( F$2+(('coded OLH for 7 or fewer'!F9-1)*(F$3-F$2)/16), F$4)","v":6},{"$f":"ROUND( G$2+(('coded OLH for 7 or fewer'!G9-1)*(G$3-G$2)/16), G$4)","v":1},{"$f":"ROUND( H$2+(('coded OLH for 7 or fewer'!H9-1)*(H$3-H$2)/16), H$4)","v":14}]
[null,{"$f":"ROUND( B$2+(('coded OLH for 7 or fewer'!B10-1)*(B$3-B$2)/16), B$4)","v":17},{"$f":"ROUND( C$2+(('coded OLH for 7 or fewer'!C10-1)*(C$3-C$2)/16), C$4)","v":6},{"$f":"ROUND( D$2+(('coded OLH for 7 or fewer'!D10-1)*(D$3-D$2)/16), D$4)","v":7},{"$f":"ROUND( E$2+(('coded OLH for 7 or fewer'!E10-1)*(E$3-E$2)/16), E$4)","v":14},{"$f":"ROUND( F$2+(('coded OLH for 7 or fewer'!F10-1)*(F$3-F$2)/16), F$4)","v":2},{"$f":"ROUND( G$2+(('coded OLH for 7 or fewer'!G10-1)*(G$3-G$2)/16), G$4)","v":13},{"$f":"ROUND( H$2+(('coded OLH for 7 or fewer'!H10-1)*(H$3-H$2)/16), H$4)","v":15}]
[null,{"$f":"ROUND( B$2+(('coded OLH for 7 or fewer'!B11-1)*(B$3-B$2)/16), B$4)","v":11},{"$f":"ROUND( C$2+(('coded OLH for 7 or fewer'!C11-1)*(C$3-C$2)/16), C$4)","v":4},{"$f":"ROUND( D$2+(('coded OLH for 7 or fewer'!D11-1)*(D$3-D$2)/16), D$4)","v":17},{"$f":"ROUND( E$2+(('coded OLH for 7 or fewer'!E11-1)*(E$3-E$2)/16), E$4)","v":6},{"$f":"ROUND( F$2+(('coded OLH for 7 or fewer'!F11-1)*(F$3-F$2)/16), F$4)","v":15},{"$f":"ROUND( G$2+(('coded OLH for 7 or fewer'!G11-1)*(G$3-G$2)/16), G$4)","v":8},{"$f":"ROUND( H$2+(('coded OLH for 7 or fewer'!H11-1)*(H$3-H$2)/16), H$4)","v":16}]
[null,{"$f":"ROUND( B$2+(('coded OLH for 7 or fewer'!B12-1)*(B$3-B$2)/16), B$4)","v":10},{"$f":"ROUND( C$2+(('coded OLH for 7 or fewer'!C12-1)*(C$3-C$2)/16), C$4)","v":15},{"$f":"ROUND( D$2+(('coded OLH for 7 or fewer'!D12-1)*(D$3-D$2)/16), D$4)","v":13},{"$f":"ROUND( E$2+(('coded OLH for 7 or fewer'!E12-1)*(E$3-E$2)/16), E$4)","v":16},{"$f":"ROUND( F$2+(('coded OLH for 7 or fewer'!F12-1)*(F$3-F$2)/16), F$4)","v":14},{"$f":"ROUND( G$2+(('coded OLH for 7 or fewer'!G12-1)*(G$3-G$2)/16), G$4)","v":11},{"$f":"ROUND( H$2+(('coded OLH for 7 or fewer'!H12-1)*(H$3-H$2)/16), H$4)","v":12}]
[null,{"$f":"ROUND( B$2+(('coded OLH for 7 or fewer'!B13-1)*(B$3-B$2)/16), B$4)","v":9},{"$f":"ROUND( C$2+(('coded OLH for 7 or fewer'!C13-1)*(C$3-C$2)/16), C$4)","v":9},{"$f":"ROUND( D$2+(('coded OLH for 7 or fewer'!D13-1)*(D$3-D$2)/16), D$4)","v":9},{"$f":"ROUND( E$2+(('coded OLH for 7 or fewer'!E13-1)*(E$3-E$2)/16), E$4)","v":9},{"$f":"ROUND( F$2+(('coded OLH for 7 or fewer'!F13-1)*(F$3-F$2)/16), F$4)","v":9},{"$f":"ROUND( G$2+(('coded OLH for 7 or fewer'!G13-1)*(G$3-G$2)/16), G$4)","v":9},{"$f":"ROUND( H$2+(('coded OLH for 7 or fewer'!H13-1)*(H$3-H$2)/16), H$4)","v":9}]
[null,{"$f":"ROUND( B$2+(('coded OLH for 7 or fewer'!B14-1)*(B$3-B$2)/16), B$4)","v":12},{"$f":"ROUND( C$2+(('coded OLH for 7 or fewer'!C14-1)*(C$3-C$2)/16), C$4)","v":1},{"$f":"ROUND( D$2+(('coded OLH for 7 or fewer'!D14-1)*(D$3-D$2)/16), D$4)","v":4},{"$f":"ROUND( E$2+(('coded OLH for 7 or fewer'!E14-1)*(E$3-E$2)/16), E$4)","v":11},{"$f":"ROUND( F$2+(('coded OLH for 7 or fewer'!F14-1)*(F$3-F$2)/16), F$4)","v":13},{"$f":"ROUND( G$2+(('coded OLH for 7 or fewer'!G14-1)*(G$3-G$2)/16), G$4)","v":2},{"$f":"ROUND( H$2+(('coded OLH for 7 or fewer'!H14-1)*(H$3-H$2)/16), H$4)","v":8}]
[null,{"$f":"ROUND( B$2+(('coded OLH for 7 or fewer'!B15-1)*(B$3-B$2)/16), B$4)","v":16},{"$f":"ROUND( C$2+(('coded OLH for 7 or fewer'!C15-1)*(C$3-C$2)/16), C$4)","v":13},{"$f":"ROUND( D$2+(('coded OLH for 7 or fewer'!D15-1)*(D$3-D$2)/16), D$4)","v":3},{"$f":"ROUND( E$2+(('coded OLH for 7 or fewer'!E15-1)*(E$3-E$2)/16), E$4)","v":8},{"$f":"ROUND( F$2+(('coded OLH for 7 or fewer'!F15-1)*(F$3-F$2)/16), F$4)","v":17},{"$f":"ROUND( G$2+(('coded OLH for 7 or fewer'!G15-1)*(G$3-G$2)/16), G$4)","v":12},{"$f":"ROUND( H$2+(('coded OLH for 7 or fewer'!H15-1)*(H$3-H$2)/16), H$4)","v":7}]
[null,{"$f":"ROUND( B$2+(('coded OLH for 7 or fewer'!B16-1)*(B$3-B$2)/16), B$4)","v":15},{"$f":"ROUND( C$2+(('coded OLH for 7 or fewer'!C16-1)*(C$3-C$2)/16), C$4)","v":10},{"$f":"ROUND( D$2+(('coded OLH for 7 or fewer'!D16-1)*(D$3-D$2)/16), D$4)","v":16},{"$f":"ROUND( E$2+(('coded OLH for 7 or fewer'!E16-1)*(E$3-E$2)/16), E$4)","v":13},{"$f":"ROUND( F$2+(('coded OLH for 7 or fewer'!F16-1)*(F$3-F$2)/16), F$4)","v":7},{"$f":"ROUND( G$2+(('coded OLH for 7 or fewer'!G16-1)*(G$3-G$2)/16), G$4)","v":4},{"$f":"ROUND( H$2+(('coded OLH for 7 or fewer'!H16-1)*(H$3-H$2)/16), H$4)","v":1}]
[null,{"$f":"ROUND( B$2+(('coded OLH for 7 or fewer'!B17-1)*(B$3-B$2)/16), B$4)","v":14},{"$f":"ROUND( C$2+(('coded OLH for 7 or fewer'!C17-1)*(C$3-C$2)/16), C$4)","v":7},{"$f":"ROUND( D$2+(('coded OLH for 7 or fewer'!D17-1)*(D$3-D$2)/16), D$4)","v":12},{"$f":"ROUND( E$2+(('coded OLH for 7 or fewer'!E17-1)*(E$3-E$2)/16), E$4)","v":1},{"$f":"ROUND( F$2+(('coded OLH for 7 or fewer'!F17-1)*(F$3-F$2)/16), F$4)","v":8},{"$f":"ROUND( G$2+(('coded OLH for 7 or fewer'!G17-1)*(G$3-G$2)/16), G$4)","v":15},{"$f":"ROUND( H$2+(('coded OLH for 7 or fewer'!H17-1)*(H$3-H$2)/16), H$4)","v":5}]
[null,{"$f":"ROUND( B$2+(('coded OLH for 7 or fewer'!B18-1)*(B$3-B$2)/16), B$4)","v":5},{"$f":"ROUND( C$2+(('coded OLH for 7 or fewer'!C18-1)*(C$3-C$2)/16), C$4)","v":2},{"$f":"ROUND( D$2+(('coded OLH for 7 or fewer'!D18-1)*(D$3-D$2)/16), D$4)","v":10},{"$f":"ROUND( E$2+(('coded OLH for 7 or fewer'!E18-1)*(E$3-E$2)/16), E$4)","v":15},{"$f":"ROUND( F$2+(('coded OLH for 7 or fewer'!F18-1)*(F$3-F$2)/16), F$4)","v":12},{"$f":"ROUND( G$2+(('coded OLH for 7 or fewer'!G18-1)*(G$3-G$2)/16), G$4)","v":17},{"$f":"ROUND( H$2+(('coded OLH for 7 or fewer'!H18-1)*(H$3-H$2)/16), H$4)","v":4}]
[null,{"$f":"ROUND( B$2+(('coded OLH for 7 or fewer'!B19-1)*(B$3-B$2)/16), B$4)","v":1},{"$f":"ROUND( C$2+(('coded OLH for 7 or fewer'!C19-1)*(C$3-C$2)/16), C$4)","v":12},{"$f":"ROUND( D$2+(('coded OLH for 7 or fewer'!D19-1)*(D$3-D$2)/16), D$4)","v":11},{"$f":"ROUND( E$2+(('coded OLH for 7 or fewer'!E19-1)*(E$3-E$2)/16), E$4)","v":4},{"$f":"ROUND( F$2+(('coded OLH for 7 or fewer'!F19-1)*(F$3-F$2)/16), F$4)","v":16},{"$f":"ROUND( G$2+(('coded OLH for 7 or fewer'!G19-1)*(G$3-G$2)/16), G$4)","v":5},{"$f":"ROUND( H$2+(('coded OLH for 7 or fewer'!H19-1)*(H$3-H$2)/16), H$4)","v":3}]
[null,{"$f":"ROUND( B$2+(('coded OLH for 7 or fewer'!B20-1)*(B$3-B$2)/16), B$4)","v":7},{"$f":"ROUND( C$2+(('coded OLH for 7 or fewer'!C20-1)*(C$3-C$2)/16), C$4)","v":14},{"$f":"ROUND( D$2+(('coded OLH for 7 or fewer'!D20-1)*(D$3-D$2)/16), D$4)","v":1},{"$f":"ROUND( E$2+(('coded OLH for 7 or fewer'!E20-1)*(E$3-E$2)/16), E$4)","v":12},{"$f":"ROUND( F$2+(('coded OLH for 7 or fewer'!F20-1)*(F$3-F$2)/16), F$4)","v":3},{"$f":"ROUND( G$2+(('coded OLH for 7 or fewer'!G20-1)*(G$3-G$2)/16), G$4)","v":10},{"$f":"ROUND( H$2+(('coded OLH for 7 or fewer'!H20-1)*(H$3-H$2)/16), H$4)","v":2}]
[null,{"$f":"ROUND( B$2+(('coded OLH for 7 or fewer'!B21-1)*(B$3-B$2)/16), B$4)","v":8},{"$f":"ROUND( C$2+(('coded OLH for 7 or fewer'!C21-1)*(C$3-C$2)/16), C$4)","v":3},{"$f":"ROUND( D$2+(('coded OLH for 7 or fewer'!D21-1)*(D$3-D$2)/16), D$4)","v":5},{"$f":"ROUND( E$2+(('coded OLH for 7 or fewer'!E21-1)*(E$3-E$2)/16), E$4)","v":2},{"$f":"ROUND( F$2+(('coded OLH for 7 or fewer'!F21-1)*(F$3-F$2)/16), F$4)","v":4},{"$f":"ROUND( G$2+(('coded OLH for 7 or fewer'!G21-1)*(G$3-G$2)/16), G$4)","v":7},{"$f":"ROUND( H$2+(('coded OLH for 7 or fewer'!H21-1)*(H$3-H$2)/16), H$4)","v":6}]

{"sheet":"coded NOLH for 8-11 factors","index":5,"n_rows":357,"n_cols":15,"rows_kept":357,"cut":false,"hidden":true,"merged":[]}
["factor ID","f1","f2","f3","f5","f6","f8","f11","f4","f9","f7","f10"]
["low level"]
["high level",null,null,null,null,null,null,null,null,null,null,null,null,null,"for 8: remove columns 1, 2, 10"]
["factor name"]
[null,33,4,15,7,29,21,23,16,33,23,20]
[null,30,33,5,13,16,7,25,11,30,15,28]
[null,29,15,30,6,2,20,24,2,11,32,13]
[null,19,29,33,14,31,6,27,3,15,4,8]
[null,31,2,16,8,23,24,14,19,3,5,23]
[null,32,31,11,10,15,8,6,29,2,18,25]
[null,23,16,32,9,1,22,13,30,29,1,10]
[null,18,23,31,12,30,9,8,33,18,31,7]
[null,22,9,8,18,24,11,1,7,20,20,3]
[null,25,22,10,23,8,18,4,13,28,7,2]
[null,24,8,25,32,12,3,5,6,13,21,22]
[null,26,24,22,31,25,32,16,14,8,6,19]
[null,20,6,7,19,20,5,32,26,12,10,1]
[null,28,20,13,29,6,19,31,24,9,26,5]
[null,21,7,28,30,13,1,22,25,24,12,30]
[null,27,21,20,33,27,30,19,22,27,25,18]
[null,17,17,17,17,17,17,17,17,17,17,17]
[null,1,30,19,27,5,13,11,18,1,11,14]
[null,4,1,29,21,18,27,9,23,4,19,6]
[null,5,19,4,28,32,14,10,32,23,2,21]
[null,15,5,1,20,3,28,7,31,19,30,26]
[null,3,32,18,26,11,10,20,15,31,29,11]
[null,2,3,23,24,19,26,28,5,32,16,9]
[null,11,18,2,25,33,12,21,4,5,33,24]
[null,16,11,3,22,4,25,26,1,16,3,27]
[null,12,25,26,16,10,23,33,27,14,14,31]
[null,9,12,24,11,26,16,30,21,6,27,32]
[null,10,26,9,2,22,31,29,28,21,13,12]
[null,8,10,12,3,9,2,18,20,26,28,15]
[null,14,28,27,15,14,29,2,8,22,24,33]
[null,6,14,21,5,28,15,3,10,25,8,29]
[null,13,27,6,4,21,33,12,9,10,22,4]
[null,7,13,14,1,7,4,15,12,7,9,16]
[null,23,33,29,4,20,7,15,33,21,23,16]
[null,15,30,16,33,28,13,5,30,7,25,11]
[null,32,11,2,15,13,6,30,29,20,24,2]
[null,4,15,31,29,8,14,33,19,6,27,3]
[null,5,3,23,2,23,8,16,31,24,14,19]
[null,18,2,15,31,25,10,11,32,8,6,29]
[null,1,29,1,16,10,9,32,23,22,13,30]
[null,31,18,30,23,7,12,31,18,9,8,33]
[null,20,20,24,9,3,18,8,22,11,1,7]
[null,7,28,8,22,2,23,10,25,18,4,13]
[null,21,13,12,8,22,32,25,24,3,5,6]
[null,6,8,25,24,19,31,22,26,32,16,14]
[null,10,12,20,6,1,19,7,20,5,32,26]
[null,26,9,6,20,5,29,13,28,19,31,24]
[null,12,24,13,7,30,30,28,21,1,22,25]
[null,25,27,27,21,18,33,20,27,30,19,22]
[null,11,1,5,30,14,27,19,1,13,11,18]
[null,19,4,18,1,6,21,29,4,27,9,23]
[null,2,23,32,19,21,28,4,5,14,10,32]
[null,30,19,3,5,26,20,1,15,28,7,31]
[null,29,31,11,32,11,26,18,3,10,20,15]
[null,16,32,19,3,9,24,23,2,26,28,5]
[null,33,5,33,18,24,25,2,11,12,21,4]
[null,3,16,4,11,27,22,3,16,25,26,1]
[null,14,14,10,25,31,16,26,12,23,33,27]
[null,27,6,26,12,32,11,24,9,16,30,21]
[null,13,21,22,26,12,2,9,10,31,29,28]
[null,28,26,9,10,15,3,12,8,2,18,20]
[null,24,22,14,28,33,15,27,14,29,2,8]
[null,8,25,28,14,29,5,21,6,15,3,10]
[null,22,10,21,27,4,4,6,13,33,12,9]
[null,9,7,7,13,16,1,14,7,4,15,12]
[null,15,16,20,33,4,33,29,23,21,23,7]
[null,5,11,28,30,33,30,16,15,7,25,13]
[null,30,2,13,11,15,29,2,32,20,24,6]
[null,33,3,8,15,29,19,31,4,6,27,14]
[null,16,19,23,3,2,31,23,5,24,14,8]
[null,11,29,25,2,31,32,15,18,8,6,10]
[null,32,30,10,29,16,23,1,1,22,13,9]
[null,31,33,7,18,23,18,30,31,9,8,12]
[null,8,7,3,20,9,22,24,20,11,1,18]
[null,10,13,2,28,22,25,8,7,18,4,23]
[null,25,6,22,13,8,24,12,21,3,5,32]
[null,22,14,19,8,24,26,25,6,32,16,31]
[null,7,26,1,12,6,20,20,10,5,32,19]
[null,13,24,5,9,20,28,6,26,19,31,29]
[null,28,25,30,24,7,21,13,12,1,22,30]
[null,20,22,18,27,21,27,27,25,30,19,33]
[null,19,18,14,1,30,1,5,11,13,11,27]
[null,29,23,6,4,1,4,18,19,27,9,21]
[null,4,32,21,23,19,5,32,2,14,10,28]
[null,1,31,26,19,5,15,3,30,28,7,20]
[null,18,15,11,31,32,3,11,29,10,20,26]
[null,23,5,9,32,3,2,19,16,26,28,24]
[null,2,4,24,5,18,11,33,33,12,21,25]
[null,3,1,27,16,11,16,4,3,25,26,22]
[null,26,27,31,14,25,12,10,14,23,33,16]
[null,24,21,32,6,12,9,26,27,16,30,11]
[null,9,28,12,21,26,10,22,13,31,29,2]
[null,12,20,15,26,10,8,9,28,2,18,3]
[null,27,8,33,22,28,14,14,24,29,2,15]
[null,21,10,29,25,14,6,28,8,15,3,5]
[null,6,9,4,10,27,13,21,22,33,12,4]
[null,14,12,16,7,13,7,7,9,4,15,1]
[null,20,21,15,33,16,23,4,23,29,33,7]
[null,28,7,5,30,11,15,33,25,16,30,13]
[null,13,20,30,29,2,32,15,24,2,11,6]
[null,8,6,33,19,3,4,29,27,31,15,14]
[null,23,24,16,31,19,5,2,14,23,3,8]
[null,25,8,11,32,29,18,31,6,15,2,10]
[null,10,22,32,23,30,1,16,13,1,29,9]
[null,7,9,31,18,33,31,23,8,30,18,12]
[null,3,11,8,22,7,20,9,1,24,20,18]
[null,2,18,10,25,13,7,22,4,8,28,23]
[null,22,3,25,24,6,21,8,5,12,13,32]
[null,19,32,22,26,14,6,24,16,25,8,31]
[null,1,5,7,20,26,10,6,32,20,12,19]
[null,5,19,13,28,24,26,20,31,6,9,29]
[null,30,1,28,21,25,12,7,22,13,24,30]
[null,18,30,20,27,22,25,21,19,27,27,33]
[null,14,13,19,1,18,11,30,11,5,1,27]
[null,6,27,29,4,23,19,1,9,18,4,21]
[null,21,14,4,5,32,2,19,10,32,23,28]
[null,26,28,1,15,31,30,5,7,3,19,20]
[null,11,10,18,3,15,29,32,20,11,31,26]
[null,9,26,23,2,5,16,3,28,19,32,24]
[null,24,12,2,11,4,33,18,21,33,5,25]
[null,27,25,3,16,1,3,11,26,4,16,22]
[null,31,23,26,12,27,14,25,33,10,14,16]
[null,32,16,24,9,21,27,12,30,26,6,11]
[null,12,31,9,10,28,13,26,29,22,21,2]
[null,15,2,12,8,20,28,10,18,9,26,3]
[null,33,29,27,14,8,24,28,2,14,22,15]
[null,29,15,21,6,10,8,14,3,28,25,5]
[null,4,33,6,13,9,22,27,12,21,10,4]
[null,16,4,14,7,12,9,13,15,7,7,1]
[null,7,33,16,20,33,23,23,29,4,15,21]
[null,13,30,11,28,30,25,15,16,33,5,7]
[null,6,29,2,13,11,24,32,2,15,30,20]
[null,14,19,3,8,15,27,4,31,29,33,6]
[null,8,31,19,23,3,14,5,23,2,16,24]
[null,10,32,29,25,2,6,18,15,31,11,8]
[null,9,23,30,10,29,13,1,1,16,32,22]
[null,12,18,33,7,18,8,31,30,23,31,9]
[null,18,22,7,3,20,1,20,24,9,8,11]
[null,23,25,13,2,28,4,7,8,22,10,18]
[null,32,24,6,22,13,5,21,12,8,25,3]
[null,31,26,14,19,8,16,6,25,24,22,32]
[null,19,20,26,1,12,32,10,20,6,7,5]
[null,29,28,24,5,9,31,26,6,20,13,19]
[null,30,21,25,30,24,22,12,13,7,28,1]
[null,33,27,22,18,27,19,25,27,21,20,30]
[null,27,1,18,14,1,11,11,5,30,19,13]
[null,21,4,23,6,4,9,19,18,1,29,27]
[null,28,5,32,21,23,10,2,32,19,4,14]
[null,20,15,31,26,19,7,30,3,5,1,28]
[null,26,3,15,11,31,20,29,11,32,18,10]
[null,24,2,5,9,32,28,16,19,3,23,26]
[null,25,11,4,24,5,21,33,33,18,2,12]
[null,22,16,1,27,16,26,3,4,11,3,25]
[null,16,12,27,31,14,33,14,10,25,26,23]
[null,11,9,21,32,6,30,27,26,12,24,16]
[null,2,10,28,12,21,29,13,22,26,9,31]
[null,3,8,20,15,26,18,28,9,10,12,2]
[null,15,14,8,33,22,2,24,14,28,27,29]
[null,5,6,10,29,25,3,8,28,14,21,15]
[null,4,13,9,4,10,12,22,21,27,6,33]
[null,1,7,12,16,7,15,9,7,13,14,4]
[null,33,29,20,23,23,33,21,4,15,16,7]
[null,30,16,28,15,25,30,7,33,5,11,13]
[null,11,2,13,32,24,29,20,15,30,2,6]
[null,15,31,8,4,27,19,6,29,33,3,14]
[null,3,23,23,5,14,31,24,2,16,19,8]
[null,2,15,25,18,6,32,8,31,11,29,10]
[null,29,1,10,1,13,23,22,16,32,30,9]
[null,18,30,7,31,8,18,9,23,31,33,12]
[null,20,24,3,20,1,22,11,9,8,7,18]
[null,28,8,2,7,4,25,18,22,10,13,23]
[null,13,12,22,21,5,24,3,8,25,6,32]
[null,8,25,19,6,16,26,32,24,22,14,31]
[null,12,20,1,10,32,20,5,6,7,26,19]
[null,9,6,5,26,31,28,19,20,13,24,29]
[null,24,13,30,12,22,21,1,7,28,25,30]
[null,27,27,18,25,19,27,30,21,20,22,33]
[null,1,5,14,11,11,1,13,30,19,18,27]
[null,4,18,6,19,9,4,27,1,29,23,21]
[null,23,32,21,2,10,5,14,19,4,32,28]
[null,19,3,26,30,7,15,28,5,1,31,20]
[null,31,11,11,29,20,3,10,32,18,15,26]
[null,32,19,9,16,28,2,26,3,23,5,24]
[null,5,33,24,33,21,11,12,18,2,4,25]
[null,16,4,27,3,26,16,25,11,3,1,22]
[null,14,10,31,14,33,12,23,25,26,27,16]
[null,6,26,32,27,30,9,16,12,24,21,11]
[null,21,22,12,13,29,10,31,26,9,28,2]
[null,26,9,15,28,18,8,2,10,12,20,3]
[null,22,14,33,24,2,14,29,28,27,8,15]
[null,25,28,29,8,3,6,15,14,21,10,5]
[null,10,21,4,22,12,13,33,27,6,9,4]
[null,7,7,16,9,15,7,4,13,14,12,1]
[null,20,33,29,7,15,23,23,16,33,4,21]
[null,28,30,16,13,5,15,25,11,30,33,7]
[null,13,29,2,6,30,32,24,2,11,15,20]
[null,8,19,31,14,33,4,27,3,15,29,6]
[null,23,31,23,8,16,5,14,19,3,2,24]
[null,25,32,15,10,11,18,6,29,2,31,8]
[null,10,23,1,9,32,1,13,30,29,16,22]
[null,7,18,30,12,31,31,8,33,18,23,9]
[null,3,22,24,18,8,20,1,7,20,9,11]
[null,2,25,8,23,10,7,4,13,28,22,18]
[null,22,24,12,32,25,21,5,6,13,8,3]
[null,19,26,25,31,22,6,16,14,8,24,32]
[null,1,20,20,19,7,10,32,26,12,6,5]
[null,5,28,6,29,13,26,31,24,9,20,19]
[null,30,21,13,30,28,12,22,25,24,7,1]
[null,18,27,27,33,20,25,19,22,27,21,30]
[null,14,1,5,27,19,11,11,18,1,30,13]
[null,6,4,18,21,29,19,9,23,4,1,27]
[null,21,5,32,28,4,2,10,32,23,19,14]
[null,26,15,3,20,1,30,7,31,19,5,28]
[null,11,3,11,26,18,29,20,15,31,32,10]
[null,9,2,19,24,23,16,28,5,32,3,26]
[null,24,11,33,25,2,33,21,4,5,18,12]
[null,27,16,4,22,3,3,26,1,16,11,25]
[null,31,12,10,16,26,14,33,27,14,25,23]
[null,32,9,26,11,24,27,30,21,6,12,16]
[null,12,10,22,2,9,13,29,28,21,26,31]
[null,15,8,9,3,12,28,18,20,26,10,2]
[null,33,14,14,15,27,24,2,8,22,28,29]
[null,29,6,28,5,21,8,3,10,25,14,15]
[null,4,13,21,4,6,22,12,9,10,27,33]
[null,16,7,7,1,14,9,15,12,7,13,4]
[null,7,21,20,29,4,23,23,33,16,33,15]
[null,13,7,28,16,33,25,15,30,11,30,5]
[null,6,20,13,2,15,24,32,29,2,11,30]
[null,14,6,8,31,29,27,4,19,3,15,33]
[null,8,24,23,23,2,14,5,31,19,3,16]
[null,10,8,25,15,31,6,18,32,29,2,11]
[null,9,22,10,1,16,13,1,23,30,29,32]
[null,12,9,7,30,23,8,31,18,33,18,31]
[null,18,11,3,24,9,1,20,22,7,20,8]
[null,23,18,2,8,22,4,7,25,13,28,10]
[null,32,3,22,12,8,5,21,24,6,13,25]
[null,31,32,19,25,24,16,6,26,14,8,22]
[null,19,5,1,20,6,32,10,20,26,12,7]
[null,29,19,5,6,20,31,26,28,24,9,13]
[null,30,1,30,13,7,22,12,21,25,24,28]
[null,33,30,18,27,21,19,25,27,22,27,20]
[null,27,13,14,5,30,11,11,1,18,1,19]
[null,21,27,6,18,1,9,19,4,23,4,29]
[null,28,14,21,32,19,10,2,5,32,23,4]
[null,20,28,26,3,5,7,30,15,31,19,1]
[null,26,10,11,11,32,20,29,3,15,31,18]
[null,24,26,9,19,3,28,16,2,5,32,23]
[null,25,12,24,33,18,21,33,11,4,5,2]
[null,22,25,27,4,11,26,3,16,1,16,3]
[null,16,23,31,10,25,33,14,12,27,14,26]
[null,11,16,32,26,12,30,27,9,21,6,24]
[null,2,31,12,22,26,29,13,10,28,21,9]
[null,3,2,15,9,10,18,28,8,20,26,12]
[null,15,29,33,14,28,2,24,14,8,22,27]
[null,5,15,29,28,14,3,8,6,10,25,21]
[null,4,33,4,21,27,12,22,13,9,10,6]
[null,1,4,16,7,13,15,9,7,12,7,14]
[null,4,33,7,23,16,21,15,29,20,33,23]
[null,33,30,13,15,11,7,5,16,28,30,25]
[null,15,11,6,32,2,20,30,2,13,29,24]
[null,29,15,14,4,3,6,33,31,8,19,27]
[null,2,3,8,5,19,24,16,23,23,31,14]
[null,31,2,10,18,29,8,11,15,25,32,6]
[null,16,29,9,1,30,22,32,1,10,23,13]
[null,23,18,12,31,33,9,31,30,7,18,8]
[null,9,20,18,20,7,11,8,24,3,22,1]
[null,22,28,23,7,13,18,10,8,2,25,4]
[null,8,13,32,21,6,3,25,12,22,24,5]
[null,24,8,31,6,14,32,22,25,19,26,16]
[null,6,12,19,10,26,5,7,20,1,20,32]
[null,20,9,29,26,24,19,13,6,5,28,31]
[null,7,24,30,12,25,1,28,13,30,21,22]
[null,21,27,33,25,22,30,20,27,18,27,19]
[null,30,1,27,11,18,13,19,5,14,1,11]
[null,1,4,21,19,23,27,29,18,6,4,9]
[null,19,23,28,2,32,14,4,32,21,5,10]
[null,5,19,20,30,31,28,1,3,26,15,7]
[null,32,31,26,29,15,10,18,11,11,3,20]
[null,3,32,24,16,5,26,23,19,9,2,28]
[null,18,5,25,33,4,12,2,33,24,11,21]
[null,11,16,22,3,1,25,3,4,27,16,26]
[null,25,14,16,14,27,23,26,10,31,12,33]
[null,12,6,11,27,21,16,24,26,32,9,30]
[null,26,21,2,13,28,31,9,22,12,10,29]
[null,10,26,3,28,20,2,12,9,15,8,18]
[null,28,22,15,24,8,29,27,14,33,14,2]
[null,14,25,5,8,10,15,21,28,29,6,3]
[null,27,10,4,22,9,33,6,21,4,13,12]
[null,13,7,1,9,12,4,14,7,16,7,15]
[null,15,23,21,23,4,7,33,20,33,16,29]
[null,5,25,7,15,33,13,30,28,30,11,16]
[null,30,24,20,32,15,6,29,13,11,2,2]
[null,33,27,6,4,29,14,19,8,15,3,31]
[null,16,14,24,5,2,8,31,23,3,19,23]
[null,11,6,8,18,31,10,32,25,2,29,15]
[null,32,13,22,1,16,9,23,10,29,30,1]
[null,31,8,9,31,23,12,18,7,18,33,30]
[null,8,1,11,20,9,18,22,3,20,7,24]
[null,10,4,18,7,22,23,25,2,28,13,8]
[null,25,5,3,21,8,32,24,22,13,6,12]
[null,22,16,32,6,24,31,26,19,8,14,25]
[null,7,32,5,10,6,19,20,1,12,26,20]
[null,13,31,19,26,20,29,28,5,9,24,6]
[null,28,22,1,12,7,30,21,30,24,25,13]
[null,20,19,30,25,21,33,27,18,27,22,27]
[null,19,11,13,11,30,27,1,14,1,18,5]
[null,29,9,27,19,1,21,4,6,4,23,18]
[null,4,10,14,2,19,28,5,21,23,32,32]
[null,1,7,28,30,5,20,15,26,19,31,3]
[null,18,20,10,29,32,26,3,11,31,15,11]
[null,23,28,26,16,3,24,2,9,32,5,19]
[null,2,21,12,33,18,25,11,24,5,4,33]
[null,3,26,25,3,11,22,16,27,16,1,4]
[null,26,33,23,14,25,16,12,31,14,27,10]
[null,24,30,16,27,12,11,9,32,6,21,26]
[null,9,29,31,13,26,2,10,12,21,28,22]
[null,12,18,2,28,10,3,8,15,26,20,9]
[null,27,2,29,24,28,15,14,33,22,8,14]
[null,21,3,15,8,14,5,6,29,25,10,28]
[null,6,12,33,22,27,4,13,4,10,9,21]
[null,14,15,4,9,13,1,7,16,7,12,7]
[null,33,16,33,23,21,15,4,29,23,20,7]
[null,30,11,30,25,7,5,33,16,15,28,13]
[null,11,2,29,24,20,30,15,2,32,13,6]
[null,15,3,19,27,6,33,29,31,4,8,14]
[null,3,19,31,14,24,16,2,23,5,23,8]
[null,2,29,32,6,8,11,31,15,18,25,10]
[null,29,30,23,13,22,32,16,1,1,10,9]
[null,18,33,18,8,9,31,23,30,31,7,12]
[null,20,7,22,1,11,8,9,24,20,3,18]
[null,28,13,25,4,18,10,22,8,7,2,23]
[null,13,6,24,5,3,25,8,12,21,22,32]
[null,8,14,26,16,32,22,24,25,6,19,31]
[null,12,26,20,32,5,7,6,20,10,1,19]
[null,9,24,28,31,19,13,20,6,26,5,29]
[null,24,25,21,22,1,28,7,13,12,30,30]
[null,27,22,27,19,30,20,21,27,25,18,33]
[null,1,18,1,11,13,19,30,5,11,14,27]
[null,4,23,4,9,27,29,1,18,19,6,21]
[null,23,32,5,10,14,4,19,32,2,21,28]
[null,19,31,15,7,28,1,5,3,30,26,20]
[null,31,15,3,20,10,18,32,11,29,11,26]
[null,32,5,2,28,26,23,3,19,16,9,24]
[null,5,4,11,21,12,2,18,33,33,24,25]
[null,16,1,16,26,25,3,11,4,3,27,22]
[null,14,27,12,33,23,26,25,10,14,31,16]
[null,6,21,9,30,16,24,12,26,27,32,11]
[null,21,28,10,29,31,9,26,22,13,12,2]
[null,26,20,8,18,2,12,10,9,28,15,3]
[null,22,8,14,2,29,27,28,14,24,33,15]
[null,25,10,6,3,15,21,14,28,8,29,5]
[null,10,9,13,12,33,6,27,21,22,4,4]
[null,7,12,7,15,4,14,13,7,9,16,1]

{"sheet":"NOLH for up to 11 factors","index":6,"n_rows":38,"n_cols":12,"rows_kept":38,"cut":false,"hidden":false,"merged":[]}
[]
["low level",1,1,1,1,1,1,1,1,1,1,1]
["high level",33,33,33,33,33,33,33,33,33,33,33]
["decimals",0,0,0,0,0,0,0,0,0,0,0]
["factor name"]
[null,{"$f":"ROUND( B$2+(('coded NOLH for 8-11 factors'!B5-1)*(B$3-B$2)/32), B$4)","v":33},{"$f":"ROUND( C$2+(('coded NOLH for 8-11 factors'!C5-1)*(C$3-C$2)/32), C$4)","v":4},{"$f":"ROUND( D$2+(('coded NOLH for 8-11 factors'!D5-1)*(D$3-D$2)/32), D$4)","v":15},{"$f":"ROUND( E$2+(('coded NOLH for 8-11 factors'!E5-1)*(E$3-E$2)/32), E$4)","v":7},{"$f":"ROUND( F$2+(('coded NOLH for 8-11 factors'!F5-1)*(F$3-F$2)/32), F$4)","v":29},{"$f":"ROUND( G$2+(('coded NOLH for 8-11 factors'!G5-1)*(G$3-G$2)/32), G$4)","v":21},{"$f":"ROUND( H$2+(('coded NOLH for 8-11 factors'!H5-1)*(H$3-H$2)/32), H$4)","v":23},{"$f":"ROUND( I$2+(('coded NOLH for 8-11 factors'!I5-1)*(I$3-I$2)/32), I$4)","v":16},{"$f":"ROUND( J$2+(('coded NOLH for 8-11 factors'!J5-1)*(J$3-J$2)/32), J$4)","v":33},{"$f":"ROUND( K$2+(('coded NOLH for 8-11 factors'!K5-1)*(K$3-K$2)/32), K$4)","v":23},{"$f":"ROUND( L$2+(('coded NOLH for 8-11 factors'!L5-1)*(L$3-L$2)/32), L$4)","v":20}]
[null,{"$f":"ROUND( B$2+(('coded NOLH for 8-11 factors'!B6-1)*(B$3-B$2)/32), B$4)","v":30},{"$f":"ROUND( C$2+(('coded NOLH for 8-11 factors'!C6-1)*(C$3-C$2)/32), C$4)","v":33},{"$f":"ROUND( D$2+(('coded NOLH for 8-11 factors'!D6-1)*(D$3-D$2)/32), D$4)","v":5},{"$f":"ROUND( E$2+(('coded NOLH for 8-11 factors'!E6-1)*(E$3-E$2)/32), E$4)","v":13},{"$f":"ROUND( F$2+(('coded NOLH for 8-11 factors'!F6-1)*(F$3-F$2)/32), F$4)","v":16},{"$f":"ROUND( G$2+(('coded NOLH for 8-11 factors'!G6-1)*(G$3-G$2)/32), G$4)","v":7},{"$f":"ROUND( H$2+(('coded NOLH for 8-11 factors'!H6-1)*(H$3-H$2)/32), H$4)","v":25},{"$f":"ROUND( I$2+(('coded NOLH for 8-11 factors'!I6-1)*(I$3-I$2)/32), I$4)","v":11},{"$f":"ROUND( J$2+(('coded NOLH for 8-11 factors'!J6-1)*(J$3-J$2)/32), J$4)","v":30},{"$f":"ROUND( K$2+(('coded NOLH for 8-11 factors'!K6-1)*(K$3-K$2)/32), K$4)","v":15},{"$f":"ROUND( L$2+(('coded NOLH for 8-11 factors'!L6-1)*(L$3-L$2)/32), L$4)","v":28}]
[null,{"$f":"ROUND( B$2+(('coded NOLH for 8-11 factors'!B7-1)*(B$3-B$2)/32), B$4)","v":29},{"$f":"ROUND( C$2+(('coded NOLH for 8-11 factors'!C7-1)*(C$3-C$2)/32), C$4)","v":15},{"$f":"ROUND( D$2+(('coded NOLH for 8-11 factors'!D7-1)*(D$3-D$2)/32), D$4)","v":30},{"$f":"ROUND( E$2+(('coded NOLH for 8-11 factors'!E7-1)*(E$3-E$2)/32), E$4)","v":6},{"$f":"ROUND( F$2+(('coded NOLH for 8-11 factors'!F7-1)*(F$3-F$2)/32), F$4)","v":2},{"$f":"ROUND( G$2+(('coded NOLH for 8-11 factors'!G7-1)*(G$3-G$2)/32), G$4)","v":20},{"$f":"ROUND( H$2+(('coded NOLH for 8-11 factors'!H7-1)*(H$3-H$2)/32), H$4)","v":24},{"$f":"ROUND( I$2+(('coded NOLH for 8-11 factors'!I7-1)*(I$3-I$2)/32), I$4)","v":2},{"$f":"ROUND( J$2+(('coded NOLH for 8-11 factors'!J7-1)*(J$3-J$2)/32), J$4)","v":11},{"$f":"ROUND( K$2+(('coded NOLH for 8-11 factors'!K7-1)*(K$3-K$2)/32), K$4)","v":32},{"$f":"ROUND( L$2+(('coded NOLH for 8-11 factors'!L7-1)*(L$3-L$2)/32), L$4)","v":13}]
[null,{"$f":"ROUND( B$2+(('coded NOLH for 8-11 factors'!B8-1)*(B$3-B$2)/32), B$4)","v":19},{"$f":"ROUND( C$2+(('coded NOLH for 8-11 factors'!C8-1)*(C$3-C$2)/32), C$4)","v":29},{"$f":"ROUND( D$2+(('coded NOLH for 8-11 factors'!D8-1)*(D$3-D$2)/32), D$4)","v":33},{"$f":"ROUND( E$2+(('coded NOLH for 8-11 factors'!E8-1)*(E$3-E$2)/32), E$4)","v":14},{"$f":"ROUND( F$2+(('coded NOLH for 8-11 factors'!F8-1)*(F$3-F$2)/32), F$4)","v":31},{"$f":"ROUND( G$2+(('coded NOLH for 8-11 factors'!G8-1)*(G$3-G$2)/32), G$4)","v":6},{"$f":"ROUND( H$2+(('coded NOLH for 8-11 factors'!H8-1)*(H$3-H$2)/32), H$4)","v":27},{"$f":"ROUND( I$2+(('coded NOLH for 8-11 factors'!I8-1)*(I$3-I$2)/32), I$4)","v":3},{"$f":"ROUND( J$2+(('coded NOLH for 8-11 factors'!J8-1)*(J$3-J$2)/32), J$4)","v":15},{"$f":"ROUND( K$2+(('coded NOLH for 8-11 factors'!K8-1)*(K$3-K$2)/32), K$4)","v":4},{"$f":"ROUND( L$2+(('coded NOLH for 8-11 factors'!L8-1)*(L$3-L$2)/32), L$4)","v":8}]
[null,{"$f":"ROUND( B$2+(('coded NOLH for 8-11 factors'!B9-1)*(B$3-B$2)/32), B$4)","v":31},{"$f":"ROUND( C$2+(('coded NOLH for 8-11 factors'!C9-1)*(C$3-C$2)/32), C$4)","v":2},{"$f":"ROUND( D$2+(('coded NOLH for 8-11 factors'!D9-1)*(D$3-D$2)/32), D$4)","v":16},{"$f":"ROUND( E$2+(('coded NOLH for 8-11 factors'!E9-1)*(E$3-E$2)/32), E$4)","v":8},{"$f":"ROUND( F$2+(('coded NOLH for 8-11 factors'!F9-1)*(F$3-F$2)/32), F$4)","v":23},{"$f":"ROUND( G$2+(('coded NOLH for 8-11 factors'!G9-1)*(G$3-G$2)/32), G$4)","v":24},{"$f":"ROUND( H$2+(('coded NOLH for 8-11 factors'!H9-1)*(H$3-H$2)/32), H$4)","v":14},{"$f":"ROUND( I$2+(('coded NOLH for 8-11 factors'!I9-1)*(I$3-I$2)/32), I$4)","v":19},{"$f":"ROUND( J$2+(('coded NOLH for 8-11 factors'!J9-1)*(J$3-J$2)/32), J$4)","v":3},{"$f":"ROUND( K$2+(('coded NOLH for 8-11 factors'!K9-1)*(K$3-K$2)/32), K$4)","v":5},{"$f":"ROUND( L$2+(('coded NOLH for 8-11 factors'!L9-1)*(L$3-L$2)/32), L$4)","v":23}]
[null,{"$f":"ROUND( B$2+(('coded NOLH for 8-11 factors'!B10-1)*(B$3-B$2)/32), B$4)","v":32},{"$f":"ROUND( C$2+(('coded NOLH for 8-11 factors'!C10-1)*(C$3-C$2)/32), C$4)","v":31},{"$f":"ROUND( D$2+(('coded NOLH for 8-11 factors'!D10-1)*(D$3-D$2)/32), D$4)","v":11},{"$f":"ROUND( E$2+(('coded NOLH for 8-11 factors'!E10-1)*(E$3-E$2)/32), E$4)","v":10},{"$f":"ROUND( F$2+(('coded NOLH for 8-11 factors'!F10-1)*(F$3-F$2)/32), F$4)","v":15},{"$f":"ROUND( G$2+(('coded NOLH for 8-11 factors'!G10-1)*(G$3-G$2)/32), G$4)","v":8},{"$f":"ROUND( H$2+(('coded NOLH for 8-11 factors'!H10-1)*(H$3-H$2)/32), H$4)","v":6},{"$f":"ROUND( I$2+(('coded NOLH for 8-11 factors'!I10-1)*(I$3-I$2)/32), I$4)","v":29},{"$f":"ROUND( J$2+(('coded NOLH for 8-11 factors'!J10-1)*(J$3-J$2)/32), J$4)","v":2},{"$f":"ROUND( K$2+(('coded NOLH for 8-11 factors'!K10-1)*(K$3-K$2)/32), K$4)","v":18},{"$f":"ROUND( L$2+(('coded NOLH for 8-11 factors'!L10-1)*(L$3-L$2)/32), L$4)","v":25}]
[null,{"$f":"ROUND( B$2+(('coded NOLH for 8-11 factors'!B11-1)*(B$3-B$2)/32), B$4)","v":23},{"$f":"ROUND( C$2+(('coded NOLH for 8-11 factors'!C11-1)*(C$3-C$2)/32), C$4)","v":16},{"$f":"ROUND( D$2+(('coded NOLH for 8-11 factors'!D11-1)*(D$3-D$2)/32), D$4)","v":32},{"$f":"ROUND( E$2+(('coded NOLH for 8-11 factors'!E11-1)*(E$3-E$2)/32), E$4)","v":9},{"$f":"ROUND( F$2+(('coded NOLH for 8-11 factors'!F11-1)*(F$3-F$2)/32), F$4)","v":1},{"$f":"ROUND( G$2+(('coded NOLH for 8-11 factors'!G11-1)*(G$3-G$2)/32), G$4)","v":22},{"$f":"ROUND( H$2+(('coded NOLH for 8-11 factors'!H11-1)*(H$3-H$2)/32), H$4)","v":13},{"$f":"ROUND( I$2+(('coded NOLH for 8-11 factors'!I11-1)*(I$3-I$2)/32), I$4)","v":30},{"$f":"ROUND( J$2+(('coded NOLH for 8-11 factors'!J11-1)*(J$3-J$2)/32), J$4)","v":29},{"$f":"ROUND( K$2+(('coded NOLH for 8-11 factors'!K11-1)*(K$3-K$2)/32), K$4)","v":1},{"$f":"ROUND( L$2+(('coded NOLH for 8-11 factors'!L11-1)*(L$3-L$2)/32), L$4)","v":10}]
[null,{"$f":"ROUND( B$2+(('coded NOLH for 8-11 factors'!B12-1)*(B$3-B$2)/32), B$4)","v":18},{"$f":"ROUND( C$2+(('coded NOLH for 8-11 factors'!C12-1)*(C$3-C$2)/32), C$4)","v":23},{"$f":"ROUND( D$2+(('coded NOLH for 8-11 factors'!D12-1)*(D$3-D$2)/32), D$4)","v":31},{"$f":"ROUND( E$2+(('coded NOLH for 8-11 factors'!E12-1)*(E$3-E$2)/32), E$4)","v":12},{"$f":"ROUND( F$2+(('coded NOLH for 8-11 factors'!F12-1)*(F$3-F$2)/32), F$4)","v":30},{"$f":"ROUND( G$2+(('coded NOLH for 8-11 factors'!G12-1)*(G$3-G$2)/32), G$4)","v":9},{"$f":"ROUND( H$2+(('coded NOLH for 8-11 factors'!H12-1)*(H$3-H$2)/32), H$4)","v":8},{"$f":"ROUND( I$2+(('coded NOLH for 8-11 factors'!I12-1)*(I$3-I$2)/32), I$4)","v":33},{"$f":"ROUND( J$2+(('coded NOLH for 8-11 factors'!J12-1)*(J$3-J$2)/32), J$4)","v":18},{"$f":"ROUND( K$2+(('coded NOLH for 8-11 factors'!K12-1)*(K$3-K$2)/32), K$4)","v":31},{"$f":"ROUND( L$2+(('coded NOLH for 8-11 factors'!L12-1)*(L$3-L$2)/32), L$4)","v":7}]
[null,{"$f":"ROUND( B$2+(('coded NOLH for 8-11 factors'!B13-1)*(B$3-B$2)/32), B$4)","v":22},{"$f":"ROUND( C$2+(('coded NOLH for 8-11 factors'!C13-1)*(C$3-C$2)/32), C$4)","v":9},{"$f":"ROUND( D$2+(('coded NOLH for 8-11 factors'!D13-1)*(D$3-D$2)/32), D$4)","v":8},{"$f":"ROUND( E$2+(('coded NOLH for 8-11 factors'!E13-1)*(E$3-E$2)/32), E$4)","v":18},{"$f":"ROUND( F$2+(('coded NOLH for 8-11 factors'!F13-1)*(F$3-F$2)/32), F$4)","v":24},{"$f":"ROUND( G$2+(('coded NOLH for 8-11 factors'!G13-1)*(G$3-G$2)/32), G$4)","v":11},{"$f":"ROUND( H$2+(('coded NOLH for 8-11 factors'!H13-1)*(H$3-H$2)/32), H$4)","v":1},{"$f":"ROUND( I$2+(('coded NOLH for 8-11 factors'!I13-1)*(I$3-I$2)/32), I$4)","v":7},{"$f":"ROUND( J$2+(('coded NOLH for 8-11 factors'!J13-1)*(J$3-J$2)/32), J$4)","v":20},{"$f":"ROUND( K$2+(('coded NOLH for 8-11 factors'!K13-1)*(K$3-K$2)/32), K$4)","v":20},{"$f":"ROUND( L$2+(('coded NOLH for 8-11 factors'!L13-1)*(L$3-L$2)/32), L$4)","v":3}]
[null,{"$f":"ROUND( B$2+(('coded NOLH for 8-11 factors'!B14-1)*(B$3-B$2)/32), B$4)","v":25},{"$f":"ROUND( C$2+(('coded NOLH for 8-11 factors'!C14-1)*(C$3-C$2)/32), C$4)","v":22},{"$f":"ROUND( D$2+(('coded NOLH for 8-11 factors'!D14-1)*(D$3-D$2)/32), D$4)","v":10},{"$f":"ROUND( E$2+(('coded NOLH for 8-11 factors'!E14-1)*(E$3-E$2)/32), E$4)","v":23},{"$f":"ROUND( F$2+(('coded NOLH for 8-11 factors'!F14-1)*(F$3-F$2)/32), F$4)","v":8},{"$f":"ROUND( G$2+(('coded NOLH for 8-11 factors'!G14-1)*(G$3-G$2)/32), G$4)","v":18},{"$f":"ROUND( H$2+(('coded NOLH for 8-11 factors'!H14-1)*(H$3-H$2)/32), H$4)","v":4},{"$f":"ROUND( I$2+(('coded NOLH for 8-11 factors'!I14-1)*(I$3-I$2)/32), I$4)","v":13},{"$f":"ROUND( J$2+(('coded NOLH for 8-11 factors'!J14-1)*(J$3-J$2)/32), J$4)","v":28},{"$f":"ROUND( K$2+(('coded NOLH for 8-11 factors'!K14-1)*(K$3-K$2)/32), K$4)","v":7},{"$f":"ROUND( L$2+(('coded NOLH for 8-11 factors'!L14-1)*(L$3-L$2)/32), L$4)","v":2}]
[null,{"$f":"ROUND( B$2+(('coded NOLH for 8-11 factors'!B15-1)*(B$3-B$2)/32), B$4)","v":24},{"$f":"ROUND( C$2+(('coded NOLH for 8-11 factors'!C15-1)*(C$3-C$2)/32), C$4)","v":8},{"$f":"ROUND( D$2+(('coded NOLH for 8-11 factors'!D15-1)*(D$3-D$2)/32), D$4)","v":25},{"$f":"ROUND( E$2+(('coded NOLH for 8-11 factors'!E15-1)*(E$3-E$2)/32), E$4)","v":32},{"$f":"ROUND( F$2+(('coded NOLH for 8-11 factors'!F15-1)*(F$3-F$2)/32), F$4)","v":12},{"$f":"ROUND( G$2+(('coded NOLH for 8-11 factors'!G15-1)*(G$3-G$2)/32), G$4)","v":3},{"$f":"ROUND( H$2+(('coded NOLH for 8-11 factors'!H15-1)*(H$3-H$2)/32), H$4)","v":5},{"$f":"ROUND( I$2+(('coded NOLH for 8-11 factors'!I15-1)*(I$3-I$2)/32), I$4)","v":6},{"$f":"ROUND( J$2+(('coded NOLH for 8-11 factors'!J15-1)*(J$3-J$2)/32), J$4)","v":13},{"$f":"ROUND( K$2+(('coded NOLH for 8-11 factors'!K15-1)*(K$3-K$2)/32), K$4)","v":21},{"$f":"ROUND( L$2+(('coded NOLH for 8-11 factors'!L15-1)*(L$3-L$2)/32), L$4)","v":22}]
[null,{"$f":"ROUND( B$2+(('coded NOLH for 8-11 factors'!B16-1)*(B$3-B$2)/32), B$4)","v":26},{"$f":"ROUND( C$2+(('coded NOLH for 8-11 factors'!C16-1)*(C$3-C$2)/32), C$4)","v":24},{"$f":"ROUND( D$2+(('coded NOLH for 8-11 factors'!D16-1)*(D$3-D$2)/32), D$4)","v":22},{"$f":"ROUND( E$2+(('coded NOLH for 8-11 factors'!E16-1)*(E$3-E$2)/32), E$4)","v":31},{"$f":"ROUND( F$2+(('coded NOLH for 8-11 factors'!F16-1)*(F$3-F$2)/32), F$4)","v":25},{"$f":"ROUND( G$2+(('coded NOLH for 8-11 factors'!G16-1)*(G$3-G$2)/32), G$4)","v":32},{"$f":"ROUND( H$2+(('coded NOLH for 8-11 factors'!H16-1)*(H$3-H$2)/32), H$4)","v":16},{"$f":"ROUND( I$2+(('coded NOLH for 8-11 factors'!I16-1)*(I$3-I$2)/32), I$4)","v":14},{"$f":"ROUND( J$2+(('coded NOLH for 8-11 factors'!J16-1)*(J$3-J$2)/32), J$4)","v":8},{"$f":"ROUND( K$2+(('coded NOLH for 8-11 factors'!K16-1)*(K$3-K$2)/32), K$4)","v":6},{"$f":"ROUND( L$2+(('coded NOLH for 8-11 factors'!L16-1)*(L$3-L$2)/32), L$4)","v":19}]
[null,{"$f":"ROUND( B$2+(('coded NOLH for 8-11 factors'!B17-1)*(B$3-B$2)/32), B$4)","v":20},{"$f":"ROUND( C$2+(('coded NOLH for 8-11 factors'!C17-1)*(C$3-C$2)/32), C$4)","v":6},{"$f":"ROUND( D$2+(('coded NOLH for 8-11 factors'!D17-1)*(D$3-D$2)/32), D$4)","v":7},{"$f":"ROUND( E$2+(('coded NOLH for 8-11 factors'!E17-1)*(E$3-E$2)/32), E$4)","v":19},{"$f":"ROUND( F$2+(('coded NOLH for 8-11 factors'!F17-1)*(F$3-F$2)/32), F$4)","v":20},{"$f":"ROUND( G$2+(('coded NOLH for 8-11 factors'!G17-1)*(G$3-G$2)/32), G$4)","v":5},{"$f":"ROUND( H$2+(('coded NOLH for 8-11 factors'!H17-1)*(H$3-H$2)/32), H$4)","v":32},{"$f":"ROUND( I$2+(('coded NOLH for 8-11 factors'!I17-1)*(I$3-I$2)/32), I$4)","v":26},{"$f":"ROUND( J$2+(('coded NOLH for 8-11 factors'!J17-1)*(J$3-J$2)/32), J$4)","v":12},{"$f":"ROUND( K$2+(('coded NOLH for 8-11 factors'!K17-1)*(K$3-K$2)/32), K$4)","v":10},{"$f":"ROUND( L$2+(('coded NOLH for 8-11 factors'!L17-1)*(L$3-L$2)/32), L$4)","v":1}]
[null,{"$f":"ROUND( B$2+(('coded NOLH for 8-11 factors'!B18-1)*(B$3-B$2)/32), B$4)","v":28},{"$f":"ROUND( C$2+(('coded NOLH for 8-11 factors'!C18-1)*(C$3-C$2)/32), C$4)","v":20},{"$f":"ROUND( D$2+(('coded NOLH for 8-11 factors'!D18-1)*(D$3-D$2)/32), D$4)","v":13},{"$f":"ROUND( E$2+(('coded NOLH for 8-11 factors'!E18-1)*(E$3-E$2)/32), E$4)","v":29},{"$f":"ROUND( F$2+(('coded NOLH for 8-11 factors'!F18-1)*(F$3-F$2)/32), F$4)","v":6},{"$f":"ROUND( G$2+(('coded NOLH for 8-11 factors'!G18-1)*(G$3-G$2)/32), G$4)","v":19},{"$f":"ROUND( H$2+(('coded NOLH for 8-11 factors'!H18-1)*(H$3-H$2)/32), H$4)","v":31},{"$f":"ROUND( I$2+(('coded NOLH for 8-11 factors'!I18-1)*(I$3-I$2)/32), I$4)","v":24},{"$f":"ROUND( J$2+(('coded NOLH for 8-11 factors'!J18-1)*(J$3-J$2)/32), J$4)","v":9},{"$f":"ROUND( K$2+(('coded NOLH for 8-11 factors'!K18-1)*(K$3-K$2)/32), K$4)","v":26},{"$f":"ROUND( L$2+(('coded NOLH for 8-11 factors'!L18-1)*(L$3-L$2)/32), L$4)","v":5}]
[null,{"$f":"ROUND( B$2+(('coded NOLH for 8-11 factors'!B19-1)*(B$3-B$2)/32), B$4)","v":21},{"$f":"ROUND( C$2+(('coded NOLH for 8-11 factors'!C19-1)*(C$3-C$2)/32), C$4)","v":7},{"$f":"ROUND( D$2+(('coded NOLH for 8-11 factors'!D19-1)*(D$3-D$2)/32), D$4)","v":28},{"$f":"ROUND( E$2+(('coded NOLH for 8-11 factors'!E19-1)*(E$3-E$2)/32), E$4)","v":30},{"$f":"ROUND( F$2+(('coded NOLH for 8-11 factors'!F19-1)*(F$3-F$2)/32), F$4)","v":13},{"$f":"ROUND( G$2+(('coded NOLH for 8-11 factors'!G19-1)*(G$3-G$2)/32), G$4)","v":1},{"$f":"ROUND( H$2+(('coded NOLH for 8-11 factors'!H19-1)*(H$3-H$2)/32), H$4)","v":22},{"$f":"ROUND( I$2+(('coded NOLH for 8-11 factors'!I19-1)*(I$3-I$2)/32), I$4)","v":25},{"$f":"ROUND( J$2+(('coded NOLH for 8-11 factors'!J19-1)*(J$3-J$2)/32), J$4)","v":24},{"$f":"ROUND( K$2+(('coded NOLH for 8-11 factors'!K19-1)*(K$3-K$2)/32), K$4)","v":12},{"$f":"ROUND( L$2+(('coded NOLH for 8-11 factors'!L19-1)*(L$3-L$2)/32), L$4)","v":30}]
[null,{"$f":"ROUND( B$2+(('coded NOLH for 8-11 factors'!B20-1)*(B$3-B$2)/32), B$4)","v":27},{"$f":"ROUND( C$2+(('coded NOLH for 8-11 factors'!C20-1)*(C$3-C$2)/32), C$4)","v":21},{"$f":"ROUND( D$2+(('coded NOLH for 8-11 factors'!D20-1)*(D$3-D$2)/32), D$4)","v":20},{"$f":"ROUND( E$2+(('coded NOLH for 8-11 factors'!E20-1)*(E$3-E$2)/32), E$4)","v":33},{"$f":"ROUND( F$2+(('coded NOLH for 8-11 factors'!F20-1)*(F$3-F$2)/32), F$4)","v":27},{"$f":"ROUND( G$2+(('coded NOLH for 8-11 factors'!G20-1)*(G$3-G$2)/32), G$4)","v":30},{"$f":"ROUND( H$2+(('coded NOLH for 8-11 factors'!H20-1)*(H$3-H$2)/32), H$4)","v":19},{"$f":"ROUND( I$2+(('coded NOLH for 8-11 factors'!I20-1)*(I$3-I$2)/32), I$4)","v":22},{"$f":"ROUND( J$2+(('coded NOLH for 8-11 factors'!J20-1)*(J$3-J$2)/32), J$4)","v":27},{"$f":"ROUND( K$2+(('coded NOLH for 8-11 factors'!K20-1)*(K$3-K$2)/32), K$4)","v":25},{"$f":"ROUND( L$2+(('coded NOLH for 8-11 factors'!L20-1)*(L$3-L$2)/32), L$4)","v":18}]
[null,{"$f":"ROUND( B$2+(('coded NOLH for 8-11 factors'!B21-1)*(B$3-B$2)/32), B$4)","v":17},{"$f":"ROUND( C$2+(('coded NOLH for 8-11 factors'!C21-1)*(C$3-C$2)/32), C$4)","v":17},{"$f":"ROUND( D$2+(('coded NOLH for 8-11 factors'!D21-1)*(D$3-D$2)/32), D$4)","v":17},{"$f":"ROUND( E$2+(('coded NOLH for 8-11 factors'!E21-1)*(E$3-E$2)/32), E$4)","v":17},{"$f":"ROUND( F$2+(('coded NOLH for 8-11 factors'!F21-1)*(F$3-F$2)/32), F$4)","v":17},{"$f":"ROUND( G$2+(('coded NOLH for 8-11 factors'!G21-1)*(G$3-G$2)/32), G$4)","v":17},{"$f":"ROUND( H$2+(('coded NOLH for 8-11 factors'!H21-1)*(H$3-H$2)/32), H$4)","v":17},{"$f":"ROUND( I$2+(('coded NOLH for 8-11 factors'!I21-1)*(I$3-I$2)/32), I$4)","v":17},{"$f":"ROUND( J$2+(('coded NOLH for 8-11 factors'!J21-1)*(J$3-J$2)/32), J$4)","v":17},{"$f":"ROUND( K$2+(('coded NOLH for 8-11 factors'!K21-1)*(K$3-K$2)/32), K$4)","v":17},{"$f":"ROUND( L$2+(('coded NOLH for 8-11 factors'!L21-1)*(L$3-L$2)/32), L$4)","v":17}]
[null,{"$f":"ROUND( B$2+(('coded NOLH for 8-11 factors'!B22-1)*(B$3-B$2)/32), B$4)","v":1},{"$f":"ROUND( C$2+(('coded NOLH for 8-11 factors'!C22-1)*(C$3-C$2)/32), C$4)","v":30},{"$f":"ROUND( D$2+(('coded NOLH for 8-11 factors'!D22-1)*(D$3-D$2)/32), D$4)","v":19},{"$f":"ROUND( E$2+(('coded NOLH for 8-11 factors'!E22-1)*(E$3-E$2)/32), E$4)","v":27},{"$f":"ROUND( F$2+(('coded NOLH for 8-11 factors'!F22-1)*(F$3-F$2)/32), F$4)","v":5},{"$f":"ROUND( G$2+(('coded NOLH for 8-11 factors'!G22-1)*(G$3-G$2)/32), G$4)","v":13},{"$f":"ROUND( H$2+(('coded NOLH for 8-11 factors'!H22-1)*(H$3-H$2)/32), H$4)","v":11},{"$f":"ROUND( I$2+(('coded NOLH for 8-11 factors'!I22-1)*(I$3-I$2)/32), I$4)","v":18},{"$f":"ROUND( J$2+(('coded NOLH for 8-11 factors'!J22-1)*(J$3-J$2)/32), J$4)","v":1},{"$f":"ROUND( K$2+(('coded NOLH for 8-11 factors'!K22-1)*(K$3-K$2)/32), K$4)","v":11},{"$f":"ROUND( L$2+(('coded NOLH for 8-11 factors'!L22-1)*(L$3-L$2)/32), L$4)","v":14}]
[null,{"$f":"ROUND( B$2+(('coded NOLH for 8-11 factors'!B23-1)*(B$3-B$2)/32), B$4)","v":4},{"$f":"ROUND( C$2+(('coded NOLH for 8-11 factors'!C23-1)*(C$3-C$2)/32), C$4)","v":1},{"$f":"ROUND( D$2+(('coded NOLH for 8-11 factors'!D23-1)*(D$3-D$2)/32), D$4)","v":29},{"$f":"ROUND( E$2+(('coded NOLH for 8-11 factors'!E23-1)*(E$3-E$2)/32), E$4)","v":21},{"$f":"ROUND( F$2+(('coded NOLH for 8-11 factors'!F23-1)*(F$3-F$2)/32), F$4)","v":18},{"$f":"ROUND( G$2+(('coded NOLH for 8-11 factors'!G23-1)*(G$3-G$2)/32), G$4)","v":27},{"$f":"ROUND( H$2+(('coded NOLH for 8-11 factors'!H23-1)*(H$3-H$2)/32), H$4)","v":9},{"$f":"ROUND( I$2+(('coded NOLH for 8-11 factors'!I23-1)*(I$3-I$2)/32), I$4)","v":23},{"$f":"ROUND( J$2+(('coded NOLH for 8-11 factors'!J23-1)*(J$3-J$2)/32), J$4)","v":4},{"$f":"ROUND( K$2+(('coded NOLH for 8-11 factors'!K23-1)*(K$3-K$2)/32), K$4)","v":19},{"$f":"ROUND( L$2+(('coded NOLH for 8-11 factors'!L23-1)*(L$3-L$2)/32), L$4)","v":6}]
[null,{"$f":"ROUND( B$2+(('coded NOLH for 8-11 factors'!B24-1)*(B$3-B$2)/32), B$4)","v":5},{"$f":"ROUND( C$2+(('coded NOLH for 8-11 factors'!C24-1)*(C$3-C$2)/32), C$4)","v":19},{"$f":"ROUND( D$2+(('coded NOLH for 8-11 factors'!D24-1)*(D$3-D$2)/32), D$4)","v":4},{"$f":"ROUND( E$2+(('coded NOLH for 8-11 factors'!E24-1)*(E$3-E$2)/32), E$4)","v":28},{"$f":"ROUND( F$2+(('coded NOLH for 8-11 factors'!F24-1)*(F$3-F$2)/32), F$4)","v":32},{"$f":"ROUND( G$2+(('coded NOLH for 8-11 factors'!G24-1)*(G$3-G$2)/32), G$4)","v":14},{"$f":"ROUND( H$2+(('coded NOLH for 8-11 factors'!H24-1)*(H$3-H$2)/32), H$4)","v":10},{"$f":"ROUND( I$2+(('coded NOLH for 8-11 factors'!I24-1)*(I$3-I$2)/32), I$4)","v":32},{"$f":"ROUND( J$2+(('coded NOLH for 8-11 factors'!J24-1)*(J$3-J$2)/32), J$4)","v":23},{"$f":"ROUND( K$2+(('coded NOLH for 8-11 factors'!K24-1)*(K$3-K$2)/32), K$4)","v":2},{"$f":"ROUND( L$2+(('coded NOLH for 8-11 factors'!L24-1)*(L$3-L$2)/32), L$4)","v":21}]
[null,{"$f":"ROUND( B$2+(('coded NOLH for 8-11 factors'!B25-1)*(B$3-B$2)/32), B$4)","v":15},{"$f":"ROUND( C$2+(('coded NOLH for 8-11 factors'!C25-1)*(C$3-C$2)/32), C$4)","v":5},{"$f":"ROUND( D$2+(('coded NOLH for 8-11 factors'!D25-1)*(D$3-D$2)/32), D$4)","v":1},{"$f":"ROUND( E$2+(('coded NOLH for 8-11 factors'!E25-1)*(E$3-E$2)/32), E$4)","v":20},{"$f":"ROUND( F$2+(('coded NOLH for 8-11 factors'!F25-1)*(F$3-F$2)/32), F$4)","v":3},{"$f":"ROUND( G$2+(('coded NOLH for 8-11 factors'!G25-1)*(G$3-G$2)/32), G$4)","v":28},{"$f":"ROUND( H$2+(('coded NOLH for 8-11 factors'!H25-1)*(H$3-H$2)/32), H$4)","v":7},{"$f":"ROUND( I$2+(('coded NOLH for 8-11 factors'!I25-1)*(I$3-I$2)/32), I$4)","v":31},{"$f":"ROUND( J$2+(('coded NOLH for 8-11 factors'!J25-1)*(J$3-J$2)/32), J$4)","v":19},{"$f":"ROUND( K$2+(('coded NOLH for 8-11 factors'!K25-1)*(K$3-K$2)/32), K$4)","v":30},{"$f":"ROUND( L$2+(('coded NOLH for 8-11 factors'!L25-1)*(L$3-L$2)/32), L$4)","v":26}]
[null,{"$f":"ROUND( B$2+(('coded NOLH for 8-11 factors'!B26-1)*(B$3-B$2)/32), B$4)","v":3},{"$f":"ROUND( C$2+(('coded NOLH for 8-11 factors'!C26-1)*(C$3-C$2)/32), C$4)","v":32},{"$f":"ROUND( D$2+(('coded NOLH for 8-11 factors'!D26-1)*(D$3-D$2)/32), D$4)","v":18},{"$f":"ROUND( E$2+(('coded NOLH for 8-11 factors'!E26-1)*(E$3-E$2)/32), E$4)","v":26},{"$f":"ROUND( F$2+(('coded NOLH for 8-11 factors'!F26-1)*(F$3-F$2)/32), F$4)","v":11},{"$f":"ROUND( G$2+(('coded NOLH for 8-11 factors'!G26-1)*(G$3-G$2)/32), G$4)","v":10},{"$f":"ROUND( H$2+(('coded NOLH for 8-11 factors'!H26-1)*(H$3-H$2)/32), H$4)","v":20},{"$f":"ROUND( I$2+(('coded NOLH for 8-11 factors'!I26-1)*(I$3-I$2)/32), I$4)","v":15},{"$f":"ROUND( J$2+(('coded NOLH for 8-11 factors'!J26-1)*(J$3-J$2)/32), J$4)","v":31},{"$f":"ROUND( K$2+(('coded NOLH for 8-11 factors'!K26-1)*(K$3-K$2)/32), K$4)","v":29},{"$f":"ROUND( L$2+(('coded NOLH for 8-11 factors'!L26-1)*(L$3-L$2)/32), L$4)","v":11}]
[null,{"$f":"ROUND( B$2+(('coded NOLH for 8-11 factors'!B27-1)*(B$3-B$2)/32), B$4)","v":2},{"$f":"ROUND( C$2+(('coded NOLH for 8-11 factors'!C27-1)*(C$3-C$2)/32), C$4)","v":3},{"$f":"ROUND( D$2+(('coded NOLH for 8-11 factors'!D27-1)*(D$3-D$2)/32), D$4)","v":23},{"$f":"ROUND( E$2+(('coded NOLH for 8-11 factors'!E27-1)*(E$3-E$2)/32), E$4)","v":24},{"$f":"ROUND( F$2+(('coded NOLH for 8-11 factors'!F27-1)*(F$3-F$2)/32), F$4)","v":19},{"$f":"ROUND( G$2+(('coded NOLH for 8-11 factors'!G27-1)*(G$3-G$2)/32), G$4)","v":26},{"$f":"ROUND( H$2+(('coded NOLH for 8-11 factors'!H27-1)*(H$3-H$2)/32), H$4)","v":28},{"$f":"ROUND( I$2+(('coded NOLH for 8-11 factors'!I27-1)*(I$3-I$2)/32), I$4)","v":5},{"$f":"ROUND( J$2+(('coded NOLH for 8-11 factors'!J27-1)*(J$3-J$2)/32), J$4)","v":32},{"$f":"ROUND( K$2+(('coded NOLH for 8-11 factors'!K27-1)*(K$3-K$2)/32), K$4)","v":16},{"$f":"ROUND( L$2+(('coded NOLH for 8-11 factors'!L27-1)*(L$3-L$2)/32), L$4)","v":9}]
[null,{"$f":"ROUND( B$2+(('coded NOLH for 8-11 factors'!B28-1)*(B$3-B$2)/32), B$4)","v":11},{"$f":"ROUND( C$2+(('coded NOLH for 8-11 factors'!C28-1)*(C$3-C$2)/32), C$4)","v":18},{"$f":"ROUND( D$2+(('coded NOLH for 8-11 factors'!D28-1)*(D$3-D$2)/32), D$4)","v":2},{"$f":"ROUND( E$2+(('coded NOLH for 8-11 factors'!E28-1)*(E$3-E$2)/32), E$4)","v":25},{"$f":"ROUND( F$2+(('coded NOLH for 8-11 factors'!F28-1)*(F$3-F$2)/32), F$4)","v":33},{"$f":"ROUND( G$2+(('coded NOLH for 8-11 factors'!G28-1)*(G$3-G$2)/32), G$4)","v":12},{"$f":"ROUND( H$2+(('coded NOLH for 8-11 factors'!H28-1)*(H$3-H$2)/32), H$4)","v":21},{"$f":"ROUND( I$2+(('coded NOLH for 8-11 factors'!I28-1)*(I$3-I$2)/32), I$4)","v":4},{"$f":"ROUND( J$2+(('coded NOLH for 8-11 factors'!J28-1)*(J$3-J$2)/32), J$4)","v":5},{"$f":"ROUND( K$2+(('coded NOLH for 8-11 factors'!K28-1)*(K$3-K$2)/32), K$4)","v":33},{"$f":"ROUND( L$2+(('coded NOLH for 8-11 factors'!L28-1)*(L$3-L$2)/32), L$4)","v":24}]
[null,{"$f":"ROUND( B$2+(('coded NOLH for 8-11 factors'!B29-1)*(B$3-B$2)/32), B$4)","v":16},{"$f":"ROUND( C$2+(('coded NOLH for 8-11 factors'!C29-1)*(C$3-C$2)/32), C$4)","v":11},{"$f":"ROUND( D$2+(('coded NOLH for 8-11 factors'!D29-1)*(D$3-D$2)/32), D$4)","v":3},{"$f":"ROUND( E$2+(('coded NOLH for 8-11 factors'!E29-1)*(E$3-E$2)/32), E$4)","v":22},{"$f":"ROUND( F$2+(('coded NOLH for 8-11 factors'!F29-1)*(F$3-F$2)/32), F$4)","v":4},{"$f":"ROUND( G$2+(('coded NOLH for 8-11 factors'!G29-1)*(G$3-G$2)/32), G$4)","v":25},{"$f":"ROUND( H$2+(('coded NOLH for 8-11 factors'!H29-1)*(H$3-H$2)/32), H$4)","v":26},{"$f":"ROUND( I$2+(('coded NOLH for 8-11 factors'!I29-1)*(I$3-I$2)/32), I$4)","v":1},{"$f":"ROUND( J$2+(('coded NOLH for 8-11 factors'!J29-1)*(J$3-J$2)/32), J$4)","v":16},{"$f":"ROUND( K$2+(('coded NOLH for 8-11 factors'!K29-1)*(K$3-K$2)/32), K$4)","v":3},{"$f":"ROUND( L$2+(('coded NOLH for 8-11 factors'!L29-1)*(L$3-L$2)/32), L$4)","v":27}]
[null,{"$f":"ROUND( B$2+(('coded NOLH for 8-11 factors'!B30-1)*(B$3-B$2)/32), B$4)","v":12},{"$f":"ROUND( C$2+(('coded NOLH for 8-11 factors'!C30-1)*(C$3-C$2)/32), C$4)","v":25},{"$f":"ROUND( D$2+(('coded NOLH for 8-11 factors'!D30-1)*(D$3-D$2)/32), D$4)","v":26},{"$f":"ROUND( E$2+(('coded NOLH for 8-11 factors'!E30-1)*(E$3-E$2)/32), E$4)","v":16},{"$f":"ROUND( F$2+(('coded NOLH for 8-11 factors'!F30-1)*(F$3-F$2)/32), F$4)","v":10},{"$f":"ROUND( G$2+(('coded NOLH for 8-11 factors'!G30-1)*(G$3-G$2)/32), G$4)","v":23},{"$f":"ROUND( H$2+(('coded NOLH for 8-11 factors'!H30-1)*(H$3-H$2)/32), H$4)","v":33},{"$f":"ROUND( I$2+(('coded NOLH for 8-11 factors'!I30-1)*(I$3-I$2)/32), I$4)","v":27},{"$f":"ROUND( J$2+(('coded NOLH for 8-11 factors'!J30-1)*(J$3-J$2)/32), J$4)","v":14},{"$f":"ROUND( K$2+(('coded NOLH for 8-11 factors'!K30-1)*(K$3-K$2)/32), K$4)","v":14},{"$f":"ROUND( L$2+(('coded NOLH for 8-11 factors'!L30-1)*(L$3-L$2)/32), L$4)","v":31}]
[null,{"$f":"ROUND( B$2+(('coded NOLH for 8-11 factors'!B31-1)*(B$3-B$2)/32), B$4)","v":9},{"$f":"ROUND( C$2+(('coded NOLH for 8-11 factors'!C31-1)*(C$3-C$2)/32), C$4)","v":12},{"$f":"ROUND( D$2+(('coded NOLH for 8-11 factors'!D31-1)*(D$3-D$2)/32), D$4)","v":24},{"$f":"ROUND( E$2+(('coded NOLH for 8-11 factors'!E31-1)*(E$3-E$2)/32), E$4)","v":11},{"$f":"ROUND( F$2+(('coded NOLH for 8-11 factors'!F31-1)*(F$3-F$2)/32), F$4)","v":26},{"$f":"ROUND( G$2+(('coded NOLH for 8-11 factors'!G31-1)*(G$3-G$2)/32), G$4)","v":16},{"$f":"ROUND( H$2+(('coded NOLH for 8-11 factors'!H31-1)*(H$3-H$2)/32), H$4)","v":30},{"$f":"ROUND( I$2+(('coded NOLH for 8-11 factors'!I31-1)*(I$3-I$2)/32), I$4)","v":21},{"$f":"ROUND( J$2+(('coded NOLH for 8-11 factors'!J31-1)*(J$3-J$2)/32), J$4)","v":6},{"$f":"ROUND( K$2+(('coded NOLH for 8-11 factors'!K31-1)*(K$3-K$2)/32), K$4)","v":27},{"$f":"ROUND( L$2+(('coded NOLH for 8-11 factors'!L31-1)*(L$3-L$2)/32), L$4)","v":32}]
[null,{"$f":"ROUND( B$2+(('coded NOLH for 8-11 factors'!B32-1)*(B$3-B$2)/32), B$4)","v":10},{"$f":"ROUND( C$2+(('coded NOLH for 8-11 factors'!C32-1)*(C$3-C$2)/32), C$4)","v":26},{"$f":"ROUND( D$2+(('coded NOLH for 8-11 factors'!D32-1)*(D$3-D$2)/32), D$4)","v":9},{"$f":"ROUND( E$2+(('coded NOLH for 8-11 factors'!E32-1)*(E$3-E$2)/32), E$4)","v":2},{"$f":"ROUND( F$2+(('coded NOLH for 8-11 factors'!F32-1)*(F$3-F$2)/32), F$4)","v":22},{"$f":"ROUND( G$2+(('coded NOLH for 8-11 factors'!G32-1)*(G$3-G$2)/32), G$4)","v":31},{"$f":"ROUND( H$2+(('coded NOLH for 8-11 factors'!H32-1)*(H$3-H$2)/32), H$4)","v":29},{"$f":"ROUND( I$2+(('coded NOLH for 8-11 factors'!I32-1)*(I$3-I$2)/32), I$4)","v":28},{"$f":"ROUND( J$2+(('coded NOLH for 8-11 factors'!J32-1)*(J$3-J$2)/32), J$4)","v":21},{"$f":"ROUND( K$2+(('coded NOLH for 8-11 factors'!K32-1)*(K$3-K$2)/32), K$4)","v":13},{"$f":"ROUND( L$2+(('coded NOLH for 8-11 factors'!L32-1)*(L$3-L$2)/32), L$4)","v":12}]
[null,{"$f":"ROUND( B$2+(('coded NOLH for 8-11 factors'!B33-1)*(B$3-B$2)/32), B$4)","v":8},{"$f":"ROUND( C$2+(('coded NOLH for 8-11 factors'!C33-1)*(C$3-C$2)/32), C$4)","v":10},{"$f":"ROUND( D$2+(('coded NOLH for 8-11 factors'!D33-1)*(D$3-D$2)/32), D$4)","v":12},{"$f":"ROUND( E$2+(('coded NOLH for 8-11 factors'!E33-1)*(E$3-E$2)/32), E$4)","v":3},{"$f":"ROUND( F$2+(('coded NOLH for 8-11 factors'!F33-1)*(F$3-F$2)/32), F$4)","v":9},{"$f":"ROUND( G$2+(('coded NOLH for 8-11 factors'!G33-1)*(G$3-G$2)/32), G$4)","v":2},{"$f":"ROUND( H$2+(('coded NOLH for 8-11 factors'!H33-1)*(H$3-H$2)/32), H$4)","v":18},{"$f":"ROUND( I$2+(('coded NOLH for 8-11 factors'!I33-1)*(I$3-I$2)/32), I$4)","v":20},{"$f":"ROUND( J$2+(('coded NOLH for 8-11 factors'!J33-1)*(J$3-J$2)/32), J$4)","v":26},{"$f":"ROUND( K$2+(('coded NOLH for 8-11 factors'!K33-1)*(K$3-K$2)/32), K$4)","v":28},{"$f":"ROUND( L$2+(('coded NOLH for 8-11 factors'!L33-1)*(L$3-L$2)/32), L$4)","v":15}]
[null,{"$f":"ROUND( B$2+(('coded NOLH for 8-11 factors'!B34-1)*(B$3-B$2)/32), B$4)","v":14},{"$f":"ROUND( C$2+(('coded NOLH for 8-11 factors'!C34-1)*(C$3-C$2)/32), C$4)","v":28},{"$f":"ROUND( D$2+(('coded NOLH for 8-11 factors'!D34-1)*(D$3-D$2)/32), D$4)","v":27},{"$f":"ROUND( E$2+(('coded NOLH for 8-11 factors'!E34-1)*(E$3-E$2)/32), E$4)","v":15},{"$f":"ROUND( F$2+(('coded NOLH for 8-11 factors'!F34-1)*(F$3-F$2)/32), F$4)","v":14},{"$f":"ROUND( G$2+(('coded NOLH for 8-11 factors'!G34-1)*(G$3-G$2)/32), G$4)","v":29},{"$f":"ROUND( H$2+(('coded NOLH for 8-11 factors'!H34-1)*(H$3-H$2)/32), H$4)","v":2},{"$f":"ROUND( I$2+(('coded NOLH for 8-11 factors'!I34-1)*(I$3-I$2)/32), I$4)","v":8},{"$f":"ROUND( J$2+(('coded NOLH for 8-11 factors'!J34-1)*(J$3-J$2)/32), J$4)","v":22},{"$f":"ROUND( K$2+(('coded NOLH for 8-11 factors'!K34-1)*(K$3-K$2)/32), K$4)","v":24},{"$f":"ROUND( L$2+(('coded NOLH for 8-11 factors'!L34-1)*(L$3-L$2)/32), L$4)","v":33}]
[null,{"$f":"ROUND( B$2+(('coded NOLH for 8-11 factors'!B35-1)*(B$3-B$2)/32), B$4)","v":6},{"$f":"ROUND( C$2+(('coded NOLH for 8-11 factors'!C35-1)*(C$3-C$2)/32), C$4)","v":14},{"$f":"ROUND( D$2+(('coded NOLH for 8-11 factors'!D35-1)*(D$3-D$2)/32), D$4)","v":21},{"$f":"ROUND( E$2+(('coded NOLH for 8-11 factors'!E35-1)*(E$3-E$2)/32), E$4)","v":5},{"$f":"ROUND( F$2+(('coded NOLH for 8-11 factors'!F35-1)*(F$3-F$2)/32), F$4)","v":28},{"$f":"ROUND( G$2+(('coded NOLH for 8-11 factors'!G35-1)*(G$3-G$2)/32), G$4)","v":15},{"$f":"ROUND( H$2+(('coded NOLH for 8-11 factors'!H35-1)*(H$3-H$2)/32), H$4)","v":3},{"$f":"ROUND( I$2+(('coded NOLH for 8-11 factors'!I35-1)*(I$3-I$2)/32), I$4)","v":10},{"$f":"ROUND( J$2+(('coded NOLH for 8-11 factors'!J35-1)*(J$3-J$2)/32), J$4)","v":25},{"$f":"ROUND( K$2+(('coded NOLH for 8-11 factors'!K35-1)*(K$3-K$2)/32), K$4)","v":8},{"$f":"ROUND( L$2+(('coded NOLH for 8-11 factors'!L35-1)*(L$3-L$2)/32), L$4)","v":29}]
[null,{"$f":"ROUND( B$2+(('coded NOLH for 8-11 factors'!B36-1)*(B$3-B$2)/32), B$4)","v":13},{"$f":"ROUND( C$2+(('coded NOLH for 8-11 factors'!C36-1)*(C$3-C$2)/32), C$4)","v":27},{"$f":"ROUND( D$2+(('coded NOLH for 8-11 factors'!D36-1)*(D$3-D$2)/32), D$4)","v":6},{"$f":"ROUND( E$2+(('coded NOLH for 8-11 factors'!E36-1)*(E$3-E$2)/32), E$4)","v":4},{"$f":"ROUND( F$2+(('coded NOLH for 8-11 factors'!F36-1)*(F$3-F$2)/32), F$4)","v":21},{"$f":"ROUND( G$2+(('coded NOLH for 8-11 factors'!G36-1)*(G$3-G$2)/32), G$4)","v":33},{"$f":"ROUND( H$2+(('coded NOLH for 8-11 factors'!H36-1)*(H$3-H$2)/32), H$4)","v":12},{"$f":"ROUND( I$2+(('coded NOLH for 8-11 factors'!I36-1)*(I$3-I$2)/32), I$4)","v":9},{"$f":"ROUND( J$2+(('coded NOLH for 8-11 factors'!J36-1)*(J$3-J$2)/32), J$4)","v":10},{"$f":"ROUND( K$2+(('coded NOLH for 8-11 factors'!K36-1)*(K$3-K$2)/32), K$4)","v":22},{"$f":"ROUND( L$2+(('coded NOLH for 8-11 factors'!L36-1)*(L$3-L$2)/32), L$4)","v":4}]
[null,{"$f":"ROUND( B$2+(('coded NOLH for 8-11 factors'!B37-1)*(B$3-B$2)/32), B$4)","v":7},{"$f":"ROUND( C$2+(('coded NOLH for 8-11 factors'!C37-1)*(C$3-C$2)/32), C$4)","v":13},{"$f":"ROUND( D$2+(('coded NOLH for 8-11 factors'!D37-1)*(D$3-D$2)/32), D$4)","v":14},{"$f":"ROUND( E$2+(('coded NOLH for 8-11 factors'!E37-1)*(E$3-E$2)/32), E$4)","v":1},{"$f":"ROUND( F$2+(('coded NOLH for 8-11 factors'!F37-1)*(F$3-F$2)/32), F$4)","v":7},{"$f":"ROUND( G$2+(('coded NOLH for 8-11 factors'!G37-1)*(G$3-G$2)/32), G$4)","v":4},{"$f":"ROUND( H$2+(('coded NOLH for 8-11 factors'!H37-1)*(H$3-H$2)/32), H$4)","v":15},{"$f":"ROUND( I$2+(('coded NOLH for 8-11 factors'!I37-1)*(I$3-I$2)/32), I$4)","v":12},{"$f":"ROUND( J$2+(('coded NOLH for 8-11 factors'!J37-1)*(J$3-J$2)/32), J$4)","v":7},{"$f":"ROUND( K$2+(('coded NOLH for 8-11 factors'!K37-1)*(K$3-K$2)/32), K$4)","v":9},{"$f":"ROUND( L$2+(('coded NOLH for 8-11 factors'!L37-1)*(L$3-L$2)/32), L$4)","v":16}]

{"sheet":"coded NOLH for 12-16 factors","index":7,"n_rows":709,"n_cols":17,"rows_kept":709,"cut":false,"hidden":true,"merged":[]}
["Cioppa's factor ID","f1","f2","f3","f5","f6","f8","f11","f12","f13","f14","f15","f16","f4","f9","f7","f10"]
["low level"]
["high level"]
["factor name"]
[null,47,4,24,22,9,50,52,32,63,47,36,61,13,41,53,45]
[null,62,47,8,28,23,17,36,49,47,60,50,32,16,23,23,11]
[null,58,24,62,15,20,56,11,30,27,38,52,57,31,34,18,58]
[null,42,58,47,30,5,28,18,18,9,64,59,41,6,14,56,22]
[null,60,31,13,2,7,11,17,40,40,32,5,55,42,39,46,52]
[null,35,60,16,32,11,43,10,56,58,8,27,51,58,5,12,4]
[null,50,13,35,3,17,22,58,28,11,29,23,59,62,48,7,36]
[null,53,50,60,21,25,60,46,2,17,21,2,42,47,3,36,13]
[null,45,3,2,53,27,40,26,7,52,20,55,26,22,16,34,65]
[null,63,45,32,50,1,19,60,25,44,1,44,3,28,55,2,31]
[null,34,2,63,35,14,29,21,45,2,16,47,13,15,4,16,54]
[null,64,34,45,60,12,5,25,53,21,25,35,17,30,38,60,15]
[null,36,15,22,42,26,32,13,19,62,62,10,4,64,12,41,48]
[null,51,36,28,58,18,63,4,1,34,35,17,20,34,44,26,26]
[null,38,22,51,62,29,15,31,61,10,54,1,29,63,20,38,56]
[null,44,38,36,47,10,62,65,37,30,53,24,8,45,64,55,29]
[null,56,29,26,9,44,65,51,63,38,39,21,19,27,42,44,25]
[null,37,56,18,23,38,30,54,52,24,48,8,1,1,6,24,46]
[null,48,26,37,20,51,58,3,27,35,52,32,6,14,57,3,34]
[null,40,48,56,5,36,12,29,12,53,57,4,28,12,17,31,47]
[null,54,14,27,7,64,25,2,46,20,7,28,12,40,53,65,27]
[null,52,54,1,11,34,46,32,58,12,23,60,21,48,10,29,64]
[null,65,27,52,17,63,9,47,9,37,22,37,18,37,36,14,17]
[null,39,65,54,25,45,35,38,15,65,5,46,14,56,15,61,60]
[null,41,17,7,39,53,48,61,11,7,11,18,43,9,1,58,24]
[null,49,41,11,65,50,13,42,24,25,30,3,56,23,37,4,61]
[null,55,7,49,52,35,59,22,62,50,17,15,39,20,8,27,9]
[null,59,55,41,54,60,21,9,43,48,24,25,64,5,47,45,38]
[null,61,20,9,40,42,14,27,6,15,56,57,36,59,21,47,7]
[null,46,61,23,48,58,64,23,35,5,51,40,44,55,40,17,43]
[null,43,9,46,37,62,27,50,50,60,63,53,35,49,7,9,16]
[null,57,43,61,56,47,42,59,44,43,40,54,50,41,35,51,63]
[null,33,33,33,33,33,33,33,33,33,33,33,33,33,33,33,33]
[null,19,62,42,44,57,16,14,34,3,19,30,5,53,25,13,21]
[null,4,19,58,38,43,49,30,17,19,6,16,34,50,43,43,55]
[null,8,42,4,51,46,10,55,36,39,28,14,9,35,32,48,8]
[null,24,8,19,36,61,38,48,48,57,2,7,25,60,52,10,44]
[null,6,35,53,64,59,55,49,26,26,34,61,11,24,27,20,14]
[null,31,6,50,34,55,23,56,10,8,58,39,15,8,61,54,62]
[null,16,53,31,63,49,44,8,38,55,37,43,7,4,18,59,30]
[null,13,16,6,45,41,6,20,64,49,45,64,24,19,63,30,53]
[null,21,63,64,13,39,26,40,59,14,46,11,40,44,50,32,1]
[null,3,21,34,16,65,47,6,41,22,65,22,63,38,11,64,35]
[null,32,64,3,31,52,37,45,21,64,50,19,53,51,62,50,12]
[null,2,32,21,6,54,61,41,13,45,41,31,49,36,28,6,51]
[null,30,51,44,24,40,34,53,47,4,4,56,62,2,54,25,18]
[null,15,30,38,8,48,3,62,65,32,31,49,46,32,22,40,40]
[null,28,44,15,4,37,51,35,5,56,12,65,37,3,46,28,10]
[null,22,28,30,19,56,4,1,29,36,13,42,58,21,2,11,37]
[null,10,37,40,57,22,1,15,3,28,27,45,47,39,24,22,41]
[null,29,10,48,43,28,36,12,14,42,18,58,65,65,60,42,20]
[null,18,40,29,46,15,8,63,39,31,14,34,60,52,9,63,32]
[null,26,18,10,61,30,54,37,54,13,9,62,38,54,49,35,19]
[null,12,52,39,59,2,41,64,20,46,59,38,54,26,13,1,39]
[null,14,12,65,55,32,20,34,8,54,43,6,45,18,56,37,2]
[null,1,39,14,49,3,57,19,57,29,44,29,48,29,30,52,49]
[null,27,1,12,41,21,31,28,51,1,61,20,52,10,51,5,6]
[null,25,49,59,27,13,18,5,55,59,55,48,23,57,65,8,42]
[null,17,25,55,1,16,53,24,42,41,36,63,10,43,29,62,5]
[null,11,59,17,14,31,7,44,4,16,49,51,27,46,58,39,57]
[null,7,11,25,12,6,45,57,23,18,42,41,2,61,19,21,28]
[null,5,46,57,26,24,52,39,60,51,10,9,30,7,45,19,59]
[null,20,5,43,18,8,2,43,31,61,15,26,22,11,26,49,23]
[null,23,57,20,29,4,39,16,16,6,3,13,31,17,59,57,50]
[null,9,23,5,10,19,24,7,22,23,26,12,16,25,31,15,3]
[null,4,47,9,13,24,36,32,22,47,50,63,41,61,52,45,53]
[null,47,62,23,16,8,50,49,28,60,17,47,23,32,36,11,23]
[null,24,58,20,31,62,52,30,15,38,56,27,34,57,11,58,18]
[null,58,42,5,6,47,59,18,30,64,28,9,14,41,18,22,56]
[null,31,60,7,42,13,5,40,2,32,11,40,39,55,17,52,46]
[null,60,35,11,58,16,27,56,32,8,43,58,5,51,10,4,12]
[null,13,50,17,62,35,23,28,3,29,22,11,48,59,58,36,7]
[null,50,53,25,47,60,2,2,21,21,60,17,3,42,46,13,36]
[null,3,45,27,22,2,55,7,53,20,40,52,16,26,26,65,34]
[null,45,63,1,28,32,44,25,50,1,19,44,55,3,60,31,2]
[null,2,34,14,15,63,47,45,35,16,29,2,4,13,21,54,16]
[null,34,64,12,30,45,35,53,60,25,5,21,38,17,25,15,60]
[null,15,36,26,64,22,10,19,42,62,32,62,12,4,13,48,41]
[null,36,51,18,34,28,17,1,58,35,63,34,44,20,4,26,26]
[null,22,38,29,63,51,1,61,62,54,15,10,20,29,31,56,38]
[null,38,44,10,45,36,24,37,47,53,62,30,64,8,65,29,55]
[null,29,56,44,27,26,21,63,9,39,65,38,42,19,51,25,44]
[null,56,37,38,1,18,8,52,23,48,30,24,6,1,54,46,24]
[null,26,48,51,14,37,32,27,20,52,58,35,57,6,3,34,3]
[null,48,40,36,12,56,4,12,5,57,12,53,17,28,29,47,31]
[null,14,54,64,40,27,28,46,7,7,25,20,53,12,2,27,65]
[null,54,52,34,48,1,60,58,11,23,46,12,10,21,32,64,29]
[null,27,65,63,37,52,37,9,17,22,9,37,36,18,47,17,14]
[null,65,39,45,56,54,46,15,25,5,35,65,15,14,38,60,61]
[null,17,41,53,9,7,18,11,39,11,48,7,1,43,61,24,58]
[null,41,49,50,23,11,3,24,65,30,13,25,37,56,42,61,4]
[null,7,55,35,20,49,15,62,52,17,59,50,8,39,22,9,27]
[null,55,59,60,5,41,25,43,54,24,21,48,47,64,9,38,45]
[null,20,61,42,59,9,57,6,40,56,14,15,21,36,27,7,47]
[null,61,46,58,55,23,40,35,48,51,64,5,40,44,23,43,17]
[null,9,43,62,49,46,53,50,37,63,27,60,7,35,50,16,9]
[null,43,57,47,41,61,54,44,56,40,42,43,35,50,59,63,51]
[null,62,19,57,53,42,30,34,44,19,16,3,25,5,14,21,13]
[null,19,4,43,50,58,16,17,38,6,49,19,43,34,30,55,43]
[null,42,8,46,35,4,14,36,51,28,10,39,32,9,55,8,48]
[null,8,24,61,60,19,7,48,36,2,38,57,52,25,48,44,10]
[null,35,6,59,24,53,61,26,64,34,55,26,27,11,49,14,20]
[null,6,31,55,8,50,39,10,34,58,23,8,61,15,56,62,54]
[null,53,16,49,4,31,43,38,63,37,44,55,18,7,8,30,59]
[null,16,13,41,19,6,64,64,45,45,6,49,63,24,20,53,30]
[null,63,21,39,44,64,11,59,13,46,26,14,50,40,40,1,32]
[null,21,3,65,38,34,22,41,16,65,47,22,11,63,6,35,64]
[null,64,32,52,51,3,19,21,31,50,37,64,62,53,45,12,50]
[null,32,2,54,36,21,31,13,6,41,61,45,28,49,41,51,6]
[null,51,30,40,2,44,56,47,24,4,34,4,54,62,53,18,25]
[null,30,15,48,32,38,49,65,8,31,3,32,22,46,62,40,40]
[null,44,28,37,3,15,65,5,4,12,51,56,46,37,35,10,28]
[null,28,22,56,21,30,42,29,19,13,4,36,2,58,1,37,11]
[null,37,10,22,39,40,45,3,57,27,1,28,24,47,15,41,22]
[null,10,29,28,65,48,58,14,43,18,36,42,60,65,12,20,42]
[null,40,18,15,52,29,34,39,46,14,8,31,9,60,63,32,63]
[null,18,26,30,54,10,62,54,61,9,54,13,49,38,37,19,35]
[null,52,12,2,26,39,38,20,59,59,41,46,13,54,64,39,1]
[null,12,14,32,18,65,6,8,55,43,20,54,56,45,34,2,37]
[null,39,1,3,29,14,29,57,49,44,57,29,30,48,19,49,52]
[null,1,27,21,10,12,20,51,41,61,31,1,51,52,28,6,5]
[null,49,25,13,57,59,48,55,27,55,18,59,65,23,5,42,8]
[null,25,17,16,43,55,63,42,1,36,53,41,29,10,24,5,62]
[null,59,11,31,46,17,51,4,14,49,7,16,58,27,44,57,39]
[null,11,7,6,61,25,41,23,12,42,45,18,19,2,57,28,21]
[null,46,5,24,7,57,9,60,26,10,52,51,45,30,39,59,19]
[null,5,20,8,11,43,26,31,18,15,2,61,26,22,43,23,49]
[null,57,23,4,17,20,13,16,29,3,39,6,59,31,16,50,57]
[null,23,9,19,25,5,12,22,10,26,24,23,31,16,7,3,15]
[null,52,4,24,61,41,13,36,63,32,53,45,9,22,50,47,47]
[null,36,47,8,32,23,16,50,47,49,23,11,23,28,17,62,60]
[null,11,24,62,57,34,31,52,27,30,18,58,20,15,56,58,38]
[null,18,58,47,41,14,6,59,9,18,56,22,5,30,28,42,64]
[null,17,31,13,55,39,42,5,40,40,46,52,7,2,11,60,32]
[null,10,60,16,51,5,58,27,58,56,12,4,11,32,43,35,8]
[null,58,13,35,59,48,62,23,11,28,7,36,17,3,22,50,29]
[null,46,50,60,42,3,47,2,17,2,36,13,25,21,60,53,21]
[null,26,3,2,26,16,22,55,52,7,34,65,27,53,40,45,20]
[null,60,45,32,3,55,28,44,44,25,2,31,1,50,19,63,1]
[null,21,2,63,13,4,15,47,2,45,16,54,14,35,29,34,16]
[null,25,34,45,17,38,30,35,21,53,60,15,12,60,5,64,25]
[null,13,15,22,4,12,64,10,62,19,41,48,26,42,32,36,62]
[null,4,36,28,20,44,34,17,34,1,26,26,18,58,63,51,35]
[null,31,22,51,29,20,63,1,10,61,38,56,29,62,15,38,54]
[null,65,38,36,8,64,45,24,30,37,55,29,10,47,62,44,53]
[null,51,29,26,19,42,27,21,38,63,44,25,44,9,65,56,39]
[null,54,56,18,1,6,1,8,24,52,24,46,38,23,30,37,48]
[null,3,26,37,6,57,14,32,35,27,3,34,51,20,58,48,52]
[null,29,48,56,28,17,12,4,53,12,31,47,36,5,12,40,57]
[null,2,14,27,12,53,40,28,20,46,65,27,64,7,25,54,7]
[null,32,54,1,21,10,48,60,12,58,29,64,34,11,46,52,23]
[null,47,27,52,18,36,37,37,37,9,14,17,63,17,9,65,22]
[null,38,65,54,14,15,56,46,65,15,61,60,45,25,35,39,5]
[null,61,17,7,43,1,9,18,7,11,58,24,53,39,48,41,11]
[null,42,41,11,56,37,23,3,25,24,4,61,50,65,13,49,30]
[null,22,7,49,39,8,20,15,50,62,27,9,35,52,59,55,17]
[null,9,55,41,64,47,5,25,48,43,45,38,60,54,21,59,24]
[null,27,20,9,36,21,59,57,15,6,47,7,42,40,14,61,56]
[null,23,61,23,44,40,55,40,5,35,17,43,58,48,64,46,51]
[null,50,9,46,35,7,49,53,60,50,9,16,62,37,27,43,63]
[null,59,43,61,50,35,41,54,43,44,51,63,47,56,42,57,40]
[null,14,62,42,5,25,53,30,3,34,13,21,57,44,16,19,19]
[null,30,19,58,34,43,50,16,19,17,43,55,43,38,49,4,6]
[null,55,42,4,9,32,35,14,39,36,48,8,46,51,10,8,28]
[null,48,8,19,25,52,60,7,57,48,10,44,61,36,38,24,2]
[null,49,35,53,11,27,24,61,26,26,20,14,59,64,55,6,34]
[null,56,6,50,15,61,8,39,8,10,54,62,55,34,23,31,58]
[null,8,53,31,7,18,4,43,55,38,59,30,49,63,44,16,37]
[null,20,16,6,24,63,19,64,49,64,30,53,41,45,6,13,45]
[null,40,63,64,40,50,44,11,14,59,32,1,39,13,26,21,46]
[null,6,21,34,63,11,38,22,22,41,64,35,65,16,47,3,65]
[null,45,64,3,53,62,51,19,64,21,50,12,52,31,37,32,50]
[null,41,32,21,49,28,36,31,45,13,6,51,54,6,61,2,41]
[null,53,51,44,62,54,2,56,4,47,25,18,40,24,34,30,4]
[null,62,30,38,46,22,32,49,32,65,40,40,48,8,3,15,31]
[null,35,44,15,37,46,3,65,56,5,28,10,37,4,51,28,12]
[null,1,28,30,58,2,21,42,36,29,11,37,56,19,4,22,13]
[null,15,37,40,47,24,39,45,28,3,22,41,22,57,1,10,27]
[null,12,10,48,65,60,65,58,42,14,42,20,28,43,36,29,18]
[null,63,40,29,60,9,52,34,31,39,63,32,15,46,8,18,14]
[null,37,18,10,38,49,54,62,13,54,35,19,30,61,54,26,9]
[null,64,52,39,54,13,26,38,46,20,1,39,2,59,41,12,59]
[null,34,12,65,45,56,18,6,54,8,37,2,32,55,20,14,43]
[null,19,39,14,48,30,29,29,29,57,52,49,3,49,57,1,44]
[null,28,1,12,52,51,10,20,1,51,5,6,21,41,31,27,61]
[null,5,49,59,23,65,57,48,59,55,8,42,13,27,18,25,55]
[null,24,25,55,10,29,43,63,41,42,62,5,16,1,53,17,36]
[null,44,59,17,27,58,46,51,16,4,39,57,31,14,7,11,49]
[null,57,11,25,2,19,61,41,18,23,21,28,6,12,45,7,42]
[null,39,46,57,30,45,7,9,51,60,19,59,24,26,52,5,10]
[null,43,5,43,22,26,11,26,61,31,49,23,8,18,2,20,15]
[null,16,57,20,31,59,17,13,6,16,57,50,4,29,39,23,3]
[null,7,23,5,16,31,25,12,23,22,15,3,19,10,24,9,26]
[null,53,9,13,36,47,41,45,24,47,63,4,22,32,50,61,52]
[null,23,23,16,50,60,23,11,8,62,47,47,28,49,17,32,36]
[null,18,20,31,52,38,34,58,62,58,27,24,15,30,56,57,11]
[null,56,5,6,59,64,14,22,47,42,9,58,30,18,28,41,18]
[null,46,7,42,5,32,39,52,13,60,40,31,2,40,11,55,17]
[null,12,11,58,27,8,5,4,16,35,58,60,32,56,43,51,10]
[null,7,17,62,23,29,48,36,35,50,11,13,3,28,22,59,58]
[null,36,25,47,2,21,3,13,60,53,17,50,21,2,60,42,46]
[null,34,27,22,55,20,16,65,2,45,52,3,53,7,40,26,26]
[null,2,1,28,44,1,55,31,32,63,44,45,50,25,19,3,60]
[null,16,14,15,47,16,4,54,63,34,2,2,35,45,29,13,21]
[null,60,12,30,35,25,38,15,45,64,21,34,60,53,5,17,25]
[null,41,26,64,10,62,12,48,22,36,62,15,42,19,32,4,13]
[null,26,18,34,17,35,44,26,28,51,34,36,58,1,63,20,4]
[null,38,29,63,1,54,20,56,51,38,10,22,62,61,15,29,31]
[null,55,10,45,24,53,64,29,36,44,30,38,47,37,62,8,65]
[null,44,44,27,21,39,42,25,26,56,38,29,9,63,65,19,51]
[null,24,38,1,8,48,6,46,18,37,24,56,23,52,30,1,54]
[null,3,51,14,32,52,57,34,37,48,35,26,20,27,58,6,3]
[null,31,36,12,4,57,17,47,56,40,53,48,5,12,12,28,29]
[null,65,64,40,28,7,53,27,27,54,20,14,7,46,25,12,2]
[null,29,34,48,60,23,10,64,1,52,12,54,11,58,46,21,32]
[null,14,63,37,37,22,36,17,52,65,37,27,17,9,9,18,47]
[null,61,45,56,46,5,15,60,54,39,65,65,25,15,35,14,38]
[null,58,53,9,18,11,1,24,7,41,7,17,39,11,48,43,61]
[null,4,50,23,3,30,37,61,11,49,25,41,65,24,13,56,42]
[null,27,35,20,15,17,8,9,49,55,50,7,52,62,59,39,22]
[null,45,60,5,25,24,47,38,41,59,48,55,54,43,21,64,9]
[null,47,42,59,57,56,21,7,9,61,15,20,40,6,14,36,27]
[null,17,58,55,40,51,40,43,23,46,5,61,48,35,64,44,23]
[null,9,62,49,53,63,7,16,46,43,60,9,37,50,27,35,50]
[null,51,47,41,54,40,35,63,61,57,43,43,56,44,42,50,59]
[null,13,57,53,30,19,25,21,42,19,3,62,44,34,16,5,14]
[null,43,43,50,16,6,43,55,58,4,19,19,38,17,49,34,30]
[null,48,46,35,14,28,32,8,4,8,39,42,51,36,10,9,55]
[null,10,61,60,7,2,52,44,19,24,57,8,36,48,38,25,48]
[null,20,59,24,61,34,27,14,53,6,26,35,64,26,55,11,49]
[null,54,55,8,39,58,61,62,50,31,8,6,34,10,23,15,56]
[null,59,49,4,43,37,18,30,31,16,55,53,63,38,44,7,8]
[null,30,41,19,64,45,63,53,6,13,49,16,45,64,6,24,20]
[null,32,39,44,11,46,50,1,64,21,14,63,13,59,26,40,40]
[null,64,65,38,22,65,11,35,34,3,22,21,16,41,47,63,6]
[null,50,52,51,19,50,62,12,3,32,64,64,31,21,37,53,45]
[null,6,54,36,31,41,28,51,21,2,45,32,6,13,61,49,41]
[null,25,40,2,56,4,54,18,44,30,4,51,24,47,34,62,53]
[null,40,48,32,49,31,22,40,38,15,32,30,8,65,3,46,62]
[null,28,37,3,65,12,46,10,15,28,56,44,4,5,51,37,35]
[null,11,56,21,42,13,2,37,30,22,36,28,19,29,4,58,1]
[null,22,22,39,45,27,24,41,40,10,28,37,57,3,1,47,15]
[null,42,28,65,58,18,60,20,48,29,42,10,43,14,36,65,12]
[null,63,15,52,34,14,9,32,29,18,31,40,46,39,8,60,63]
[null,35,30,54,62,9,49,19,10,26,13,18,61,54,54,38,37]
[null,1,2,26,38,59,13,39,39,12,46,52,59,20,41,54,64]
[null,37,32,18,6,43,56,2,65,14,54,12,55,8,20,45,34]
[null,52,3,29,29,44,30,49,14,1,29,39,49,57,57,48,19]
[null,5,21,10,20,61,51,6,12,27,1,1,41,51,31,52,28]
[null,8,13,57,48,55,65,42,59,25,59,49,27,55,18,23,5]
[null,62,16,43,63,36,29,5,55,17,41,25,1,42,53,10,24]
[null,39,31,46,51,49,58,57,17,11,16,59,14,4,7,27,44]
[null,21,6,61,41,42,19,28,25,7,18,11,12,23,45,2,57]
[null,19,24,7,9,10,45,59,57,5,51,46,26,60,52,30,39]
[null,49,8,11,26,15,26,23,43,20,61,5,18,31,2,22,43]
[null,57,4,17,13,3,59,50,20,23,6,57,29,16,39,31,16]
[null,15,19,25,12,26,31,3,5,9,23,23,10,22,24,16,7]
[null,13,4,61,47,50,41,36,32,22,45,63,47,52,24,9,53]
[null,16,47,32,60,17,23,50,49,28,11,47,62,36,8,23,23]
[null,31,24,57,38,56,34,52,30,15,58,27,58,11,62,20,18]
[null,6,58,41,64,28,14,59,18,30,22,9,42,18,47,5,56]
[null,42,31,55,32,11,39,5,40,2,52,40,60,17,13,7,46]
[null,58,60,51,8,43,5,27,56,32,4,58,35,10,16,11,12]
[null,62,13,59,29,22,48,23,28,3,36,11,50,58,35,17,7]
[null,47,50,42,21,60,3,2,2,21,13,17,53,46,60,25,36]
[null,22,3,26,20,40,16,55,7,53,65,52,45,26,2,27,34]
[null,28,45,3,1,19,55,44,25,50,31,44,63,60,32,1,2]
[null,15,2,13,16,29,4,47,45,35,54,2,34,21,63,14,16]
[null,30,34,17,25,5,38,35,53,60,15,21,64,25,45,12,60]
[null,64,15,4,62,32,12,10,19,42,48,62,36,13,22,26,41]
[null,34,36,20,35,63,44,17,1,58,26,34,51,4,28,18,26]
[null,63,22,29,54,15,20,1,61,62,56,10,38,31,51,29,38]
[null,45,38,8,53,62,64,24,37,47,29,30,44,65,36,10,55]
[null,27,29,19,39,65,42,21,63,9,25,38,56,51,26,44,44]
[null,1,56,1,48,30,6,8,52,23,46,24,37,54,18,38,24]
[null,14,26,6,52,58,57,32,27,20,34,35,48,3,37,51,3]
[null,12,48,28,57,12,17,4,12,5,47,53,40,29,56,36,31]
[null,40,14,12,7,25,53,28,46,7,27,20,54,2,27,64,65]
[null,48,54,21,23,46,10,60,58,11,64,12,52,32,1,34,29]
[null,37,27,18,22,9,36,37,9,17,17,37,65,47,52,63,14]
[null,56,65,14,5,35,15,46,15,25,60,65,39,38,54,45,61]
[null,9,17,43,11,48,1,18,11,39,24,7,41,61,7,53,58]
[null,23,41,56,30,13,37,3,24,65,61,25,49,42,11,50,4]
[null,20,7,39,17,59,8,15,62,52,9,50,55,22,49,35,27]
[null,5,55,64,24,21,47,25,43,54,38,48,59,9,41,60,45]
[null,59,20,36,56,14,21,57,6,40,7,15,61,27,9,42,47]
[null,55,61,44,51,64,40,40,35,48,43,5,46,23,23,58,17]
[null,49,9,35,63,27,7,53,50,37,16,60,43,50,46,62,9]
[null,41,43,50,40,42,35,54,44,56,63,43,57,59,61,47,51]
[null,53,62,5,19,16,25,30,34,44,21,3,19,14,42,57,13]
[null,50,19,34,6,49,43,16,17,38,55,19,4,30,58,43,43]
[null,35,42,9,28,10,32,14,36,51,8,39,8,55,4,46,48]
[null,60,8,25,2,38,52,7,48,36,44,57,24,48,19,61,10]
[null,24,35,11,34,55,27,61,26,64,14,26,6,49,53,59,20]
[null,8,6,15,58,23,61,39,10,34,62,8,31,56,50,55,54]
[null,4,53,7,37,44,18,43,38,63,30,55,16,8,31,49,59]
[null,19,16,24,45,6,63,64,64,45,53,49,13,20,6,41,30]
[null,44,63,40,46,26,50,11,59,13,1,14,21,40,64,39,32]
[null,38,21,63,65,47,11,22,41,16,35,22,3,6,34,65,64]
[null,51,64,53,50,37,62,19,21,31,12,64,32,45,3,52,50]
[null,36,32,49,41,61,28,31,13,6,51,45,2,41,21,54,6]
[null,2,51,62,4,34,54,56,47,24,18,4,30,53,44,40,25]
[null,32,30,46,31,3,22,49,65,8,40,32,15,62,38,48,40]
[null,3,44,37,12,51,46,65,5,4,10,56,28,35,15,37,28]
[null,21,28,58,13,4,2,42,29,19,37,36,22,1,30,56,11]
[null,39,37,47,27,1,24,45,3,57,41,28,10,15,40,22,22]
[null,65,10,65,18,36,60,58,14,43,20,42,29,12,48,28,42]
[null,52,40,60,14,8,9,34,39,46,32,31,18,63,29,15,63]
[null,54,18,38,9,54,49,62,54,61,19,13,26,37,10,30,35]
[null,26,52,54,59,41,13,38,20,59,39,46,12,64,39,2,1]
[null,18,12,45,43,20,56,6,8,55,2,54,14,34,65,32,37]
[null,29,39,48,44,57,30,29,57,49,49,29,1,19,14,3,52]
[null,10,1,52,61,31,51,20,51,41,6,1,27,28,12,21,5]
[null,57,49,23,55,18,65,48,55,27,42,59,25,5,59,13,8]
[null,43,25,10,36,53,29,63,42,1,5,41,17,24,55,16,62]
[null,46,59,27,49,7,58,51,4,14,57,16,11,44,17,31,39]
[null,61,11,2,42,45,19,41,23,12,28,18,7,57,25,6,21]
[null,7,46,30,10,52,45,9,60,26,59,51,5,39,57,24,19]
[null,11,5,22,15,2,26,26,31,18,23,61,20,43,43,8,49]
[null,17,57,31,3,39,59,13,16,29,50,6,23,16,20,4,57]
[null,25,23,16,26,24,31,12,22,10,3,23,9,7,5,19,15]
[null,45,4,47,32,13,24,63,53,61,41,50,52,47,9,22,36]
[null,11,47,60,49,16,8,47,23,32,23,17,36,62,23,28,50]
[null,58,24,38,30,31,62,27,18,57,34,56,11,58,20,15,52]
[null,22,58,64,18,6,47,9,56,41,14,28,18,42,5,30,59]
[null,52,31,32,40,42,13,40,46,55,39,11,17,60,7,2,5]
[null,4,60,8,56,58,16,58,12,51,5,43,10,35,11,32,27]
[null,36,13,29,28,62,35,11,7,59,48,22,58,50,17,3,23]
[null,13,50,21,2,47,60,17,36,42,3,60,46,53,25,21,2]
[null,65,3,20,7,22,2,52,34,26,16,40,26,45,27,53,55]
[null,31,45,1,25,28,32,44,2,3,55,19,60,63,1,50,44]
[null,54,2,16,45,15,63,2,16,13,4,29,21,34,14,35,47]
[null,15,34,25,53,30,45,21,60,17,38,5,25,64,12,60,35]
[null,48,15,62,19,64,22,62,41,4,12,32,13,36,26,42,10]
[null,26,36,35,1,34,28,34,26,20,44,63,4,51,18,58,17]
[null,56,22,54,61,63,51,10,38,29,20,15,31,38,29,62,1]
[null,29,38,53,37,45,36,30,55,8,64,62,65,44,10,47,24]
[null,25,29,39,63,27,26,38,44,19,42,65,51,56,44,9,21]
[null,46,56,48,52,1,18,24,24,1,6,30,54,37,38,23,8]
[null,34,26,52,27,14,37,35,3,6,57,58,3,48,51,20,32]
[null,47,48,57,12,12,56,53,31,28,17,12,29,40,36,5,4]
[null,27,14,7,46,40,27,20,65,12,53,25,2,54,64,7,28]
[null,64,54,23,58,48,1,12,29,21,10,46,32,52,34,11,60]
[null,17,27,22,9,37,52,37,14,18,36,9,47,65,63,17,37]
[null,60,65,5,15,56,54,65,61,14,15,35,38,39,45,25,46]
[null,24,17,11,11,9,7,7,58,43,1,48,61,41,53,39,18]
[null,61,41,30,24,23,11,25,4,56,37,13,42,49,50,65,3]
[null,9,7,17,62,20,49,50,27,39,8,59,22,55,35,52,15]
[null,38,55,24,43,5,41,48,45,64,47,21,9,59,60,54,25]
[null,7,20,56,6,59,9,15,47,36,21,14,27,61,42,40,57]
[null,43,61,51,35,55,23,5,17,44,40,64,23,46,58,48,40]
[null,16,9,63,50,49,46,60,9,35,7,27,50,43,62,37,53]
[null,63,43,40,44,41,61,43,51,50,35,42,59,57,47,56,54]
[null,21,62,19,34,53,42,3,13,5,25,16,14,19,57,44,30]
[null,55,19,6,17,50,58,19,43,34,43,49,30,4,43,38,16]
[null,8,42,28,36,35,4,39,48,9,32,10,55,8,46,51,14]
[null,44,8,2,48,60,19,57,10,25,52,38,48,24,61,36,7]
[null,14,35,34,26,24,53,26,20,11,27,55,49,6,59,64,61]
[null,62,6,58,10,8,50,8,54,15,61,23,56,31,55,34,39]
[null,30,53,37,38,4,31,55,59,7,18,44,8,16,49,63,43]
[null,53,16,45,64,19,6,49,30,24,63,6,20,13,41,45,64]
[null,1,63,46,59,44,64,14,32,40,50,26,40,21,39,13,11]
[null,35,21,65,41,38,34,22,64,63,11,47,6,3,65,16,22]
[null,12,64,50,21,51,3,64,50,53,62,37,45,32,52,31,19]
[null,51,32,41,13,36,21,45,6,49,28,61,41,2,54,6,31]
[null,18,51,4,47,2,44,4,25,62,54,34,53,30,40,24,56]
[null,40,30,31,65,32,38,32,40,46,22,3,62,15,48,8,49]
[null,10,44,12,5,3,15,56,28,37,46,51,35,28,37,4,65]
[null,37,28,13,29,21,30,36,11,58,2,4,1,22,56,19,42]
[null,41,37,27,3,39,40,28,22,47,24,1,15,10,22,57,45]
[null,20,10,18,14,65,48,42,42,65,60,36,12,29,28,43,58]
[null,32,40,14,39,52,29,31,63,60,9,8,63,18,15,46,34]
[null,19,18,9,54,54,10,13,35,38,49,54,37,26,30,61,62]
[null,39,52,59,20,26,39,46,1,54,13,41,64,12,2,59,38]
[null,2,12,43,8,18,65,54,37,45,56,20,34,14,32,55,6]
[null,49,39,44,57,29,14,29,52,48,30,57,19,1,3,49,29]
[null,6,1,61,51,10,12,1,5,52,51,31,28,27,21,41,20]
[null,42,49,55,55,57,59,59,8,23,65,18,5,25,13,27,48]
[null,5,25,36,42,43,55,41,62,10,29,53,24,17,16,1,63]
[null,57,59,49,4,46,17,16,39,27,58,7,44,11,31,14,51]
[null,28,11,42,23,61,25,18,21,2,19,45,57,7,6,12,41]
[null,59,46,10,60,7,57,51,19,30,45,52,39,5,24,26,9]
[null,23,5,15,31,11,43,61,49,22,26,2,43,20,8,18,26]
[null,50,57,3,16,17,20,6,57,31,59,39,16,23,4,29,13]
[null,3,23,26,22,25,5,23,15,16,31,24,7,9,19,10,12]
[null,13,61,9,4,32,47,47,24,63,50,41,22,36,45,52,53]
[null,16,32,23,47,49,62,60,8,47,17,23,28,50,11,36,23]
[null,31,57,20,24,30,58,38,62,27,56,34,15,52,58,11,18]
[null,6,41,5,58,18,42,64,47,9,28,14,30,59,22,18,56]
[null,42,55,7,31,40,60,32,13,40,11,39,2,5,52,17,46]
[null,58,51,11,60,56,35,8,16,58,43,5,32,27,4,10,12]
[null,62,59,17,13,28,50,29,35,11,22,48,3,23,36,58,7]
[null,47,42,25,50,2,53,21,60,17,60,3,21,2,13,46,36]
[null,22,26,27,3,7,45,20,2,52,40,16,53,55,65,26,34]
[null,28,3,1,45,25,63,1,32,44,19,55,50,44,31,60,2]
[null,15,13,14,2,45,34,16,63,2,29,4,35,47,54,21,16]
[null,30,17,12,34,53,64,25,45,21,5,38,60,35,15,25,60]
[null,64,4,26,15,19,36,62,22,62,32,12,42,10,48,13,41]
[null,34,20,18,36,1,51,35,28,34,63,44,58,17,26,4,26]
[null,63,29,29,22,61,38,54,51,10,15,20,62,1,56,31,38]
[null,45,8,10,38,37,44,53,36,30,62,64,47,24,29,65,55]
[null,27,19,44,29,63,56,39,26,38,65,42,9,21,25,51,44]
[null,1,1,38,56,52,37,48,18,24,30,6,23,8,46,54,24]
[null,14,6,51,26,27,48,52,37,35,58,57,20,32,34,3,3]
[null,12,28,36,48,12,40,57,56,53,12,17,5,4,47,29,31]
[null,40,12,64,14,46,54,7,27,20,25,53,7,28,27,2,65]
[null,48,21,34,54,58,52,23,1,12,46,10,11,60,64,32,29]
[null,37,18,63,27,9,65,22,52,37,9,36,17,37,17,47,14]
[null,56,14,45,65,15,39,5,54,65,35,15,25,46,60,38,61]
[null,9,43,53,17,11,41,11,7,7,48,1,39,18,24,61,58]
[null,23,56,50,41,24,49,30,11,25,13,37,65,3,61,42,4]
[null,20,39,35,7,62,55,17,49,50,59,8,52,15,9,22,27]
[null,5,64,60,55,43,59,24,41,48,21,47,54,25,38,9,45]
[null,59,36,42,20,6,61,56,9,15,14,21,40,57,7,27,47]
[null,55,44,58,61,35,46,51,23,5,64,40,48,40,43,23,17]
[null,49,35,62,9,50,43,63,46,60,27,7,37,53,16,50,9]
[null,41,50,47,43,44,57,40,61,43,42,35,56,54,63,59,51]
[null,53,5,57,62,34,19,19,42,3,16,25,44,30,21,14,13]
[null,50,34,43,19,17,4,6,58,19,49,43,38,16,55,30,43]
[null,35,9,46,42,36,8,28,4,39,10,32,51,14,8,55,48]
[null,60,25,61,8,48,24,2,19,57,38,52,36,7,44,48,10]
[null,24,11,59,35,26,6,34,53,26,55,27,64,61,14,49,20]
[null,8,15,55,6,10,31,58,50,8,23,61,34,39,62,56,54]
[null,4,7,49,53,38,16,37,31,55,44,18,63,43,30,8,59]
[null,19,24,41,16,64,13,45,6,49,6,63,45,64,53,20,30]
[null,44,40,39,63,59,21,46,64,14,26,50,13,11,1,40,32]
[null,38,63,65,21,41,3,65,34,22,47,11,16,22,35,6,64]
[null,51,53,52,64,21,32,50,3,64,37,62,31,19,12,45,50]
[null,36,49,54,32,13,2,41,21,45,61,28,6,31,51,41,6]
[null,2,62,40,51,47,30,4,44,4,34,54,24,56,18,53,25]
[null,32,46,48,30,65,15,31,38,32,3,22,8,49,40,62,40]
[null,3,37,37,44,5,28,12,15,56,51,46,4,65,10,35,28]
[null,21,58,56,28,29,22,13,30,36,4,2,19,42,37,1,11]
[null,39,47,22,37,3,10,27,40,28,1,24,57,45,41,15,22]
[null,65,65,28,10,14,29,18,48,42,36,60,43,58,20,12,42]
[null,52,60,15,40,39,18,14,29,31,8,9,46,34,32,63,63]
[null,54,38,30,18,54,26,9,10,13,54,49,61,62,19,37,35]
[null,26,54,2,52,20,12,59,39,46,41,13,59,38,39,64,1]
[null,18,45,32,12,8,14,43,65,54,20,56,55,6,2,34,37]
[null,29,48,3,39,57,1,44,14,29,57,30,49,29,49,19,52]
[null,10,52,21,1,51,27,61,12,1,31,51,41,20,6,28,5]
[null,57,23,13,49,55,25,55,59,59,18,65,27,48,42,5,8]
[null,43,10,16,25,42,17,36,55,41,53,29,1,63,5,24,62]
[null,46,27,31,59,4,11,49,17,16,7,58,14,51,57,44,39]
[null,61,2,6,11,23,7,42,25,18,45,19,12,41,28,57,21]
[null,7,30,24,46,60,5,10,57,51,52,45,26,9,59,39,19]
[null,11,22,8,5,31,20,15,43,61,2,26,18,26,23,43,49]
[null,17,31,4,57,16,23,3,20,6,39,59,29,13,50,16,57]
[null,25,16,19,23,22,9,26,5,23,24,31,10,12,3,7,15]
[null,41,9,32,63,13,53,61,47,24,4,45,47,36,52,50,22]
[null,23,23,49,47,16,23,32,60,8,47,11,62,50,36,17,28]
[null,34,20,30,27,31,18,57,38,62,24,58,58,52,11,56,15]
[null,14,5,18,9,6,56,41,64,47,58,22,42,59,18,28,30]
[null,39,7,40,40,42,46,55,32,13,31,52,60,5,17,11,2]
[null,5,11,56,58,58,12,51,8,16,60,4,35,27,10,43,32]
[null,48,17,28,11,62,7,59,29,35,13,36,50,23,58,22,3]
[null,3,25,2,17,47,36,42,21,60,50,13,53,2,46,60,21]
[null,16,27,7,52,22,34,26,20,2,3,65,45,55,26,40,53]
[null,55,1,25,44,28,2,3,1,32,45,31,63,44,60,19,50]
[null,4,14,45,2,15,16,13,16,63,2,54,34,47,21,29,35]
[null,38,12,53,21,30,60,17,25,45,34,15,64,35,25,5,60]
[null,12,26,19,62,64,41,4,62,22,15,48,36,10,13,32,42]
[null,44,18,1,34,34,26,20,35,28,36,26,51,17,4,63,58]
[null,20,29,61,10,63,38,29,54,51,22,56,38,1,31,15,62]
[null,64,10,37,30,45,55,8,53,36,38,29,44,24,65,62,47]
[null,42,44,63,38,27,44,19,39,26,29,25,56,21,51,65,9]
[null,6,38,52,24,1,24,1,48,18,56,46,37,8,54,30,23]
[null,57,51,27,35,14,3,6,52,37,26,34,48,32,3,58,20]
[null,17,36,12,53,12,31,28,57,56,48,47,40,4,29,12,5]
[null,53,64,46,20,40,65,12,7,27,14,27,54,28,2,25,7]
[null,10,34,58,12,48,29,21,23,1,54,64,52,60,32,46,11]
[null,36,63,9,37,37,14,18,22,52,27,17,65,37,47,9,17]
[null,15,45,15,65,56,61,14,5,54,65,60,39,46,38,35,25]
[null,1,53,11,7,9,58,43,11,7,17,24,41,18,61,48,39]
[null,37,50,24,25,23,4,56,30,11,41,61,49,3,42,13,65]
[null,8,35,62,50,20,27,39,17,49,7,9,55,15,22,59,52]
[null,47,60,43,48,5,45,64,24,41,55,38,59,25,9,21,54]
[null,21,42,6,15,59,47,36,56,9,20,7,61,57,27,14,40]
[null,40,58,35,5,55,17,44,51,23,61,43,46,40,23,64,48]
[null,7,62,50,60,49,9,35,63,46,9,16,43,53,50,27,37]
[null,35,47,44,43,41,51,50,40,61,43,63,57,54,59,42,56]
[null,25,57,34,3,53,13,5,19,42,62,21,19,30,14,16,44]
[null,43,43,17,19,50,43,34,6,58,19,55,4,16,30,49,38]
[null,32,46,36,39,35,48,9,28,4,42,8,8,14,55,10,51]
[null,52,61,48,57,60,10,25,2,19,8,44,24,7,48,38,36]
[null,27,59,26,26,24,20,11,34,53,35,14,6,61,49,55,64]
[null,61,55,10,8,8,54,15,58,50,6,62,31,39,56,23,34]
[null,18,49,38,55,4,59,7,37,31,53,30,16,43,8,44,63]
[null,63,41,64,49,19,30,24,45,6,16,53,13,64,20,6,45]
[null,50,39,59,14,44,32,40,46,64,63,1,21,11,40,26,13]
[null,11,65,41,22,38,64,63,65,34,21,35,3,22,6,47,16]
[null,62,52,21,64,51,50,53,50,3,64,12,32,19,45,37,31]
[null,28,54,13,45,36,6,49,41,21,32,51,2,31,41,61,6]
[null,54,40,47,4,2,25,62,4,44,51,18,30,56,53,34,24]
[null,22,48,65,32,32,40,46,31,38,30,40,15,49,62,3,8]
[null,46,37,5,56,3,28,37,12,15,44,10,28,65,35,51,4]
[null,2,56,29,36,21,11,58,13,30,28,37,22,42,1,4,19]
[null,24,22,3,28,39,22,47,27,40,37,41,10,45,15,1,57]
[null,60,28,14,42,65,42,65,18,48,10,20,29,58,12,36,43]
[null,9,15,39,31,52,63,60,14,29,40,32,18,34,63,8,46]
[null,49,30,54,13,54,35,38,9,10,18,19,26,62,37,54,61]
[null,13,2,20,46,26,1,54,59,39,52,39,12,38,64,41,59]
[null,56,32,8,54,18,37,45,43,65,12,2,14,6,34,20,55]
[null,30,3,57,29,29,52,48,44,14,39,49,1,29,19,57,49]
[null,51,21,51,1,10,5,52,61,12,1,6,27,20,28,31,41]
[null,65,13,55,59,57,8,23,55,59,49,42,25,48,5,18,27]
[null,29,16,42,41,43,62,10,36,55,25,5,17,63,24,53,1]
[null,58,31,4,16,46,39,27,49,17,59,57,11,51,44,7,14]
[null,19,6,23,18,61,21,2,42,25,11,28,7,41,57,45,12]
[null,45,24,60,51,7,19,30,10,57,46,59,5,9,39,52,26]
[null,26,8,31,61,11,49,22,15,43,5,23,20,26,43,2,18]
[null,59,4,16,6,17,57,31,3,20,57,50,23,13,16,39,29]
[null,31,19,22,23,25,15,16,26,5,23,3,9,12,7,24,10]
[null,53,22,45,47,13,61,4,47,36,63,52,41,24,9,32,50]
[null,23,28,11,62,16,32,47,60,50,47,36,23,8,23,49,17]
[null,18,15,58,58,31,57,24,38,52,27,11,34,62,20,30,56]
[null,56,30,22,42,6,41,58,64,59,9,18,14,47,5,18,28]
[null,46,2,52,60,42,55,31,32,5,40,17,39,13,7,40,11]
[null,12,32,4,35,58,51,60,8,27,58,10,5,16,11,56,43]
[null,7,3,36,50,62,59,13,29,23,11,58,48,35,17,28,22]
[null,36,21,13,53,47,42,50,21,2,17,46,3,60,25,2,60]
[null,34,53,65,45,22,26,3,20,55,52,26,16,2,27,7,40]
[null,2,50,31,63,28,3,45,1,44,44,60,55,32,1,25,19]
[null,16,35,54,34,15,13,2,16,47,2,21,4,63,14,45,29]
[null,60,60,15,64,30,17,34,25,35,21,25,38,45,12,53,5]
[null,41,42,48,36,64,4,15,62,10,62,13,12,22,26,19,32]
[null,26,58,26,51,34,20,36,35,17,34,4,44,28,18,1,63]
[null,38,62,56,38,63,29,22,54,1,10,31,20,51,29,61,15]
[null,55,47,29,44,45,8,38,53,24,30,65,64,36,10,37,62]
[null,44,9,25,56,27,19,29,39,21,38,51,42,26,44,63,65]
[null,24,23,46,37,1,1,56,48,8,24,54,6,18,38,52,30]
[null,3,20,34,48,14,6,26,52,32,35,3,57,37,51,27,58]
[null,31,5,47,40,12,28,48,57,4,53,29,17,56,36,12,12]
[null,65,7,27,54,40,12,14,7,28,20,2,53,27,64,46,25]
[null,29,11,64,52,48,21,54,23,60,12,32,10,1,34,58,46]
[null,14,17,17,65,37,18,27,22,37,37,47,36,52,63,9,9]
[null,61,25,60,39,56,14,65,5,46,65,38,15,54,45,15,35]
[null,58,39,24,41,9,43,17,11,18,7,61,1,7,53,11,48]
[null,4,65,61,49,23,56,41,30,3,25,42,37,11,50,24,13]
[null,27,52,9,55,20,39,7,17,15,50,22,8,49,35,62,59]
[null,45,54,38,59,5,64,55,24,25,48,9,47,41,60,43,21]
[null,47,40,7,61,59,36,20,56,57,15,27,21,9,42,6,14]
[null,17,48,43,46,55,44,61,51,40,5,23,40,23,58,35,64]
[null,9,37,16,43,49,35,9,63,53,60,50,7,46,62,50,27]
[null,51,56,63,57,41,50,43,40,54,43,59,35,61,47,44,42]
[null,13,44,21,19,53,5,62,19,30,3,14,25,42,57,34,16]
[null,43,38,55,4,50,34,19,6,16,19,30,43,58,43,17,49]
[null,48,51,8,8,35,9,42,28,14,39,55,32,4,46,36,10]
[null,10,36,44,24,60,25,8,2,7,57,48,52,19,61,48,38]
[null,20,64,14,6,24,11,35,34,61,26,49,27,53,59,26,55]
[null,54,34,62,31,8,15,6,58,39,8,56,61,50,55,10,23]
[null,59,63,30,16,4,7,53,37,43,55,8,18,31,49,38,44]
[null,30,45,53,13,19,24,16,45,64,49,20,63,6,41,64,6]
[null,32,13,1,21,44,40,63,46,11,14,40,50,64,39,59,26]
[null,64,16,35,3,38,63,21,65,22,22,6,11,34,65,41,47]
[null,50,31,12,32,51,53,64,50,19,64,45,62,3,52,21,37]
[null,6,6,51,2,36,49,32,41,31,45,41,28,21,54,13,61]
[null,25,24,18,30,2,62,51,4,56,4,53,54,44,40,47,34]
[null,40,8,40,15,32,46,30,31,49,32,62,22,38,48,65,3]
[null,28,4,10,28,3,37,44,12,65,56,35,46,15,37,5,51]
[null,11,19,37,22,21,58,28,13,42,36,1,2,30,56,29,4]
[null,22,57,41,10,39,47,37,27,45,28,15,24,40,22,3,1]
[null,42,43,20,29,65,65,10,18,58,42,12,60,48,28,14,36]
[null,63,46,32,18,52,60,40,14,34,31,63,9,29,15,39,8]
[null,35,61,19,26,54,38,18,9,62,13,37,49,10,30,54,54]
[null,1,59,39,12,26,54,52,59,38,46,64,13,39,2,20,41]
[null,37,55,2,14,18,45,12,43,6,54,34,56,65,32,8,20]
[null,52,49,49,1,29,48,39,44,29,29,19,30,14,3,57,57]
[null,5,41,6,27,10,52,1,61,20,1,28,51,12,21,51,31]
[null,8,27,42,25,57,23,49,55,48,59,5,65,59,13,55,18]
[null,62,1,5,17,43,10,25,36,63,41,24,29,55,16,42,53]
[null,39,14,57,11,46,27,59,49,51,16,44,58,17,31,4,7]
[null,21,12,28,7,61,2,11,42,41,18,57,19,25,6,23,45]
[null,19,26,59,5,7,30,46,10,9,51,39,45,57,24,60,52]
[null,49,18,23,20,11,22,5,15,26,61,43,26,43,8,31,2]
[null,57,29,50,23,17,31,57,3,13,6,16,59,20,4,16,39]
[null,15,10,3,9,25,16,23,26,12,23,7,31,5,19,22,24]
[null,22,50,4,63,47,36,24,9,52,32,61,47,41,45,13,53]
[null,28,17,47,47,60,50,8,23,36,49,32,62,23,11,16,23]
[null,15,56,24,27,38,52,62,20,11,30,57,58,34,58,31,18]
[null,30,28,58,9,64,59,47,5,18,18,41,42,14,22,6,56]
[null,2,11,31,40,32,5,13,7,17,40,55,60,39,52,42,46]
[null,32,43,60,58,8,27,16,11,10,56,51,35,5,4,58,12]
[null,3,22,13,11,29,23,35,17,58,28,59,50,48,36,62,7]
[null,21,60,50,17,21,2,60,25,46,2,42,53,3,13,47,36]
[null,53,40,3,52,20,55,2,27,26,7,26,45,16,65,22,34]
[null,50,19,45,44,1,44,32,1,60,25,3,63,55,31,28,2]
[null,35,29,2,2,16,47,63,14,21,45,13,34,4,54,15,16]
[null,60,5,34,21,25,35,45,12,25,53,17,64,38,15,30,60]
[null,42,32,15,62,62,10,22,26,13,19,4,36,12,48,64,41]
[null,58,63,36,34,35,17,28,18,4,1,20,51,44,26,34,26]
[null,62,15,22,10,54,1,51,29,31,61,29,38,20,56,63,38]
[null,47,62,38,30,53,24,36,10,65,37,8,44,64,29,45,55]
[null,9,65,29,38,39,21,26,44,51,63,19,56,42,25,27,44]
[null,23,30,56,24,48,8,18,38,54,52,1,37,6,46,1,24]
[null,20,58,26,35,52,32,37,51,3,27,6,48,57,34,14,3]
[null,5,12,48,53,57,4,56,36,29,12,28,40,17,47,12,31]
[null,7,25,14,20,7,28,27,64,2,46,12,54,53,27,40,65]
[null,11,46,54,12,23,60,1,34,32,58,21,52,10,64,48,29]
[null,17,9,27,37,22,37,52,63,47,9,18,65,36,17,37,14]
[null,25,35,65,65,5,46,54,45,38,15,14,39,15,60,56,61]
[null,39,48,17,7,11,18,7,53,61,11,43,41,1,24,9,58]
[null,65,13,41,25,30,3,11,50,42,24,56,49,37,61,23,4]
[null,52,59,7,50,17,15,49,35,22,62,39,55,8,9,20,27]
[null,54,21,55,48,24,25,41,60,9,43,64,59,47,38,5,45]
[null,40,14,20,15,56,57,9,42,27,6,36,61,21,7,59,47]
[null,48,64,61,5,51,40,23,58,23,35,44,46,40,43,55,17]
[null,37,27,9,60,63,53,46,62,50,50,35,43,7,16,49,9]
[null,56,42,43,43,40,54,61,47,59,44,50,57,35,63,41,51]
[null,44,16,62,3,19,30,42,57,14,34,5,19,25,21,53,13]
[null,38,49,19,19,6,16,58,43,30,17,34,4,43,55,50,43]
[null,51,10,42,39,28,14,4,46,55,36,9,8,32,8,35,48]
[null,36,38,8,57,2,7,19,61,48,48,25,24,52,44,60,10]
[null,64,55,35,26,34,61,53,59,49,26,11,6,27,14,24,20]
[null,34,23,6,8,58,39,50,55,56,10,15,31,61,62,8,54]
[null,63,44,53,55,37,43,31,49,8,38,7,16,18,30,4,59]
[null,45,6,16,49,45,64,6,41,20,64,24,13,63,53,19,30]
[null,13,26,63,14,46,11,64,39,40,59,40,21,50,1,44,32]
[null,16,47,21,22,65,22,34,65,6,41,63,3,11,35,38,64]
[null,31,37,64,64,50,19,3,52,45,21,53,32,62,12,51,50]
[null,6,61,32,45,41,31,21,54,41,13,49,2,28,51,36,6]
[null,24,34,51,4,4,56,44,40,53,47,62,30,54,18,2,25]
[null,8,3,30,32,31,49,38,48,62,65,46,15,22,40,32,40]
[null,4,51,44,56,12,65,15,37,35,5,37,28,46,10,3,28]
[null,19,4,28,36,13,42,30,56,1,29,58,22,2,37,21,11]
[null,57,1,37,28,27,45,40,22,15,3,47,10,24,41,39,22]
[null,43,36,10,42,18,58,48,28,12,14,65,29,60,20,65,42]
[null,46,8,40,31,14,34,29,15,63,39,60,18,9,32,52,63]
[null,61,54,18,13,9,62,10,30,37,54,38,26,49,19,54,35]
[null,59,41,52,46,59,38,39,2,64,20,54,12,13,39,26,1]
[null,55,20,12,54,43,6,65,32,34,8,45,14,56,2,18,37]
[null,49,57,39,29,44,29,14,3,19,57,48,1,30,49,29,52]
[null,41,31,1,1,61,20,12,21,28,51,52,27,51,6,10,5]
[null,27,18,49,59,55,48,59,13,5,55,23,25,65,42,57,8]
[null,1,53,25,41,36,63,55,16,24,42,10,17,29,5,43,62]
[null,14,7,59,16,49,51,17,31,44,4,27,11,58,57,46,39]
[null,12,45,11,18,42,41,25,6,57,23,2,7,19,28,61,21]
[null,26,52,46,51,10,9,57,24,39,60,30,5,45,59,7,19]
[null,18,2,5,61,15,26,43,8,43,31,22,20,26,23,11,49]
[null,29,39,57,6,3,13,20,4,16,16,31,23,59,50,17,57]
[null,10,24,23,23,26,12,5,19,7,22,16,9,31,3,25,15]
[null,47,53,32,22,36,24,13,52,47,61,4,50,41,63,9,45]
[null,62,23,49,28,50,8,16,36,60,32,47,17,23,47,23,11]
[null,58,18,30,15,52,62,31,11,38,57,24,56,34,27,20,58]
[null,42,56,18,30,59,47,6,18,64,41,58,28,14,9,5,22]
[null,60,46,40,2,5,13,42,17,32,55,31,11,39,40,7,52]
[null,35,12,56,32,27,16,58,10,8,51,60,43,5,58,11,4]
[null,50,7,28,3,23,35,62,58,29,59,13,22,48,11,17,36]
[null,53,36,2,21,2,60,47,46,21,42,50,60,3,17,25,13]
[null,45,34,7,53,55,2,22,26,20,26,3,40,16,52,27,65]
[null,63,2,25,50,44,32,28,60,1,3,45,19,55,44,1,31]
[null,34,16,45,35,47,63,15,21,16,13,2,29,4,2,14,54]
[null,64,60,53,60,35,45,30,25,25,17,34,5,38,21,12,15]
[null,36,41,19,42,10,22,64,13,62,4,15,32,12,62,26,48]
[null,51,26,1,58,17,28,34,4,35,20,36,63,44,34,18,26]
[null,38,38,61,62,1,51,63,31,54,29,22,15,20,10,29,56]
[null,44,55,37,47,24,36,45,65,53,8,38,62,64,30,10,29]
[null,56,44,63,9,21,26,27,51,39,19,29,65,42,38,44,25]
[null,37,24,52,23,8,18,1,54,48,1,56,30,6,24,38,46]
[null,48,3,27,20,32,37,14,3,52,6,26,58,57,35,51,34]
[null,40,31,12,5,4,56,12,29,57,28,48,12,17,53,36,47]
[null,54,65,46,7,28,27,40,2,7,12,14,25,53,20,64,27]
[null,52,29,58,11,60,1,48,32,23,21,54,46,10,12,34,64]
[null,65,14,9,17,37,52,37,47,22,18,27,9,36,37,63,17]
[null,39,61,15,25,46,54,56,38,5,14,65,35,15,65,45,60]
[null,41,58,11,39,18,7,9,61,11,43,17,48,1,7,53,24]
[null,49,4,24,65,3,11,23,42,30,56,41,13,37,25,50,61]
[null,55,27,62,52,15,49,20,22,17,39,7,59,8,50,35,9]
[null,59,45,43,54,25,41,5,9,24,64,55,21,47,48,60,38]
[null,61,47,6,40,57,9,59,27,56,36,20,14,21,15,42,7]
[null,46,17,35,48,40,23,55,23,51,44,61,64,40,5,58,43]
[null,43,9,50,37,53,46,49,50,63,35,9,27,7,60,62,16]
[null,57,51,44,56,54,61,41,59,40,50,43,42,35,43,47,63]
[null,19,13,34,44,30,42,53,14,19,5,62,16,25,3,57,21]
[null,4,43,17,38,16,58,50,30,6,34,19,49,43,19,43,55]
[null,8,48,36,51,14,4,35,55,28,9,42,10,32,39,46,8]
[null,24,10,48,36,7,19,60,48,2,25,8,38,52,57,61,44]
[null,6,20,26,64,61,53,24,49,34,11,35,55,27,26,59,14]
[null,31,54,10,34,39,50,8,56,58,15,6,23,61,8,55,62]
[null,16,59,38,63,43,31,4,8,37,7,53,44,18,55,49,30]
[null,13,30,64,45,64,6,19,20,45,24,16,6,63,49,41,53]
[null,21,32,59,13,11,64,44,40,46,40,63,26,50,14,39,1]
[null,3,64,41,16,22,34,38,6,65,63,21,47,11,22,65,35]
[null,32,50,21,31,19,3,51,45,50,53,64,37,62,64,52,12]
[null,2,6,13,6,31,21,36,41,41,49,32,61,28,45,54,51]
[null,30,25,47,24,56,44,2,53,4,62,51,34,54,4,40,18]
[null,15,40,65,8,49,38,32,62,31,46,30,3,22,32,48,40]
[null,28,28,5,4,65,15,3,35,12,37,44,51,46,56,37,10]
[null,22,11,29,19,42,30,21,1,13,58,28,4,2,36,56,37]
[null,10,22,3,57,45,40,39,15,27,47,37,1,24,28,22,41]
[null,29,42,14,43,58,48,65,12,18,65,10,36,60,42,28,20]
[null,18,63,39,46,34,29,52,63,14,60,40,8,9,31,15,32]
[null,26,35,54,61,62,10,54,37,9,38,18,54,49,13,30,19]
[null,12,1,20,59,38,39,26,64,59,54,52,41,13,46,2,39]
[null,14,37,8,55,6,65,18,34,43,45,12,20,56,54,32,2]
[null,1,52,57,49,29,14,29,19,44,48,39,57,30,29,3,49]
[null,27,5,51,41,20,12,10,28,61,52,1,31,51,1,21,6]
[null,25,8,55,27,48,59,57,5,55,23,49,18,65,59,13,42]
[null,17,62,42,1,63,55,43,24,36,10,25,53,29,41,16,5]
[null,11,39,4,14,51,17,46,44,49,27,59,7,58,16,31,57]
[null,7,21,23,12,41,25,61,57,42,2,11,45,19,18,6,28]
[null,5,19,60,26,9,57,7,39,10,30,46,52,45,51,24,59]
[null,20,49,31,18,26,43,11,43,15,22,5,2,26,61,8,23]
[null,23,57,16,29,13,20,17,16,3,31,57,39,59,6,4,50]
[null,9,15,22,10,12,5,25,7,26,16,23,24,31,23,19,3]

{"sheet":"NOLH for up to 16 factors","index":8,"n_rows":70,"n_cols":17,"rows_kept":70,"cut":false,"hidden":false,"merged":[]}
[]
["low level",1,1,1,1,1,1,1,1,1,1,1,1,1,1,1,1]
["high level",65,65,65,65,65,65,65,65,65,65,65,65,65,65,65,65]
["decimals",0,0,0,0,0,0,0,0,0,0,0,0,0,0,0,0]
["factor name"]
[null,{"$f":"ROUND( B$2+(('coded NOLH for 12-16 factors'!B5-1)*(B$3-B$2)/64), B$4)","v":47},{"$f":"ROUND( C$2+(('coded NOLH for 12-16 factors'!C5-1)*(C$3-C$2)/64), C$4)","v":4},{"$f":"ROUND( D$2+(('coded NOLH for 12-16 factors'!D5-1)*(D$3-D$2)/64), D$4)","v":24},{"$f":"ROUND( E$2+(('coded NOLH for 12-16 factors'!E5-1)*(E$3-E$2)/64), E$4)","v":22},{"$f":"ROUND( F$2+(('coded NOLH for 12-16 factors'!F5-1)*(F$3-F$2)/64), F$4)","v":9},{"$f":"ROUND( G$2+(('coded NOLH for 12-16 factors'!G5-1)*(G$3-G$2)/64), G$4)","v":50},{"$f":"ROUND( H$2+(('coded NOLH for 12-16 factors'!H5-1)*(H$3-H$2)/64), H$4)","v":52},{"$f":"ROUND( I$2+(('coded NOLH for 12-16 factors'!I5-1)*(I$3-I$2)/64), I$4)","v":32},{"$f":"ROUND( J$2+(('coded NOLH for 12-16 factors'!J5-1)*(J$3-J$2)/64), J$4)","v":63},{"$f":"ROUND( K$2+(('coded NOLH for 12-16 factors'!K5-1)*(K$3-K$2)/64), K$4)","v":47},{"$f":"ROUND( L$2+(('coded NOLH for 12-16 factors'!L5-1)*(L$3-L$2)/64), L$4)","v":36},{"$f":"ROUND( M$2+(('coded NOLH for 12-16 factors'!M5-1)*(M$3-M$2)/64), M$4)","v":61},{"$f":"ROUND( N$2+(('coded NOLH for 12-16 factors'!N5-1)*(N$3-N$2)/64), N$4)","v":13},{"$f":"ROUND( O$2+(('coded NOLH for 12-16 factors'!O5-1)*(O$3-O$2)/64), O$4)","v":41},{"$f":"ROUND( P$2+(('coded NOLH for 12-16 factors'!P5-1)*(P$3-P$2)/64), P$4)","v":53},{"$f":"ROUND( Q$2+(('coded NOLH for 12-16 factors'!Q5-1)*(Q$3-Q$2)/64), Q$4)","v":45}]
[null,{"$f":"ROUND( B$2+(('coded NOLH for 12-16 factors'!B6-1)*(B$3-B$2)/64), B$4)","v":62},{"$f":"ROUND( C$2+(('coded NOLH for 12-16 factors'!C6-1)*(C$3-C$2)/64), C$4)","v":47},{"$f":"ROUND( D$2+(('coded NOLH for 12-16 factors'!D6-1)*(D$3-D$2)/64), D$4)","v":8},{"$f":"ROUND( E$2+(('coded NOLH for 12-16 factors'!E6-1)*(E$3-E$2)/64), E$4)","v":28},{"$f":"ROUND( F$2+(('coded NOLH for 12-16 factors'!F6-1)*(F$3-F$2)/64), F$4)","v":23},{"$f":"ROUND( G$2+(('coded NOLH for 12-16 factors'!G6-1)*(G$3-G$2)/64), G$4)","v":17},{"$f":"ROUND( H$2+(('coded NOLH for 12-16 factors'!H6-1)*(H$3-H$2)/64), H$4)","v":36},{"$f":"ROUND( I$2+(('coded NOLH for 12-16 factors'!I6-1)*(I$3-I$2)/64), I$4)","v":49},{"$f":"ROUND( J$2+(('coded NOLH for 12-16 factors'!J6-1)*(J$3-J$2)/64), J$4)","v":47},{"$f":"ROUND( K$2+(('coded NOLH for 12-16 factors'!K6-1)*(K$3-K$2)/64), K$4)","v":60},{"$f":"ROUND( L$2+(('coded NOLH for 12-16 factors'!L6-1)*(L$3-L$2)/64), L$4)","v":50},{"$f":"ROUND( M$2+(('coded NOLH for 12-16 factors'!M6-1)*(M$3-M$2)/64), M$4)","v":32},{"$f":"ROUND( N$2+(('coded NOLH for 12-16 factors'!N6-1)*(N$3-N$2)/64), N$4)","v":16},{"$f":"ROUND( O$2+(('coded NOLH for 12-16 factors'!O6-1)*(O$3-O$2)/64), O$4)","v":23},{"$f":"ROUND( P$2+(('coded NOLH for 12-16 factors'!P6-1)*(P$3-P$2)/64), P$4)","v":23},{"$f":"ROUND( Q$2+(('coded NOLH for 12-16 factors'!Q6-1)*(Q$3-Q$2)/64), Q$4)","v":11}]
[null,{"$f":"ROUND( B$2+(('coded NOLH for 12-16 factors'!B7-1)*(B$3-B$2)/64), B$4)","v":58},{"$f":"ROUND( C$2+(('coded NOLH for 12-16 factors'!C7-1)*(C$3-C$2)/64), C$4)","v":24},{"$f":"ROUND( D$2+(('coded NOLH for 12-16 factors'!D7-1)*(D$3-D$2)/64), D$4)","v":62},{"$f":"ROUND( E$2+(('coded NOLH for 12-16 factors'!E7-1)*(E$3-E$2)/64), E$4)","v":15},{"$f":"ROUND( F$2+(('coded NOLH for 12-16 factors'!F7-1)*(F$3-F$2)/64), F$4)","v":20},{"$f":"ROUND( G$2+(('coded NOLH for 12-16 factors'!G7-1)*(G$3-G$2)/64), G$4)","v":56},{"$f":"ROUND( H$2+(('coded NOLH for 12-16 factors'!H7-1)*(H$3-H$2)/64), H$4)","v":11},{"$f":"ROUND( I$2+(('coded NOLH for 12-16 factors'!I7-1)*(I$3-I$2)/64), I$4)","v":30},{"$f":"ROUND( J$2+(('coded NOLH for 12-16 factors'!J7-1)*(J$3-J$2)/64), J$4)","v":27},{"$f":"ROUND( K$2+(('coded NOLH for 12-16 factors'!K7-1)*(K$3-K$2)/64), K$4)","v":38},{"$f":"ROUND( L$2+(('coded NOLH for 12-16 factors'!L7-1)*(L$3-L$2)/64), L$4)","v":52},{"$f":"ROUND( M$2+(('coded NOLH for 12-16 factors'!M7-1)*(M$3-M$2)/64), M$4)","v":57},{"$f":"ROUND( N$2+(('coded NOLH for 12-16 factors'!N7-1)*(N$3-N$2)/64), N$4)","v":31},{"$f":"ROUND( O$2+(('coded NOLH for 12-16 factors'!O7-1)*(O$3-O$2)/64), O$4)","v":34},{"$f":"ROUND( P$2+(('coded NOLH for 12-16 factors'!P7-1)*(P$3-P$2)/64), P$4)","v":18},{"$f":"ROUND( Q$2+(('coded NOLH for 12-16 factors'!Q7-1)*(Q$3-Q$2)/64), Q$4)","v":58}]
[null,{"$f":"ROUND( B$2+(('coded NOLH for 12-16 factors'!B8-1)*(B$3-B$2)/64), B$4)","v":42},{"$f":"ROUND( C$2+(('coded NOLH for 12-16 factors'!C8-1)*(C$3-C$2)/64), C$4)","v":58},{"$f":"ROUND( D$2+(('coded NOLH for 12-16 factors'!D8-1)*(D$3-D$2)/64), D$4)","v":47},{"$f":"ROUND( E$2+(('coded NOLH for 12-16 factors'!E8-1)*(E$3-E$2)/64), E$4)","v":30},{"$f":"ROUND( F$2+(('coded NOLH for 12-16 factors'!F8-1)*(F$3-F$2)/64), F$4)","v":5},{"$f":"ROUND( G$2+(('coded NOLH for 12-16 factors'!G8-1)*(G$3-G$2)/64), G$4)","v":28},{"$f":"ROUND( H$2+(('coded NOLH for 12-16 factors'!H8-1)*(H$3-H$2)/64), H$4)","v":18},{"$f":"ROUND( I$2+(('coded NOLH for 12-16 factors'!I8-1)*(I$3-I$2)/64), I$4)","v":18},{"$f":"ROUND( J$2+(('coded NOLH for 12-16 factors'!J8-1)*(J$3-J$2)/64), J$4)","v":9},{"$f":"ROUND( K$2+(('coded NOLH for 12-16 factors'!K8-1)*(K$3-K$2)/64), K$4)","v":64},{"$f":"ROUND( L$2+(('coded NOLH for 12-16 factors'!L8-1)*(L$3-L$2)/64), L$4)","v":59},{"$f":"ROUND( M$2+(('coded NOLH for 12-16 factors'!M8-1)*(M$3-M$2)/64), M$4)","v":41},{"$f":"ROUND( N$2+(('coded NOLH for 12-16 factors'!N8-1)*(N$3-N$2)/64), N$4)","v":6},{"$f":"ROUND( O$2+(('coded NOLH for 12-16 factors'!O8-1)*(O$3-O$2)/64), O$4)","v":14},{"$f":"ROUND( P$2+(('coded NOLH for 12-16 factors'!P8-1)*(P$3-P$2)/64), P$4)","v":56},{"$f":"ROUND( Q$2+(('coded NOLH for 12-16 factors'!Q8-1)*(Q$3-Q$2)/64), Q$4)","v":22}]
[null,{"$f":"ROUND( B$2+(('coded NOLH for 12-16 factors'!B9-1)*(B$3-B$2)/64), B$4)","v":60},{"$f":"ROUND( C$2+(('coded NOLH for 12-16 factors'!C9-1)*(C$3-C$2)/64), C$4)","v":31},{"$f":"ROUND( D$2+(('coded NOLH for 12-16 factors'!D9-1)*(D$3-D$2)/64), D$4)","v":13},{"$f":"ROUND( E$2+(('coded NOLH for 12-16 factors'!E9-1)*(E$3-E$2)/64), E$4)","v":2},{"$f":"ROUND( F$2+(('coded NOLH for 12-16 factors'!F9-1)*(F$3-F$2)/64), F$4)","v":7},{"$f":"ROUND( G$2+(('coded NOLH for 12-16 factors'!G9-1)*(G$3-G$2)/64), G$4)","v":11},{"$f":"ROUND( H$2+(('coded NOLH for 12-16 factors'!H9-1)*(H$3-H$2)/64), H$4)","v":17},{"$f":"ROUND( I$2+(('coded NOLH for 12-16 factors'!I9-1)*(I$3-I$2)/64), I$4)","v":40},{"$f":"ROUND( J$2+(('coded NOLH for 12-16 factors'!J9-1)*(J$3-J$2)/64), J$4)","v":40},{"$f":"ROUND( K$2+(('coded NOLH for 12-16 factors'!K9-1)*(K$3-K$2)/64), K$4)","v":32},{"$f":"ROUND( L$2+(('coded NOLH for 12-16 factors'!L9-1)*(L$3-L$2)/64), L$4)","v":5},{"$f":"ROUND( M$2+(('coded NOLH for 12-16 factors'!M9-1)*(M$3-M$2)/64), M$4)","v":55},{"$f":"ROUND( N$2+(('coded NOLH for 12-16 factors'!N9-1)*(N$3-N$2)/64), N$4)","v":42},{"$f":"ROUND( O$2+(('coded NOLH for 12-16 factors'!O9-1)*(O$3-O$2)/64), O$4)","v":39},{"$f":"ROUND( P$2+(('coded NOLH for 12-16 factors'!P9-1)*(P$3-P$2)/64), P$4)","v":46},{"$f":"ROUND( Q$2+(('coded NOLH for 12-16 factors'!Q9-1)*(Q$3-Q$2)/64), Q$4)","v":52}]
[null,{"$f":"ROUND( B$2+(('coded NOLH for 12-16 factors'!B10-1)*(B$3-B$2)/64), B$4)","v":35},{"$f":"ROUND( C$2+(('coded NOLH for 12-16 factors'!C10-1)*(C$3-C$2)/64), C$4)","v":60},{"$f":"ROUND( D$2+(('coded NOLH for 12-16 factors'!D10-1)*(D$3-D$2)/64), D$4)","v":16},{"$f":"ROUND( E$2+(('coded NOLH for 12-16 factors'!E10-1)*(E$3-E$2)/64), E$4)","v":32},{"$f":"ROUND( F$2+(('coded NOLH for 12-16 factors'!F10-1)*(F$3-F$2)/64), F$4)","v":11},{"$f":"ROUND( G$2+(('coded NOLH for 12-16 factors'!G10-1)*(G$3-G$2)/64), G$4)","v":43},{"$f":"ROUND( H$2+(('coded NOLH for 12-16 factors'!H10-1)*(H$3-H$2)/64), H$4)","v":10},{"$f":"ROUND( I$2+(('coded NOLH for 12-16 factors'!I10-1)*(I$3-I$2)/64), I$4)","v":56},{"$f":"ROUND( J$2+(('coded NOLH for 12-16 factors'!J10-1)*(J$3-J$2)/64), J$4)","v":58},{"$f":"ROUND( K$2+(('coded NOLH for 12-16 factors'!K10-1)*(K$3-K$2)/64), K$4)","v":8},{"$f":"ROUND( L$2+(('coded NOLH for 12-16 factors'!L10-1)*(L$3-L$2)/64), L$4)","v":27},{"$f":"ROUND( M$2+(('coded NOLH for 12-16 factors'!M10-1)*(M$3-M$2)/64), M$4)","v":51},{"$f":"ROUND( N$2+(('coded NOLH for 12-16 factors'!N10-1)*(N$3-N$2)/64), N$4)","v":58},{"$f":"ROUND( O$2+(('coded NOLH for 12-16 factors'!O10-1)*(O$3-O$2)/64), O$4)","v":5},{"$f":"ROUND( P$2+(('coded NOLH for 12-16 factors'!P10-1)*(P$3-P$2)/64), P$4)","v":12},{"$f":"ROUND( Q$2+(('coded NOLH for 12-16 factors'!Q10-1)*(Q$3-Q$2)/64), Q$4)","v":4}]
[null,{"$f":"ROUND( B$2+(('coded NOLH for 12-16 factors'!B11-1)*(B$3-B$2)/64), B$4)","v":50},{"$f":"ROUND( C$2+(('coded NOLH for 12-16 factors'!C11-1)*(C$3-C$2)/64), C$4)","v":13},{"$f":"ROUND( D$2+(('coded NOLH for 12-16 factors'!D11-1)*(D$3-D$2)/64), D$4)","v":35},{"$f":"ROUND( E$2+(('coded NOLH for 12-16 factors'!E11-1)*(E$3-E$2)/64), E$4)","v":3},{"$f":"ROUND( F$2+(('coded NOLH for 12-16 factors'!F11-1)*(F$3-F$2)/64), F$4)","v":17},{"$f":"ROUND( G$2+(('coded NOLH for 12-16 factors'!G11-1)*(G$3-G$2)/64), G$4)","v":22},{"$f":"ROUND( H$2+(('coded NOLH for 12-16 factors'!H11-1)*(H$3-H$2)/64), H$4)","v":58},{"$f":"ROUND( I$2+(('coded NOLH for 12-16 factors'!I11-1)*(I$3-I$2)/64), I$4)","v":28},{"$f":"ROUND( J$2+(('coded NOLH for 12-16 factors'!J11-1)*(J$3-J$2)/64), J$4)","v":11},{"$f":"ROUND( K$2+(('coded NOLH for 12-16 factors'!K11-1)*(K$3-K$2)/64), K$4)","v":29},{"$f":"ROUND( L$2+(('coded NOLH for 12-16 factors'!L11-1)*(L$3-L$2)/64), L$4)","v":23},{"$f":"ROUND( M$2+(('coded NOLH for 12-16 factors'!M11-1)*(M$3-M$2)/64), M$4)","v":59},{"$f":"ROUND( N$2+(('coded NOLH for 12-16 factors'!N11-1)*(N$3-N$2)/64), N$4)","v":62},{"$f":"ROUND( O$2+(('coded NOLH for 12-16 factors'!O11-1)*(O$3-O$2)/64), O$4)","v":48},{"$f":"ROUND( P$2+(('coded NOLH for 12-16 factors'!P11-1)*(P$3-P$2)/64), P$4)","v":7},{"$f":"ROUND( Q$2+(('coded NOLH for 12-16 factors'!Q11-1)*(Q$3-Q$2)/64), Q$4)","v":36}]
[null,{"$f":"ROUND( B$2+(('coded NOLH for 12-16 factors'!B12-1)*(B$3-B$2)/64), B$4)","v":53},{"$f":"ROUND( C$2+(('coded NOLH for 12-16 factors'!C12-1)*(C$3-C$2)/64), C$4)","v":50},{"$f":"ROUND( D$2+(('coded NOLH for 12-16 factors'!D12-1)*(D$3-D$2)/64), D$4)","v":60},{"$f":"ROUND( E$2+(('coded NOLH for 12-16 factors'!E12-1)*(E$3-E$2)/64), E$4)","v":21},{"$f":"ROUND( F$2+(('coded NOLH for 12-16 factors'!F12-1)*(F$3-F$2)/64), F$4)","v":25},{"$f":"ROUND( G$2+(('coded NOLH for 12-16 factors'!G12-1)*(G$3-G$2)/64), G$4)","v":60},{"$f":"ROUND( H$2+(('coded NOLH for 12-16 factors'!H12-1)*(H$3-H$2)/64), H$4)","v":46},{"$f":"ROUND( I$2+(('coded NOLH for 12-16 factors'!I12-1)*(I$3-I$2)/64), I$4)","v":2},{"$f":"ROUND( J$2+(('coded NOLH for 12-16 factors'!J12-1)*(J$3-J$2)/64), J$4)","v":17},{"$f":"ROUND( K$2+(('coded NOLH for 12-16 factors'!K12-1)*(K$3-K$2)/64), K$4)","v":21},{"$f":"ROUND( L$2+(('coded NOLH for 12-16 factors'!L12-1)*(L$3-L$2)/64), L$4)","v":2},{"$f":"ROUND( M$2+(('coded NOLH for 12-16 factors'!M12-1)*(M$3-M$2)/64), M$4)","v":42},{"$f":"ROUND( N$2+(('coded NOLH for 12-16 factors'!N12-1)*(N$3-N$2)/64), N$4)","v":47},{"$f":"ROUND( O$2+(('coded NOLH for 12-16 factors'!O12-1)*(O$3-O$2)/64), O$4)","v":3},{"$f":"ROUND( P$2+(('coded NOLH for 12-16 factors'!P12-1)*(P$3-P$2)/64), P$4)","v":36},{"$f":"ROUND( Q$2+(('coded NOLH for 12-16 factors'!Q12-1)*(Q$3-Q$2)/64), Q$4)","v":13}]
[null,{"$f":"ROUND( B$2+(('coded NOLH for 12-16 factors'!B13-1)*(B$3-B$2)/64), B$4)","v":45},{"$f":"ROUND( C$2+(('coded NOLH for 12-16 factors'!C13-1)*(C$3-C$2)/64), C$4)","v":3},{"$f":"ROUND( D$2+(('coded NOLH for 12-16 factors'!D13-1)*(D$3-D$2)/64), D$4)","v":2},{"$f":"ROUND( E$2+(('coded NOLH for 12-16 factors'!E13-1)*(E$3-E$2)/64), E$4)","v":53},{"$f":"ROUND( F$2+(('coded NOLH for 12-16 factors'!F13-1)*(F$3-F$2)/64), F$4)","v":27},{"$f":"ROUND( G$2+(('coded NOLH for 12-16 factors'!G13-1)*(G$3-G$2)/64), G$4)","v":40},{"$f":"ROUND( H$2+(('coded NOLH for 12-16 factors'!H13-1)*(H$3-H$2)/64), H$4)","v":26},{"$f":"ROUND( I$2+(('coded NOLH for 12-16 factors'!I13-1)*(I$3-I$2)/64), I$4)","v":7},{"$f":"ROUND( J$2+(('coded NOLH for 12-16 factors'!J13-1)*(J$3-J$2)/64), J$4)","v":52},{"$f":"ROUND( K$2+(('coded NOLH for 12-16 factors'!K13-1)*(K$3-K$2)/64), K$4)","v":20},{"$f":"ROUND( L$2+(('coded NOLH for 12-16 factors'!L13-1)*(L$3-L$2)/64), L$4)","v":55},{"$f":"ROUND( M$2+(('coded NOLH for 12-16 factors'!M13-1)*(M$3-M$2)/64), M$4)","v":26},{"$f":"ROUND( N$2+(('coded NOLH for 12-16 factors'!N13-1)*(N$3-N$2)/64), N$4)","v":22},{"$f":"ROUND( O$2+(('coded NOLH for 12-16 factors'!O13-1)*(O$3-O$2)/64), O$4)","v":16},{"$f":"ROUND( P$2+(('coded NOLH for 12-16 factors'!P13-1)*(P$3-P$2)/64), P$4)","v":34},{"$f":"ROUND( Q$2+(('coded NOLH for 12-16 factors'!Q13-1)*(Q$3-Q$2)/64), Q$4)","v":65}]
[null,{"$f":"ROUND( B$2+(('coded NOLH for 12-16 factors'!B14-1)*(B$3-B$2)/64), B$4)","v":63},{"$f":"ROUND( C$2+(('coded NOLH for 12-16 factors'!C14-1)*(C$3-C$2)/64), C$4)","v":45},{"$f":"ROUND( D$2+(('coded NOLH for 12-16 factors'!D14-1)*(D$3-D$2)/64), D$4)","v":32},{"$f":"ROUND( E$2+(('coded NOLH for 12-16 factors'!E14-1)*(E$3-E$2)/64), E$4)","v":50},{"$f":"ROUND( F$2+(('coded NOLH for 12-16 factors'!F14-1)*(F$3-F$2)/64), F$4)","v":1},{"$f":"ROUND( G$2+(('coded NOLH for 12-16 factors'!G14-1)*(G$3-G$2)/64), G$4)","v":19},{"$f":"ROUND( H$2+(('coded NOLH for 12-16 factors'!H14-1)*(H$3-H$2)/64), H$4)","v":60},{"$f":"ROUND( I$2+(('coded NOLH for 12-16 factors'!I14-1)*(I$3-I$2)/64), I$4)","v":25},{"$f":"ROUND( J$2+(('coded NOLH for 12-16 factors'!J14-1)*(J$3-J$2)/64), J$4)","v":44},{"$f":"ROUND( K$2+(('coded NOLH for 12-16 factors'!K14-1)*(K$3-K$2)/64), K$4)","v":1},{"$f":"ROUND( L$2+(('coded NOLH for 12-16 factors'!L14-1)*(L$3-L$2)/64), L$4)","v":44},{"$f":"ROUND( M$2+(('coded NOLH for 12-16 factors'!M14-1)*(M$3-M$2)/64), M$4)","v":3},{"$f":"ROUND( N$2+(('coded NOLH for 12-16 factors'!N14-1)*(N$3-N$2)/64), N$4)","v":28},{"$f":"ROUND( O$2+(('coded NOLH for 12-16 factors'!O14-1)*(O$3-O$2)/64), O$4)","v":55},{"$f":"ROUND( P$2+(('coded NOLH for 12-16 factors'!P14-1)*(P$3-P$2)/64), P$4)","v":2},{"$f":"ROUND( Q$2+(('coded NOLH for 12-16 factors'!Q14-1)*(Q$3-Q$2)/64), Q$4)","v":31}]
[null,{"$f":"ROUND( B$2+(('coded NOLH for 12-16 factors'!B15-1)*(B$3-B$2)/64), B$4)","v":34},{"$f":"ROUND( C$2+(('coded NOLH for 12-16 factors'!C15-1)*(C$3-C$2)/64), C$4)","v":2},{"$f":"ROUND( D$2+(('coded NOLH for 12-16 factors'!D15-1)*(D$3-D$2)/64), D$4)","v":63},{"$f":"ROUND( E$2+(('coded NOLH for 12-16 factors'!E15-1)*(E$3-E$2)/64), E$4)","v":35},{"$f":"ROUND( F$2+(('coded NOLH for 12-16 factors'!F15-1)*(F$3-F$2)/64), F$4)","v":14},{"$f":"ROUND( G$2+(('coded NOLH for 12-16 factors'!G15-1)*(G$3-G$2)/64), G$4)","v":29},{"$f":"ROUND( H$2+(('coded NOLH for 12-16 factors'!H15-1)*(H$3-H$2)/64), H$4)","v":21},{"$f":"ROUND( I$2+(('coded NOLH for 12-16 factors'!I15-1)*(I$3-I$2)/64), I$4)","v":45},{"$f":"ROUND( J$2+(('coded NOLH for 12-16 factors'!J15-1)*(J$3-J$2)/64), J$4)","v":2},{"$f":"ROUND( K$2+(('coded NOLH for 12-16 factors'!K15-1)*(K$3-K$2)/64), K$4)","v":16},{"$f":"ROUND( L$2+(('coded NOLH for 12-16 factors'!L15-1)*(L$3-L$2)/64), L$4)","v":47},{"$f":"ROUND( M$2+(('coded NOLH for 12-16 factors'!M15-1)*(M$3-M$2)/64), M$4)","v":13},{"$f":"ROUND( N$2+(('coded NOLH for 12-16 factors'!N15-1)*(N$3-N$2)/64), N$4)","v":15},{"$f":"ROUND( O$2+(('coded NOLH for 12-16 factors'!O15-1)*(O$3-O$2)/64), O$4)","v":4},{"$f":"ROUND( P$2+(('coded NOLH for 12-16 factors'!P15-1)*(P$3-P$2)/64), P$4)","v":16},{"$f":"ROUND( Q$2+(('coded NOLH for 12-16 factors'!Q15-1)*(Q$3-Q$2)/64), Q$4)","v":54}]
[null,{"$f":"ROUND( B$2+(('coded NOLH for 12-16 factors'!B16-1)*(B$3-B$2)/64), B$4)","v":64},{"$f":"ROUND( C$2+(('coded NOLH for 12-16 factors'!C16-1)*(C$3-C$2)/64), C$4)","v":34},{"$f":"ROUND( D$2+(('coded NOLH for 12-16 factors'!D16-1)*(D$3-D$2)/64), D$4)","v":45},{"$f":"ROUND( E$2+(('coded NOLH for 12-16 factors'!E16-1)*(E$3-E$2)/64), E$4)","v":60},{"$f":"ROUND( F$2+(('coded NOLH for 12-16 factors'!F16-1)*(F$3-F$2)/64), F$4)","v":12},{"$f":"ROUND( G$2+(('coded NOLH for 12-16 factors'!G16-1)*(G$3-G$2)/64), G$4)","v":5},{"$f":"ROUND( H$2+(('coded NOLH for 12-16 factors'!H16-1)*(H$3-H$2)/64), H$4)","v":25},{"$f":"ROUND( I$2+(('coded NOLH for 12-16 factors'!I16-1)*(I$3-I$2)/64), I$4)","v":53},{"$f":"ROUND( J$2+(('coded NOLH for 12-16 factors'!J16-1)*(J$3-J$2)/64), J$4)","v":21},{"$f":"ROUND( K$2+(('coded NOLH for 12-16 factors'!K16-1)*(K$3-K$2)/64), K$4)","v":25},{"$f":"ROUND( L$2+(('coded NOLH for 12-16 factors'!L16-1)*(L$3-L$2)/64), L$4)","v":35},{"$f":"ROUND( M$2+(('coded NOLH for 12-16 factors'!M16-1)*(M$3-M$2)/64), M$4)","v":17},{"$f":"ROUND( N$2+(('coded NOLH for 12-16 factors'!N16-1)*(N$3-N$2)/64), N$4)","v":30},{"$f":"ROUND( O$2+(('coded NOLH for 12-16 factors'!O16-1)*(O$3-O$2)/64), O$4)","v":38},{"$f":"ROUND( P$2+(('coded NOLH for 12-16 factors'!P16-1)*(P$3-P$2)/64), P$4)","v":60},{"$f":"ROUND( Q$2+(('coded NOLH for 12-16 factors'!Q16-1)*(Q$3-Q$2)/64), Q$4)","v":15}]
[null,{"$f":"ROUND( B$2+(('coded NOLH for 12-16 factors'!B17-1)*(B$3-B$2)/64), B$4)","v":36},{"$f":"ROUND( C$2+(('coded NOLH for 12-16 factors'!C17-1)*(C$3-C$2)/64), C$4)","v":15},{"$f":"ROUND( D$2+(('coded NOLH for 12-16 factors'!D17-1)*(D$3-D$2)/64), D$4)","v":22},{"$f":"ROUND( E$2+(('coded NOLH for 12-16 factors'!E17-1)*(E$3-E$2)/64), E$4)","v":42},{"$f":"ROUND( F$2+(('coded NOLH for 12-16 factors'!F17-1)*(F$3-F$2)/64), F$4)","v":26},{"$f":"ROUND( G$2+(('coded NOLH for 12-16 factors'!G17-1)*(G$3-G$2)/64), G$4)","v":32},{"$f":"ROUND( H$2+(('coded NOLH for 12-16 factors'!H17-1)*(H$3-H$2)/64), H$4)","v":13},{"$f":"ROUND( I$2+(('coded NOLH for 12-16 factors'!I17-1)*(I$3-I$2)/64), I$4)","v":19},{"$f":"ROUND( J$2+(('coded NOLH for 12-16 factors'!J17-1)*(J$3-J$2)/64), J$4)","v":62},{"$f":"ROUND( K$2+(('coded NOLH for 12-16 factors'!K17-1)*(K$3-K$2)/64), K$4)","v":62},{"$f":"ROUND( L$2+(('coded NOLH for 12-16 factors'!L17-1)*(L$3-L$2)/64), L$4)","v":10},{"$f":"ROUND( M$2+(('coded NOLH for 12-16 factors'!M17-1)*(M$3-M$2)/64), M$4)","v":4},{"$f":"ROUND( N$2+(('coded NOLH for 12-16 factors'!N17-1)*(N$3-N$2)/64), N$4)","v":64},{"$f":"ROUND( O$2+(('coded NOLH for 12-16 factors'!O17-1)*(O$3-O$2)/64), O$4)","v":12},{"$f":"ROUND( P$2+(('coded NOLH for 12-16 factors'!P17-1)*(P$3-P$2)/64), P$4)","v":41},{"$f":"ROUND( Q$2+(('coded NOLH for 12-16 factors'!Q17-1)*(Q$3-Q$2)/64), Q$4)","v":48}]
[null,{"$f":"ROUND( B$2+(('coded NOLH for 12-16 factors'!B18-1)*(B$3-B$2)/64), B$4)","v":51},{"$f":"ROUND( C$2+(('coded NOLH for 12-16 factors'!C18-1)*(C$3-C$2)/64), C$4)","v":36},{"$f":"ROUND( D$2+(('coded NOLH for 12-16 factors'!D18-1)*(D$3-D$2)/64), D$4)","v":28},{"$f":"ROUND( E$2+(('coded NOLH for 12-16 factors'!E18-1)*(E$3-E$2)/64), E$4)","v":58},{"$f":"ROUND( F$2+(('coded NOLH for 12-16 factors'!F18-1)*(F$3-F$2)/64), F$4)","v":18},{"$f":"ROUND( G$2+(('coded NOLH for 12-16 factors'!G18-1)*(G$3-G$2)/64), G$4)","v":63},{"$f":"ROUND( H$2+(('coded NOLH for 12-16 factors'!H18-1)*(H$3-H$2)/64), H$4)","v":4},{"$f":"ROUND( I$2+(('coded NOLH for 12-16 factors'!I18-1)*(I$3-I$2)/64), I$4)","v":1},{"$f":"ROUND( J$2+(('coded NOLH for 12-16 factors'!J18-1)*(J$3-J$2)/64), J$4)","v":34},{"$f":"ROUND( K$2+(('coded NOLH for 12-16 factors'!K18-1)*(K$3-K$2)/64), K$4)","v":35},{"$f":"ROUND( L$2+(('coded NOLH for 12-16 factors'!L18-1)*(L$3-L$2)/64), L$4)","v":17},{"$f":"ROUND( M$2+(('coded NOLH for 12-16 factors'!M18-1)*(M$3-M$2)/64), M$4)","v":20},{"$f":"ROUND( N$2+(('coded NOLH for 12-16 factors'!N18-1)*(N$3-N$2)/64), N$4)","v":34},{"$f":"ROUND( O$2+(('coded NOLH for 12-16 factors'!O18-1)*(O$3-O$2)/64), O$4)","v":44},{"$f":"ROUND( P$2+(('coded NOLH for 12-16 factors'!P18-1)*(P$3-P$2)/64), P$4)","v":26},{"$f":"ROUND( Q$2+(('coded NOLH for 12-16 factors'!Q18-1)*(Q$3-Q$2)/64), Q$4)","v":26}]
[null,{"$f":"ROUND( B$2+(('coded NOLH for 12-16 factors'!B19-1)*(B$3-B$2)/64), B$4)","v":38},{"$f":"ROUND( C$2+(('coded NOLH for 12-16 factors'!C19-1)*(C$3-C$2)/64), C$4)","v":22},{"$f":"ROUND( D$2+(('coded NOLH for 12-16 factors'!D19-1)*(D$3-D$2)/64), D$4)","v":51},{"$f":"ROUND( E$2+(('coded NOLH for 12-16 factors'!E19-1)*(E$3-E$2)/64), E$4)","v":62},{"$f":"ROUND( F$2+(('coded NOLH for 12-16 factors'!F19-1)*(F$3-F$2)/64), F$4)","v":29},{"$f":"ROUND( G$2+(('coded NOLH for 12-16 factors'!G19-1)*(G$3-G$2)/64), G$4)","v":15},{"$f":"ROUND( H$2+(('coded NOLH for 12-16 factors'!H19-1)*(H$3-H$2)/64), H$4)","v":31},{"$f":"ROUND( I$2+(('coded NOLH for 12-16 factors'!I19-1)*(I$3-I$2)/64), I$4)","v":61},{"$f":"ROUND( J$2+(('coded NOLH for 12-16 factors'!J19-1)*(J$3-J$2)/64), J$4)","v":10},{"$f":"ROUND( K$2+(('coded NOLH for 12-16 factors'!K19-1)*(K$3-K$2)/64), K$4)","v":54},{"$f":"ROUND( L$2+(('coded NOLH for 12-16 factors'!L19-1)*(L$3-L$2)/64), L$4)","v":1},{"$f":"ROUND( M$2+(('coded NOLH for 12-16 factors'!M19-1)*(M$3-M$2)/64), M$4)","v":29},{"$f":"ROUND( N$2+(('coded NOLH for 12-16 factors'!N19-1)*(N$3-N$2)/64), N$4)","v":63},{"$f":"ROUND( O$2+(('coded NOLH for 12-16 factors'!O19-1)*(O$3-O$2)/64), O$4)","v":20},{"$f":"ROUND( P$2+(('coded NOLH for 12-16 factors'!P19-1)*(P$3-P$2)/64), P$4)","v":38},{"$f":"ROUND( Q$2+(('coded NOLH for 12-16 factors'!Q19-1)*(Q$3-Q$2)/64), Q$4)","v":56}]
[null,{"$f":"ROUND( B$2+(('coded NOLH for 12-16 factors'!B20-1)*(B$3-B$2)/64), B$4)","v":44},{"$f":"ROUND( C$2+(('coded NOLH for 12-16 factors'!C20-1)*(C$3-C$2)/64), C$4)","v":38},{"$f":"ROUND( D$2+(('coded NOLH for 12-16 factors'!D20-1)*(D$3-D$2)/64), D$4)","v":36},{"$f":"ROUND( E$2+(('coded NOLH for 12-16 factors'!E20-1)*(E$3-E$2)/64), E$4)","v":47},{"$f":"ROUND( F$2+(('coded NOLH for 12-16 factors'!F20-1)*(F$3-F$2)/64), F$4)","v":10},{"$f":"ROUND( G$2+(('coded NOLH for 12-16 factors'!G20-1)*(G$3-G$2)/64), G$4)","v":62},{"$f":"ROUND( H$2+(('coded NOLH for 12-16 factors'!H20-1)*(H$3-H$2)/64), H$4)","v":65},{"$f":"ROUND( I$2+(('coded NOLH for 12-16 factors'!I20-1)*(I$3-I$2)/64), I$4)","v":37},{"$f":"ROUND( J$2+(('coded NOLH for 12-16 factors'!J20-1)*(J$3-J$2)/64), J$4)","v":30},{"$f":"ROUND( K$2+(('coded NOLH for 12-16 factors'!K20-1)*(K$3-K$2)/64), K$4)","v":53},{"$f":"ROUND( L$2+(('coded NOLH for 12-16 factors'!L20-1)*(L$3-L$2)/64), L$4)","v":24},{"$f":"ROUND( M$2+(('coded NOLH for 12-16 factors'!M20-1)*(M$3-M$2)/64), M$4)","v":8},{"$f":"ROUND( N$2+(('coded NOLH for 12-16 factors'!N20-1)*(N$3-N$2)/64), N$4)","v":45},{"$f":"ROUND( O$2+(('coded NOLH for 12-16 factors'!O20-1)*(O$3-O$2)/64), O$4)","v":64},{"$f":"ROUND( P$2+(('coded NOLH for 12-16 factors'!P20-1)*(P$3-P$2)/64), P$4)","v":55},{"$f":"ROUND( Q$2+(('coded NOLH for 12-16 factors'!Q20-1)*(Q$3-Q$2)/64), Q$4)","v":29}]
[null,{"$f":"ROUND( B$2+(('coded NOLH for 12-16 factors'!B21-1)*(B$3-B$2)/64), B$4)","v":56},{"$f":"ROUND( C$2+(('coded NOLH for 12-16 factors'!C21-1)*(C$3-C$2)/64), C$4)","v":29},{"$f":"ROUND( D$2+(('coded NOLH for 12-16 factors'!D21-1)*(D$3-D$2)/64), D$4)","v":26},{"$f":"ROUND( E$2+(('coded NOLH for 12-16 factors'!E21-1)*(E$3-E$2)/64), E$4)","v":9},{"$f":"ROUND( F$2+(('coded NOLH for 12-16 factors'!F21-1)*(F$3-F$2)/64), F$4)","v":44},{"$f":"ROUND( G$2+(('coded NOLH for 12-16 factors'!G21-1)*(G$3-G$2)/64), G$4)","v":65},{"$f":"ROUND( H$2+(('coded NOLH for 12-16 factors'!H21-1)*(H$3-H$2)/64), H$4)","v":51},{"$f":"ROUND( I$2+(('coded NOLH for 12-16 factors'!I21-1)*(I$3-I$2)/64), I$4)","v":63},{"$f":"ROUND( J$2+(('coded NOLH for 12-16 factors'!J21-1)*(J$3-J$2)/64), J$4)","v":38},{"$f":"ROUND( K$2+(('coded NOLH for 12-16 factors'!K21-1)*(K$3-K$2)/64), K$4)","v":39},{"$f":"ROUND( L$2+(('coded NOLH for 12-16 factors'!L21-1)*(L$3-L$2)/64), L$4)","v":21},{"$f":"ROUND( M$2+(('coded NOLH for 12-16 factors'!M21-1)*(M$3-M$2)/64), M$4)","v":19},{"$f":"ROUND( N$2+(('coded NOLH for 12-16 factors'!N21-1)*(N$3-N$2)/64), N$4)","v":27},{"$f":"ROUND( O$2+(('coded NOLH for 12-16 factors'!O21-1)*(O$3-O$2)/64), O$4)","v":42},{"$f":"ROUND( P$2+(('coded NOLH for 12-16 factors'!P21-1)*(P$3-P$2)/64), P$4)","v":44},{"$f":"ROUND( Q$2+(('coded NOLH for 12-16 factors'!Q21-1)*(Q$3-Q$2)/64), Q$4)","v":25}]
[null,{"$f":"ROUND( B$2+(('coded NOLH for 12-16 factors'!B22-1)*(B$3-B$2)/64), B$4)","v":37},{"$f":"ROUND( C$2+(('coded NOLH for 12-16 factors'!C22-1)*(C$3-C$2)/64), C$4)","v":56},{"$f":"ROUND( D$2+(('coded NOLH for 12-16 factors'!D22-1)*(D$3-D$2)/64), D$4)","v":18},{"$f":"ROUND( E$2+(('coded NOLH for 12-16 factors'!E22-1)*(E$3-E$2)/64), E$4)","v":23},{"$f":"ROUND( F$2+(('coded NOLH for 12-16 factors'!F22-1)*(F$3-F$2)/64), F$4)","v":38},{"$f":"ROUND( G$2+(('coded NOLH for 12-16 factors'!G22-1)*(G$3-G$2)/64), G$4)","v":30},{"$f":"ROUND( H$2+(('coded NOLH for 12-16 factors'!H22-1)*(H$3-H$2)/64), H$4)","v":54},{"$f":"ROUND( I$2+(('coded NOLH for 12-16 factors'!I22-1)*(I$3-I$2)/64), I$4)","v":52},{"$f":"ROUND( J$2+(('coded NOLH for 12-16 factors'!J22-1)*(J$3-J$2)/64), J$4)","v":24},{"$f":"ROUND( K$2+(('coded NOLH for 12-16 factors'!K22-1)*(K$3-K$2)/64), K$4)","v":48},{"$f":"ROUND( L$2+(('coded NOLH for 12-16 factors'!L22-1)*(L$3-L$2)/64), L$4)","v":8},{"$f":"ROUND( M$2+(('coded NOLH for 12-16 factors'!M22-1)*(M$3-M$2)/64), M$4)","v":1},{"$f":"ROUND( N$2+(('coded NOLH for 12-16 factors'!N22-1)*(N$3-N$2)/64), N$4)","v":1},{"$f":"ROUND( O$2+(('coded NOLH for 12-16 factors'!O22-1)*(O$3-O$2)/64), O$4)","v":6},{"$f":"ROUND( P$2+(('coded NOLH for 12-16 factors'!P22-1)*(P$3-P$2)/64), P$4)","v":24},{"$f":"ROUND( Q$2+(('coded NOLH for 12-16 factors'!Q22-1)*(Q$3-Q$2)/64), Q$4)","v":46}]
[null,{"$f":"ROUND( B$2+(('coded NOLH for 12-16 factors'!B23-1)*(B$3-B$2)/64), B$4)","v":48},{"$f":"ROUND( C$2+(('coded NOLH for 12-16 factors'!C23-1)*(C$3-C$2)/64), C$4)","v":26},{"$f":"ROUND( D$2+(('coded NOLH for 12-16 factors'!D23-1)*(D$3-D$2)/64), D$4)","v":37},{"$f":"ROUND( E$2+(('coded NOLH for 12-16 factors'!E23-1)*(E$3-E$2)/64), E$4)","v":20},{"$f":"ROUND( F$2+(('coded NOLH for 12-16 factors'!F23-1)*(F$3-F$2)/64), F$4)","v":51},{"$f":"ROUND( G$2+(('coded NOLH for 12-16 factors'!G23-1)*(G$3-G$2)/64), G$4)","v":58},{"$f":"ROUND( H$2+(('coded NOLH for 12-16 factors'!H23-1)*(H$3-H$2)/64), H$4)","v":3},{"$f":"ROUND( I$2+(('coded NOLH for 12-16 factors'!I23-1)*(I$3-I$2)/64), I$4)","v":27},{"$f":"ROUND( J$2+(('coded NOLH for 12-16 factors'!J23-1)*(J$3-J$2)/64), J$4)","v":35},{"$f":"ROUND( K$2+(('coded NOLH for 12-16 factors'!K23-1)*(K$3-K$2)/64), K$4)","v":52},{"$f":"ROUND( L$2+(('coded NOLH for 12-16 factors'!L23-1)*(L$3-L$2)/64), L$4)","v":32},{"$f":"ROUND( M$2+(('coded NOLH for 12-16 factors'!M23-1)*(M$3-M$2)/64), M$4)","v":6},{"$f":"ROUND( N$2+(('coded NOLH for 12-16 factors'!N23-1)*(N$3-N$2)/64), N$4)","v":14},{"$f":"ROUND( O$2+(('coded NOLH for 12-16 factors'!O23-1)*(O$3-O$2)/64), O$4)","v":57},{"$f":"ROUND( P$2+(('coded NOLH for 12-16 factors'!P23-1)*(P$3-P$2)/64), P$4)","v":3},{"$f":"ROUND( Q$2+(('coded NOLH for 12-16 factors'!Q23-1)*(Q$3-Q$2)/64), Q$4)","v":34}]
[null,{"$f":"ROUND( B$2+(('coded NOLH for 12-16 factors'!B24-1)*(B$3-B$2)/64), B$4)","v":40},{"$f":"ROUND( C$2+(('coded NOLH for 12-16 factors'!C24-1)*(C$3-C$2)/64), C$4)","v":48},{"$f":"ROUND( D$2+(('coded NOLH for 12-16 factors'!D24-1)*(D$3-D$2)/64), D$4)","v":56},{"$f":"ROUND( E$2+(('coded NOLH for 12-16 factors'!E24-1)*(E$3-E$2)/64), E$4)","v":5},{"$f":"ROUND( F$2+(('coded NOLH for 12-16 factors'!F24-1)*(F$3-F$2)/64), F$4)","v":36},{"$f":"ROUND( G$2+(('coded NOLH for 12-16 factors'!G24-1)*(G$3-G$2)/64), G$4)","v":12},{"$f":"ROUND( H$2+(('coded NOLH for 12-16 factors'!H24-1)*(H$3-H$2)/64), H$4)","v":29},{"$f":"ROUND( I$2+(('coded NOLH for 12-16 factors'!I24-1)*(I$3-I$2)/64), I$4)","v":12},{"$f":"ROUND( J$2+(('coded NOLH for 12-16 factors'!J24-1)*(J$3-J$2)/64), J$4)","v":53},{"$f":"ROUND( K$2+(('coded NOLH for 12-16 factors'!K24-1)*(K$3-K$2)/64), K$4)","v":57},{"$f":"ROUND( L$2+(('coded NOLH for 12-16 factors'!L24-1)*(L$3-L$2)/64), L$4)","v":4},{"$f":"ROUND( M$2+(('coded NOLH for 12-16 factors'!M24-1)*(M$3-M$2)/64), M$4)","v":28},{"$f":"ROUND( N$2+(('coded NOLH for 12-16 factors'!N24-1)*(N$3-N$2)/64), N$4)","v":12},{"$f":"ROUND( O$2+(('coded NOLH for 12-16 factors'!O24-1)*(O$3-O$2)/64), O$4)","v":17},{"$f":"ROUND( P$2+(('coded NOLH for 12-16 factors'!P24-1)*(P$3-P$2)/64), P$4)","v":31},{"$f":"ROUND( Q$2+(('coded NOLH for 12-16 factors'!Q24-1)*(Q$3-Q$2)/64), Q$4)","v":47}]
[null,{"$f":"ROUND( B$2+(('coded NOLH for 12-16 factors'!B25-1)*(B$3-B$2)/64), B$4)","v":54},{"$f":"ROUND( C$2+(('coded NOLH for 12-16 factors'!C25-1)*(C$3-C$2)/64), C$4)","v":14},{"$f":"ROUND( D$2+(('coded NOLH for 12-16 factors'!D25-1)*(D$3-D$2)/64), D$4)","v":27},{"$f":"ROUND( E$2+(('coded NOLH for 12-16 factors'!E25-1)*(E$3-E$2)/64), E$4)","v":7},{"$f":"ROUND( F$2+(('coded NOLH for 12-16 factors'!F25-1)*(F$3-F$2)/64), F$4)","v":64},{"$f":"ROUND( G$2+(('coded NOLH for 12-16 factors'!G25-1)*(G$3-G$2)/64), G$4)","v":25},{"$f":"ROUND( H$2+(('coded NOLH for 12-16 factors'!H25-1)*(H$3-H$2)/64), H$4)","v":2},{"$f":"ROUND( I$2+(('coded NOLH for 12-16 factors'!I25-1)*(I$3-I$2)/64), I$4)","v":46},{"$f":"ROUND( J$2+(('coded NOLH for 12-16 factors'!J25-1)*(J$3-J$2)/64), J$4)","v":20},{"$f":"ROUND( K$2+(('coded NOLH for 12-16 factors'!K25-1)*(K$3-K$2)/64), K$4)","v":7},{"$f":"ROUND( L$2+(('coded NOLH for 12-16 factors'!L25-1)*(L$3-L$2)/64), L$4)","v":28},{"$f":"ROUND( M$2+(('coded NOLH for 12-16 factors'!M25-1)*(M$3-M$2)/64), M$4)","v":12},{"$f":"ROUND( N$2+(('coded NOLH for 12-16 factors'!N25-1)*(N$3-N$2)/64), N$4)","v":40},{"$f":"ROUND( O$2+(('coded NOLH for 12-16 factors'!O25-1)*(O$3-O$2)/64), O$4)","v":53},{"$f":"ROUND( P$2+(('coded NOLH for 12-16 factors'!P25-1)*(P$3-P$2)/64), P$4)","v":65},{"$f":"ROUND( Q$2+(('coded NOLH for 12-16 factors'!Q25-1)*(Q$3-Q$2)/64), Q$4)","v":27}]
[null,{"$f":"ROUND( B$2+(('coded NOLH for 12-16 factors'!B26-1)*(B$3-B$2)/64), B$4)","v":52},{"$f":"ROUND( C$2+(('coded NOLH for 12-16 factors'!C26-1)*(C$3-C$2)/64), C$4)","v":54},{"$f":"ROUND( D$2+(('coded NOLH for 12-16 factors'!D26-1)*(D$3-D$2)/64), D$4)","v":1},{"$f":"ROUND( E$2+(('coded NOLH for 12-16 factors'!E26-1)*(E$3-E$2)/64), E$4)","v":11},{"$f":"ROUND( F$2+(('coded NOLH for 12-16 factors'!F26-1)*(F$3-F$2)/64), F$4)","v":34},{"$f":"ROUND( G$2+(('coded NOLH for 12-16 factors'!G26-1)*(G$3-G$2)/64), G$4)","v":46},{"$f":"ROUND( H$2+(('coded NOLH for 12-16 factors'!H26-1)*(H$3-H$2)/64), H$4)","v":32},{"$f":"ROUND( I$2+(('coded NOLH for 12-16 factors'!I26-1)*(I$3-I$2)/64), I$4)","v":58},{"$f":"ROUND( J$2+(('coded NOLH for 12-16 factors'!J26-1)*(J$3-J$2)/64), J$4)","v":12},{"$f":"ROUND( K$2+(('coded NOLH for 12-16 factors'!K26-1)*(K$3-K$2)/64), K$4)","v":23},{"$f":"ROUND( L$2+(('coded NOLH for 12-16 factors'!L26-1)*(L$3-L$2)/64), L$4)","v":60},{"$f":"ROUND( M$2+(('coded NOLH for 12-16 factors'!M26-1)*(M$3-M$2)/64), M$4)","v":21},{"$f":"ROUND( N$2+(('coded NOLH for 12-16 factors'!N26-1)*(N$3-N$2)/64), N$4)","v":48},{"$f":"ROUND( O$2+(('coded NOLH for 12-16 factors'!O26-1)*(O$3-O$2)/64), O$4)","v":10},{"$f":"ROUND( P$2+(('coded NOLH for 12-16 factors'!P26-1)*(P$3-P$2)/64), P$4)","v":29},{"$f":"ROUND( Q$2+(('coded NOLH for 12-16 factors'!Q26-1)*(Q$3-Q$2)/64), Q$4)","v":64}]
[null,{"$f":"ROUND( B$2+(('coded NOLH for 12-16 factors'!B27-1)*(B$3-B$2)/64), B$4)","v":65},{"$f":"ROUND( C$2+(('coded NOLH for 12-16 factors'!C27-1)*(C$3-C$2)/64), C$4)","v":27},{"$f":"ROUND( D$2+(('coded NOLH for 12-16 factors'!D27-1)*(D$3-D$2)/64), D$4)","v":52},{"$f":"ROUND( E$2+(('coded NOLH for 12-16 factors'!E27-1)*(E$3-E$2)/64), E$4)","v":17},{"$f":"ROUND( F$2+(('coded NOLH for 12-16 factors'!F27-1)*(F$3-F$2)/64), F$4)","v":63},{"$f":"ROUND( G$2+(('coded NOLH for 12-16 factors'!G27-1)*(G$3-G$2)/64), G$4)","v":9},{"$f":"ROUND( H$2+(('coded NOLH for 12-16 factors'!H27-1)*(H$3-H$2)/64), H$4)","v":47},{"$f":"ROUND( I$2+(('coded NOLH for 12-16 factors'!I27-1)*(I$3-I$2)/64), I$4)","v":9},{"$f":"ROUND( J$2+(('coded NOLH for 12-16 factors'!J27-1)*(J$3-J$2)/64), J$4)","v":37},{"$f":"ROUND( K$2+(('coded NOLH for 12-16 factors'!K27-1)*(K$3-K$2)/64), K$4)","v":22},{"$f":"ROUND( L$2+(('coded NOLH for 12-16 factors'!L27-1)*(L$3-L$2)/64), L$4)","v":37},{"$f":"ROUND( M$2+(('coded NOLH for 12-16 factors'!M27-1)*(M$3-M$2)/64), M$4)","v":18},{"$f":"ROUND( N$2+(('coded NOLH for 12-16 factors'!N27-1)*(N$3-N$2)/64), N$4)","v":37},{"$f":"ROUND( O$2+(('coded NOLH for 12-16 factors'!O27-1)*(O$3-O$2)/64), O$4)","v":36},{"$f":"ROUND( P$2+(('coded NOLH for 12-16 factors'!P27-1)*(P$3-P$2)/64), P$4)","v":14},{"$f":"ROUND( Q$2+(('coded NOLH for 12-16 factors'!Q27-1)*(Q$3-Q$2)/64), Q$4)","v":17}]
[null,{"$f":"ROUND( B$2+(('coded NOLH for 12-16 factors'!B28-1)*(B$3-B$2)/64), B$4)","v":39},{"$f":"ROUND( C$2+(('coded NOLH for 12-16 factors'!C28-1)*(C$3-C$2)/64), C$4)","v":65},{"$f":"ROUND( D$2+(('coded NOLH for 12-16 factors'!D28-1)*(D$3-D$2)/64), D$4)","v":54},{"$f":"ROUND( E$2+(('coded NOLH for 12-16 factors'!E28-1)*(E$3-E$2)/64), E$4)","v":25},{"$f":"ROUND( F$2+(('coded NOLH for 12-16 factors'!F28-1)*(F$3-F$2)/64), F$4)","v":45},{"$f":"ROUND( G$2+(('coded NOLH for 12-16 factors'!G28-1)*(G$3-G$2)/64), G$4)","v":35},{"$f":"ROUND( H$2+(('coded NOLH for 12-16 factors'!H28-1)*(H$3-H$2)/64), H$4)","v":38},{"$f":"ROUND( I$2+(('coded NOLH for 12-16 factors'!I28-1)*(I$3-I$2)/64), I$4)","v":15},{"$f":"ROUND( J$2+(('coded NOLH for 12-16 factors'!J28-1)*(J$3-J$2)/64), J$4)","v":65},{"$f":"ROUND( K$2+(('coded NOLH for 12-16 factors'!K28-1)*(K$3-K$2)/64), K$4)","v":5},{"$f":"ROUND( L$2+(('coded NOLH for 12-16 factors'!L28-1)*(L$3-L$2)/64), L$4)","v":46},{"$f":"ROUND( M$2+(('coded NOLH for 12-16 factors'!M28-1)*(M$3-M$2)/64), M$4)","v":14},{"$f":"ROUND( N$2+(('coded NOLH for 12-16 factors'!N28-1)*(N$3-N$2)/64), N$4)","v":56},{"$f":"ROUND( O$2+(('coded NOLH for 12-16 factors'!O28-1)*(O$3-O$2)/64), O$4)","v":15},{"$f":"ROUND( P$2+(('coded NOLH for 12-16 factors'!P28-1)*(P$3-P$2)/64), P$4)","v":61},{"$f":"ROUND( Q$2+(('coded NOLH for 12-16 factors'!Q28-1)*(Q$3-Q$2)/64), Q$4)","v":60}]
[null,{"$f":"ROUND( B$2+(('coded NOLH for 12-16 factors'!B29-1)*(B$3-B$2)/64), B$4)","v":41},{"$f":"ROUND( C$2+(('coded NOLH for 12-16 factors'!C29-1)*(C$3-C$2)/64), C$4)","v":17},{"$f":"ROUND( D$2+(('coded NOLH for 12-16 factors'!D29-1)*(D$3-D$2)/64), D$4)","v":7},{"$f":"ROUND( E$2+(('coded NOLH for 12-16 factors'!E29-1)*(E$3-E$2)/64), E$4)","v":39},{"$f":"ROUND( F$2+(('coded NOLH for 12-16 factors'!F29-1)*(F$3-F$2)/64), F$4)","v":53},{"$f":"ROUND( G$2+(('coded NOLH for 12-16 factors'!G29-1)*(G$3-G$2)/64), G$4)","v":48},{"$f":"ROUND( H$2+(('coded NOLH for 12-16 factors'!H29-1)*(H$3-H$2)/64), H$4)","v":61},{"$f":"ROUND( I$2+(('coded NOLH for 12-16 factors'!I29-1)*(I$3-I$2)/64), I$4)","v":11},{"$f":"ROUND( J$2+(('coded NOLH for 12-16 factors'!J29-1)*(J$3-J$2)/64), J$4)","v":7},{"$f":"ROUND( K$2+(('coded NOLH for 12-16 factors'!K29-1)*(K$3-K$2)/64), K$4)","v":11},{"$f":"ROUND( L$2+(('coded NOLH for 12-16 factors'!L29-1)*(L$3-L$2)/64), L$4)","v":18},{"$f":"ROUND( M$2+(('coded NOLH for 12-16 factors'!M29-1)*(M$3-M$2)/64), M$4)","v":43},{"$f":"ROUND( N$2+(('coded NOLH for 12-16 factors'!N29-1)*(N$3-N$2)/64), N$4)","v":9},{"$f":"ROUND( O$2+(('coded NOLH for 12-16 factors'!O29-1)*(O$3-O$2)/64), O$4)","v":1},{"$f":"ROUND( P$2+(('coded NOLH for 12-16 factors'!P29-1)*(P$3-P$2)/64), P$4)","v":58},{"$f":"ROUND( Q$2+(('coded NOLH for 12-16 factors'!Q29-1)*(Q$3-Q$2)/64), Q$4)","v":24}]
[null,{"$f":"ROUND( B$2+(('coded NOLH for 12-16 factors'!B30-1)*(B$3-B$2)/64), B$4)","v":49},{"$f":"ROUND( C$2+(('coded NOLH for 12-16 factors'!C30-1)*(C$3-C$2)/64), C$4)","v":41},{"$f":"ROUND( D$2+(('coded NOLH for 12-16 factors'!D30-1)*(D$3-D$2)/64), D$4)","v":11},{"$f":"ROUND( E$2+(('coded NOLH for 12-16 factors'!E30-1)*(E$3-E$2)/64), E$4)","v":65},{"$f":"ROUND( F$2+(('coded NOLH for 12-16 factors'!F30-1)*(F$3-F$2)/64), F$4)","v":50},{"$f":"ROUND( G$2+(('coded NOLH for 12-16 factors'!G30-1)*(G$3-G$2)/64), G$4)","v":13},{"$f":"ROUND( H$2+(('coded NOLH for 12-16 factors'!H30-1)*(H$3-H$2)/64), H$4)","v":42},{"$f":"ROUND( I$2+(('coded NOLH for 12-16 factors'!I30-1)*(I$3-I$2)/64), I$4)","v":24},{"$f":"ROUND( J$2+(('coded NOLH for 12-16 factors'!J30-1)*(J$3-J$2)/64), J$4)","v":25},{"$f":"ROUND( K$2+(('coded NOLH for 12-16 factors'!K30-1)*(K$3-K$2)/64), K$4)","v":30},{"$f":"ROUND( L$2+(('coded NOLH for 12-16 factors'!L30-1)*(L$3-L$2)/64), L$4)","v":3},{"$f":"ROUND( M$2+(('coded NOLH for 12-16 factors'!M30-1)*(M$3-M$2)/64), M$4)","v":56},{"$f":"ROUND( N$2+(('coded NOLH for 12-16 factors'!N30-1)*(N$3-N$2)/64), N$4)","v":23},{"$f":"ROUND( O$2+(('coded NOLH for 12-16 factors'!O30-1)*(O$3-O$2)/64), O$4)","v":37},{"$f":"ROUND( P$2+(('coded NOLH for 12-16 factors'!P30-1)*(P$3-P$2)/64), P$4)","v":4},{"$f":"ROUND( Q$2+(('coded NOLH for 12-16 factors'!Q30-1)*(Q$3-Q$2)/64), Q$4)","v":61}]
[null,{"$f":"ROUND( B$2+(('coded NOLH for 12-16 factors'!B31-1)*(B$3-B$2)/64), B$4)","v":55},{"$f":"ROUND( C$2+(('coded NOLH for 12-16 factors'!C31-1)*(C$3-C$2)/64), C$4)","v":7},{"$f":"ROUND( D$2+(('coded NOLH for 12-16 factors'!D31-1)*(D$3-D$2)/64), D$4)","v":49},{"$f":"ROUND( E$2+(('coded NOLH for 12-16 factors'!E31-1)*(E$3-E$2)/64), E$4)","v":52},{"$f":"ROUND( F$2+(('coded NOLH for 12-16 factors'!F31-1)*(F$3-F$2)/64), F$4)","v":35},{"$f":"ROUND( G$2+(('coded NOLH for 12-16 factors'!G31-1)*(G$3-G$2)/64), G$4)","v":59},{"$f":"ROUND( H$2+(('coded NOLH for 12-16 factors'!H31-1)*(H$3-H$2)/64), H$4)","v":22},{"$f":"ROUND( I$2+(('coded NOLH for 12-16 factors'!I31-1)*(I$3-I$2)/64), I$4)","v":62},{"$f":"ROUND( J$2+(('coded NOLH for 12-16 factors'!J31-1)*(J$3-J$2)/64), J$4)","v":50},{"$f":"ROUND( K$2+(('coded NOLH for 12-16 factors'!K31-1)*(K$3-K$2)/64), K$4)","v":17},{"$f":"ROUND( L$2+(('coded NOLH for 12-16 factors'!L31-1)*(L$3-L$2)/64), L$4)","v":15},{"$f":"ROUND( M$2+(('coded NOLH for 12-16 factors'!M31-1)*(M$3-M$2)/64), M$4)","v":39},{"$f":"ROUND( N$2+(('coded NOLH for 12-16 factors'!N31-1)*(N$3-N$2)/64), N$4)","v":20},{"$f":"ROUND( O$2+(('coded NOLH for 12-16 factors'!O31-1)*(O$3-O$2)/64), O$4)","v":8},{"$f":"ROUND( P$2+(('coded NOLH for 12-16 factors'!P31-1)*(P$3-P$2)/64), P$4)","v":27},{"$f":"ROUND( Q$2+(('coded NOLH for 12-16 factors'!Q31-1)*(Q$3-Q$2)/64), Q$4)","v":9}]
[null,{"$f":"ROUND( B$2+(('coded NOLH for 12-16 factors'!B32-1)*(B$3-B$2)/64), B$4)","v":59},{"$f":"ROUND( C$2+(('coded NOLH for 12-16 factors'!C32-1)*(C$3-C$2)/64), C$4)","v":55},{"$f":"ROUND( D$2+(('coded NOLH for 12-16 factors'!D32-1)*(D$3-D$2)/64), D$4)","v":41},{"$f":"ROUND( E$2+(('coded NOLH for 12-16 factors'!E32-1)*(E$3-E$2)/64), E$4)","v":54},{"$f":"ROUND( F$2+(('coded NOLH for 12-16 factors'!F32-1)*(F$3-F$2)/64), F$4)","v":60},{"$f":"ROUND( G$2+(('coded NOLH for 12-16 factors'!G32-1)*(G$3-G$2)/64), G$4)","v":21},{"$f":"ROUND( H$2+(('coded NOLH for 12-16 factors'!H32-1)*(H$3-H$2)/64), H$4)","v":9},{"$f":"ROUND( I$2+(('coded NOLH for 12-16 factors'!I32-1)*(I$3-I$2)/64), I$4)","v":43},{"$f":"ROUND( J$2+(('coded NOLH for 12-16 factors'!J32-1)*(J$3-J$2)/64), J$4)","v":48},{"$f":"ROUND( K$2+(('coded NOLH for 12-16 factors'!K32-1)*(K$3-K$2)/64), K$4)","v":24},{"$f":"ROUND( L$2+(('coded NOLH for 12-16 factors'!L32-1)*(L$3-L$2)/64), L$4)","v":25},{"$f":"ROUND( M$2+(('coded NOLH for 12-16 factors'!M32-1)*(M$3-M$2)/64), M$4)","v":64},{"$f":"ROUND( N$2+(('coded NOLH for 12-16 factors'!N32-1)*(N$3-N$2)/64), N$4)","v":5},{"$f":"ROUND( O$2+(('coded NOLH for 12-16 factors'!O32-1)*(O$3-O$2)/64), O$4)","v":47},{"$f":"ROUND( P$2+(('coded NOLH for 12-16 factors'!P32-1)*(P$3-P$2)/64), P$4)","v":45},{"$f":"ROUND( Q$2+(('coded NOLH for 12-16 factors'!Q32-1)*(Q$3-Q$2)/64), Q$4)","v":38}]
[null,{"$f":"ROUND( B$2+(('coded NOLH for 12-16 factors'!B33-1)*(B$3-B$2)/64), B$4)","v":61},{"$f":"ROUND( C$2+(('coded NOLH for 12-16 factors'!C33-1)*(C$3-C$2)/64), C$4)","v":20},{"$f":"ROUND( D$2+(('coded NOLH for 12-16 factors'!D33-1)*(D$3-D$2)/64), D$4)","v":9},{"$f":"ROUND( E$2+(('coded NOLH for 12-16 factors'!E33-1)*(E$3-E$2)/64), E$4)","v":40},{"$f":"ROUND( F$2+(('coded NOLH for 12-16 factors'!F33-1)*(F$3-F$2)/64), F$4)","v":42},{"$f":"ROUND( G$2+(('coded NOLH for 12-16 factors'!G33-1)*(G$3-G$2)/64), G$4)","v":14},{"$f":"ROUND( H$2+(('coded NOLH for 12-16 factors'!H33-1)*(H$3-H$2)/64), H$4)","v":27},{"$f":"ROUND( I$2+(('coded NOLH for 12-16 factors'!I33-1)*(I$3-I$2)/64), I$4)","v":6},{"$f":"ROUND( J$2+(('coded NOLH for 12-16 factors'!J33-1)*(J$3-J$2)/64), J$4)","v":15},{"$f":"ROUND( K$2+(('coded NOLH for 12-16 factors'!K33-1)*(K$3-K$2)/64), K$4)","v":56},{"$f":"ROUND( L$2+(('coded NOLH for 12-16 factors'!L33-1)*(L$3-L$2)/64), L$4)","v":57},{"$f":"ROUND( M$2+(('coded NOLH for 12-16 factors'!M33-1)*(M$3-M$2)/64), M$4)","v":36},{"$f":"ROUND( N$2+(('coded NOLH for 12-16 factors'!N33-1)*(N$3-N$2)/64), N$4)","v":59},{"$f":"ROUND( O$2+(('coded NOLH for 12-16 factors'!O33-1)*(O$3-O$2)/64), O$4)","v":21},{"$f":"ROUND( P$2+(('coded NOLH for 12-16 factors'!P33-1)*(P$3-P$2)/64), P$4)","v":47},{"$f":"ROUND( Q$2+(('coded NOLH for 12-16 factors'!Q33-1)*(Q$3-Q$2)/64), Q$4)","v":7}]
[null,{"$f":"ROUND( B$2+(('coded NOLH for 12-16 factors'!B34-1)*(B$3-B$2)/64), B$4)","v":46},{"$f":"ROUND( C$2+(('coded NOLH for 12-16 factors'!C34-1)*(C$3-C$2)/64), C$4)","v":61},{"$f":"ROUND( D$2+(('coded NOLH for 12-16 factors'!D34-1)*(D$3-D$2)/64), D$4)","v":23},{"$f":"ROUND( E$2+(('coded NOLH for 12-16 factors'!E34-1)*(E$3-E$2)/64), E$4)","v":48},{"$f":"ROUND( F$2+(('coded NOLH for 12-16 factors'!F34-1)*(F$3-F$2)/64), F$4)","v":58},{"$f":"ROUND( G$2+(('coded NOLH for 12-16 factors'!G34-1)*(G$3-G$2)/64), G$4)","v":64},{"$f":"ROUND( H$2+(('coded NOLH for 12-16 factors'!H34-1)*(H$3-H$2)/64), H$4)","v":23},{"$f":"ROUND( I$2+(('coded NOLH for 12-16 factors'!I34-1)*(I$3-I$2)/64), I$4)","v":35},{"$f":"ROUND( J$2+(('coded NOLH for 12-16 factors'!J34-1)*(J$3-J$2)/64), J$4)","v":5},{"$f":"ROUND( K$2+(('coded NOLH for 12-16 factors'!K34-1)*(K$3-K$2)/64), K$4)","v":51},{"$f":"ROUND( L$2+(('coded NOLH for 12-16 factors'!L34-1)*(L$3-L$2)/64), L$4)","v":40},{"$f":"ROUND( M$2+(('coded NOLH for 12-16 factors'!M34-1)*(M$3-M$2)/64), M$4)","v":44},{"$f":"ROUND( N$2+(('coded NOLH for 12-16 factors'!N34-1)*(N$3-N$2)/64), N$4)","v":55},{"$f":"ROUND( O$2+(('coded NOLH for 12-16 factors'!O34-1)*(O$3-O$2)/64), O$4)","v":40},{"$f":"ROUND( P$2+(('coded NOLH for 12-16 factors'!P34-1)*(P$3-P$2)/64), P$4)","v":17},{"$f":"ROUND( Q$2+(('coded NOLH for 12-16 factors'!Q34-1)*(Q$3-Q$2)/64), Q$4)","v":43}]
[null,{"$f":"ROUND( B$2+(('coded NOLH for 12-16 factors'!B35-1)*(B$3-B$2)/64), B$4)","v":43},{"$f":"ROUND( C$2+(('coded NOLH for 12-16 factors'!C35-1)*(C$3-C$2)/64), C$4)","v":9},{"$f":"ROUND( D$2+(('coded NOLH for 12-16 factors'!D35-1)*(D$3-D$2)/64), D$4)","v":46},{"$f":"ROUND( E$2+(('coded NOLH for 12-16 factors'!E35-1)*(E$3-E$2)/64), E$4)","v":37},{"$f":"ROUND( F$2+(('coded NOLH for 12-16 factors'!F35-1)*(F$3-F$2)/64), F$4)","v":62},{"$f":"ROUND( G$2+(('coded NOLH for 12-16 factors'!G35-1)*(G$3-G$2)/64), G$4)","v":27},{"$f":"ROUND( H$2+(('coded NOLH for 12-16 factors'!H35-1)*(H$3-H$2)/64), H$4)","v":50},{"$f":"ROUND( I$2+(('coded NOLH for 12-16 factors'!I35-1)*(I$3-I$2)/64), I$4)","v":50},{"$f":"ROUND( J$2+(('coded NOLH for 12-16 factors'!J35-1)*(J$3-J$2)/64), J$4)","v":60},{"$f":"ROUND( K$2+(('coded NOLH for 12-16 factors'!K35-1)*(K$3-K$2)/64), K$4)","v":63},{"$f":"ROUND( L$2+(('coded NOLH for 12-16 factors'!L35-1)*(L$3-L$2)/64), L$4)","v":53},{"$f":"ROUND( M$2+(('coded NOLH for 12-16 factors'!M35-1)*(M$3-M$2)/64), M$4)","v":35},{"$f":"ROUND( N$2+(('coded NOLH for 12-16 factors'!N35-1)*(N$3-N$2)/64), N$4)","v":49},{"$f":"ROUND( O$2+(('coded NOLH for 12-16 factors'!O35-1)*(O$3-O$2)/64), O$4)","v":7},{"$f":"ROUND( P$2+(('coded NOLH for 12-16 factors'!P35-1)*(P$3-P$2)/64), P$4)","v":9},{"$f":"ROUND( Q$2+(('coded NOLH for 12-16 factors'!Q35-1)*(Q$3-Q$2)/64), Q$4)","v":16}]
[null,{"$f":"ROUND( B$2+(('coded NOLH for 12-16 factors'!B36-1)*(B$3-B$2)/64), B$4)","v":57},{"$f":"ROUND( C$2+(('coded NOLH for 12-16 factors'!C36-1)*(C$3-C$2)/64), C$4)","v":43},{"$f":"ROUND( D$2+(('coded NOLH for 12-16 factors'!D36-1)*(D$3-D$2)/64), D$4)","v":61},{"$f":"ROUND( E$2+(('coded NOLH for 12-16 factors'!E36-1)*(E$3-E$2)/64), E$4)","v":56},{"$f":"ROUND( F$2+(('coded NOLH for 12-16 factors'!F36-1)*(F$3-F$2)/64), F$4)","v":47},{"$f":"ROUND( G$2+(('coded NOLH for 12-16 factors'!G36-1)*(G$3-G$2)/64), G$4)","v":42},{"$f":"ROUND( H$2+(('coded NOLH for 12-16 factors'!H36-1)*(H$3-H$2)/64), H$4)","v":59},{"$f":"ROUND( I$2+(('coded NOLH for 12-16 factors'!I36-1)*(I$3-I$2)/64), I$4)","v":44},{"$f":"ROUND( J$2+(('coded NOLH for 12-16 factors'!J36-1)*(J$3-J$2)/64), J$4)","v":43},{"$f":"ROUND( K$2+(('coded NOLH for 12-16 factors'!K36-1)*(K$3-K$2)/64), K$4)","v":40},{"$f":"ROUND( L$2+(('coded NOLH for 12-16 factors'!L36-1)*(L$3-L$2)/64), L$4)","v":54},{"$f":"ROUND( M$2+(('coded NOLH for 12-16 factors'!M36-1)*(M$3-M$2)/64), M$4)","v":50},{"$f":"ROUND( N$2+(('coded NOLH for 12-16 factors'!N36-1)*(N$3-N$2)/64), N$4)","v":41},{"$f":"ROUND( O$2+(('coded NOLH for 12-16 factors'!O36-1)*(O$3-O$2)/64), O$4)","v":35},{"$f":"ROUND( P$2+(('coded NOLH for 12-16 factors'!P36-1)*(P$3-P$2)/64), P$4)","v":51},{"$f":"ROUND( Q$2+(('coded NOLH for 12-16 factors'!Q36-1)*(Q$3-Q$2)/64), Q$4)","v":63}]
[null,{"$f":"ROUND( B$2+(('coded NOLH for 12-16 factors'!B37-1)*(B$3-B$2)/64), B$4)","v":33},{"$f":"ROUND( C$2+(('coded NOLH for 12-16 factors'!C37-1)*(C$3-C$2)/64), C$4)","v":33},{"$f":"ROUND( D$2+(('coded NOLH for 12-16 factors'!D37-1)*(D$3-D$2)/64), D$4)","v":33},{"$f":"ROUND( E$2+(('coded NOLH for 12-16 factors'!E37-1)*(E$3-E$2)/64), E$4)","v":33},{"$f":"ROUND( F$2+(('coded NOLH for 12-16 factors'!F37-1)*(F$3-F$2)/64), F$4)","v":33},{"$f":"ROUND( G$2+(('coded NOLH for 12-16 factors'!G37-1)*(G$3-G$2)/64), G$4)","v":33},{"$f":"ROUND( H$2+(('coded NOLH for 12-16 factors'!H37-1)*(H$3-H$2)/64), H$4)","v":33},{"$f":"ROUND( I$2+(('coded NOLH for 12-16 factors'!I37-1)*(I$3-I$2)/64), I$4)","v":33},{"$f":"ROUND( J$2+(('coded NOLH for 12-16 factors'!J37-1)*(J$3-J$2)/64), J$4)","v":33},{"$f":"ROUND( K$2+(('coded NOLH for 12-16 factors'!K37-1)*(K$3-K$2)/64), K$4)","v":33},{"$f":"ROUND( L$2+(('coded NOLH for 12-16 factors'!L37-1)*(L$3-L$2)/64), L$4)","v":33},{"$f":"ROUND( M$2+(('coded NOLH for 12-16 factors'!M37-1)*(M$3-M$2)/64), M$4)","v":33},{"$f":"ROUND( N$2+(('coded NOLH for 12-16 factors'!N37-1)*(N$3-N$2)/64), N$4)","v":33},{"$f":"ROUND( O$2+(('coded NOLH for 12-16 factors'!O37-1)*(O$3-O$2)/64), O$4)","v":33},{"$f":"ROUND( P$2+(('coded NOLH for 12-16 factors'!P37-1)*(P$3-P$2)/64), P$4)","v":33},{"$f":"ROUND( Q$2+(('coded NOLH for 12-16 factors'!Q37-1)*(Q$3-Q$2)/64), Q$4)","v":33}]
[null,{"$f":"ROUND( B$2+(('coded NOLH for 12-16 factors'!B38-1)*(B$3-B$2)/64), B$4)","v":19},{"$f":"ROUND( C$2+(('coded NOLH for 12-16 factors'!C38-1)*(C$3-C$2)/64), C$4)","v":62},{"$f":"ROUND( D$2+(('coded NOLH for 12-16 factors'!D38-1)*(D$3-D$2)/64), D$4)","v":42},{"$f":"ROUND( E$2+(('coded NOLH for 12-16 factors'!E38-1)*(E$3-E$2)/64), E$4)","v":44},{"$f":"ROUND( F$2+(('coded NOLH for 12-16 factors'!F38-1)*(F$3-F$2)/64), F$4)","v":57},{"$f":"ROUND( G$2+(('coded NOLH for 12-16 factors'!G38-1)*(G$3-G$2)/64), G$4)","v":16},{"$f":"ROUND( H$2+(('coded NOLH for 12-16 factors'!H38-1)*(H$3-H$2)/64), H$4)","v":14},{"$f":"ROUND( I$2+(('coded NOLH for 12-16 factors'!I38-1)*(I$3-I$2)/64), I$4)","v":34},{"$f":"ROUND( J$2+(('coded NOLH for 12-16 factors'!J38-1)*(J$3-J$2)/64), J$4)","v":3},{"$f":"ROUND( K$2+(('coded NOLH for 12-16 factors'!K38-1)*(K$3-K$2)/64), K$4)","v":19},{"$f":"ROUND( L$2+(('coded NOLH for 12-16 factors'!L38-1)*(L$3-L$2)/64), L$4)","v":30},{"$f":"ROUND( M$2+(('coded NOLH for 12-16 factors'!M38-1)*(M$3-M$2)/64), M$4)","v":5},{"$f":"ROUND( N$2+(('coded NOLH for 12-16 factors'!N38-1)*(N$3-N$2)/64), N$4)","v":53},{"$f":"ROUND( O$2+(('coded NOLH for 12-16 factors'!O38-1)*(O$3-O$2)/64), O$4)","v":25},{"$f":"ROUND( P$2+(('coded NOLH for 12-16 factors'!P38-1)*(P$3-P$2)/64), P$4)","v":13},{"$f":"ROUND( Q$2+(('coded NOLH for 12-16 factors'!Q38-1)*(Q$3-Q$2)/64), Q$4)","v":21}]
[null,{"$f":"ROUND( B$2+(('coded NOLH for 12-16 factors'!B39-1)*(B$3-B$2)/64), B$4)","v":4},{"$f":"ROUND( C$2+(('coded NOLH for 12-16 factors'!C39-1)*(C$3-C$2)/64), C$4)","v":19},{"$f":"ROUND( D$2+(('coded NOLH for 12-16 factors'!D39-1)*(D$3-D$2)/64), D$4)","v":58},{"$f":"ROUND( E$2+(('coded NOLH for 12-16 factors'!E39-1)*(E$3-E$2)/64), E$4)","v":38},{"$f":"ROUND( F$2+(('coded NOLH for 12-16 factors'!F39-1)*(F$3-F$2)/64), F$4)","v":43},{"$f":"ROUND( G$2+(('coded NOLH for 12-16 factors'!G39-1)*(G$3-G$2)/64), G$4)","v":49},{"$f":"ROUND( H$2+(('coded NOLH for 12-16 factors'!H39-1)*(H$3-H$2)/64), H$4)","v":30},{"$f":"ROUND( I$2+(('coded NOLH for 12-16 factors'!I39-1)*(I$3-I$2)/64), I$4)","v":17},{"$f":"ROUND( J$2+(('coded NOLH for 12-16 factors'!J39-1)*(J$3-J$2)/64), J$4)","v":19},{"$f":"ROUND( K$2+(('coded NOLH for 12-16 factors'!K39-1)*(K$3-K$2)/64), K$4)","v":6},{"$f":"ROUND( L$2+(('coded NOLH for 12-16 factors'!L39-1)*(L$3-L$2)/64), L$4)","v":16},{"$f":"ROUND( M$2+(('coded NOLH for 12-16 factors'!M39-1)*(M$3-M$2)/64), M$4)","v":34},{"$f":"ROUND( N$2+(('coded NOLH for 12-16 factors'!N39-1)*(N$3-N$2)/64), N$4)","v":50},{"$f":"ROUND( O$2+(('coded NOLH for 12-16 factors'!O39-1)*(O$3-O$2)/64), O$4)","v":43},{"$f":"ROUND( P$2+(('coded NOLH for 12-16 factors'!P39-1)*(P$3-P$2)/64), P$4)","v":43},{"$f":"ROUND( Q$2+(('coded NOLH for 12-16 factors'!Q39-1)*(Q$3-Q$2)/64), Q$4)","v":55}]
[null,{"$f":"ROUND( B$2+(('coded NOLH for 12-16 factors'!B40-1)*(B$3-B$2)/64), B$4)","v":8},{"$f":"ROUND( C$2+(('coded NOLH for 12-16 factors'!C40-1)*(C$3-C$2)/64), C$4)","v":42},{"$f":"ROUND( D$2+(('coded NOLH for 12-16 factors'!D40-1)*(D$3-D$2)/64), D$4)","v":4},{"$f":"ROUND( E$2+(('coded NOLH for 12-16 factors'!E40-1)*(E$3-E$2)/64), E$4)","v":51},{"$f":"ROUND( F$2+(('coded NOLH for 12-16 factors'!F40-1)*(F$3-F$2)/64), F$4)","v":46},{"$f":"ROUND( G$2+(('coded NOLH for 12-16 factors'!G40-1)*(G$3-G$2)/64), G$4)","v":10},{"$f":"ROUND( H$2+(('coded NOLH for 12-16 factors'!H40-1)*(H$3-H$2)/64), H$4)","v":55},{"$f":"ROUND( I$2+(('coded NOLH for 12-16 factors'!I40-1)*(I$3-I$2)/64), I$4)","v":36},{"$f":"ROUND( J$2+(('coded NOLH for 12-16 factors'!J40-1)*(J$3-J$2)/64), J$4)","v":39},{"$f":"ROUND( K$2+(('coded NOLH for 12-16 factors'!K40-1)*(K$3-K$2)/64), K$4)","v":28},{"$f":"ROUND( L$2+(('coded NOLH for 12-16 factors'!L40-1)*(L$3-L$2)/64), L$4)","v":14},{"$f":"ROUND( M$2+(('coded NOLH for 12-16 factors'!M40-1)*(M$3-M$2)/64), M$4)","v":9},{"$f":"ROUND( N$2+(('coded NOLH for 12-16 factors'!N40-1)*(N$3-N$2)/64), N$4)","v":35},{"$f":"ROUND( O$2+(('coded NOLH for 12-16 factors'!O40-1)*(O$3-O$2)/64), O$4)","v":32},{"$f":"ROUND( P$2+(('coded NOLH for 12-16 factors'!P40-1)*(P$3-P$2)/64), P$4)","v":48},{"$f":"ROUND( Q$2+(('coded NOLH for 12-16 factors'!Q40-1)*(Q$3-Q$2)/64), Q$4)","v":8}]
[null,{"$f":"ROUND( B$2+(('coded NOLH for 12-16 factors'!B41-1)*(B$3-B$2)/64), B$4)","v":24},{"$f":"ROUND( C$2+(('coded NOLH for 12-16 factors'!C41-1)*(C$3-C$2)/64), C$4)","v":8},{"$f":"ROUND( D$2+(('coded NOLH for 12-16 factors'!D41-1)*(D$3-D$2)/64), D$4)","v":19},{"$f":"ROUND( E$2+(('coded NOLH for 12-16 factors'!E41-1)*(E$3-E$2)/64), E$4)","v":36},{"$f":"ROUND( F$2+(('coded NOLH for 12-16 factors'!F41-1)*(F$3-F$2)/64), F$4)","v":61},{"$f":"ROUND( G$2+(('coded NOLH for 12-16 factors'!G41-1)*(G$3-G$2)/64), G$4)","v":38},{"$f":"ROUND( H$2+(('coded NOLH for 12-16 factors'!H41-1)*(H$3-H$2)/64), H$4)","v":48},{"$f":"ROUND( I$2+(('coded NOLH for 12-16 factors'!I41-1)*(I$3-I$2)/64), I$4)","v":48},{"$f":"ROUND( J$2+(('coded NOLH for 12-16 factors'!J41-1)*(J$3-J$2)/64), J$4)","v":57},{"$f":"ROUND( K$2+(('coded NOLH for 12-16 factors'!K41-1)*(K$3-K$2)/64), K$4)","v":2},{"$f":"ROUND( L$2+(('coded NOLH for 12-16 factors'!L41-1)*(L$3-L$2)/64), L$4)","v":7},{"$f":"ROUND( M$2+(('coded NOLH for 12-16 factors'!M41-1)*(M$3-M$2)/64), M$4)","v":25},{"$f":"ROUND( N$2+(('coded NOLH for 12-16 factors'!N41-1)*(N$3-N$2)/64), N$4)","v":60},{"$f":"ROUND( O$2+(('coded NOLH for 12-16 factors'!O41-1)*(O$3-O$2)/64), O$4)","v":52},{"$f":"ROUND( P$2+(('coded NOLH for 12-16 factors'!P41-1)*(P$3-P$2)/64), P$4)","v":10},{"$f":"ROUND( Q$2+(('coded NOLH for 12-16 factors'!Q41-1)*(Q$3-Q$2)/64), Q$4)","v":44}]
[null,{"$f":"ROUND( B$2+(('coded NOLH for 12-16 factors'!B42-1)*(B$3-B$2)/64), B$4)","v":6},{"$f":"ROUND( C$2+(('coded NOLH for 12-16 factors'!C42-1)*(C$3-C$2)/64), C$4)","v":35},{"$f":"ROUND( D$2+(('coded NOLH for 12-16 factors'!D42-1)*(D$3-D$2)/64), D$4)","v":53},{"$f":"ROUND( E$2+(('coded NOLH for 12-16 factors'!E42-1)*(E$3-E$2)/64), E$4)","v":64},{"$f":"ROUND( F$2+(('coded NOLH for 12-16 factors'!F42-1)*(F$3-F$2)/64), F$4)","v":59},{"$f":"ROUND( G$2+(('coded NOLH for 12-16 factors'!G42-1)*(G$3-G$2)/64), G$4)","v":55},{"$f":"ROUND( H$2+(('coded NOLH for 12-16 factors'!H42-1)*(H$3-H$2)/64), H$4)","v":49},{"$f":"ROUND( I$2+(('coded NOLH for 12-16 factors'!I42-1)*(I$3-I$2)/64), I$4)","v":26},{"$f":"ROUND( J$2+(('coded NOLH for 12-16 factors'!J42-1)*(J$3-J$2)/64), J$4)","v":26},{"$f":"ROUND( K$2+(('coded NOLH for 12-16 factors'!K42-1)*(K$3-K$2)/64), K$4)","v":34},{"$f":"ROUND( L$2+(('coded NOLH for 12-16 factors'!L42-1)*(L$3-L$2)/64), L$4)","v":61},{"$f":"ROUND( M$2+(('coded NOLH for 12-16 factors'!M42-1)*(M$3-M$2)/64), M$4)","v":11},{"$f":"ROUND( N$2+(('coded NOLH for 12-16 factors'!N42-1)*(N$3-N$2)/64), N$4)","v":24},{"$f":"ROUND( O$2+(('coded NOLH for 12-16 factors'!O42-1)*(O$3-O$2)/64), O$4)","v":27},{"$f":"ROUND( P$2+(('coded NOLH for 12-16 factors'!P42-1)*(P$3-P$2)/64), P$4)","v":20},{"$f":"ROUND( Q$2+(('coded NOLH for 12-16 factors'!Q42-1)*(Q$3-Q$2)/64), Q$4)","v":14}]
[null,{"$f":"ROUND( B$2+(('coded NOLH for 12-16 factors'!B43-1)*(B$3-B$2)/64), B$4)","v":31},{"$f":"ROUND( C$2+(('coded NOLH for 12-16 factors'!C43-1)*(C$3-C$2)/64), C$4)","v":6},{"$f":"ROUND( D$2+(('coded NOLH for 12-16 factors'!D43-1)*(D$3-D$2)/64), D$4)","v":50},{"$f":"ROUND( E$2+(('coded NOLH for 12-16 factors'!E43-1)*(E$3-E$2)/64), E$4)","v":34},{"$f":"ROUND( F$2+(('coded NOLH for 12-16 factors'!F43-1)*(F$3-F$2)/64), F$4)","v":55},{"$f":"ROUND( G$2+(('coded NOLH for 12-16 factors'!G43-1)*(G$3-G$2)/64), G$4)","v":23},{"$f":"ROUND( H$2+(('coded NOLH for 12-16 factors'!H43-1)*(H$3-H$2)/64), H$4)","v":56},{"$f":"ROUND( I$2+(('coded NOLH for 12-16 factors'!I43-1)*(I$3-I$2)/64), I$4)","v":10},{"$f":"ROUND( J$2+(('coded NOLH for 12-16 factors'!J43-1)*(J$3-J$2)/64), J$4)","v":8},{"$f":"ROUND( K$2+(('coded NOLH for 12-16 factors'!K43-1)*(K$3-K$2)/64), K$4)","v":58},{"$f":"ROUND( L$2+(('coded NOLH for 12-16 factors'!L43-1)*(L$3-L$2)/64), L$4)","v":39},{"$f":"ROUND( M$2+(('coded NOLH for 12-16 factors'!M43-1)*(M$3-M$2)/64), M$4)","v":15},{"$f":"ROUND( N$2+(('coded NOLH for 12-16 factors'!N43-1)*(N$3-N$2)/64), N$4)","v":8},{"$f":"ROUND( O$2+(('coded NOLH for 12-16 factors'!O43-1)*(O$3-O$2)/64), O$4)","v":61},{"$f":"ROUND( P$2+(('coded NOLH for 12-16 factors'!P43-1)*(P$3-P$2)/64), P$4)","v":54},{"$f":"ROUND( Q$2+(('coded NOLH for 12-16 factors'!Q43-1)*(Q$3-Q$2)/64), Q$4)","v":62}]
[null,{"$f":"ROUND( B$2+(('coded NOLH for 12-16 factors'!B44-1)*(B$3-B$2)/64), B$4)","v":16},{"$f":"ROUND( C$2+(('coded NOLH for 12-16 factors'!C44-1)*(C$3-C$2)/64), C$4)","v":53},{"$f":"ROUND( D$2+(('coded NOLH for 12-16 factors'!D44-1)*(D$3-D$2)/64), D$4)","v":31},{"$f":"ROUND( E$2+(('coded NOLH for 12-16 factors'!E44-1)*(E$3-E$2)/64), E$4)","v":63},{"$f":"ROUND( F$2+(('coded NOLH for 12-16 factors'!F44-1)*(F$3-F$2)/64), F$4)","v":49},{"$f":"ROUND( G$2+(('coded NOLH for 12-16 factors'!G44-1)*(G$3-G$2)/64), G$4)","v":44},{"$f":"ROUND( H$2+(('coded NOLH for 12-16 factors'!H44-1)*(H$3-H$2)/64), H$4)","v":8},{"$f":"ROUND( I$2+(('coded NOLH for 12-16 factors'!I44-1)*(I$3-I$2)/64), I$4)","v":38},{"$f":"ROUND( J$2+(('coded NOLH for 12-16 factors'!J44-1)*(J$3-J$2)/64), J$4)","v":55},{"$f":"ROUND( K$2+(('coded NOLH for 12-16 factors'!K44-1)*(K$3-K$2)/64), K$4)","v":37},{"$f":"ROUND( L$2+(('coded NOLH for 12-16 factors'!L44-1)*(L$3-L$2)/64), L$4)","v":43},{"$f":"ROUND( M$2+(('coded NOLH for 12-16 factors'!M44-1)*(M$3-M$2)/64), M$4)","v":7},{"$f":"ROUND( N$2+(('coded NOLH for 12-16 factors'!N44-1)*(N$3-N$2)/64), N$4)","v":4},{"$f":"ROUND( O$2+(('coded NOLH for 12-16 factors'!O44-1)*(O$3-O$2)/64), O$4)","v":18},{"$f":"ROUND( P$2+(('coded NOLH for 12-16 factors'!P44-1)*(P$3-P$2)/64), P$4)","v":59},{"$f":"ROUND( Q$2+(('coded NOLH for 12-16 factors'!Q44-1)*(Q$3-Q$2)/64), Q$4)","v":30}]
[null,{"$f":"ROUND( B$2+(('coded NOLH for 12-16 factors'!B45-1)*(B$3-B$2)/64), B$4)","v":13},{"$f":"ROUND( C$2+(('coded NOLH for 12-16 factors'!C45-1)*(C$3-C$2)/64), C$4)","v":16},{"$f":"ROUND( D$2+(('coded NOLH for 12-16 factors'!D45-1)*(D$3-D$2)/64), D$4)","v":6},{"$f":"ROUND( E$2+(('coded NOLH for 12-16 factors'!E45-1)*(E$3-E$2)/64), E$4)","v":45},{"$f":"ROUND( F$2+(('coded NOLH for 12-16 factors'!F45-1)*(F$3-F$2)/64), F$4)","v":41},{"$f":"ROUND( G$2+(('coded NOLH for 12-16 factors'!G45-1)*(G$3-G$2)/64), G$4)","v":6},{"$f":"ROUND( H$2+(('coded NOLH for 12-16 factors'!H45-1)*(H$3-H$2)/64), H$4)","v":20},{"$f":"ROUND( I$2+(('coded NOLH for 12-16 factors'!I45-1)*(I$3-I$2)/64), I$4)","v":64},{"$f":"ROUND( J$2+(('coded NOLH for 12-16 factors'!J45-1)*(J$3-J$2)/64), J$4)","v":49},{"$f":"ROUND( K$2+(('coded NOLH for 12-16 factors'!K45-1)*(K$3-K$2)/64), K$4)","v":45},{"$f":"ROUND( L$2+(('coded NOLH for 12-16 factors'!L45-1)*(L$3-L$2)/64), L$4)","v":64},{"$f":"ROUND( M$2+(('coded NOLH for 12-16 factors'!M45-1)*(M$3-M$2)/64), M$4)","v":24},{"$f":"ROUND( N$2+(('coded NOLH for 12-16 factors'!N45-1)*(N$3-N$2)/64), N$4)","v":19},{"$f":"ROUND( O$2+(('coded NOLH for 12-16 factors'!O45-1)*(O$3-O$2)/64), O$4)","v":63},{"$f":"ROUND( P$2+(('coded NOLH for 12-16 factors'!P45-1)*(P$3-P$2)/64), P$4)","v":30},{"$f":"ROUND( Q$2+(('coded NOLH for 12-16 factors'!Q45-1)*(Q$3-Q$2)/64), Q$4)","v":53}]
[null,{"$f":"ROUND( B$2+(('coded NOLH for 12-16 factors'!B46-1)*(B$3-B$2)/64), B$4)","v":21},{"$f":"ROUND( C$2+(('coded NOLH for 12-16 factors'!C46-1)*(C$3-C$2)/64), C$4)","v":63},{"$f":"ROUND( D$2+(('coded NOLH for 12-16 factors'!D46-1)*(D$3-D$2)/64), D$4)","v":64},{"$f":"ROUND( E$2+(('coded NOLH for 12-16 factors'!E46-1)*(E$3-E$2)/64), E$4)","v":13},{"$f":"ROUND( F$2+(('coded NOLH for 12-16 factors'!F46-1)*(F$3-F$2)/64), F$4)","v":39},{"$f":"ROUND( G$2+(('coded NOLH for 12-16 factors'!G46-1)*(G$3-G$2)/64), G$4)","v":26},{"$f":"ROUND( H$2+(('coded NOLH for 12-16 factors'!H46-1)*(H$3-H$2)/64), H$4)","v":40},{"$f":"ROUND( I$2+(('coded NOLH for 12-16 factors'!I46-1)*(I$3-I$2)/64), I$4)","v":59},{"$f":"ROUND( J$2+(('coded NOLH for 12-16 factors'!J46-1)*(J$3-J$2)/64), J$4)","v":14},{"$f":"ROUND( K$2+(('coded NOLH for 12-16 factors'!K46-1)*(K$3-K$2)/64), K$4)","v":46},{"$f":"ROUND( L$2+(('coded NOLH for 12-16 factors'!L46-1)*(L$3-L$2)/64), L$4)","v":11},{"$f":"ROUND( M$2+(('coded NOLH for 12-16 factors'!M46-1)*(M$3-M$2)/64), M$4)","v":40},{"$f":"ROUND( N$2+(('coded NOLH for 12-16 factors'!N46-1)*(N$3-N$2)/64), N$4)","v":44},{"$f":"ROUND( O$2+(('coded NOLH for 12-16 factors'!O46-1)*(O$3-O$2)/64), O$4)","v":50},{"$f":"ROUND( P$2+(('coded NOLH for 12-16 factors'!P46-1)*(P$3-P$2)/64), P$4)","v":32},{"$f":"ROUND( Q$2+(('coded NOLH for 12-16 factors'!Q46-1)*(Q$3-Q$2)/64), Q$4)","v":1}]
[null,{"$f":"ROUND( B$2+(('coded NOLH for 12-16 factors'!B47-1)*(B$3-B$2)/64), B$4)","v":3},{"$f":"ROUND( C$2+(('coded NOLH for 12-16 factors'!C47-1)*(C$3-C$2)/64), C$4)","v":21},{"$f":"ROUND( D$2+(('coded NOLH for 12-16 factors'!D47-1)*(D$3-D$2)/64), D$4)","v":34},{"$f":"ROUND( E$2+(('coded NOLH for 12-16 factors'!E47-1)*(E$3-E$2)/64), E$4)","v":16},{"$f":"ROUND( F$2+(('coded NOLH for 12-16 factors'!F47-1)*(F$3-F$2)/64), F$4)","v":65},{"$f":"ROUND( G$2+(('coded NOLH for 12-16 factors'!G47-1)*(G$3-G$2)/64), G$4)","v":47},{"$f":"ROUND( H$2+(('coded NOLH for 12-16 factors'!H47-1)*(H$3-H$2)/64), H$4)","v":6},{"$f":"ROUND( I$2+(('coded NOLH for 12-16 factors'!I47-1)*(I$3-I$2)/64), I$4)","v":41},{"$f":"ROUND( J$2+(('coded NOLH for 12-16 factors'!J47-1)*(J$3-J$2)/64), J$4)","v":22},{"$f":"ROUND( K$2+(('coded NOLH for 12-16 factors'!K47-1)*(K$3-K$2)/64), K$4)","v":65},{"$f":"ROUND( L$2+(('coded NOLH for 12-16 factors'!L47-1)*(L$3-L$2)/64), L$4)","v":22},{"$f":"ROUND( M$2+(('coded NOLH for 12-16 factors'!M47-1)*(M$3-M$2)/64), M$4)","v":63},{"$f":"ROUND( N$2+(('coded NOLH for 12-16 factors'!N47-1)*(N$3-N$2)/64), N$4)","v":38},{"$f":"ROUND( O$2+(('coded NOLH for 12-16 factors'!O47-1)*(O$3-O$2)/64), O$4)","v":11},{"$f":"ROUND( P$2+(('coded NOLH for 12-16 factors'!P47-1)*(P$3-P$2)/64), P$4)","v":64},{"$f":"ROUND( Q$2+(('coded NOLH for 12-16 factors'!Q47-1)*(Q$3-Q$2)/64), Q$4)","v":35}]
[null,{"$f":"ROUND( B$2+(('coded NOLH for 12-16 factors'!B48-1)*(B$3-B$2)/64), B$4)","v":32},{"$f":"ROUND( C$2+(('coded NOLH for 12-16 factors'!C48-1)*(C$3-C$2)/64), C$4)","v":64},{"$f":"ROUND( D$2+(('coded NOLH for 12-16 factors'!D48-1)*(D$3-D$2)/64), D$4)","v":3},{"$f":"ROUND( E$2+(('coded NOLH for 12-16 factors'!E48-1)*(E$3-E$2)/64), E$4)","v":31},{"$f":"ROUND( F$2+(('coded NOLH for 12-16 factors'!F48-1)*(F$3-F$2)/64), F$4)","v":52},{"$f":"ROUND( G$2+(('coded NOLH for 12-16 factors'!G48-1)*(G$3-G$2)/64), G$4)","v":37},{"$f":"ROUND( H$2+(('coded NOLH for 12-16 factors'!H48-1)*(H$3-H$2)/64), H$4)","v":45},{"$f":"ROUND( I$2+(('coded NOLH for 12-16 factors'!I48-1)*(I$3-I$2)/64), I$4)","v":21},{"$f":"ROUND( J$2+(('coded NOLH for 12-16 factors'!J48-1)*(J$3-J$2)/64), J$4)","v":64},{"$f":"ROUND( K$2+(('coded NOLH for 12-16 factors'!K48-1)*(K$3-K$2)/64), K$4)","v":50},{"$f":"ROUND( L$2+(('coded NOLH for 12-16 factors'!L48-1)*(L$3-L$2)/64), L$4)","v":19},{"$f":"ROUND( M$2+(('coded NOLH for 12-16 factors'!M48-1)*(M$3-M$2)/64), M$4)","v":53},{"$f":"ROUND( N$2+(('coded NOLH for 12-16 factors'!N48-1)*(N$3-N$2)/64), N$4)","v":51},{"$f":"ROUND( O$2+(('coded NOLH for 12-16 factors'!O48-1)*(O$3-O$2)/64), O$4)","v":62},{"$f":"ROUND( P$2+(('coded NOLH for 12-16 factors'!P48-1)*(P$3-P$2)/64), P$4)","v":50},{"$f":"ROUND( Q$2+(('coded NOLH for 12-16 factors'!Q48-1)*(Q$3-Q$2)/64), Q$4)","v":12}]
[null,{"$f":"ROUND( B$2+(('coded NOLH for 12-16 factors'!B49-1)*(B$3-B$2)/64), B$4)","v":2},{"$f":"ROUND( C$2+(('coded NOLH for 12-16 factors'!C49-1)*(C$3-C$2)/64), C$4)","v":32},{"$f":"ROUND( D$2+(('coded NOLH for 12-16 factors'!D49-1)*(D$3-D$2)/64), D$4)","v":21},{"$f":"ROUND( E$2+(('coded NOLH for 12-16 factors'!E49-1)*(E$3-E$2)/64), E$4)","v":6},{"$f":"ROUND( F$2+(('coded NOLH for 12-16 factors'!F49-1)*(F$3-F$2)/64), F$4)","v":54},{"$f":"ROUND( G$2+(('coded NOLH for 12-16 factors'!G49-1)*(G$3-G$2)/64), G$4)","v":61},{"$f":"ROUND( H$2+(('coded NOLH for 12-16 factors'!H49-1)*(H$3-H$2)/64), H$4)","v":41},{"$f":"ROUND( I$2+(('coded NOLH for 12-16 factors'!I49-1)*(I$3-I$2)/64), I$4)","v":13},{"$f":"ROUND( J$2+(('coded NOLH for 12-16 factors'!J49-1)*(J$3-J$2)/64), J$4)","v":45},{"$f":"ROUND( K$2+(('coded NOLH for 12-16 factors'!K49-1)*(K$3-K$2)/64), K$4)","v":41},{"$f":"ROUND( L$2+(('coded NOLH for 12-16 factors'!L49-1)*(L$3-L$2)/64), L$4)","v":31},{"$f":"ROUND( M$2+(('coded NOLH for 12-16 factors'!M49-1)*(M$3-M$2)/64), M$4)","v":49},{"$f":"ROUND( N$2+(('coded NOLH for 12-16 factors'!N49-1)*(N$3-N$2)/64), N$4)","v":36},{"$f":"ROUND( O$2+(('coded NOLH for 12-16 factors'!O49-1)*(O$3-O$2)/64), O$4)","v":28},{"$f":"ROUND( P$2+(('coded NOLH for 12-16 factors'!P49-1)*(P$3-P$2)/64), P$4)","v":6},{"$f":"ROUND( Q$2+(('coded NOLH for 12-16 factors'!Q49-1)*(Q$3-Q$2)/64), Q$4)","v":51}]
[null,{"$f":"ROUND( B$2+(('coded NOLH for 12-16 factors'!B50-1)*(B$3-B$2)/64), B$4)","v":30},{"$f":"ROUND( C$2+(('coded NOLH for 12-16 factors'!C50-1)*(C$3-C$2)/64), C$4)","v":51},{"$f":"ROUND( D$2+(('coded NOLH for 12-16 factors'!D50-1)*(D$3-D$2)/64), D$4)","v":44},{"$f":"ROUND( E$2+(('coded NOLH for 12-16 factors'!E50-1)*(E$3-E$2)/64), E$4)","v":24},{"$f":"ROUND( F$2+(('coded NOLH for 12-16 factors'!F50-1)*(F$3-F$2)/64), F$4)","v":40},{"$f":"ROUND( G$2+(('coded NOLH for 12-16 factors'!G50-1)*(G$3-G$2)/64), G$4)","v":34},{"$f":"ROUND( H$2+(('coded NOLH for 12-16 factors'!H50-1)*(H$3-H$2)/64), H$4)","v":53},{"$f":"ROUND( I$2+(('coded NOLH for 12-16 factors'!I50-1)*(I$3-I$2)/64), I$4)","v":47},{"$f":"ROUND( J$2+(('coded NOLH for 12-16 factors'!J50-1)*(J$3-J$2)/64), J$4)","v":4},{"$f":"ROUND( K$2+(('coded NOLH for 12-16 factors'!K50-1)*(K$3-K$2)/64), K$4)","v":4},{"$f":"ROUND( L$2+(('coded NOLH for 12-16 factors'!L50-1)*(L$3-L$2)/64), L$4)","v":56},{"$f":"ROUND( M$2+(('coded NOLH for 12-16 factors'!M50-1)*(M$3-M$2)/64), M$4)","v":62},{"$f":"ROUND( N$2+(('coded NOLH for 12-16 factors'!N50-1)*(N$3-N$2)/64), N$4)","v":2},{"$f":"ROUND( O$2+(('coded NOLH for 12-16 factors'!O50-1)*(O$3-O$2)/64), O$4)","v":54},{"$f":"ROUND( P$2+(('coded NOLH for 12-16 factors'!P50-1)*(P$3-P$2)/64), P$4)","v":25},{"$f":"ROUND( Q$2+(('coded NOLH for 12-16 factors'!Q50-1)*(Q$3-Q$2)/64), Q$4)","v":18}]
[null,{"$f":"ROUND( B$2+(('coded NOLH for 12-16 factors'!B51-1)*(B$3-B$2)/64), B$4)","v":15},{"$f":"ROUND( C$2+(('coded NOLH for 12-16 factors'!C51-1)*(C$3-C$2)/64), C$4)","v":30},{"$f":"ROUND( D$2+(('coded NOLH for 12-16 factors'!D51-1)*(D$3-D$2)/64), D$4)","v":38},{"$f":"ROUND( E$2+(('coded NOLH for 12-16 factors'!E51-1)*(E$3-E$2)/64), E$4)","v":8},{"$f":"ROUND( F$2+(('coded NOLH for 12-16 factors'!F51-1)*(F$3-F$2)/64), F$4)","v":48},{"$f":"ROUND( G$2+(('coded NOLH for 12-16 factors'!G51-1)*(G$3-G$2)/64), G$4)","v":3},{"$f":"ROUND( H$2+(('coded NOLH for 12-16 factors'!H51-1)*(H$3-H$2)/64), H$4)","v":62},{"$f":"ROUND( I$2+(('coded NOLH for 12-16 factors'!I51-1)*(I$3-I$2)/64), I$4)","v":65},{"$f":"ROUND( J$2+(('coded NOLH for 12-16 factors'!J51-1)*(J$3-J$2)/64), J$4)","v":32},{"$f":"ROUND( K$2+(('coded NOLH for 12-16 factors'!K51-1)*(K$3-K$2)/64), K$4)","v":31},{"$f":"ROUND( L$2+(('coded NOLH for 12-16 factors'!L51-1)*(L$3-L$2)/64), L$4)","v":49},{"$f":"ROUND( M$2+(('coded NOLH for 12-16 factors'!M51-1)*(M$3-M$2)/64), M$4)","v":46},{"$f":"ROUND( N$2+(('coded NOLH for 12-16 factors'!N51-1)*(N$3-N$2)/64), N$4)","v":32},{"$f":"ROUND( O$2+(('coded NOLH for 12-16 factors'!O51-1)*(O$3-O$2)/64), O$4)","v":22},{"$f":"ROUND( P$2+(('coded NOLH for 12-16 factors'!P51-1)*(P$3-P$2)/64), P$4)","v":40},{"$f":"ROUND( Q$2+(('coded NOLH for 12-16 factors'!Q51-1)*(Q$3-Q$2)/64), Q$4)","v":40}]
[null,{"$f":"ROUND( B$2+(('coded NOLH for 12-16 factors'!B52-1)*(B$3-B$2)/64), B$4)","v":28},{"$f":"ROUND( C$2+(('coded NOLH for 12-16 factors'!C52-1)*(C$3-C$2)/64), C$4)","v":44},{"$f":"ROUND( D$2+(('coded NOLH for 12-16 factors'!D52-1)*(D$3-D$2)/64), D$4)","v":15},{"$f":"ROUND( E$2+(('coded NOLH for 12-16 factors'!E52-1)*(E$3-E$2)/64), E$4)","v":4},{"$f":"ROUND( F$2+(('coded NOLH for 12-16 factors'!F52-1)*(F$3-F$2)/64), F$4)","v":37},{"$f":"ROUND( G$2+(('coded NOLH for 12-16 factors'!G52-1)*(G$3-G$2)/64), G$4)","v":51},{"$f":"ROUND( H$2+(('coded NOLH for 12-16 factors'!H52-1)*(H$3-H$2)/64), H$4)","v":35},{"$f":"ROUND( I$2+(('coded NOLH for 12-16 factors'!I52-1)*(I$3-I$2)/64), I$4)","v":5},{"$f":"ROUND( J$2+(('coded NOLH for 12-16 factors'!J52-1)*(J$3-J$2)/64), J$4)","v":56},{"$f":"ROUND( K$2+(('coded NOLH for 12-16 factors'!K52-1)*(K$3-K$2)/64), K$4)","v":12},{"$f":"ROUND( L$2+(('coded NOLH for 12-16 factors'!L52-1)*(L$3-L$2)/64), L$4)","v":65},{"$f":"ROUND( M$2+(('coded NOLH for 12-16 factors'!M52-1)*(M$3-M$2)/64), M$4)","v":37},{"$f":"ROUND( N$2+(('coded NOLH for 12-16 factors'!N52-1)*(N$3-N$2)/64), N$4)","v":3},{"$f":"ROUND( O$2+(('coded NOLH for 12-16 factors'!O52-1)*(O$3-O$2)/64), O$4)","v":46},{"$f":"ROUND( P$2+(('coded NOLH for 12-16 factors'!P52-1)*(P$3-P$2)/64), P$4)","v":28},{"$f":"ROUND( Q$2+(('coded NOLH for 12-16 factors'!Q52-1)*(Q$3-Q$2)/64), Q$4)","v":10}]
[null,{"$f":"ROUND( B$2+(('coded NOLH for 12-16 factors'!B53-1)*(B$3-B$2)/64), B$4)","v":22},{"$f":"ROUND( C$2+(('coded NOLH for 12-16 factors'!C53-1)*(C$3-C$2)/64), C$4)","v":28},{"$f":"ROUND( D$2+(('coded NOLH for 12-16 factors'!D53-1)*(D$3-D$2)/64), D$4)","v":30},{"$f":"ROUND( E$2+(('coded NOLH for 12-16 factors'!E53-1)*(E$3-E$2)/64), E$4)","v":19},{"$f":"ROUND( F$2+(('coded NOLH for 12-16 factors'!F53-1)*(F$3-F$2)/64), F$4)","v":56},{"$f":"ROUND( G$2+(('coded NOLH for 12-16 factors'!G53-1)*(G$3-G$2)/64), G$4)","v":4},{"$f":"ROUND( H$2+(('coded NOLH for 12-16 factors'!H53-1)*(H$3-H$2)/64), H$4)","v":1},{"$f":"ROUND( I$2+(('coded NOLH for 12-16 factors'!I53-1)*(I$3-I$2)/64), I$4)","v":29},{"$f":"ROUND( J$2+(('coded NOLH for 12-16 factors'!J53-1)*(J$3-J$2)/64), J$4)","v":36},{"$f":"ROUND( K$2+(('coded NOLH for 12-16 factors'!K53-1)*(K$3-K$2)/64), K$4)","v":13},{"$f":"ROUND( L$2+(('coded NOLH for 12-16 factors'!L53-1)*(L$3-L$2)/64), L$4)","v":42},{"$f":"ROUND( M$2+(('coded NOLH for 12-16 factors'!M53-1)*(M$3-M$2)/64), M$4)","v":58},{"$f":"ROUND( N$2+(('coded NOLH for 12-16 factors'!N53-1)*(N$3-N$2)/64), N$4)","v":21},{"$f":"ROUND( O$2+(('coded NOLH for 12-16 factors'!O53-1)*(O$3-O$2)/64), O$4)","v":2},{"$f":"ROUND( P$2+(('coded NOLH for 12-16 factors'!P53-1)*(P$3-P$2)/64), P$4)","v":11},{"$f":"ROUND( Q$2+(('coded NOLH for 12-16 factors'!Q53-1)*(Q$3-Q$2)/64), Q$4)","v":37}]
[null,{"$f":"ROUND( B$2+(('coded NOLH for 12-16 factors'!B54-1)*(B$3-B$2)/64), B$4)","v":10},{"$f":"ROUND( C$2+(('coded NOLH for 12-16 factors'!C54-1)*(C$3-C$2)/64), C$4)","v":37},{"$f":"ROUND( D$2+(('coded NOLH for 12-16 factors'!D54-1)*(D$3-D$2)/64), D$4)","v":40},{"$f":"ROUND( E$2+(('coded NOLH for 12-16 factors'!E54-1)*(E$3-E$2)/64), E$4)","v":57},{"$f":"ROUND( F$2+(('coded NOLH for 12-16 factors'!F54-1)*(F$3-F$2)/64), F$4)","v":22},{"$f":"ROUND( G$2+(('coded NOLH for 12-16 factors'!G54-1)*(G$3-G$2)/64), G$4)","v":1},{"$f":"ROUND( H$2+(('coded NOLH for 12-16 factors'!H54-1)*(H$3-H$2)/64), H$4)","v":15},{"$f":"ROUND( I$2+(('coded NOLH for 12-16 factors'!I54-1)*(I$3-I$2)/64), I$4)","v":3},{"$f":"ROUND( J$2+(('coded NOLH for 12-16 factors'!J54-1)*(J$3-J$2)/64), J$4)","v":28},{"$f":"ROUND( K$2+(('coded NOLH for 12-16 factors'!K54-1)*(K$3-K$2)/64), K$4)","v":27},{"$f":"ROUND( L$2+(('coded NOLH for 12-16 factors'!L54-1)*(L$3-L$2)/64), L$4)","v":45},{"$f":"ROUND( M$2+(('coded NOLH for 12-16 factors'!M54-1)*(M$3-M$2)/64), M$4)","v":47},{"$f":"ROUND( N$2+(('coded NOLH for 12-16 factors'!N54-1)*(N$3-N$2)/64), N$4)","v":39},{"$f":"ROUND( O$2+(('coded NOLH for 12-16 factors'!O54-1)*(O$3-O$2)/64), O$4)","v":24},{"$f":"ROUND( P$2+(('coded NOLH for 12-16 factors'!P54-1)*(P$3-P$2)/64), P$4)","v":22},{"$f":"ROUND( Q$2+(('coded NOLH for 12-16 factors'!Q54-1)*(Q$3-Q$2)/64), Q$4)","v":41}]
[null,{"$f":"ROUND( B$2+(('coded NOLH for 12-16 factors'!B55-1)*(B$3-B$2)/64), B$4)","v":29},{"$f":"ROUND( C$2+(('coded NOLH for 12-16 factors'!C55-1)*(C$3-C$2)/64), C$4)","v":10},{"$f":"ROUND( D$2+(('coded NOLH for 12-16 factors'!D55-1)*(D$3-D$2)/64), D$4)","v":48},{"$f":"ROUND( E$2+(('coded NOLH for 12-16 factors'!E55-1)*(E$3-E$2)/64), E$4)","v":43},{"$f":"ROUND( F$2+(('coded NOLH for 12-16 factors'!F55-1)*(F$3-F$2)/64), F$4)","v":28},{"$f":"ROUND( G$2+(('coded NOLH for 12-16 factors'!G55-1)*(G$3-G$2)/64), G$4)","v":36},{"$f":"ROUND( H$2+(('coded NOLH for 12-16 factors'!H55-1)*(H$3-H$2)/64), H$4)","v":12},{"$f":"ROUND( I$2+(('coded NOLH for 12-16 factors'!I55-1)*(I$3-I$2)/64), I$4)","v":14},{"$f":"ROUND( J$2+(('coded NOLH for 12-16 factors'!J55-1)*(J$3-J$2)/64), J$4)","v":42},{"$f":"ROUND( K$2+(('coded NOLH for 12-16 factors'!K55-1)*(K$3-K$2)/64), K$4)","v":18},{"$f":"ROUND( L$2+(('coded NOLH for 12-16 factors'!L55-1)*(L$3-L$2)/64), L$4)","v":58},{"$f":"ROUND( M$2+(('coded NOLH for 12-16 factors'!M55-1)*(M$3-M$2)/64), M$4)","v":65},{"$f":"ROUND( N$2+(('coded NOLH for 12-16 factors'!N55-1)*(N$3-N$2)/64), N$4)","v":65},{"$f":"ROUND( O$2+(('coded NOLH for 12-16 factors'!O55-1)*(O$3-O$2)/64), O$4)","v":60},{"$f":"ROUND( P$2+(('coded NOLH for 12-16 factors'!P55-1)*(P$3-P$2)/64), P$4)","v":42},{"$f":"ROUND( Q$2+(('coded NOLH for 12-16 factors'!Q55-1)*(Q$3-Q$2)/64), Q$4)","v":20}]
[null,{"$f":"ROUND( B$2+(('coded NOLH for 12-16 factors'!B56-1)*(B$3-B$2)/64), B$4)","v":18},{"$f":"ROUND( C$2+(('coded NOLH for 12-16 factors'!C56-1)*(C$3-C$2)/64), C$4)","v":40},{"$f":"ROUND( D$2+(('coded NOLH for 12-16 factors'!D56-1)*(D$3-D$2)/64), D$4)","v":29},{"$f":"ROUND( E$2+(('coded NOLH for 12-16 factors'!E56-1)*(E$3-E$2)/64), E$4)","v":46},{"$f":"ROUND( F$2+(('coded NOLH for 12-16 factors'!F56-1)*(F$3-F$2)/64), F$4)","v":15},{"$f":"ROUND( G$2+(('coded NOLH for 12-16 factors'!G56-1)*(G$3-G$2)/64), G$4)","v":8},{"$f":"ROUND( H$2+(('coded NOLH for 12-16 factors'!H56-1)*(H$3-H$2)/64), H$4)","v":63},{"$f":"ROUND( I$2+(('coded NOLH for 12-16 factors'!I56-1)*(I$3-I$2)/64), I$4)","v":39},{"$f":"ROUND( J$2+(('coded NOLH for 12-16 factors'!J56-1)*(J$3-J$2)/64), J$4)","v":31},{"$f":"ROUND( K$2+(('coded NOLH for 12-16 factors'!K56-1)*(K$3-K$2)/64), K$4)","v":14},{"$f":"ROUND( L$2+(('coded NOLH for 12-16 factors'!L56-1)*(L$3-L$2)/64), L$4)","v":34},{"$f":"ROUND( M$2+(('coded NOLH for 12-16 factors'!M56-1)*(M$3-M$2)/64), M$4)","v":60},{"$f":"ROUND( N$2+(('coded NOLH for 12-16 factors'!N56-1)*(N$3-N$2)/64), N$4)","v":52},{"$f":"ROUND( O$2+(('coded NOLH for 12-16 factors'!O56-1)*(O$3-O$2)/64), O$4)","v":9},{"$f":"ROUND( P$2+(('coded NOLH for 12-16 factors'!P56-1)*(P$3-P$2)/64), P$4)","v":63},{"$f":"ROUND( Q$2+(('coded NOLH for 12-16 factors'!Q56-1)*(Q$3-Q$2)/64), Q$4)","v":32}]
[null,{"$f":"ROUND( B$2+(('coded NOLH for 12-16 factors'!B57-1)*(B$3-B$2)/64), B$4)","v":26},{"$f":"ROUND( C$2+(('coded NOLH for 12-16 factors'!C57-1)*(C$3-C$2)/64), C$4)","v":18},{"$f":"ROUND( D$2+(('coded NOLH for 12-16 factors'!D57-1)*(D$3-D$2)/64), D$4)","v":10},{"$f":"ROUND( E$2+(('coded NOLH for 12-16 factors'!E57-1)*(E$3-E$2)/64), E$4)","v":61},{"$f":"ROUND( F$2+(('coded NOLH for 12-16 factors'!F57-1)*(F$3-F$2)/64), F$4)","v":30},{"$f":"ROUND( G$2+(('coded NOLH for 12-16 factors'!G57-1)*(G$3-G$2)/64), G$4)","v":54},{"$f":"ROUND( H$2+(('coded NOLH for 12-16 factors'!H57-1)*(H$3-H$2)/64), H$4)","v":37},{"$f":"ROUND( I$2+(('coded NOLH for 12-16 factors'!I57-1)*(I$3-I$2)/64), I$4)","v":54},{"$f":"ROUND( J$2+(('coded NOLH for 12-16 factors'!J57-1)*(J$3-J$2)/64), J$4)","v":13},{"$f":"ROUND( K$2+(('coded NOLH for 12-16 factors'!K57-1)*(K$3-K$2)/64), K$4)","v":9},{"$f":"ROUND( L$2+(('coded NOLH for 12-16 factors'!L57-1)*(L$3-L$2)/64), L$4)","v":62},{"$f":"ROUND( M$2+(('coded NOLH for 12-16 factors'!M57-1)*(M$3-M$2)/64), M$4)","v":38},{"$f":"ROUND( N$2+(('coded NOLH for 12-16 factors'!N57-1)*(N$3-N$2)/64), N$4)","v":54},{"$f":"ROUND( O$2+(('coded NOLH for 12-16 factors'!O57-1)*(O$3-O$2)/64), O$4)","v":49},{"$f":"ROUND( P$2+(('coded NOLH for 12-16 factors'!P57-1)*(P$3-P$2)/64), P$4)","v":35},{"$f":"ROUND( Q$2+(('coded NOLH for 12-16 factors'!Q57-1)*(Q$3-Q$2)/64), Q$4)","v":19}]
[null,{"$f":"ROUND( B$2+(('coded NOLH for 12-16 factors'!B58-1)*(B$3-B$2)/64), B$4)","v":12},{"$f":"ROUND( C$2+(('coded NOLH for 12-16 factors'!C58-1)*(C$3-C$2)/64), C$4)","v":52},{"$f":"ROUND( D$2+(('coded NOLH for 12-16 factors'!D58-1)*(D$3-D$2)/64), D$4)","v":39},{"$f":"ROUND( E$2+(('coded NOLH for 12-16 factors'!E58-1)*(E$3-E$2)/64), E$4)","v":59},{"$f":"ROUND( F$2+(('coded NOLH for 12-16 factors'!F58-1)*(F$3-F$2)/64), F$4)","v":2},{"$f":"ROUND( G$2+(('coded NOLH for 12-16 factors'!G58-1)*(G$3-G$2)/64), G$4)","v":41},{"$f":"ROUND( H$2+(('coded NOLH for 12-16 factors'!H58-1)*(H$3-H$2)/64), H$4)","v":64},{"$f":"ROUND( I$2+(('coded NOLH for 12-16 factors'!I58-1)*(I$3-I$2)/64), I$4)","v":20},{"$f":"ROUND( J$2+(('coded NOLH for 12-16 factors'!J58-1)*(J$3-J$2)/64), J$4)","v":46},{"$f":"ROUND( K$2+(('coded NOLH for 12-16 factors'!K58-1)*(K$3-K$2)/64), K$4)","v":59},{"$f":"ROUND( L$2+(('coded NOLH for 12-16 factors'!L58-1)*(L$3-L$2)/64), L$4)","v":38},{"$f":"ROUND( M$2+(('coded NOLH for 12-16 factors'!M58-1)*(M$3-M$2)/64), M$4)","v":54},{"$f":"ROUND( N$2+(('coded NOLH for 12-16 factors'!N58-1)*(N$3-N$2)/64), N$4)","v":26},{"$f":"ROUND( O$2+(('coded NOLH for 12-16 factors'!O58-1)*(O$3-O$2)/64), O$4)","v":13},{"$f":"ROUND( P$2+(('coded NOLH for 12-16 factors'!P58-1)*(P$3-P$2)/64), P$4)","v":1},{"$f":"ROUND( Q$2+(('coded NOLH for 12-16 factors'!Q58-1)*(Q$3-Q$2)/64), Q$4)","v":39}]
[null,{"$f":"ROUND( B$2+(('coded NOLH for 12-16 factors'!B59-1)*(B$3-B$2)/64), B$4)","v":14},{"$f":"ROUND( C$2+(('coded NOLH for 12-16 factors'!C59-1)*(C$3-C$2)/64), C$4)","v":12},{"$f":"ROUND( D$2+(('coded NOLH for 12-16 factors'!D59-1)*(D$3-D$2)/64), D$4)","v":65},{"$f":"ROUND( E$2+(('coded NOLH for 12-16 factors'!E59-1)*(E$3-E$2)/64), E$4)","v":55},{"$f":"ROUND( F$2+(('coded NOLH for 12-16 factors'!F59-1)*(F$3-F$2)/64), F$4)","v":32},{"$f":"ROUND( G$2+(('coded NOLH for 12-16 factors'!G59-1)*(G$3-G$2)/64), G$4)","v":20},{"$f":"ROUND( H$2+(('coded NOLH for 12-16 factors'!H59-1)*(H$3-H$2)/64), H$4)","v":34},{"$f":"ROUND( I$2+(('coded NOLH for 12-16 factors'!I59-1)*(I$3-I$2)/64), I$4)","v":8},{"$f":"ROUND( J$2+(('coded NOLH for 12-16 factors'!J59-1)*(J$3-J$2)/64), J$4)","v":54},{"$f":"ROUND( K$2+(('coded NOLH for 12-16 factors'!K59-1)*(K$3-K$2)/64), K$4)","v":43},{"$f":"ROUND( L$2+(('coded NOLH for 12-16 factors'!L59-1)*(L$3-L$2)/64), L$4)","v":6},{"$f":"ROUND( M$2+(('coded NOLH for 12-16 factors'!M59-1)*(M$3-M$2)/64), M$4)","v":45},{"$f":"ROUND( N$2+(('coded NOLH for 12-16 factors'!N59-1)*(N$3-N$2)/64), N$4)","v":18},{"$f":"ROUND( O$2+(('coded NOLH for 12-16 factors'!O59-1)*(O$3-O$2)/64), O$4)","v":56},{"$f":"ROUND( P$2+(('coded NOLH for 12-16 factors'!P59-1)*(P$3-P$2)/64), P$4)","v":37},{"$f":"ROUND( Q$2+(('coded NOLH for 12-16 factors'!Q59-1)*(Q$3-Q$2)/64), Q$4)","v":2}]
[null,{"$f":"ROUND( B$2+(('coded NOLH for 12-16 factors'!B60-1)*(B$3-B$2)/64), B$4)","v":1},{"$f":"ROUND( C$2+(('coded NOLH for 12-16 factors'!C60-1)*(C$3-C$2)/64), C$4)","v":39},{"$f":"ROUND( D$2+(('coded NOLH for 12-16 factors'!D60-1)*(D$3-D$2)/64), D$4)","v":14},{"$f":"ROUND( E$2+(('coded NOLH for 12-16 factors'!E60-1)*(E$3-E$2)/64), E$4)","v":49},{"$f":"ROUND( F$2+(('coded NOLH for 12-16 factors'!F60-1)*(F$3-F$2)/64), F$4)","v":3},{"$f":"ROUND( G$2+(('coded NOLH for 12-16 factors'!G60-1)*(G$3-G$2)/64), G$4)","v":57},{"$f":"ROUND( H$2+(('coded NOLH for 12-16 factors'!H60-1)*(H$3-H$2)/64), H$4)","v":19},{"$f":"ROUND( I$2+(('coded NOLH for 12-16 factors'!I60-1)*(I$3-I$2)/64), I$4)","v":57},{"$f":"ROUND( J$2+(('coded NOLH for 12-16 factors'!J60-1)*(J$3-J$2)/64), J$4)","v":29},{"$f":"ROUND( K$2+(('coded NOLH for 12-16 factors'!K60-1)*(K$3-K$2)/64), K$4)","v":44},{"$f":"ROUND( L$2+(('coded NOLH for 12-16 factors'!L60-1)*(L$3-L$2)/64), L$4)","v":29},{"$f":"ROUND( M$2+(('coded NOLH for 12-16 factors'!M60-1)*(M$3-M$2)/64), M$4)","v":48},{"$f":"ROUND( N$2+(('coded NOLH for 12-16 factors'!N60-1)*(N$3-N$2)/64), N$4)","v":29},{"$f":"ROUND( O$2+(('coded NOLH for 12-16 factors'!O60-1)*(O$3-O$2)/64), O$4)","v":30},{"$f":"ROUND( P$2+(('coded NOLH for 12-16 factors'!P60-1)*(P$3-P$2)/64), P$4)","v":52},{"$f":"ROUND( Q$2+(('coded NOLH for 12-16 factors'!Q60-1)*(Q$3-Q$2)/64), Q$4)","v":49}]
[null,{"$f":"ROUND( B$2+(('coded NOLH for 12-16 factors'!B61-1)*(B$3-B$2)/64), B$4)","v":27},{"$f":"ROUND( C$2+(('coded NOLH for 12-16 factors'!C61-1)*(C$3-C$2)/64), C$4)","v":1},{"$f":"ROUND( D$2+(('coded NOLH for 12-16 factors'!D61-1)*(D$3-D$2)/64), D$4)","v":12},{"$f":"ROUND( E$2+(('coded NOLH for 12-16 factors'!E61-1)*(E$3-E$2)/64), E$4)","v":41},{"$f":"ROUND( F$2+(('coded NOLH for 12-16 factors'!F61-1)*(F$3-F$2)/64), F$4)","v":21},{"$f":"ROUND( G$2+(('coded NOLH for 12-16 factors'!G61-1)*(G$3-G$2)/64), G$4)","v":31},{"$f":"ROUND( H$2+(('coded NOLH for 12-16 factors'!H61-1)*(H$3-H$2)/64), H$4)","v":28},{"$f":"ROUND( I$2+(('coded NOLH for 12-16 factors'!I61-1)*(I$3-I$2)/64), I$4)","v":51},{"$f":"ROUND( J$2+(('coded NOLH for 12-16 factors'!J61-1)*(J$3-J$2)/64), J$4)","v":1},{"$f":"ROUND( K$2+(('coded NOLH for 12-16 factors'!K61-1)*(K$3-K$2)/64), K$4)","v":61},{"$f":"ROUND( L$2+(('coded NOLH for 12-16 factors'!L61-1)*(L$3-L$2)/64), L$4)","v":20},{"$f":"ROUND( M$2+(('coded NOLH for 12-16 factors'!M61-1)*(M$3-M$2)/64), M$4)","v":52},{"$f":"ROUND( N$2+(('coded NOLH for 12-16 factors'!N61-1)*(N$3-N$2)/64), N$4)","v":10},{"$f":"ROUND( O$2+(('coded NOLH for 12-16 factors'!O61-1)*(O$3-O$2)/64), O$4)","v":51},{"$f":"ROUND( P$2+(('coded NOLH for 12-16 factors'!P61-1)*(P$3-P$2)/64), P$4)","v":5},{"$f":"ROUND( Q$2+(('coded NOLH for 12-16 factors'!Q61-1)*(Q$3-Q$2)/64), Q$4)","v":6}]
[null,{"$f":"ROUND( B$2+(('coded NOLH for 12-16 factors'!B62-1)*(B$3-B$2)/64), B$4)","v":25},{"$f":"ROUND( C$2+(('coded NOLH for 12-16 factors'!C62-1)*(C$3-C$2)/64), C$4)","v":49},{"$f":"ROUND( D$2+(('coded NOLH for 12-16 factors'!D62-1)*(D$3-D$2)/64), D$4)","v":59},{"$f":"ROUND( E$2+(('coded NOLH for 12-16 factors'!E62-1)*(E$3-E$2)/64), E$4)","v":27},{"$f":"ROUND( F$2+(('coded NOLH for 12-16 factors'!F62-1)*(F$3-F$2)/64), F$4)","v":13},{"$f":"ROUND( G$2+(('coded NOLH for 12-16 factors'!G62-1)*(G$3-G$2)/64), G$4)","v":18},{"$f":"ROUND( H$2+(('coded NOLH for 12-16 factors'!H62-1)*(H$3-H$2)/64), H$4)","v":5},{"$f":"ROUND( I$2+(('coded NOLH for 12-16 factors'!I62-1)*(I$3-I$2)/64), I$4)","v":55},{"$f":"ROUND( J$2+(('coded NOLH for 12-16 factors'!J62-1)*(J$3-J$2)/64), J$4)","v":59},{"$f":"ROUND( K$2+(('coded NOLH for 12-16 factors'!K62-1)*(K$3-K$2)/64), K$4)","v":55},{"$f":"ROUND( L$2+(('coded NOLH for 12-16 factors'!L62-1)*(L$3-L$2)/64), L$4)","v":48},{"$f":"ROUND( M$2+(('coded NOLH for 12-16 factors'!M62-1)*(M$3-M$2)/64), M$4)","v":23},{"$f":"ROUND( N$2+(('coded NOLH for 12-16 factors'!N62-1)*(N$3-N$2)/64), N$4)","v":57},{"$f":"ROUND( O$2+(('coded NOLH for 12-16 factors'!O62-1)*(O$3-O$2)/64), O$4)","v":65},{"$f":"ROUND( P$2+(('coded NOLH for 12-16 factors'!P62-1)*(P$3-P$2)/64), P$4)","v":8},{"$f":"ROUND( Q$2+(('coded NOLH for 12-16 factors'!Q62-1)*(Q$3-Q$2)/64), Q$4)","v":42}]
[null,{"$f":"ROUND( B$2+(('coded NOLH for 12-16 factors'!B63-1)*(B$3-B$2)/64), B$4)","v":17},{"$f":"ROUND( C$2+(('coded NOLH for 12-16 factors'!C63-1)*(C$3-C$2)/64), C$4)","v":25},{"$f":"ROUND( D$2+(('coded NOLH for 12-16 factors'!D63-1)*(D$3-D$2)/64), D$4)","v":55},{"$f":"ROUND( E$2+(('coded NOLH for 12-16 factors'!E63-1)*(E$3-E$2)/64), E$4)","v":1},{"$f":"ROUND( F$2+(('coded NOLH for 12-16 factors'!F63-1)*(F$3-F$2)/64), F$4)","v":16},{"$f":"ROUND( G$2+(('coded NOLH for 12-16 factors'!G63-1)*(G$3-G$2)/64), G$4)","v":53},{"$f":"ROUND( H$2+(('coded NOLH for 12-16 factors'!H63-1)*(H$3-H$2)/64), H$4)","v":24},{"$f":"ROUND( I$2+(('coded NOLH for 12-16 factors'!I63-1)*(I$3-I$2)/64), I$4)","v":42},{"$f":"ROUND( J$2+(('coded NOLH for 12-16 factors'!J63-1)*(J$3-J$2)/64), J$4)","v":41},{"$f":"ROUND( K$2+(('coded NOLH for 12-16 factors'!K63-1)*(K$3-K$2)/64), K$4)","v":36},{"$f":"ROUND( L$2+(('coded NOLH for 12-16 factors'!L63-1)*(L$3-L$2)/64), L$4)","v":63},{"$f":"ROUND( M$2+(('coded NOLH for 12-16 factors'!M63-1)*(M$3-M$2)/64), M$4)","v":10},{"$f":"ROUND( N$2+(('coded NOLH for 12-16 factors'!N63-1)*(N$3-N$2)/64), N$4)","v":43},{"$f":"ROUND( O$2+(('coded NOLH for 12-16 factors'!O63-1)*(O$3-O$2)/64), O$4)","v":29},{"$f":"ROUND( P$2+(('coded NOLH for 12-16 factors'!P63-1)*(P$3-P$2)/64), P$4)","v":62},{"$f":"ROUND( Q$2+(('coded NOLH for 12-16 factors'!Q63-1)*(Q$3-Q$2)/64), Q$4)","v":5}]
[null,{"$f":"ROUND( B$2+(('coded NOLH for 12-16 factors'!B64-1)*(B$3-B$2)/64), B$4)","v":11},{"$f":"ROUND( C$2+(('coded NOLH for 12-16 factors'!C64-1)*(C$3-C$2)/64), C$4)","v":59},{"$f":"ROUND( D$2+(('coded NOLH for 12-16 factors'!D64-1)*(D$3-D$2)/64), D$4)","v":17},{"$f":"ROUND( E$2+(('coded NOLH for 12-16 factors'!E64-1)*(E$3-E$2)/64), E$4)","v":14},{"$f":"ROUND( F$2+(('coded NOLH for 12-16 factors'!F64-1)*(F$3-F$2)/64), F$4)","v":31},{"$f":"ROUND( G$2+(('coded NOLH for 12-16 factors'!G64-1)*(G$3-G$2)/64), G$4)","v":7},{"$f":"ROUND( H$2+(('coded NOLH for 12-16 factors'!H64-1)*(H$3-H$2)/64), H$4)","v":44},{"$f":"ROUND( I$2+(('coded NOLH for 12-16 factors'!I64-1)*(I$3-I$2)/64), I$4)","v":4},{"$f":"ROUND( J$2+(('coded NOLH for 12-16 factors'!J64-1)*(J$3-J$2)/64), J$4)","v":16},{"$f":"ROUND( K$2+(('coded NOLH for 12-16 factors'!K64-1)*(K$3-K$2)/64), K$4)","v":49},{"$f":"ROUND( L$2+(('coded NOLH for 12-16 factors'!L64-1)*(L$3-L$2)/64), L$4)","v":51},{"$f":"ROUND( M$2+(('coded NOLH for 12-16 factors'!M64-1)*(M$3-M$2)/64), M$4)","v":27},{"$f":"ROUND( N$2+(('coded NOLH for 12-16 factors'!N64-1)*(N$3-N$2)/64), N$4)","v":46},{"$f":"ROUND( O$2+(('coded NOLH for 12-16 factors'!O64-1)*(O$3-O$2)/64), O$4)","v":58},{"$f":"ROUND( P$2+(('coded NOLH for 12-16 factors'!P64-1)*(P$3-P$2)/64), P$4)","v":39},{"$f":"ROUND( Q$2+(('coded NOLH for 12-16 factors'!Q64-1)*(Q$3-Q$2)/64), Q$4)","v":57}]
[null,{"$f":"ROUND( B$2+(('coded NOLH for 12-16 factors'!B65-1)*(B$3-B$2)/64), B$4)","v":7},{"$f":"ROUND( C$2+(('coded NOLH for 12-16 factors'!C65-1)*(C$3-C$2)/64), C$4)","v":11},{"$f":"ROUND( D$2+(('coded NOLH for 12-16 factors'!D65-1)*(D$3-D$2)/64), D$4)","v":25},{"$f":"ROUND( E$2+(('coded NOLH for 12-16 factors'!E65-1)*(E$3-E$2)/64), E$4)","v":12},{"$f":"ROUND( F$2+(('coded NOLH for 12-16 factors'!F65-1)*(F$3-F$2)/64), F$4)","v":6},{"$f":"ROUND( G$2+(('coded NOLH for 12-16 factors'!G65-1)*(G$3-G$2)/64), G$4)","v":45},{"$f":"ROUND( H$2+(('coded NOLH for 12-16 factors'!H65-1)*(H$3-H$2)/64), H$4)","v":57},{"$f":"ROUND( I$2+(('coded NOLH for 12-16 factors'!I65-1)*(I$3-I$2)/64), I$4)","v":23},{"$f":"ROUND( J$2+(('coded NOLH for 12-16 factors'!J65-1)*(J$3-J$2)/64), J$4)","v":18},{"$f":"ROUND( K$2+(('coded NOLH for 12-16 factors'!K65-1)*(K$3-K$2)/64), K$4)","v":42},{"$f":"ROUND( L$2+(('coded NOLH for 12-16 factors'!L65-1)*(L$3-L$2)/64), L$4)","v":41},{"$f":"ROUND( M$2+(('coded NOLH for 12-16 factors'!M65-1)*(M$3-M$2)/64), M$4)","v":2},{"$f":"ROUND( N$2+(('coded NOLH for 12-16 factors'!N65-1)*(N$3-N$2)/64), N$4)","v":61},{"$f":"ROUND( O$2+(('coded NOLH for 12-16 factors'!O65-1)*(O$3-O$2)/64), O$4)","v":19},{"$f":"ROUND( P$2+(('coded NOLH for 12-16 factors'!P65-1)*(P$3-P$2)/64), P$4)","v":21},{"$f":"ROUND( Q$2+(('coded NOLH for 12-16 factors'!Q65-1)*(Q$3-Q$2)/64), Q$4)","v":28}]
[null,{"$f":"ROUND( B$2+(('coded NOLH for 12-16 factors'!B66-1)*(B$3-B$2)/64), B$4)","v":5},{"$f":"ROUND( C$2+(('coded NOLH for 12-16 factors'!C66-1)*(C$3-C$2)/64), C$4)","v":46},{"$f":"ROUND( D$2+(('coded NOLH for 12-16 factors'!D66-1)*(D$3-D$2)/64), D$4)","v":57},{"$f":"ROUND( E$2+(('coded NOLH for 12-16 factors'!E66-1)*(E$3-E$2)/64), E$4)","v":26},{"$f":"ROUND( F$2+(('coded NOLH for 12-16 factors'!F66-1)*(F$3-F$2)/64), F$4)","v":24},{"$f":"ROUND( G$2+(('coded NOLH for 12-16 factors'!G66-1)*(G$3-G$2)/64), G$4)","v":52},{"$f":"ROUND( H$2+(('coded NOLH for 12-16 factors'!H66-1)*(H$3-H$2)/64), H$4)","v":39},{"$f":"ROUND( I$2+(('coded NOLH for 12-16 factors'!I66-1)*(I$3-I$2)/64), I$4)","v":60},{"$f":"ROUND( J$2+(('coded NOLH for 12-16 factors'!J66-1)*(J$3-J$2)/64), J$4)","v":51},{"$f":"ROUND( K$2+(('coded NOLH for 12-16 factors'!K66-1)*(K$3-K$2)/64), K$4)","v":10},{"$f":"ROUND( L$2+(('coded NOLH for 12-16 factors'!L66-1)*(L$3-L$2)/64), L$4)","v":9},{"$f":"ROUND( M$2+(('coded NOLH for 12-16 factors'!M66-1)*(M$3-M$2)/64), M$4)","v":30},{"$f":"ROUND( N$2+(('coded NOLH for 12-16 factors'!N66-1)*(N$3-N$2)/64), N$4)","v":7},{"$f":"ROUND( O$2+(('coded NOLH for 12-16 factors'!O66-1)*(O$3-O$2)/64), O$4)","v":45},{"$f":"ROUND( P$2+(('coded NOLH for 12-16 factors'!P66-1)*(P$3-P$2)/64), P$4)","v":19},{"$f":"ROUND( Q$2+(('coded NOLH for 12-16 factors'!Q66-1)*(Q$3-Q$2)/64), Q$4)","v":59}]
[null,{"$f":"ROUND( B$2+(('coded NOLH for 12-16 factors'!B67-1)*(B$3-B$2)/64), B$4)","v":20},{"$f":"ROUND( C$2+(('coded NOLH for 12-16 factors'!C67-1)*(C$3-C$2)/64), C$4)","v":5},{"$f":"ROUND( D$2+(('coded NOLH for 12-16 factors'!D67-1)*(D$3-D$2)/64), D$4)","v":43},{"$f":"ROUND( E$2+(('coded NOLH for 12-16 factors'!E67-1)*(E$3-E$2)/64), E$4)","v":18},{"$f":"ROUND( F$2+(('coded NOLH for 12-16 factors'!F67-1)*(F$3-F$2)/64), F$4)","v":8},{"$f":"ROUND( G$2+(('coded NOLH for 12-16 factors'!G67-1)*(G$3-G$2)/64), G$4)","v":2},{"$f":"ROUND( H$2+(('coded NOLH for 12-16 factors'!H67-1)*(H$3-H$2)/64), H$4)","v":43},{"$f":"ROUND( I$2+(('coded NOLH for 12-16 factors'!I67-1)*(I$3-I$2)/64), I$4)","v":31},{"$f":"ROUND( J$2+(('coded NOLH for 12-16 factors'!J67-1)*(J$3-J$2)/64), J$4)","v":61},{"$f":"ROUND( K$2+(('coded NOLH for 12-16 factors'!K67-1)*(K$3-K$2)/64), K$4)","v":15},{"$f":"ROUND( L$2+(('coded NOLH for 12-16 factors'!L67-1)*(L$3-L$2)/64), L$4)","v":26},{"$f":"ROUND( M$2+(('coded NOLH for 12-16 factors'!M67-1)*(M$3-M$2)/64), M$4)","v":22},{"$f":"ROUND( N$2+(('coded NOLH for 12-16 factors'!N67-1)*(N$3-N$2)/64), N$4)","v":11},{"$f":"ROUND( O$2+(('coded NOLH for 12-16 factors'!O67-1)*(O$3-O$2)/64), O$4)","v":26},{"$f":"ROUND( P$2+(('coded NOLH for 12-16 factors'!P67-1)*(P$3-P$2)/64), P$4)","v":49},{"$f":"ROUND( Q$2+(('coded NOLH for 12-16 factors'!Q67-1)*(Q$3-Q$2)/64), Q$4)","v":23}]
[null,{"$f":"ROUND( B$2+(('coded NOLH for 12-16 factors'!B68-1)*(B$3-B$2)/64), B$4)","v":23},{"$f":"ROUND( C$2+(('coded NOLH for 12-16 factors'!C68-1)*(C$3-C$2)/64), C$4)","v":57},{"$f":"ROUND( D$2+(('coded NOLH for 12-16 factors'!D68-1)*(D$3-D$2)/64), D$4)","v":20},{"$f":"ROUND( E$2+(('coded NOLH for 12-16 factors'!E68-1)*(E$3-E$2)/64), E$4)","v":29},{"$f":"ROUND( F$2+(('coded NOLH for 12-16 factors'!F68-1)*(F$3-F$2)/64), F$4)","v":4},{"$f":"ROUND( G$2+(('coded NOLH for 12-16 factors'!G68-1)*(G$3-G$2)/64), G$4)","v":39},{"$f":"ROUND( H$2+(('coded NOLH for 12-16 factors'!H68-1)*(H$3-H$2)/64), H$4)","v":16},{"$f":"ROUND( I$2+(('coded NOLH for 12-16 factors'!I68-1)*(I$3-I$2)/64), I$4)","v":16},{"$f":"ROUND( J$2+(('coded NOLH for 12-16 factors'!J68-1)*(J$3-J$2)/64), J$4)","v":6},{"$f":"ROUND( K$2+(('coded NOLH for 12-16 factors'!K68-1)*(K$3-K$2)/64), K$4)","v":3},{"$f":"ROUND( L$2+(('coded NOLH for 12-16 factors'!L68-1)*(L$3-L$2)/64), L$4)","v":13},{"$f":"ROUND( M$2+(('coded NOLH for 12-16 factors'!M68-1)*(M$3-M$2)/64), M$4)","v":31},{"$f":"ROUND( N$2+(('coded NOLH for 12-16 factors'!N68-1)*(N$3-N$2)/64), N$4)","v":17},{"$f":"ROUND( O$2+(('coded NOLH for 12-16 factors'!O68-1)*(O$3-O$2)/64), O$4)","v":59},{"$f":"ROUND( P$2+(('coded NOLH for 12-16 factors'!P68-1)*(P$3-P$2)/64), P$4)","v":57},{"$f":"ROUND( Q$2+(('coded NOLH for 12-16 factors'!Q68-1)*(Q$3-Q$2)/64), Q$4)","v":50}]
[null,{"$f":"ROUND( B$2+(('coded NOLH for 12-16 factors'!B69-1)*(B$3-B$2)/64), B$4)","v":9},{"$f":"ROUND( C$2+(('coded NOLH for 12-16 factors'!C69-1)*(C$3-C$2)/64), C$4)","v":23},{"$f":"ROUND( D$2+(('coded NOLH for 12-16 factors'!D69-1)*(D$3-D$2)/64), D$4)","v":5},{"$f":"ROUND( E$2+(('coded NOLH for 12-16 factors'!E69-1)*(E$3-E$2)/64), E$4)","v":10},{"$f":"ROUND( F$2+(('coded NOLH for 12-16 factors'!F69-1)*(F$3-F$2)/64), F$4)","v":19},{"$f":"ROUND( G$2+(('coded NOLH for 12-16 factors'!G69-1)*(G$3-G$2)/64), G$4)","v":24},{"$f":"ROUND( H$2+(('coded NOLH for 12-16 factors'!H69-1)*(H$3-H$2)/64), H$4)","v":7},{"$f":"ROUND( I$2+(('coded NOLH for 12-16 factors'!I69-1)*(I$3-I$2)/64), I$4)","v":22},{"$f":"ROUND( J$2+(('coded NOLH for 12-16 factors'!J69-1)*(J$3-J$2)/64), J$4)","v":23},{"$f":"ROUND( K$2+(('coded NOLH for 12-16 factors'!K69-1)*(K$3-K$2)/64), K$4)","v":26},{"$f":"ROUND( L$2+(('coded NOLH for 12-16 factors'!L69-1)*(L$3-L$2)/64), L$4)","v":12},{"$f":"ROUND( M$2+(('coded NOLH for 12-16 factors'!M69-1)*(M$3-M$2)/64), M$4)","v":16},{"$f":"ROUND( N$2+(('coded NOLH for 12-16 factors'!N69-1)*(N$3-N$2)/64), N$4)","v":25},{"$f":"ROUND( O$2+(('coded NOLH for 12-16 factors'!O69-1)*(O$3-O$2)/64), O$4)","v":31},{"$f":"ROUND( P$2+(('coded NOLH for 12-16 factors'!P69-1)*(P$3-P$2)/64), P$4)","v":15},{"$f":"ROUND( Q$2+(('coded NOLH for 12-16 factors'!Q69-1)*(Q$3-Q$2)/64), Q$4)","v":3}]

{"sheet":"coded NOLH for 17-22 factors","index":9,"n_rows":1413,"n_cols":23,"rows_kept":1413,"cut":false,"hidden":true,"merged":[]}
["Cioppa's factor ID","f2","f3","f4","f6","f7","f8","f9","f10","f11","f12","f13","f14","f15","f17","f18","f19","f22","f16","f21","f20","f5","f1"]
["low level"]
["high level"]
["factor name"]
[null,32,58,51,59,44,89,73,98,72,120,100,98,78,129,120,80,109,70,116,124,34,115]
[null,115,40,56,60,13,59,55,27,62,50,119,77,80,122,94,104,117,75,79,94,29,98]
[null,58,98,1,36,54,21,97,84,79,74,61,21,63,111,128,82,72,20,108,85,62,90]
[null,90,115,39,48,57,98,10,53,35,60,54,49,44,127,87,125,79,47,76,100,33,72]
[null,1,51,72,31,14,69,47,120,129,82,15,128,110,35,58,57,113,87,94,84,7,91]
[null,91,56,90,2,52,43,76,6,33,16,24,129,81,63,41,45,119,113,98,95,11,129]
[null,51,129,98,38,21,30,32,121,124,94,91,14,1,15,61,41,118,45,121,88,4,74]
[null,74,91,115,9,45,119,112,3,40,28,64,12,22,37,44,56,61,13,125,75,3,79]
[null,4,7,34,27,26,126,94,56,94,110,96,36,77,34,122,103,101,126,43,4,79,127]
[null,127,11,29,35,16,14,27,71,26,19,63,18,90,16,118,59,94,90,29,48,74,126]
[null,7,126,62,37,41,10,100,29,80,107,22,70,36,30,97,121,93,28,39,1,129,119]
[null,119,127,33,50,19,129,66,117,37,41,32,87,33,57,109,70,76,26,26,9,91,123]
[null,62,34,123,24,53,93,7,47,85,115,2,28,117,94,42,15,99,107,60,62,72,97]
[null,97,29,119,46,12,31,118,70,27,51,3,42,109,121,47,28,87,63,64,32,90,68]
[null,34,68,126,30,61,28,5,19,127,104,109,97,31,68,39,10,81,15,19,60,98,101]
[null,101,97,127,5,23,67,126,94,32,55,124,80,43,76,34,12,127,49,74,37,115,96]
[null,30,24,27,96,6,90,89,64,28,77,81,78,27,128,6,101,10,116,107,10,59,125]
[null,125,46,35,101,55,26,20,62,96,6,77,93,57,80,11,88,62,100,123,39,60,100]
[null,24,100,37,68,28,5,88,69,31,119,41,63,92,124,9,87,8,54,50,41,36,84]
[null,84,125,50,97,17,103,45,21,70,32,8,61,85,79,3,78,47,7,67,31,48,106]
[null,37,27,106,123,64,86,40,129,14,83,23,126,3,59,106,11,15,86,128,50,31,80]
[null,80,35,84,119,49,17,111,35,125,73,7,75,2,17,71,49,23,80,113,8,2,93]
[null,27,93,100,126,43,45,8,122,7,113,104,6,116,52,103,69,22,33,105,51,38,95]
[null,95,80,125,127,25,81,105,37,128,52,82,17,120,38,85,32,4,58,83,28,9,103]
[null,38,31,59,79,42,128,61,34,57,106,71,56,35,14,7,107,44,118,18,119,103,121]
[null,121,2,60,74,20,38,50,105,81,38,85,44,4,26,49,117,20,121,49,128,95,92]
[null,31,92,36,129,8,16,78,40,39,108,60,91,66,23,50,75,64,18,30,112,93,128]
[null,128,121,48,91,22,97,37,76,126,8,38,105,79,5,66,92,28,41,57,107,80,99]
[null,36,59,99,72,47,70,1,49,41,61,5,10,5,87,99,17,57,114,11,109,106,82]
[null,82,60,128,90,63,55,96,118,74,46,40,20,48,91,129,6,46,108,41,71,84,94]
[null,59,94,92,98,10,51,6,2,17,112,121,104,70,84,73,8,24,62,68,101,100,70]
[null,70,82,121,115,18,95,86,99,101,4,95,90,88,89,95,34,52,39,6,76,125,71]
[null,10,47,42,44,71,64,117,73,117,67,116,96,74,110,84,14,6,52,1,115,6,112]
[null,112,63,20,13,70,52,49,5,43,68,117,123,62,85,107,25,33,42,48,78,55,120]
[null,47,120,8,54,94,20,121,106,69,54,31,45,19,82,76,19,41,71,33,127,28,67]
[null,67,112,22,57,82,123,15,17,52,103,36,16,25,77,92,44,55,77,15,81,17,83]
[null,8,42,83,14,99,108,62,86,76,2,29,100,96,31,60,68,40,10,55,106,64,108]
[null,108,20,67,52,128,39,77,79,11,101,19,95,113,29,48,84,2,31,42,111,49,122]
[null,42,122,120,21,92,8,29,110,88,12,78,51,55,60,20,76,59,125,34,118,43,110]
[null,110,108,112,45,121,111,128,48,21,100,87,68,18,27,18,79,30,92,46,97,25,88]
[null,43,64,6,26,103,88,72,14,110,31,112,9,121,28,105,2,9,73,120,47,88,105]
[null,105,49,55,16,95,68,3,92,24,93,114,27,93,11,67,21,14,37,110,34,110,87]
[null,64,87,28,41,93,36,116,15,107,45,47,101,24,69,125,36,18,111,127,58,122,81]
[null,81,105,17,19,80,96,31,119,38,86,12,107,32,64,77,1,32,106,102,25,108,66]
[null,28,6,66,53,106,73,38,72,118,43,28,5,115,108,17,77,26,6,69,61,83,113]
[null,113,55,81,12,84,3,67,87,55,109,46,22,72,117,37,90,50,25,99,63,67,102]
[null,6,102,87,61,100,18,23,22,108,3,80,59,11,123,26,97,34,94,59,5,120,75]
[null,75,113,105,23,125,101,91,126,59,95,79,83,76,109,19,99,39,101,86,40,112,124]
[null,61,53,26,124,96,124,113,123,53,33,126,57,30,90,14,7,125,27,8,14,44,107]
[null,107,12,16,75,101,53,21,52,122,105,74,76,7,106,29,4,95,64,35,38,13,69]
[null,53,69,41,102,68,24,114,67,15,39,27,3,83,75,55,20,82,95,24,73,54,118]
[null,118,107,19,113,97,72,46,50,100,71,10,41,124,112,56,22,111,98,40,64,57,77]
[null,41,26,77,66,123,107,11,89,48,13,44,84,23,72,108,100,74,2,45,16,14,111]
[null,111,16,118,81,119,13,70,33,67,125,58,119,39,42,98,64,85,1,13,13,52,89]
[null,26,89,69,87,126,9,28,91,25,9,129,48,84,25,79,106,105,109,53,20,21,114]
[null,114,111,107,105,127,80,74,28,86,129,68,13,59,49,102,114,92,122,52,43,45,104]
[null,21,14,44,88,79,84,108,18,16,49,75,8,28,33,13,18,123,46,126,113,104,85]
[null,85,52,13,110,74,25,35,104,84,72,73,38,8,47,16,35,103,3,118,104,114,109]
[null,14,109,54,122,129,47,71,23,18,42,25,106,114,10,68,37,129,74,93,86,89,78]
[null,78,85,57,108,91,118,51,88,121,123,33,99,89,56,40,58,114,79,114,74,111,116]
[null,54,44,116,83,72,115,48,16,66,40,37,19,12,118,100,91,63,11,103,103,77,73]
[null,73,13,78,67,90,48,106,85,83,64,17,58,26,86,126,127,88,34,72,108,118,76]
[null,44,76,109,120,98,54,43,30,19,14,88,115,69,126,115,67,77,82,109,77,69,117]
[null,117,73,85,112,115,74,104,75,120,96,110,66,101,98,78,83,70,69,92,123,107,86]
[null,65,65,65,65,65,65,65,65,65,65,65,65,65,65,65,65,65,65,65,65,65,65]
[null,98,72,79,71,86,41,57,32,58,10,30,32,52,1,10,50,21,60,14,6,96,15]
[null,15,90,74,70,117,71,75,103,68,80,11,53,50,8,36,26,13,55,51,36,101,32]
[null,72,32,129,94,76,109,33,46,51,56,69,109,67,19,2,48,58,110,22,45,68,40]
[null,40,15,91,82,73,32,120,77,95,70,76,81,86,3,43,5,51,83,54,30,97,58]
[null,129,79,58,99,116,61,83,10,1,48,115,2,20,95,72,73,17,43,36,46,123,39]
[null,39,74,40,128,78,87,54,124,97,114,106,1,49,67,89,85,11,17,32,35,119,1]
[null,79,1,32,92,109,100,98,9,6,36,39,116,129,115,69,89,12,85,9,42,126,56]
[null,56,39,15,121,85,11,18,127,90,102,66,118,108,93,86,74,69,117,5,55,127,51]
[null,126,123,96,103,104,4,36,74,36,20,34,94,53,96,8,27,29,4,87,126,51,3]
[null,3,119,101,95,114,116,103,59,104,111,67,112,40,114,12,71,36,40,101,82,56,4]
[null,123,4,68,93,89,120,30,101,50,23,108,60,94,100,33,9,37,102,91,129,1,11]
[null,11,3,97,80,111,1,64,13,93,89,98,43,97,73,21,60,54,104,104,121,39,7]
[null,68,96,7,106,77,37,123,83,45,15,128,102,13,36,88,115,31,23,70,68,58,33]
[null,33,101,11,84,118,99,12,60,103,79,127,88,21,9,83,102,43,67,66,98,40,62]
[null,96,62,4,100,69,102,125,111,3,26,21,33,99,62,91,120,49,115,111,70,32,29]
[null,29,33,3,125,107,63,4,36,98,75,6,50,87,54,96,118,3,81,56,93,15,34]
[null,100,106,103,34,124,40,41,66,102,53,49,52,103,2,124,29,120,14,23,120,71,5]
[null,5,84,95,29,75,104,110,68,34,124,53,37,73,50,119,42,68,30,7,91,70,30]
[null,106,30,93,62,102,125,42,61,99,11,89,67,38,6,121,43,122,76,80,89,94,46]
[null,46,5,80,33,113,27,85,109,60,98,122,69,45,51,127,52,83,123,63,99,82,24]
[null,93,103,24,7,66,44,90,1,116,47,107,4,127,71,24,119,115,44,2,80,99,50]
[null,50,95,46,11,81,113,19,95,5,57,123,55,128,113,59,81,107,50,17,122,128,37]
[null,103,37,30,4,87,85,122,8,123,17,26,124,14,78,27,61,108,97,25,79,92,35]
[null,35,50,5,3,105,49,25,93,2,78,48,113,10,92,45,98,126,72,47,102,121,27]
[null,92,99,71,51,88,2,69,96,73,24,59,74,95,116,123,23,86,12,112,11,27,9]
[null,9,128,70,56,110,92,80,25,49,92,45,86,126,104,81,13,110,9,81,2,35,38]
[null,99,38,94,1,122,114,52,90,91,22,70,39,64,107,80,55,66,112,100,18,37,2]
[null,2,9,82,39,108,33,93,54,4,122,92,25,51,125,64,38,102,89,73,23,50,31]
[null,94,71,31,58,83,60,129,81,89,69,125,120,125,43,31,113,73,16,119,21,24,48]
[null,48,70,2,40,67,75,34,12,56,84,90,110,82,39,1,124,84,22,89,59,46,36]
[null,71,36,38,32,120,79,124,128,113,18,9,26,60,46,57,122,106,68,62,29,30,60]
[null,60,48,9,15,112,35,44,31,29,126,35,40,42,41,35,96,78,91,124,54,5,59]
[null,120,83,88,86,59,66,13,57,13,63,14,34,56,20,46,116,124,78,129,15,124,18]
[null,18,67,110,117,60,78,81,125,87,62,13,7,68,45,23,105,97,88,82,52,75,10]
[null,83,10,122,76,36,110,9,24,61,76,99,85,111,48,54,111,89,59,97,3,102,63]
[null,63,18,108,73,48,7,115,113,78,27,94,114,105,53,38,86,75,53,115,49,113,47]
[null,122,88,47,116,31,22,68,44,54,128,101,30,34,99,70,62,90,120,75,24,66,22]
[null,22,110,63,78,2,91,53,51,119,29,111,35,17,101,82,46,128,99,88,19,81,8]
[null,88,8,10,109,38,122,101,20,42,118,52,79,75,70,110,54,71,5,96,12,87,20]
[null,20,22,18,85,9,19,2,82,109,30,43,62,112,103,112,51,100,38,84,33,105,42]
[null,87,66,124,104,27,42,58,116,20,99,18,121,9,102,25,128,121,57,10,83,42,25]
[null,25,81,75,114,35,62,127,38,106,37,16,103,37,119,63,109,116,93,20,96,20,43]
[null,66,43,102,89,37,94,14,115,23,85,83,29,106,61,5,94,112,19,3,72,8,49]
[null,49,25,113,111,50,34,99,11,92,44,118,23,98,66,53,129,98,24,28,105,22,64]
[null,102,124,64,77,24,57,92,58,12,87,102,125,15,22,113,53,104,124,61,69,47,17]
[null,17,75,49,118,46,127,63,43,75,21,84,108,58,13,93,40,80,105,31,67,63,28]
[null,124,28,43,69,30,112,107,108,22,127,50,71,119,7,104,33,96,36,71,125,10,55]
[null,55,17,25,107,5,29,39,4,71,35,51,47,54,21,111,31,91,29,44,90,18,6]
[null,69,77,104,6,34,6,17,7,77,97,4,73,100,40,116,123,5,103,122,116,86,23]
[null,23,118,114,55,29,77,109,78,8,25,56,54,123,24,101,126,35,66,95,92,117,61]
[null,77,61,89,28,62,106,16,63,115,91,103,127,47,55,75,110,48,35,106,57,76,12]
[null,12,23,111,17,33,58,84,80,30,59,120,89,6,18,74,108,19,32,90,66,73,53]
[null,89,104,53,64,7,23,119,41,82,117,86,46,107,58,22,30,56,128,85,114,116,19]
[null,19,114,12,49,11,117,60,97,63,5,72,11,91,88,32,66,45,129,117,117,78,41]
[null,104,41,61,43,4,121,102,39,105,121,1,82,46,105,51,24,25,21,77,110,109,16]
[null,16,19,23,25,3,50,56,102,44,1,62,117,71,81,28,16,38,8,78,87,85,26]
[null,109,116,86,42,51,46,22,112,114,81,55,122,102,97,117,112,7,84,4,17,26,45]
[null,45,78,117,20,56,105,95,26,46,58,57,92,122,83,114,95,27,127,12,26,16,21]
[null,116,21,76,8,1,83,59,107,112,88,105,24,16,120,62,93,1,56,37,44,41,52]
[null,52,45,73,22,39,12,79,42,9,7,97,31,41,74,90,72,16,51,16,56,19,14]
[null,76,86,14,47,58,15,82,114,64,90,93,111,118,12,30,39,67,119,27,27,53,57]
[null,57,117,52,63,40,82,24,45,47,66,113,72,104,44,4,3,42,96,58,22,12,54]
[null,86,54,21,10,32,76,87,100,111,116,42,15,61,4,15,63,53,48,21,53,61,13]
[null,13,57,45,18,15,56,26,55,10,34,20,64,29,32,52,47,60,61,38,7,23,44]
[null,100,78,124,98,129,73,34,80,116,120,98,59,109,120,115,72,32,89,70,51,44,58]
[null,119,80,94,27,122,55,29,104,79,50,77,60,117,94,98,62,115,59,75,56,13,40]
[null,61,63,85,84,111,97,62,82,108,74,21,36,72,128,90,79,58,21,20,1,54,98]
[null,54,44,100,53,127,10,33,125,76,60,49,48,79,87,72,35,90,98,47,39,57,115]
[null,15,110,84,120,35,47,7,57,94,82,128,31,113,58,91,129,1,69,87,72,14,51]
[null,24,81,95,6,63,76,11,45,98,16,129,2,119,41,129,33,91,43,113,90,52,56]
[null,91,1,88,121,15,32,4,41,121,94,14,38,118,61,74,124,51,30,45,98,21,129]
[null,64,22,75,3,37,112,3,56,125,28,12,9,61,44,79,40,74,119,13,115,45,91]
[null,96,77,4,56,34,94,79,103,43,110,36,27,101,122,127,94,4,126,126,34,26,7]
[null,63,90,48,71,16,27,74,59,29,19,18,35,94,118,126,26,127,14,90,29,16,11]
[null,22,36,1,29,30,100,129,121,39,107,70,37,93,97,119,80,7,10,28,62,41,126]
[null,32,33,9,117,57,66,91,70,26,41,87,50,76,109,123,37,119,129,26,33,19,127]
[null,2,117,62,47,94,7,72,15,60,115,28,24,99,42,97,85,62,93,107,123,53,34]
[null,3,109,32,70,121,118,90,28,64,51,42,46,87,47,68,27,97,31,63,119,12,29]
[null,109,31,60,19,68,5,98,10,19,104,97,30,81,39,101,127,34,28,15,126,61,68]
[null,124,43,37,94,76,126,115,12,74,55,80,5,127,34,96,32,101,67,49,127,23,97]
[null,81,27,10,64,128,89,59,101,107,77,78,96,10,6,125,28,30,90,116,27,6,24]
[null,77,57,39,62,80,20,60,88,123,6,93,101,62,11,100,96,125,26,100,35,55,46]
[null,41,92,41,69,124,88,36,87,50,119,63,68,8,9,84,31,24,5,54,37,28,100]
[null,8,85,31,21,79,45,48,78,67,32,61,97,47,3,106,70,84,103,7,50,17,125]
[null,23,3,50,129,59,40,31,11,128,83,126,123,15,106,80,14,37,86,86,106,64,27]
[null,7,2,8,35,17,111,2,49,113,73,75,119,23,71,93,125,80,17,80,84,49,35]
[null,104,116,51,122,52,8,38,69,105,113,6,126,22,103,95,7,27,45,33,100,43,93]
[null,82,120,28,37,38,105,9,32,83,52,17,127,4,85,103,128,95,81,58,125,25,80]
[null,71,35,119,34,14,61,103,107,18,106,56,79,44,7,121,57,38,128,118,59,42,31]
[null,85,4,128,105,26,50,95,117,49,38,44,74,20,49,92,81,121,38,121,60,20,2]
[null,60,66,112,40,23,78,93,75,30,108,91,129,64,50,128,39,31,16,18,36,8,92]
[null,38,79,107,76,5,37,80,92,57,8,105,91,28,66,99,126,128,97,41,48,22,121]
[null,5,5,109,49,87,1,106,17,11,61,10,72,57,99,82,41,36,70,114,99,47,59]
[null,40,48,71,118,91,96,84,6,41,46,20,90,46,129,94,74,82,55,108,128,63,60]
[null,121,70,101,2,84,6,100,8,68,112,104,98,24,73,70,17,59,51,62,92,10,94]
[null,95,88,76,99,89,86,125,34,6,4,90,115,52,95,71,101,70,95,39,121,18,82]
[null,116,74,115,73,110,117,6,14,1,67,96,44,6,84,112,117,10,64,52,42,71,47]
[null,117,62,78,5,85,49,55,25,48,68,123,13,33,107,120,43,112,52,42,20,70,63]
[null,31,19,127,106,82,121,28,19,33,54,45,54,41,76,67,69,47,20,71,8,94,120]
[null,36,25,81,17,77,15,17,44,15,103,16,57,55,92,83,52,67,123,77,22,82,112]
[null,29,96,106,86,31,62,64,68,55,2,100,14,40,60,108,76,8,108,10,83,99,42]
[null,19,113,111,79,29,77,49,84,42,101,95,52,2,48,122,11,108,39,31,67,128,20]
[null,78,55,118,110,60,29,43,76,34,12,51,21,59,20,110,88,42,8,125,120,92,122]
[null,87,18,97,48,27,128,25,79,46,100,68,45,30,18,88,21,110,111,92,112,121,108]
[null,112,121,47,14,28,72,88,2,120,31,9,26,9,105,105,110,43,88,73,6,103,64]
[null,114,93,34,92,11,3,110,21,110,93,27,16,14,67,87,24,105,68,37,55,95,49]
[null,47,24,58,15,69,116,122,36,127,45,101,41,18,125,81,107,64,36,111,28,93,87]
[null,12,32,25,119,64,31,108,1,102,86,107,19,32,77,66,38,81,96,106,17,80,105]
[null,28,115,61,72,108,38,83,77,69,43,5,53,26,17,113,118,28,73,6,66,106,6]
[null,46,72,63,87,117,67,67,90,99,109,22,12,50,37,102,55,113,3,25,81,84,55]
[null,80,11,5,22,123,23,120,97,59,3,59,61,34,26,75,108,6,18,94,87,100,102]
[null,79,76,40,126,109,91,112,99,86,95,83,23,39,19,124,59,75,101,101,105,125,113]
[null,126,30,14,123,90,113,44,7,8,33,57,124,125,14,107,53,61,124,27,26,96,53]
[null,74,7,38,52,106,21,13,4,35,105,76,75,95,29,69,122,107,53,64,16,101,12]
[null,27,83,73,67,75,114,54,20,24,39,3,102,82,55,118,15,53,24,95,41,68,69]
[null,10,124,64,50,112,46,57,22,40,71,41,113,111,56,77,100,118,72,98,19,97,107]
[null,44,23,16,89,72,11,14,100,45,13,84,66,74,108,111,48,41,107,2,77,123,26]
[null,58,39,13,33,42,70,52,64,13,125,119,81,85,98,89,67,111,13,1,118,119,16]
[null,129,84,20,91,25,28,21,106,53,9,48,87,105,79,114,25,26,9,109,69,126,89]
[null,68,59,43,28,49,74,45,114,52,129,13,105,92,102,104,86,114,80,122,107,127,111]
[null,75,28,113,18,33,108,104,18,126,49,8,88,123,13,85,16,21,84,46,44,79,14]
[null,73,8,104,104,47,35,114,35,118,72,38,110,103,16,109,84,85,25,3,13,74,52]
[null,25,114,86,23,10,71,89,37,93,42,106,122,129,68,78,18,14,47,74,54,129,109]
[null,33,89,74,88,56,51,111,58,114,123,99,108,114,40,116,121,78,118,79,57,91,85]
[null,37,12,103,16,118,48,77,91,103,40,19,83,63,100,73,66,54,115,11,116,72,44]
[null,17,26,108,85,86,106,118,127,72,64,58,67,88,126,76,83,73,48,34,78,90,13]
[null,88,69,77,30,126,43,69,67,109,14,115,120,77,115,117,19,44,54,82,109,98,76]
[null,110,101,123,75,98,104,107,83,92,96,66,112,70,78,86,120,117,74,69,85,115,73]
[null,30,52,6,32,1,57,96,50,14,10,32,71,21,10,15,58,98,41,60,79,86,72]
[null,11,50,36,103,8,75,101,26,51,80,53,70,13,36,32,68,15,71,55,74,117,90]
[null,69,67,45,46,19,33,68,48,22,56,109,94,58,2,40,51,72,109,110,129,76,32]
[null,76,86,30,77,3,120,97,5,54,70,81,82,51,43,58,95,40,32,83,91,73,15]
[null,115,20,46,10,95,83,123,73,36,48,2,99,17,72,39,1,129,61,43,58,116,79]
[null,106,49,35,124,67,54,119,85,32,114,1,128,11,89,1,97,39,87,17,40,78,74]
[null,39,129,42,9,115,98,126,89,9,36,116,92,12,69,56,6,79,100,85,32,109,1]
[null,66,108,55,127,93,18,127,74,5,102,118,121,69,86,51,90,56,11,117,15,85,39]
[null,34,53,126,74,96,36,51,27,87,20,94,103,29,8,3,36,126,4,4,96,104,123]
[null,67,40,82,59,114,103,56,71,101,111,112,95,36,12,4,104,3,116,40,101,114,119]
[null,108,94,129,101,100,30,1,9,91,23,60,93,37,33,11,50,123,120,102,68,89,4]
[null,98,97,121,13,73,64,39,60,104,89,43,80,54,21,7,93,11,1,104,97,111,3]
[null,128,13,68,83,36,123,58,115,70,15,102,106,31,88,33,45,68,37,23,7,77,96]
[null,127,21,98,60,9,12,40,102,66,79,88,84,43,83,62,103,33,99,67,11,118,101]
[null,21,99,70,111,62,125,32,120,111,26,33,100,49,91,29,3,96,102,115,4,69,62]
[null,6,87,93,36,54,4,15,118,56,75,50,125,3,96,34,98,29,63,81,3,107,33]
[null,49,103,120,66,2,41,71,29,23,53,52,34,120,124,5,102,100,40,14,103,124,106]
[null,53,73,91,68,50,110,70,42,7,124,37,29,68,119,30,34,5,104,30,95,75,84]
[null,89,38,89,61,6,42,94,43,80,11,67,62,122,121,46,99,106,125,76,93,102,30]
[null,122,45,99,109,51,85,82,52,63,98,69,33,83,127,24,60,46,27,123,80,113,5]
[null,107,127,80,1,71,90,99,119,2,47,4,7,115,24,50,116,93,44,44,24,66,103]
[null,123,128,122,95,113,19,128,81,17,57,55,11,107,59,37,5,50,113,50,46,81,95]
[null,26,14,79,8,78,122,92,61,25,17,124,4,108,27,35,123,103,85,97,30,87,37]
[null,48,10,102,93,92,25,121,98,47,78,113,3,126,45,27,2,35,49,72,5,105,50]
[null,59,95,11,96,116,69,27,23,112,24,74,51,86,123,9,73,92,2,12,71,88,99]
[null,45,126,2,25,104,80,35,13,81,92,86,56,110,81,38,49,9,92,9,70,110,128]
[null,70,64,18,90,107,52,37,55,100,22,39,1,66,80,2,91,99,114,112,94,122,38]
[null,92,51,23,54,125,93,50,38,73,122,25,39,102,64,31,4,2,33,89,82,108,9]
[null,125,125,21,81,43,129,24,113,119,69,120,58,73,31,48,89,94,60,16,31,83,71]
[null,90,82,59,12,39,34,46,124,89,84,110,40,84,1,36,56,48,75,22,2,67,70]
[null,9,60,29,128,46,124,30,122,62,18,26,32,106,57,60,113,71,79,68,38,120,36]
[null,35,42,54,31,41,44,5,96,124,126,40,15,78,35,59,29,60,35,91,9,112,48]
[null,14,56,15,57,20,13,124,116,129,63,34,86,124,46,18,13,120,66,78,88,59,83]
[null,13,68,52,125,45,81,75,105,82,62,7,117,97,23,10,87,18,78,88,110,60,67]
[null,99,111,3,24,48,9,102,111,97,76,85,76,89,54,63,61,83,110,59,122,36,10]
[null,94,105,49,113,53,115,113,86,115,27,114,73,75,38,47,78,63,7,53,108,48,18]
[null,101,34,24,44,99,68,66,62,75,128,30,116,90,70,22,54,122,22,120,47,31,88]
[null,111,17,19,51,101,53,81,46,88,29,35,78,128,82,8,119,22,91,99,63,2,110]
[null,52,75,12,20,70,101,87,54,96,118,79,109,71,110,20,42,88,122,5,10,38,8]
[null,43,112,33,82,103,2,105,51,84,30,62,85,100,112,42,109,20,19,38,18,9,22]
[null,18,9,83,116,102,58,42,128,10,99,121,104,121,25,25,20,87,42,57,124,27,66]
[null,16,37,96,38,119,127,20,109,20,37,103,114,116,63,43,106,25,62,93,75,35,81]
[null,83,106,72,115,61,14,8,94,3,85,29,89,112,5,49,23,66,94,19,102,37,43]
[null,118,98,105,11,66,99,22,129,28,44,23,111,98,53,64,92,49,34,24,113,50,25]
[null,102,15,69,58,22,92,47,53,61,87,125,77,104,113,17,12,102,57,124,64,24,124]
[null,84,58,67,43,13,63,63,40,31,21,108,118,80,93,28,75,17,127,105,49,46,75]
[null,50,119,125,108,7,107,10,33,71,127,71,69,96,104,55,22,124,112,36,43,30,28]
[null,51,54,90,4,21,39,18,31,44,35,47,107,91,111,6,71,55,29,29,25,5,17]
[null,4,100,116,7,40,17,86,123,122,97,73,6,5,116,23,77,69,6,103,104,34,77]
[null,56,123,92,78,24,109,117,126,95,25,54,55,35,101,61,8,23,77,66,114,29,118]
[null,103,47,57,63,55,16,76,110,106,91,127,28,48,75,12,115,77,106,35,89,62,61]
[null,120,6,66,80,18,84,73,108,90,59,89,17,19,74,53,30,12,58,32,111,33,23]
[null,86,107,114,41,58,119,116,30,85,117,46,64,56,22,19,82,89,23,128,53,7,104]
[null,72,91,117,97,88,60,78,66,117,5,11,49,45,32,41,63,19,117,129,12,11,114]
[null,1,46,110,39,105,102,109,24,77,121,82,43,25,51,16,105,104,121,21,61,4,41]
[null,62,71,87,102,81,56,85,16,78,1,117,25,38,28,26,44,16,50,8,23,3,19]
[null,55,102,17,112,97,22,26,112,4,81,122,42,7,117,45,114,109,46,84,86,51,116]
[null,57,122,26,26,83,95,16,95,12,58,92,20,27,114,21,46,45,105,127,117,56,78]
[null,105,16,44,107,120,59,41,93,37,88,24,8,1,62,52,112,116,83,56,76,1,21]
[null,97,41,56,42,74,79,19,72,16,7,31,22,16,90,14,9,52,12,51,73,39,45]
[null,93,118,27,114,12,82,53,39,27,90,111,47,67,30,57,64,76,15,119,14,58,86]
[null,113,104,22,45,44,24,12,3,58,66,72,63,42,4,54,47,57,82,96,52,40,117]
[null,42,61,53,100,4,87,61,63,21,116,15,10,53,15,13,111,86,76,48,21,32,54]
[null,20,29,7,55,32,26,23,47,38,34,64,18,60,52,44,10,13,56,61,45,15,57]
[null,89,80,44,120,115,100,58,109,73,32,116,98,59,34,98,70,78,120,51,129,72,124]
[null,59,104,13,50,98,119,40,117,55,115,79,77,60,29,27,75,80,94,56,122,62,94]
[null,21,82,54,74,90,61,98,72,97,58,108,21,36,62,84,20,63,128,1,111,79,85]
[null,98,125,57,60,72,54,115,79,10,90,76,49,48,33,53,47,44,87,39,127,35,100]
[null,69,57,14,82,91,15,51,113,47,1,94,128,31,7,120,87,110,58,72,35,129,84]
[null,43,45,52,16,129,24,56,119,76,91,98,129,2,11,6,113,81,41,90,63,33,95]
[null,30,41,21,94,74,91,129,118,32,51,121,14,38,4,121,45,1,61,98,15,124,88]
[null,119,56,45,28,79,64,91,61,112,74,125,12,9,3,3,13,22,44,115,37,40,75]
[null,126,103,26,110,127,96,7,101,94,4,43,36,27,79,56,126,77,122,34,34,94,4]
[null,14,59,16,19,126,63,11,94,27,127,29,18,35,74,71,90,90,118,29,16,26,48]
[null,10,121,41,107,119,22,126,93,100,7,39,70,37,129,29,28,36,97,62,30,80,1]
[null,129,70,19,41,123,32,127,76,66,119,26,87,50,91,117,26,33,109,33,57,37,9]
[null,93,15,53,115,97,2,34,99,7,62,60,28,24,72,47,107,117,42,123,94,85,62]
[null,31,28,12,51,68,3,29,87,118,97,64,42,46,90,70,63,109,47,119,121,27,32]
[null,28,10,61,104,101,109,68,81,5,34,19,97,30,98,19,15,31,39,126,68,127,60]
[null,67,12,23,55,96,124,97,127,126,101,74,80,5,115,94,49,43,34,127,76,32,37]
[null,90,101,6,77,125,81,24,10,89,30,107,78,96,59,64,116,27,6,27,128,28,10]
[null,26,88,55,6,100,77,46,62,20,125,123,93,101,60,62,100,57,11,35,80,96,39]
[null,5,87,28,119,84,41,100,8,88,24,50,63,68,36,69,54,92,9,37,124,31,41]
[null,103,78,17,32,106,8,125,47,45,84,67,61,97,48,21,7,85,3,50,79,70,31]
[null,86,11,64,83,80,23,27,15,40,37,128,126,123,31,129,86,3,106,106,59,14,50]
[null,17,49,49,73,93,7,35,23,111,80,113,75,119,2,35,80,2,71,84,17,125,8]
[null,45,69,43,113,95,104,93,22,8,27,105,6,126,38,122,33,116,103,100,52,7,51]
[null,81,32,25,52,103,82,80,4,105,95,83,17,127,9,37,58,120,85,125,38,128,28]
[null,128,107,42,106,121,71,31,44,61,38,18,56,79,103,34,118,35,7,59,14,57,119]
[null,38,117,20,38,92,85,2,20,50,121,49,44,74,95,105,121,4,49,60,26,81,128]
[null,16,75,8,108,128,60,92,64,78,31,30,91,129,93,40,18,66,50,36,23,39,112]
[null,97,92,22,8,99,38,121,28,37,128,57,105,91,80,76,41,79,66,48,5,126,107]
[null,70,17,47,61,82,5,59,57,1,36,11,10,72,106,49,114,5,99,99,87,41,109]
[null,55,6,63,46,94,40,60,46,96,82,41,20,90,84,118,108,48,129,128,91,74,71]
[null,51,8,10,112,70,121,94,24,6,59,68,104,98,100,2,62,70,73,92,84,17,101]
[null,95,34,18,4,71,95,82,52,86,70,6,90,115,125,99,39,88,95,121,89,101,76]
[null,64,14,71,67,112,116,47,6,117,10,1,96,44,6,73,52,74,84,42,110,117,115]
[null,52,25,70,68,120,117,63,33,49,112,48,123,13,55,5,42,62,107,20,85,43,78]
[null,20,19,94,54,67,31,120,41,121,47,33,45,54,28,106,71,19,76,8,82,69,127]
[null,123,44,82,103,83,36,112,55,15,67,15,16,57,17,17,77,25,92,22,77,52,81]
[null,108,68,99,2,108,29,42,40,62,8,55,100,14,64,86,10,96,60,83,31,76,106]
[null,39,84,128,101,122,19,20,2,77,108,42,95,52,49,79,31,113,48,67,29,11,111]
[null,8,76,92,12,110,78,122,59,29,42,34,51,21,43,110,125,55,20,120,60,88,118]
[null,111,79,121,100,88,87,108,30,128,110,46,68,45,25,48,92,18,18,112,27,21,97]
[null,88,2,103,31,105,112,64,9,72,43,120,9,26,88,14,73,121,105,6,28,110,47]
[null,68,21,95,93,87,114,49,14,3,105,110,27,16,110,92,37,93,67,55,11,24,34]
[null,36,36,93,45,81,47,87,18,116,64,127,101,41,122,15,111,24,125,28,69,107,58]
[null,96,1,80,86,66,12,105,32,31,81,102,107,19,108,119,106,32,77,17,64,38,25]
[null,73,77,106,43,113,28,6,26,38,28,69,5,53,83,72,6,115,17,66,108,118,61]
[null,3,90,84,109,102,46,55,50,67,113,99,22,12,67,87,25,72,37,81,117,55,63]
[null,18,97,100,3,75,80,102,34,23,6,59,59,61,120,22,94,11,26,87,123,108,5]
[null,101,99,125,95,124,79,113,39,91,75,86,83,23,112,126,101,76,19,105,109,59,40]
[null,124,7,96,33,107,126,53,125,113,61,8,57,124,44,123,27,30,14,26,90,53,14]
[null,53,4,101,105,69,74,12,95,21,107,35,76,75,13,52,64,7,29,16,106,122,38]
[null,24,20,68,39,118,27,69,82,114,53,24,3,102,54,67,95,83,55,41,75,15,73]
[null,72,22,97,71,77,10,107,111,46,118,40,41,113,57,50,98,124,56,19,112,100,64]
[null,107,100,123,13,111,44,26,74,11,41,45,84,66,14,89,2,23,108,77,72,48,16]
[null,13,64,119,125,89,58,16,85,70,111,13,119,81,52,33,1,39,98,118,42,67,13]
[null,9,106,126,9,114,129,89,105,28,26,53,48,87,21,91,109,84,79,69,25,25,20]
[null,80,114,127,129,104,68,111,92,74,114,52,13,105,45,28,122,59,102,107,49,86,43]
[null,84,18,79,49,85,75,14,123,108,21,126,8,88,104,18,46,28,13,44,33,16,113]
[null,25,35,74,72,109,73,52,103,35,85,118,38,110,114,104,3,8,16,13,47,84,104]
[null,47,37,129,42,78,25,109,129,71,14,93,106,122,89,23,74,114,68,54,10,18,86]
[null,118,58,91,123,116,33,85,114,51,78,114,99,108,111,88,79,89,40,57,56,121,74]
[null,115,91,72,40,73,37,44,63,48,54,103,19,83,77,16,11,12,100,116,118,66,103]
[null,48,127,90,64,76,17,13,88,106,73,72,58,67,118,85,34,26,126,78,86,83,108]
[null,54,67,98,14,117,88,76,77,43,44,109,115,120,69,30,82,69,115,109,126,19,77]
[null,74,83,115,96,86,110,73,70,104,117,92,66,112,107,75,69,101,78,85,98,120,123]
[null,41,50,86,10,15,30,72,21,57,98,14,32,71,96,32,60,52,10,79,1,58,6]
[null,71,26,117,80,32,11,90,13,75,15,51,53,70,101,103,55,50,36,74,8,68,36]
[null,109,48,76,56,40,69,32,58,33,72,22,109,94,68,46,110,67,2,129,19,51,45]
[null,32,5,73,70,58,76,15,51,120,40,54,81,82,97,77,83,86,43,91,3,95,30]
[null,61,73,116,48,39,115,79,17,83,129,36,2,99,123,10,43,20,72,58,95,1,46]
[null,87,85,78,114,1,106,74,11,54,39,32,1,128,119,124,17,49,89,40,67,97,35]
[null,100,89,109,36,56,39,1,12,98,79,9,116,92,126,9,85,129,69,32,115,6,42]
[null,11,74,85,102,51,66,39,69,18,56,5,118,121,127,127,117,108,86,15,93,90,55]
[null,4,27,104,20,3,34,123,29,36,126,87,94,103,51,74,4,53,8,96,96,36,126]
[null,116,71,114,111,4,67,119,36,103,3,101,112,95,56,59,40,40,12,101,114,104,82]
[null,120,9,89,23,11,108,4,37,30,123,91,60,93,1,101,102,94,33,68,100,50,129]
[null,1,60,111,89,7,98,3,54,64,11,104,43,80,39,13,104,97,21,97,73,93,121]
[null,37,115,77,15,33,128,96,31,123,68,70,102,106,58,83,23,13,88,7,36,45,68]
[null,99,102,118,79,62,127,101,43,12,33,66,88,84,40,60,67,21,83,11,9,103,98]
[null,102,120,69,26,29,21,62,49,125,96,111,33,100,32,111,115,99,91,4,62,3,70]
[null,63,118,107,75,34,6,33,3,4,29,56,50,125,15,36,81,87,96,3,54,98,93]
[null,40,29,124,53,5,49,106,120,41,100,23,52,34,71,66,14,103,124,103,2,102,120]
[null,104,42,75,124,30,53,84,68,110,5,7,37,29,70,68,30,73,119,95,50,34,91]
[null,125,43,102,11,46,89,30,122,42,106,80,67,62,94,61,76,38,121,93,6,99,89]
[null,27,52,113,98,24,122,5,83,85,46,63,69,33,82,109,123,45,127,80,51,60,99]
[null,44,119,66,47,50,107,103,115,90,93,2,4,7,99,1,44,127,24,24,71,116,80]
[null,113,81,81,57,37,123,95,107,19,50,17,55,11,128,95,50,128,59,46,113,5,122]
[null,85,61,87,17,35,26,37,108,122,103,25,124,4,92,8,97,14,27,30,78,123,79]
[null,49,98,105,78,27,48,50,126,25,35,47,113,3,121,93,72,10,45,5,92,2,102]
[null,2,23,88,24,9,59,99,86,69,92,112,74,51,27,96,12,95,123,71,116,73,11]
[null,92,13,110,92,38,45,128,110,80,9,81,86,56,35,25,9,126,81,70,104,49,2]
[null,114,55,122,22,2,70,38,66,52,99,100,39,1,37,90,112,64,80,94,107,91,18]
[null,33,38,108,122,31,92,9,102,93,2,73,25,39,50,54,89,51,64,82,125,4,23]
[null,60,113,83,69,48,125,71,73,129,94,119,120,58,24,81,16,125,31,31,43,89,21]
[null,75,124,67,84,36,90,70,84,34,48,89,110,40,46,12,22,82,1,2,39,56,59]
[null,79,122,120,18,60,9,36,106,124,71,62,26,32,30,128,68,60,57,38,46,113,29]
[null,35,96,112,126,59,35,48,78,44,60,124,40,15,5,31,91,42,35,9,41,29,54]
[null,66,116,59,63,18,14,83,124,13,120,129,34,86,124,57,78,56,46,88,20,13,15]
[null,78,105,60,62,10,13,67,97,81,18,82,7,117,75,125,88,68,23,110,45,87,52]
[null,110,111,36,76,63,99,10,89,9,83,97,85,76,102,24,59,111,54,122,48,61,3]
[null,7,86,48,27,47,94,18,75,115,63,115,114,73,113,113,53,105,38,108,53,78,49]
[null,22,62,31,128,22,101,88,90,68,122,75,30,116,66,44,120,34,70,47,99,54,24]
[null,91,46,2,29,8,111,110,128,53,22,88,35,78,81,51,99,17,82,63,101,119,19]
[null,122,54,38,118,20,52,8,71,101,88,96,79,109,87,20,5,75,110,10,70,42,12]
[null,19,51,9,30,42,43,22,100,2,20,84,62,85,105,82,38,112,112,18,103,109,33]
[null,42,128,27,99,25,18,66,121,58,87,10,121,104,42,116,57,9,25,124,102,20,83]
[null,62,109,35,37,43,16,81,116,127,25,20,103,114,20,38,93,37,63,75,119,106,96]
[null,94,94,37,85,49,83,43,112,14,66,3,29,89,8,115,19,106,5,102,61,23,72]
[null,34,129,50,44,64,118,25,98,99,49,28,23,111,22,11,24,98,53,113,66,92,105]
[null,57,53,24,87,17,102,124,104,92,102,61,125,77,47,58,124,15,113,64,22,12,69]
[null,127,40,46,21,28,84,75,80,63,17,31,108,118,63,43,105,58,93,49,13,75,67]
[null,112,33,30,127,55,50,28,96,107,124,71,71,69,10,108,36,119,104,43,7,22,125]
[null,29,31,5,35,6,51,17,91,39,55,44,47,107,18,4,29,54,111,25,21,71,90]
[null,6,123,34,97,23,4,77,5,17,69,122,73,6,86,7,103,100,116,104,40,77,116]
[null,77,126,29,25,61,56,118,35,109,23,95,54,55,117,78,66,123,101,114,24,8,92]
[null,106,110,62,91,12,103,61,48,16,77,106,127,28,76,63,35,47,75,89,55,115,57]
[null,58,108,33,59,53,120,23,19,84,12,90,89,17,73,80,32,6,74,111,18,30,66]
[null,23,30,7,117,19,86,104,56,119,89,85,46,64,116,41,128,107,22,53,58,82,114]
[null,117,66,11,5,41,72,114,45,60,19,117,11,49,78,97,129,91,32,12,88,63,117]
[null,121,24,4,121,16,1,41,25,102,104,77,82,43,109,39,21,46,51,61,105,105,110]
[null,50,16,3,1,26,62,19,38,56,16,78,117,25,85,102,8,71,28,23,81,44,87]
[null,46,112,51,81,45,55,116,7,22,109,4,122,42,26,112,84,102,117,86,97,114,17]
[null,105,95,56,58,21,57,78,27,95,45,12,92,20,16,26,127,122,114,117,83,46,26]
[null,83,93,1,88,52,105,21,1,59,116,37,24,8,41,107,56,16,62,76,120,112,44]
[null,12,72,39,7,14,97,45,16,79,52,16,31,22,19,42,51,41,90,73,74,9,56]
[null,15,39,58,90,57,93,86,67,82,76,27,111,47,53,114,119,118,30,14,12,64,27]
[null,82,3,40,66,54,113,117,42,24,57,58,72,63,12,45,96,104,4,52,44,47,22]
[null,76,63,32,116,13,42,54,53,87,86,21,15,10,61,100,48,61,15,21,4,111,53]
[null,56,47,15,34,44,20,57,60,26,13,38,64,18,23,55,61,29,52,45,32,10,7]
[null,59,51,78,80,98,32,73,100,34,116,58,120,129,124,98,70,89,115,109,120,44,72]
[null,60,56,80,104,77,115,55,119,29,79,40,94,122,94,27,75,59,98,117,50,13,62]
[null,36,1,63,82,21,58,97,61,62,108,98,128,111,85,84,20,21,90,72,74,54,79]
[null,48,39,44,125,49,90,10,54,33,76,115,87,127,100,53,47,98,72,79,60,57,35]
[null,31,72,110,57,128,1,47,15,7,94,51,58,35,84,120,87,69,91,113,82,14,129]
[null,2,90,81,45,129,91,76,24,11,98,56,41,63,95,6,113,43,129,119,16,52,33]
[null,38,98,1,41,14,51,32,91,4,121,129,61,15,88,121,45,30,74,118,94,21,124]
[null,9,115,22,56,12,74,112,64,3,125,91,44,37,75,3,13,119,79,61,28,45,40]
[null,27,34,77,103,36,4,94,96,79,43,7,122,34,4,56,126,126,127,101,110,26,94]
[null,35,29,90,59,18,127,27,63,74,29,11,118,16,48,71,90,14,126,94,19,16,26]
[null,37,62,36,121,70,7,100,22,129,39,126,97,30,1,29,28,10,119,93,107,41,80]
[null,50,33,33,70,87,119,66,32,91,26,127,109,57,9,117,26,129,123,76,41,19,37]
[null,24,123,117,15,28,62,7,2,72,60,34,42,94,62,47,107,93,97,99,115,53,85]
[null,46,119,109,28,42,97,118,3,90,64,29,47,121,32,70,63,31,68,87,51,12,27]
[null,30,126,31,10,97,34,5,109,98,19,68,39,68,60,19,15,28,101,81,104,61,127]
[null,5,127,43,12,80,101,126,124,115,74,97,34,76,37,94,49,67,96,127,55,23,32]
[null,96,27,27,101,78,30,89,81,59,107,24,6,128,10,64,116,90,125,10,77,6,28]
[null,101,35,57,88,93,125,20,77,60,123,46,11,80,39,62,100,26,100,62,6,55,96]
[null,68,37,92,87,63,24,88,41,36,50,100,9,124,41,69,54,5,84,8,119,28,31]
[null,97,50,85,78,61,84,45,8,48,67,125,3,79,31,21,7,103,106,47,32,17,70]
[null,123,106,3,11,126,37,40,23,31,128,27,106,59,50,129,86,86,80,15,83,64,14]
[null,119,84,2,49,75,80,111,7,2,113,35,71,17,8,35,80,17,93,23,73,49,125]
[null,126,100,116,69,6,27,8,104,38,105,93,103,52,51,122,33,45,95,22,113,43,7]
[null,127,125,120,32,17,95,105,82,9,83,80,85,38,28,37,58,81,103,4,52,25,128]
[null,79,59,35,107,56,38,61,71,103,18,31,7,14,119,34,118,128,121,44,106,42,57]
[null,74,60,4,117,44,121,50,85,95,49,2,49,26,128,105,121,38,92,20,38,20,81]
[null,129,36,66,75,91,31,78,60,93,30,92,50,23,112,40,18,16,128,64,108,8,39]
[null,91,48,79,92,105,128,37,38,80,57,121,66,5,107,76,41,97,99,28,8,22,126]
[null,72,99,5,17,10,36,1,5,106,11,59,99,87,109,49,114,70,82,57,61,47,41]
[null,90,128,48,6,20,82,96,40,84,41,60,129,91,71,118,108,55,94,46,46,63,74]
[null,98,92,70,8,104,59,6,121,100,68,94,73,84,101,2,62,51,70,24,112,10,17]
[null,115,121,88,34,90,70,86,95,125,6,82,95,89,76,99,39,95,71,52,4,18,101]
[null,44,42,74,14,96,10,117,116,6,1,47,84,110,115,73,52,64,112,6,67,71,117]
[null,13,20,62,25,123,112,49,117,55,48,63,107,85,78,5,42,52,120,33,68,70,43]
[null,54,8,19,19,45,47,121,31,28,33,120,76,82,127,106,71,20,67,41,54,94,69]
[null,57,22,25,44,16,67,15,36,17,15,112,92,77,81,17,77,123,83,55,103,82,52]
[null,14,83,96,68,100,8,62,29,64,55,42,60,31,106,86,10,108,108,40,2,99,76]
[null,52,67,113,84,95,108,77,19,49,42,20,48,29,111,79,31,39,122,2,101,128,11]
[null,21,120,55,76,51,42,29,78,43,34,122,20,60,118,110,125,8,110,59,12,92,88]
[null,45,112,18,79,68,110,128,87,25,46,108,18,27,97,48,92,111,88,30,100,121,21]
[null,26,6,121,2,9,43,72,112,88,120,64,105,28,47,14,73,88,105,9,31,103,110]
[null,16,55,93,21,27,105,3,114,110,110,49,67,11,34,92,37,68,87,14,93,95,24]
[null,41,28,24,36,101,64,116,47,122,127,87,125,69,58,15,111,36,81,18,45,93,107]
[null,19,17,32,1,107,81,31,12,108,102,105,77,64,25,119,106,96,66,32,86,80,38]
[null,53,66,115,77,5,28,38,28,83,69,6,17,108,61,72,6,73,113,26,43,106,118]
[null,12,81,72,90,22,113,67,46,67,99,55,37,117,63,87,25,3,102,50,109,84,55]
[null,61,87,11,97,59,6,23,80,120,59,102,26,123,5,22,94,18,75,34,3,100,108]
[null,23,105,76,99,83,75,91,79,112,86,113,19,109,40,126,101,101,124,39,95,125,59]
[null,124,26,30,7,57,61,113,126,44,8,53,14,90,14,123,27,124,107,125,33,96,53]
[null,75,16,7,4,76,107,21,74,13,35,12,29,106,38,52,64,53,69,95,105,101,122]
[null,102,41,83,20,3,53,114,27,54,24,69,55,75,73,67,95,24,118,82,39,68,15]
[null,113,19,124,22,41,118,46,10,57,40,107,56,112,64,50,98,72,77,111,71,97,100]
[null,66,77,23,100,84,41,11,44,14,45,26,108,72,16,89,2,107,111,74,13,123,48]
[null,81,118,39,64,119,111,70,58,52,13,16,98,42,13,33,1,13,89,85,125,119,67]
[null,87,69,84,106,48,26,28,129,21,53,89,79,25,20,91,109,9,114,105,9,126,25]
[null,105,107,59,114,13,114,74,68,45,52,111,102,49,43,28,122,80,104,92,129,127,86]
[null,88,44,28,18,8,21,108,75,104,126,14,13,33,113,18,46,84,85,123,49,79,16]
[null,110,13,8,35,38,85,35,73,114,118,52,16,47,104,104,3,25,109,103,72,74,84]
[null,122,54,114,37,106,14,71,25,89,93,109,68,10,86,23,74,47,78,129,42,129,18]
[null,108,57,89,58,99,78,51,33,111,114,85,40,56,74,88,79,118,116,114,123,91,121]
[null,83,116,12,91,19,54,48,37,77,103,44,100,118,103,16,11,115,73,63,40,72,66]
[null,67,78,26,127,58,73,106,17,118,72,13,126,86,108,85,34,48,76,88,64,90,83]
[null,120,109,69,67,115,44,43,88,69,109,76,115,126,77,30,82,54,117,77,14,98,19]
[null,112,85,101,83,66,117,104,110,107,92,73,78,98,123,75,69,74,86,70,96,115,120]
[null,71,79,52,50,32,98,57,30,96,14,72,10,1,6,32,60,41,15,21,10,86,58]
[null,70,74,50,26,53,15,75,11,101,51,90,36,8,36,103,55,71,32,13,80,117,68]
[null,94,129,67,48,109,72,33,69,68,22,32,2,19,45,46,110,109,40,58,56,76,51]
[null,82,91,86,5,81,40,120,76,97,54,15,43,3,30,77,83,32,58,51,70,73,95]
[null,99,58,20,73,2,129,83,115,123,36,79,72,95,46,10,43,61,39,17,48,116,1]
[null,128,40,49,85,1,39,54,106,119,32,74,89,67,35,124,17,87,1,11,114,78,97]
[null,92,32,129,89,116,79,98,39,126,9,1,69,115,42,9,85,100,56,12,36,109,6]
[null,121,15,108,74,118,56,18,66,127,5,39,86,93,55,127,117,11,51,69,102,85,90]
[null,103,96,53,27,94,126,36,34,51,87,123,8,96,126,74,4,4,3,29,20,104,36]
[null,95,101,40,71,112,3,103,67,56,101,119,12,114,82,59,40,116,4,36,111,114,104]
[null,93,68,94,9,60,123,30,108,1,91,4,33,100,129,101,102,120,11,37,23,89,50]
[null,80,97,97,60,43,11,64,98,39,104,3,21,73,121,13,104,1,7,54,89,111,93]
[null,106,7,13,115,102,68,123,128,58,70,96,88,36,68,83,23,37,33,31,15,77,45]
[null,84,11,21,102,88,33,12,127,40,66,101,83,9,98,60,67,99,62,43,79,118,103]
[null,100,4,99,120,33,96,125,21,32,111,62,91,62,70,111,115,102,29,49,26,69,3]
[null,125,3,87,118,50,29,4,6,15,56,33,96,54,93,36,81,63,34,3,75,107,98]
[null,34,103,103,29,52,100,41,49,71,23,106,124,2,120,66,14,40,5,120,53,124,102]
[null,29,95,73,42,37,5,110,53,70,7,84,119,50,91,68,30,104,30,68,124,75,34]
[null,62,93,38,43,67,106,42,89,94,80,30,121,6,89,61,76,125,46,122,11,102,99]
[null,33,80,45,52,69,46,85,122,82,63,5,127,51,99,109,123,27,24,83,98,113,60]
[null,7,24,127,119,4,93,90,107,99,2,103,24,71,80,1,44,44,50,115,47,66,116]
[null,11,46,128,81,55,50,19,123,128,17,95,59,113,122,95,50,113,37,107,57,81,5]
[null,4,30,14,61,124,103,122,26,92,25,37,27,78,79,8,97,85,35,108,17,87,123]
[null,3,5,10,98,113,35,25,48,121,47,50,45,92,102,93,72,49,27,126,78,105,2]
[null,51,71,95,23,74,92,69,59,27,112,99,123,116,11,96,12,2,9,86,24,88,73]
[null,56,70,126,13,86,9,80,45,35,81,128,81,104,2,25,9,92,38,110,92,110,49]
[null,1,94,64,55,39,99,52,70,37,100,38,80,107,18,90,112,114,2,66,22,122,91]
[null,39,82,51,38,25,2,93,92,50,73,9,64,125,23,54,89,33,31,102,122,108,4]
[null,58,31,125,113,120,94,129,125,24,119,71,31,43,21,81,16,60,48,73,69,83,89]
[null,40,2,82,124,110,48,34,90,46,89,70,1,39,59,12,22,75,36,84,84,67,56]
[null,32,38,60,122,26,71,124,9,30,62,36,57,46,29,128,68,79,60,106,18,120,113]
[null,15,9,42,96,40,60,44,35,5,124,48,35,41,54,31,91,35,59,78,126,112,29]
[null,86,88,56,116,34,120,13,14,124,129,83,46,20,15,57,78,66,18,124,63,59,13]
[null,117,110,68,105,7,18,81,13,75,82,67,23,45,52,125,88,78,10,97,62,60,87]
[null,76,122,111,111,85,83,9,99,102,97,10,54,48,3,24,59,110,63,89,76,36,61]
[null,73,108,105,86,114,63,115,94,113,115,18,38,53,49,113,53,7,47,75,27,48,78]
[null,116,47,34,62,30,122,68,101,66,75,88,70,99,24,44,120,22,22,90,128,31,54]
[null,78,63,17,46,35,22,53,111,81,88,110,82,101,19,51,99,91,8,128,29,2,119]
[null,109,10,75,54,79,88,101,52,87,96,8,110,70,12,20,5,122,20,71,118,38,42]
[null,85,18,112,51,62,20,2,43,105,84,22,112,103,33,82,38,19,42,100,30,9,109]
[null,104,124,9,128,121,87,58,18,42,10,66,25,102,83,116,57,42,25,121,99,27,20]
[null,114,75,37,109,103,25,127,16,20,20,81,63,119,96,38,93,62,43,116,37,35,106]
[null,89,102,106,94,29,66,14,83,8,3,43,5,61,72,115,19,94,49,112,85,37,23]
[null,111,113,98,129,23,49,99,118,22,28,25,53,66,105,11,24,34,64,98,44,50,92]
[null,77,64,15,53,125,102,92,102,47,61,124,113,22,69,58,124,57,17,104,87,24,12]
[null,118,49,58,40,108,17,63,84,63,31,75,93,13,67,43,105,127,28,80,21,46,75]
[null,69,43,119,33,71,124,107,50,10,71,28,104,7,125,108,36,112,55,96,127,30,22]
[null,107,25,54,31,47,55,39,51,18,44,17,111,21,90,4,29,29,6,91,35,5,71]
[null,6,104,100,123,73,69,17,4,86,122,77,116,40,116,7,103,6,23,5,97,34,77]
[null,55,114,123,126,54,23,109,56,117,95,118,101,24,92,78,66,77,61,35,25,29,8]
[null,28,89,47,110,127,77,16,103,76,106,61,75,55,57,63,35,106,12,48,91,62,115]
[null,17,111,6,108,89,12,84,120,73,90,23,74,18,66,80,32,58,53,19,59,33,30]
[null,64,53,107,30,46,89,119,86,116,85,104,22,58,114,41,128,23,19,56,117,7,82]
[null,49,12,91,66,11,19,60,72,78,117,114,32,88,117,97,129,117,41,45,5,11,63]
[null,43,61,46,24,82,104,102,1,109,77,41,51,105,110,39,21,121,16,25,121,4,105]
[null,25,23,71,16,117,16,56,62,85,78,19,28,81,87,102,8,50,26,38,1,3,44]
[null,42,86,102,112,122,109,22,55,26,4,116,117,97,17,112,84,46,45,7,81,51,114]
[null,20,117,122,95,92,45,95,57,16,12,78,114,83,26,26,127,105,21,27,58,56,46]
[null,8,76,16,93,24,116,59,105,41,37,21,62,120,44,107,56,83,52,1,88,1,112]
[null,22,73,41,72,31,52,79,97,19,16,45,90,74,56,42,51,12,14,16,7,39,9]
[null,47,14,118,39,111,76,82,93,53,27,86,30,12,27,114,119,15,57,67,90,58,64]
[null,63,52,104,3,72,57,24,113,12,58,117,4,44,22,45,96,82,54,42,66,40,47]
[null,10,21,61,63,15,86,87,42,61,21,54,15,4,53,100,48,76,13,53,116,32,111]
[null,18,45,29,47,64,13,26,20,23,38,57,52,32,7,55,61,56,44,60,34,15,10]
[null,78,59,98,58,116,120,51,89,100,80,73,34,70,44,32,129,115,109,124,98,72,120]
[null,80,60,27,40,79,50,56,59,119,104,55,29,75,13,115,122,98,117,94,77,62,94]
[null,63,36,84,98,108,74,1,21,61,82,97,62,20,54,58,111,90,72,85,21,79,128]
[null,44,48,53,115,76,60,39,98,54,125,10,33,47,57,90,127,72,79,100,49,35,87]
[null,110,31,120,51,94,82,72,69,15,57,47,7,87,14,1,35,91,113,84,128,129,58]
[null,81,2,6,56,98,16,90,43,24,45,76,11,113,52,91,63,129,119,95,129,33,41]
[null,1,38,121,129,121,94,98,30,91,41,32,4,45,21,51,15,74,118,88,14,124,61]
[null,22,9,3,91,125,28,115,119,64,56,112,3,13,45,74,37,79,61,75,12,40,44]
[null,77,27,56,7,43,110,34,126,96,103,94,79,126,26,4,34,127,101,4,36,94,122]
[null,90,35,71,11,29,19,29,14,63,59,27,74,90,16,127,16,126,94,48,18,26,118]
[null,36,37,29,126,39,107,62,10,22,121,100,129,28,41,7,30,119,93,1,70,80,97]
[null,33,50,117,127,26,41,33,129,32,70,66,91,26,19,119,57,123,76,9,87,37,109]
[null,117,24,47,34,60,115,123,93,2,15,7,72,107,53,62,94,97,99,62,28,85,42]
[null,109,46,70,29,64,51,119,31,3,28,118,90,63,12,97,121,68,87,32,42,27,47]
[null,31,30,19,68,19,104,126,28,109,10,5,98,15,61,34,68,101,81,60,97,127,39]
[null,43,5,94,97,74,55,127,67,124,12,126,115,49,23,101,76,96,127,37,80,32,34]
[null,27,96,64,24,107,77,27,90,81,101,89,59,116,6,30,128,125,10,10,78,28,6]
[null,57,101,62,46,123,6,35,26,77,88,20,60,100,55,125,80,100,62,39,93,96,11]
[null,92,68,69,100,50,119,37,5,41,87,88,36,54,28,24,124,84,8,41,63,31,9]
[null,85,97,21,125,67,32,50,103,8,78,45,48,7,17,84,79,106,47,31,61,70,3]
[null,3,123,129,27,128,83,106,86,23,11,40,31,86,64,37,59,80,15,50,126,14,106]
[null,2,119,35,35,113,73,84,17,7,49,111,2,80,49,80,17,93,23,8,75,125,71]
[null,116,126,122,93,105,113,100,45,104,69,8,38,33,43,27,52,95,22,51,6,7,103]
[null,120,127,37,80,83,52,125,81,82,32,105,9,58,25,95,38,103,4,28,17,128,85]
[null,35,79,34,31,18,106,59,128,71,107,61,103,118,42,38,14,121,44,119,56,57,7]
[null,4,74,105,2,49,38,60,38,85,117,50,95,121,20,121,26,92,20,128,44,81,49]
[null,66,129,40,92,30,108,36,16,60,75,78,93,18,8,31,23,128,64,112,91,39,50]
[null,79,91,76,121,57,8,48,97,38,92,37,80,41,22,128,5,99,28,107,105,126,66]
[null,5,72,49,59,11,61,99,70,5,17,1,106,114,47,36,87,82,57,109,10,41,99]
[null,48,90,118,60,41,46,128,55,40,6,96,84,108,63,82,91,94,46,71,20,74,129]
[null,70,98,2,94,68,112,92,51,121,8,6,100,62,10,59,84,70,24,101,104,17,73]
[null,88,115,99,82,6,4,121,95,95,34,86,125,39,18,70,89,71,52,76,90,101,95]
[null,74,44,73,47,1,67,42,64,116,14,117,6,52,71,10,110,112,6,115,96,117,84]
[null,62,13,5,63,48,68,20,52,117,25,49,55,42,70,112,85,120,33,78,123,43,107]
[null,19,54,106,120,33,54,8,20,31,19,121,28,71,94,47,82,67,41,127,45,69,76]
[null,25,57,17,112,15,103,22,123,36,44,15,17,77,82,67,77,83,55,81,16,52,92]
[null,96,14,86,42,55,2,83,108,29,68,62,64,10,99,8,31,108,40,106,100,76,60]
[null,113,52,79,20,42,101,67,39,19,84,77,49,31,128,108,29,122,2,111,95,11,48]
[null,55,21,110,122,34,12,120,8,78,76,29,43,125,92,42,60,110,59,118,51,88,20]
[null,18,45,48,108,46,100,112,111,87,79,128,25,92,121,110,27,88,30,97,68,21,18]
[null,121,26,14,64,120,31,6,88,112,2,72,88,73,103,43,28,105,9,47,9,110,105]
[null,93,16,92,49,110,93,55,68,114,21,3,110,37,95,105,11,87,14,34,27,24,67]
[null,24,41,15,87,127,45,28,36,47,36,116,122,111,93,64,69,81,18,58,101,107,125]
[null,32,19,119,105,102,86,17,96,12,1,31,108,106,80,81,64,66,32,25,107,38,77]
[null,115,53,72,6,69,43,66,73,28,77,38,83,6,106,28,108,113,26,61,5,118,17]
[null,72,12,87,55,99,109,81,3,46,90,67,67,25,84,113,117,102,50,63,22,55,37]
[null,11,61,22,102,59,3,87,18,80,97,23,120,94,100,6,123,75,34,5,59,108,26]
[null,76,23,126,113,86,95,105,101,79,99,91,112,101,125,75,109,124,39,40,83,59,19]
[null,30,124,123,53,8,33,26,124,126,7,113,44,27,96,61,90,107,125,14,57,53,14]
[null,7,75,52,12,35,105,16,53,74,4,21,13,64,101,107,106,69,95,38,76,122,29]
[null,83,102,67,69,24,39,41,24,27,20,114,54,95,68,53,75,118,82,73,3,15,55]
[null,124,113,50,107,40,71,19,72,10,22,46,57,98,97,118,112,77,111,64,41,100,56]
[null,23,66,89,26,45,13,77,107,44,100,11,14,2,123,41,72,111,74,16,84,48,108]
[null,39,81,33,16,13,125,118,13,58,64,70,52,1,119,111,42,89,85,13,119,67,98]
[null,84,87,91,89,53,9,69,9,129,106,28,21,109,126,26,25,114,105,20,48,25,79]
[null,59,105,28,111,52,129,107,80,68,114,74,45,122,127,114,49,104,92,43,13,86,102]
[null,28,88,18,14,126,49,44,84,75,18,108,104,46,79,21,33,85,123,113,8,16,13]
[null,8,110,104,52,118,72,13,25,73,35,35,114,3,74,85,47,109,103,104,38,84,16]
[null,114,122,23,109,93,42,54,47,25,37,71,89,74,129,14,10,78,129,86,106,18,68]
[null,89,108,88,85,114,123,57,118,33,58,51,111,79,91,78,56,116,114,74,99,121,40]
[null,12,83,16,44,103,40,116,115,37,91,48,77,11,72,54,118,73,63,103,19,66,100]
[null,26,67,85,13,72,64,78,48,17,127,106,118,34,90,73,86,76,88,108,58,83,126]
[null,69,120,30,76,109,14,109,54,88,67,43,69,82,98,44,126,117,77,77,115,19,115]
[null,101,112,75,73,92,96,85,74,110,83,104,107,69,115,117,98,86,70,123,66,120,78]
[null,52,71,32,72,14,10,79,41,30,50,57,96,60,86,98,1,15,21,6,32,58,10]
[null,50,70,103,90,51,80,74,71,11,26,75,101,55,117,15,8,32,13,36,53,68,36]
[null,67,94,46,32,22,56,129,109,69,48,33,68,110,76,72,19,40,58,45,109,51,2]
[null,86,82,77,15,54,70,91,32,76,5,120,97,83,73,40,3,58,51,30,81,95,43]
[null,20,99,10,79,36,48,58,61,115,73,83,123,43,116,129,95,39,17,46,2,1,72]
[null,49,128,124,74,32,114,40,87,106,85,54,119,17,78,39,67,1,11,35,1,97,89]
[null,129,92,9,1,9,36,32,100,39,89,98,126,85,109,79,115,56,12,42,116,6,69]
[null,108,121,127,39,5,102,15,11,66,74,18,127,117,85,56,93,51,69,55,118,90,86]
[null,53,103,74,123,87,20,96,4,34,27,36,51,4,104,126,96,3,29,126,94,36,8]
[null,40,95,59,119,101,111,101,116,67,71,103,56,40,114,3,114,4,36,82,112,104,12]
[null,94,93,101,4,91,23,68,120,108,9,30,1,102,89,123,100,11,37,129,60,50,33]
[null,97,80,13,3,104,89,97,1,98,60,64,39,104,111,11,73,7,54,121,43,93,21]
[null,13,106,83,96,70,15,7,37,128,115,123,58,23,77,68,36,33,31,68,102,45,88]
[null,21,84,60,101,66,79,11,99,127,102,12,40,67,118,33,9,62,43,98,88,103,83]
[null,99,100,111,62,111,26,4,102,21,120,125,32,115,69,96,62,29,49,70,33,3,91]
[null,87,125,36,33,56,75,3,63,6,118,4,15,81,107,29,54,34,3,93,50,98,96]
[null,103,34,66,106,23,53,103,40,49,29,41,71,14,124,100,2,5,120,120,52,102,124]
[null,73,29,68,84,7,124,95,104,53,42,110,70,30,75,5,50,30,68,91,37,34,119]
[null,38,62,61,30,80,11,93,125,89,43,42,94,76,102,106,6,46,122,89,67,99,121]
[null,45,33,109,5,63,98,80,27,122,52,85,82,123,113,46,51,24,83,99,69,60,127]
[null,127,7,1,103,2,47,24,44,107,119,90,99,44,66,93,71,50,115,80,4,116,24]
[null,128,11,95,95,17,57,46,113,123,81,19,128,50,81,50,113,37,107,122,55,5,59]
[null,14,4,8,37,25,17,30,85,26,61,122,92,97,87,103,78,35,108,79,124,123,27]
[null,10,3,93,50,47,78,5,49,48,98,25,121,72,105,35,92,27,126,102,113,2,45]
[null,95,51,96,99,112,24,71,2,59,23,69,27,12,88,92,116,9,86,11,74,73,123]
[null,126,56,25,128,81,92,70,92,45,13,80,35,9,110,9,104,38,110,2,86,49,81]
[null,64,1,90,38,100,22,94,114,70,55,52,37,112,122,99,107,2,66,18,39,91,80]
[null,51,39,54,9,73,122,82,33,92,38,93,50,89,108,2,125,31,102,23,25,4,64]
[null,125,58,81,71,119,69,31,60,125,113,129,24,16,83,94,43,48,73,21,120,89,31]
[null,82,40,12,70,89,84,2,75,90,124,34,46,22,67,48,39,36,84,59,110,56,1]
[null,60,32,128,36,62,18,38,79,9,122,124,30,68,120,71,46,60,106,29,26,113,57]
[null,42,15,31,48,124,126,9,35,35,96,44,5,91,112,60,41,59,78,54,40,29,35]
[null,56,86,57,83,129,63,88,66,14,116,13,124,78,59,120,20,18,124,15,34,13,46]
[null,68,117,125,67,82,62,110,78,13,105,81,75,88,60,18,45,10,97,52,7,87,23]
[null,111,76,24,10,97,76,122,110,99,111,9,102,59,36,83,48,63,89,3,85,61,54]
[null,105,73,113,18,115,27,108,7,94,86,115,113,53,48,63,53,47,75,49,114,78,38]
[null,34,116,44,88,75,128,47,22,101,62,68,66,120,31,122,99,22,90,24,30,54,70]
[null,17,78,51,110,88,29,63,91,111,46,53,81,99,2,22,101,8,128,19,35,119,82]
[null,75,109,20,8,96,118,10,122,52,54,101,87,5,38,88,70,20,71,12,79,42,110]
[null,112,85,82,22,84,30,18,19,43,51,2,105,38,9,20,103,42,100,33,62,109,112]
[null,9,104,116,66,10,99,124,42,18,128,58,42,57,27,87,102,25,121,83,121,20,25]
[null,37,114,38,81,20,37,75,62,16,109,127,20,93,35,25,119,43,116,96,103,106,63]
[null,106,89,115,43,3,85,102,94,83,94,14,8,19,37,66,61,49,112,72,29,23,5]
[null,98,111,11,25,28,44,113,34,118,129,99,22,24,50,49,66,64,98,105,23,92,53]
[null,15,77,58,124,61,87,64,57,102,53,92,47,124,24,102,22,17,104,69,125,12,113]
[null,58,118,43,75,31,21,49,127,84,40,63,63,105,46,17,13,28,80,67,108,75,93]
[null,119,69,108,28,71,127,43,112,50,33,107,10,36,30,124,7,55,96,125,71,22,104]
[null,54,107,4,17,44,35,25,29,51,31,39,18,29,5,55,21,6,91,90,47,71,111]
[null,100,6,7,77,122,97,104,6,4,123,17,86,103,34,69,40,23,5,116,73,77,116]
[null,123,55,78,118,95,25,114,77,56,126,109,117,66,29,23,24,61,35,92,54,8,101]
[null,47,28,63,61,106,91,89,106,103,110,16,76,35,62,77,55,12,48,57,127,115,75]
[null,6,17,80,23,90,59,111,58,120,108,84,73,32,33,12,18,53,19,66,89,30,74]
[null,107,64,41,104,85,117,53,23,86,30,119,116,128,7,89,58,19,56,114,46,82,22]
[null,91,49,97,114,117,5,12,117,72,66,60,78,129,11,19,88,41,45,117,11,63,32]
[null,46,43,39,41,77,121,61,121,1,24,102,109,21,4,104,105,16,25,110,82,105,51]
[null,71,25,102,19,78,1,23,50,62,16,56,85,8,3,16,81,26,38,87,117,44,28]
[null,102,42,112,116,4,81,86,46,55,112,22,26,84,51,109,97,45,7,17,122,114,117]
[null,122,20,26,78,12,58,117,105,57,95,95,16,127,56,45,83,21,27,26,92,46,114]
[null,16,8,107,21,37,88,76,83,105,93,59,41,56,1,116,120,52,1,44,24,112,62]
[null,41,22,42,45,16,7,73,12,97,72,79,19,51,39,52,74,14,16,56,31,9,90]
[null,118,47,114,86,27,90,14,15,93,39,82,53,119,58,76,12,57,67,27,111,64,30]
[null,104,63,45,117,58,66,52,82,113,3,24,12,96,40,57,44,54,42,22,72,47,4]
[null,61,10,100,54,21,116,21,76,42,63,87,61,48,32,86,4,13,53,53,15,111,15]
[null,29,18,55,57,38,34,45,56,20,47,26,23,61,15,13,32,44,60,7,64,10,52]
[null,78,98,44,98,59,109,120,58,34,100,129,89,73,32,115,116,51,70,120,80,124,72]
[null,80,27,13,77,60,117,50,40,29,119,122,59,55,115,98,79,56,75,94,104,94,62]
[null,63,84,54,21,36,72,74,98,62,61,111,21,97,58,90,108,1,20,128,82,85,79]
[null,44,53,57,49,48,79,60,115,33,54,127,98,10,90,72,76,39,47,87,125,100,35]
[null,110,120,14,128,31,113,82,51,7,15,35,69,47,1,91,94,72,87,58,57,84,129]
[null,81,6,52,129,2,119,16,56,11,24,63,43,76,91,129,98,90,113,41,45,95,33]
[null,1,121,21,14,38,118,94,129,4,91,15,30,32,51,74,121,98,45,61,41,88,124]
[null,22,3,45,12,9,61,28,91,3,64,37,119,112,74,79,125,115,13,44,56,75,40]
[null,77,56,26,36,27,101,110,7,79,96,34,126,94,4,127,43,34,126,122,103,4,94]
[null,90,71,16,18,35,94,19,11,74,63,16,14,27,127,126,29,29,90,118,59,48,26]
[null,36,29,41,70,37,93,107,126,129,22,30,10,100,7,119,39,62,28,97,121,1,80]
[null,33,117,19,87,50,76,41,127,91,32,57,129,66,119,123,26,33,26,109,70,9,37]
[null,117,47,53,28,24,99,115,34,72,2,94,93,7,62,97,60,123,107,42,15,62,85]
[null,109,70,12,42,46,87,51,29,90,3,121,31,118,97,68,64,119,63,47,28,32,27]
[null,31,19,61,97,30,81,104,68,98,109,68,28,5,34,101,19,126,15,39,10,60,127]
[null,43,94,23,80,5,127,55,97,115,124,76,67,126,101,96,74,127,49,34,12,37,32]
[null,27,64,6,78,96,10,77,24,59,81,128,90,89,30,125,107,27,116,6,101,10,28]
[null,57,62,55,93,101,62,6,46,60,77,80,26,20,125,100,123,35,100,11,88,39,96]
[null,92,69,28,63,68,8,119,100,36,41,124,5,88,24,84,50,37,54,9,87,41,31]
[null,85,21,17,61,97,47,32,125,48,8,79,103,45,84,106,67,50,7,3,78,31,70]
[null,3,129,64,126,123,15,83,27,31,23,59,86,40,37,80,128,106,86,106,11,50,14]
[null,2,35,49,75,119,23,73,35,2,7,17,17,111,80,93,113,84,80,71,49,8,125]
[null,116,122,43,6,126,22,113,93,38,104,52,45,8,27,95,105,100,33,103,69,51,7]
[null,120,37,25,17,127,4,52,80,9,82,38,81,105,95,103,83,125,58,85,32,28,128]
[null,35,34,42,56,79,44,106,31,103,71,14,128,61,38,121,18,59,118,7,107,119,57]
[null,4,105,20,44,74,20,38,2,95,85,26,38,50,121,92,49,60,121,49,117,128,81]
[null,66,40,8,91,129,64,108,92,93,60,23,16,78,31,128,30,36,18,50,75,112,39]
[null,79,76,22,105,91,28,8,121,80,38,5,97,37,128,99,57,48,41,66,92,107,126]
[null,5,49,47,10,72,57,61,59,106,5,87,70,1,36,82,11,99,114,99,17,109,41]
[null,48,118,63,20,90,46,46,60,84,40,91,55,96,82,94,41,128,108,129,6,71,74]
[null,70,2,10,104,98,24,112,94,100,121,84,51,6,59,70,68,92,62,73,8,101,17]
[null,88,99,18,90,115,52,4,82,125,95,89,95,86,70,71,6,121,39,95,34,76,101]
[null,74,73,71,96,44,6,67,47,6,116,110,64,117,10,112,1,42,52,84,14,115,117]
[null,62,5,70,123,13,33,68,63,55,117,85,52,49,112,120,48,20,42,107,25,78,43]
[null,19,106,94,45,54,41,54,120,28,31,82,20,121,47,67,33,8,71,76,19,127,69]
[null,25,17,82,16,57,55,103,112,17,36,77,123,15,67,83,15,22,77,92,44,81,52]
[null,96,86,99,100,14,40,2,42,64,29,31,108,62,8,108,55,83,10,60,68,106,76]
[null,113,79,128,95,52,2,101,20,49,19,29,39,77,108,122,42,67,31,48,84,111,11]
[null,55,110,92,51,21,59,12,122,43,78,60,8,29,42,110,34,120,125,20,76,118,88]
[null,18,48,121,68,45,30,100,108,25,87,27,111,128,110,88,46,112,92,18,79,97,21]
[null,121,14,103,9,26,9,31,64,88,112,28,88,72,43,105,120,6,73,105,2,47,110]
[null,93,92,95,27,16,14,93,49,110,114,11,68,3,105,87,110,55,37,67,21,34,24]
[null,24,15,93,101,41,18,45,87,122,47,69,36,116,64,81,127,28,111,125,36,58,107]
[null,32,119,80,107,19,32,86,105,108,12,64,96,31,81,66,102,17,106,77,1,25,38]
[null,115,72,106,5,53,26,43,6,83,28,108,73,38,28,113,69,66,6,17,77,61,118]
[null,72,87,84,22,12,50,109,55,67,46,117,3,67,113,102,99,81,25,37,90,63,55]
[null,11,22,100,59,61,34,3,102,120,80,123,18,23,6,75,59,87,94,26,97,5,108]
[null,76,126,125,83,23,39,95,113,112,79,109,101,91,75,124,86,105,101,19,99,40,59]
[null,30,123,96,57,124,125,33,53,44,126,90,124,113,61,107,8,26,27,14,7,14,53]
[null,7,52,101,76,75,95,105,12,13,74,106,53,21,107,69,35,16,64,29,4,38,122]
[null,83,67,68,3,102,82,39,69,54,27,75,24,114,53,118,24,41,95,55,20,73,15]
[null,124,50,97,41,113,111,71,107,57,10,112,72,46,118,77,40,19,98,56,22,64,100]
[null,23,89,123,84,66,74,13,26,14,44,72,107,11,41,111,45,77,2,108,100,16,48]
[null,39,33,119,119,81,85,125,16,52,58,42,13,70,111,89,13,118,1,98,64,13,67]
[null,84,91,126,48,87,105,9,89,21,129,25,9,28,26,114,53,69,109,79,106,20,25]
[null,59,28,127,13,105,92,129,111,45,68,49,80,74,114,104,52,107,122,102,114,43,86]
[null,28,18,79,8,88,123,49,14,104,75,33,84,108,21,85,126,44,46,13,18,113,16]
[null,8,104,74,38,110,103,72,52,114,73,47,25,35,85,109,118,13,3,16,35,104,84]
[null,114,23,129,106,122,129,42,109,89,25,10,47,71,14,78,93,54,74,68,37,86,18]
[null,89,88,91,99,108,114,123,85,111,33,56,118,51,78,116,114,57,79,40,58,74,121]
[null,12,16,72,19,83,63,40,44,77,37,118,115,48,54,73,103,116,11,100,91,103,66]
[null,26,85,90,58,67,88,64,13,118,17,86,48,106,73,76,72,78,34,126,127,108,83]
[null,69,30,98,115,120,77,14,76,69,88,126,54,43,44,117,109,109,82,115,67,77,19]
[null,101,75,115,66,112,70,96,73,107,110,98,74,104,117,86,92,85,69,78,83,123,120]
[null,52,32,86,32,71,21,10,72,96,30,1,41,57,98,15,14,79,60,10,50,6,58]
[null,50,103,117,53,70,13,80,90,101,11,8,71,75,15,32,51,74,55,36,26,36,68]
[null,67,46,76,109,94,58,56,32,68,69,19,109,33,72,40,22,129,110,2,48,45,51]
[null,86,77,73,81,82,51,70,15,97,76,3,32,120,40,58,54,91,83,43,5,30,95]
[null,20,10,116,2,99,17,48,79,123,115,95,61,83,129,39,36,58,43,72,73,46,1]
[null,49,124,78,1,128,11,114,74,119,106,67,87,54,39,1,32,40,17,89,85,35,97]
[null,129,9,109,116,92,12,36,1,126,39,115,100,98,79,56,9,32,85,69,89,42,6]
[null,108,127,85,118,121,69,102,39,127,66,93,11,18,56,51,5,15,117,86,74,55,90]
[null,53,74,104,94,103,29,20,123,51,34,96,4,36,126,3,87,96,4,8,27,126,36]
[null,40,59,114,112,95,36,111,119,56,67,114,116,103,3,4,101,101,40,12,71,82,104]
[null,94,101,89,60,93,37,23,4,1,108,100,120,30,123,11,91,68,102,33,9,129,50]
[null,97,13,111,43,80,54,89,3,39,98,73,1,64,11,7,104,97,104,21,60,121,93]
[null,13,83,77,102,106,31,15,96,58,128,36,37,123,68,33,70,7,23,88,115,68,45]
[null,21,60,118,88,84,43,79,101,40,127,9,99,12,33,62,66,11,67,83,102,98,103]
[null,99,111,69,33,100,49,26,62,32,21,62,102,125,96,29,111,4,115,91,120,70,3]
[null,87,36,107,50,125,3,75,33,15,6,54,63,4,29,34,56,3,81,96,118,93,98]
[null,103,66,124,52,34,120,53,106,71,49,2,40,41,100,5,23,103,14,124,29,120,102]
[null,73,68,75,37,29,68,124,84,70,53,50,104,110,5,30,7,95,30,119,42,91,34]
[null,38,61,102,67,62,122,11,30,94,89,6,125,42,106,46,80,93,76,121,43,89,99]
[null,45,109,113,69,33,83,98,5,82,122,51,27,85,46,24,63,80,123,127,52,99,60]
[null,127,1,66,4,7,115,47,103,99,107,71,44,90,93,50,2,24,44,24,119,80,116]
[null,128,95,81,55,11,107,57,95,128,123,113,113,19,50,37,17,46,50,59,81,122,5]
[null,14,8,87,124,4,108,17,37,92,26,78,85,122,103,35,25,30,97,27,61,79,123]
[null,10,93,105,113,3,126,78,50,121,48,92,49,25,35,27,47,5,72,45,98,102,2]
[null,95,96,88,74,51,86,24,99,27,59,116,2,69,92,9,112,71,12,123,23,11,73]
[null,126,25,110,86,56,110,92,128,35,45,104,92,80,9,38,81,70,9,81,13,2,49]
[null,64,90,122,39,1,66,22,38,37,70,107,114,52,99,2,100,94,112,80,55,18,91]
[null,51,54,108,25,39,102,122,9,50,92,125,33,93,2,31,73,82,89,64,38,23,4]
[null,125,81,83,120,58,73,69,71,24,125,43,60,129,94,48,119,31,16,31,113,21,89]
[null,82,12,67,110,40,84,84,70,46,90,39,75,34,48,36,89,2,22,1,124,59,56]
[null,60,128,120,26,32,106,18,36,30,9,46,79,124,71,60,62,38,68,57,122,29,113]
[null,42,31,112,40,15,78,126,48,5,35,41,35,44,60,59,124,9,91,35,96,54,29]
[null,56,57,59,34,86,124,63,83,124,14,20,66,13,120,18,129,88,78,46,116,15,13]
[null,68,125,60,7,117,97,62,67,75,13,45,78,81,18,10,82,110,88,23,105,52,87]
[null,111,24,36,85,76,89,76,10,102,99,48,110,9,83,63,97,122,59,54,111,3,61]
[null,105,113,48,114,73,75,27,18,113,94,53,7,115,63,47,115,108,53,38,86,49,78]
[null,34,44,31,30,116,90,128,88,66,101,99,22,68,122,22,75,47,120,70,62,24,54]
[null,17,51,2,35,78,128,29,110,81,111,101,91,53,22,8,88,63,99,82,46,19,119]
[null,75,20,38,79,109,71,118,8,87,52,70,122,101,88,20,96,10,5,110,54,12,42]
[null,112,82,9,62,85,100,30,22,105,43,103,19,2,20,42,84,18,38,112,51,33,109]
[null,9,116,27,121,104,121,99,66,42,18,102,42,58,87,25,10,124,57,25,128,83,20]
[null,37,38,35,103,114,116,37,81,20,16,119,62,127,25,43,20,75,93,63,109,96,106]
[null,106,115,37,29,89,112,85,43,8,83,61,94,14,66,49,3,102,19,5,94,72,23]
[null,98,11,50,23,111,98,44,25,22,118,66,34,99,49,64,28,113,24,53,129,105,92]
[null,15,58,24,125,77,104,87,124,47,102,22,57,92,102,17,61,64,124,113,53,69,12]
[null,58,43,46,108,118,80,21,75,63,84,13,127,63,17,28,31,49,105,93,40,67,75]
[null,119,108,30,71,69,96,127,28,10,50,7,112,107,124,55,71,43,36,104,33,125,22]
[null,54,4,5,47,107,91,35,17,18,51,21,29,39,55,6,44,25,29,111,31,90,71]
[null,100,7,34,73,6,5,97,77,86,4,40,6,17,69,23,122,104,103,116,123,116,77]
[null,123,78,29,54,55,35,25,118,117,56,24,77,109,23,61,95,114,66,101,126,92,8]
[null,47,63,62,127,28,48,91,61,76,103,55,106,16,77,12,106,89,35,75,110,57,115]
[null,6,80,33,89,17,19,59,23,73,120,18,58,84,12,53,90,111,32,74,108,66,30]
[null,107,41,7,46,64,56,117,104,116,86,58,23,119,89,19,85,53,128,22,30,114,82]
[null,91,97,11,11,49,45,5,114,78,72,88,117,60,19,41,117,12,129,32,66,117,63]
[null,46,39,4,82,43,25,121,41,109,1,105,121,102,104,16,77,61,21,51,24,110,105]
[null,71,102,3,117,25,38,1,19,85,62,81,50,56,16,26,78,23,8,28,16,87,44]
[null,102,112,51,122,42,7,81,116,26,55,97,46,22,109,45,4,86,84,117,112,17,114]
[null,122,26,56,92,20,27,58,78,16,57,83,105,95,45,21,12,117,127,114,95,26,46]
[null,16,107,1,24,8,1,88,21,41,105,120,83,59,116,52,37,76,56,62,93,44,112]
[null,41,42,39,31,22,16,7,45,19,97,74,12,79,52,14,16,73,51,90,72,56,9]
[null,118,114,58,111,47,67,90,86,53,93,12,15,82,76,57,27,14,119,30,39,27,64]
[null,104,45,40,72,63,42,66,117,12,113,44,82,24,57,54,58,52,96,4,3,22,47]
[null,61,100,32,15,10,53,116,54,61,42,4,76,87,86,13,21,21,48,15,63,53,111]
[null,29,55,15,64,18,60,34,57,23,20,32,56,26,13,44,38,45,61,52,47,7,10]
[null,73,115,78,98,70,58,34,89,129,59,80,98,116,124,72,44,32,120,100,109,120,51]
[null,55,98,80,77,75,40,29,59,122,60,104,27,79,94,62,13,115,94,119,117,50,56]
[null,97,90,63,21,20,98,62,21,111,36,82,84,108,85,79,54,58,128,61,72,74,1]
[null,10,72,44,49,47,115,33,98,127,48,125,53,76,100,35,57,90,87,54,79,60,39]
[null,47,91,110,128,87,51,7,69,35,31,57,120,94,84,129,14,1,58,15,113,82,72]
[null,76,129,81,129,113,56,11,43,63,2,45,6,98,95,33,52,91,41,24,119,16,90]
[null,32,74,1,14,45,129,4,30,15,38,41,121,121,88,124,21,51,61,91,118,94,98]
[null,112,79,22,12,13,91,3,119,37,9,56,3,125,75,40,45,74,44,64,61,28,115]
[null,94,127,77,36,126,7,79,126,34,27,103,56,43,4,94,26,4,122,96,101,110,34]
[null,27,126,90,18,90,11,74,14,16,35,59,71,29,48,26,16,127,118,63,94,19,29]
[null,100,119,36,70,28,126,129,10,30,37,121,29,39,1,80,41,7,97,22,93,107,62]
[null,66,123,33,87,26,127,91,129,57,50,70,117,26,9,37,19,119,109,32,76,41,33]
[null,7,97,117,28,107,34,72,93,94,24,15,47,60,62,85,53,62,42,2,99,115,123]
[null,118,68,109,42,63,29,90,31,121,46,28,70,64,32,27,12,97,47,3,87,51,119]
[null,5,101,31,97,15,68,98,28,68,30,10,19,19,60,127,61,34,39,109,81,104,126]
[null,126,96,43,80,49,97,115,67,76,5,12,94,74,37,32,23,101,34,124,127,55,127]
[null,89,125,27,78,116,24,59,90,128,96,101,64,107,10,28,6,30,6,81,10,77,27]
[null,20,100,57,93,100,46,60,26,80,101,88,62,123,39,96,55,125,11,77,62,6,35]
[null,88,84,92,63,54,100,36,5,124,68,87,69,50,41,31,28,24,9,41,8,119,37]
[null,45,106,85,61,7,125,48,103,79,97,78,21,67,31,70,17,84,3,8,47,32,50]
[null,40,80,3,126,86,27,31,86,59,123,11,129,128,50,14,64,37,106,23,15,83,106]
[null,111,93,2,75,80,35,2,17,17,119,49,35,113,8,125,49,80,71,7,23,73,84]
[null,8,95,116,6,33,93,38,45,52,126,69,122,105,51,7,43,27,103,104,22,113,100]
[null,105,103,120,17,58,80,9,81,38,127,32,37,83,28,128,25,95,85,82,4,52,125]
[null,61,121,35,56,118,31,103,128,14,79,107,34,18,119,57,42,38,7,71,44,106,59]
[null,50,92,4,44,121,2,95,38,26,74,117,105,49,128,81,20,121,49,85,20,38,60]
[null,78,128,66,91,18,92,93,16,23,129,75,40,30,112,39,8,31,50,60,64,108,36]
[null,37,99,79,105,41,121,80,97,5,91,92,76,57,107,126,22,128,66,38,28,8,48]
[null,1,82,5,10,114,59,106,70,87,72,17,49,11,109,41,47,36,99,5,57,61,99]
[null,96,94,48,20,108,60,84,55,91,90,6,118,41,71,74,63,82,129,40,46,46,128]
[null,6,70,70,104,62,94,100,51,84,98,8,2,68,101,17,10,59,73,121,24,112,92]
[null,86,71,88,90,39,82,125,95,89,115,34,99,6,76,101,18,70,95,95,52,4,121]
[null,117,112,74,96,52,47,6,64,110,44,14,73,1,115,117,71,10,84,116,6,67,42]
[null,49,120,62,123,42,63,55,52,85,13,25,5,48,78,43,70,112,107,117,33,68,20]
[null,121,67,19,45,71,120,28,20,82,54,19,106,33,127,69,94,47,76,31,41,54,8]
[null,15,83,25,16,77,112,17,123,77,57,44,17,15,81,52,82,67,92,36,55,103,22]
[null,62,108,96,100,10,42,64,108,31,14,68,86,55,106,76,99,8,60,29,40,2,83]
[null,77,122,113,95,31,20,49,39,29,52,84,79,42,111,11,128,108,48,19,2,101,67]
[null,29,110,55,51,125,122,43,8,60,21,76,110,34,118,88,92,42,20,78,59,12,120]
[null,128,88,18,68,92,108,25,111,27,45,79,48,46,97,21,121,110,18,87,30,100,112]
[null,72,105,121,9,73,64,88,88,28,26,2,14,120,47,110,103,43,105,112,9,31,6]
[null,3,87,93,27,37,49,110,68,11,16,21,92,110,34,24,95,105,67,114,14,93,55]
[null,116,81,24,101,111,87,122,36,69,41,36,15,127,58,107,93,64,125,47,18,45,28]
[null,31,66,32,107,106,105,108,96,64,19,1,119,102,25,38,80,81,77,12,32,86,17]
[null,38,113,115,5,6,6,83,73,108,53,77,72,69,61,118,106,28,17,28,26,43,66]
[null,67,102,72,22,25,55,67,3,117,12,90,87,99,63,55,84,113,37,46,50,109,81]
[null,23,75,11,59,94,102,120,18,123,61,97,22,59,5,108,100,6,26,80,34,3,87]
[null,91,124,76,83,101,113,112,101,109,23,99,126,86,40,59,125,75,19,79,39,95,105]
[null,113,107,30,57,27,53,44,124,90,124,7,123,8,14,53,96,61,14,126,125,33,26]
[null,21,69,7,76,64,12,13,53,106,75,4,52,35,38,122,101,107,29,74,95,105,16]
[null,114,118,83,3,95,69,54,24,75,102,20,67,24,73,15,68,53,55,27,82,39,41]
[null,46,77,124,41,98,107,57,72,112,113,22,50,40,64,100,97,118,56,10,111,71,19]
[null,11,111,23,84,2,26,14,107,72,66,100,89,45,16,48,123,41,108,44,74,13,77]
[null,70,89,39,119,1,16,52,13,42,81,64,33,13,13,67,119,111,98,58,85,125,118]
[null,28,114,84,48,109,89,21,9,25,87,106,91,53,20,25,126,26,79,129,105,9,69]
[null,74,104,59,13,122,111,45,80,49,105,114,28,52,43,86,127,114,102,68,92,129,107]
[null,108,85,28,8,46,14,104,84,33,88,18,18,126,113,16,79,21,13,75,123,49,44]
[null,35,109,8,38,3,52,114,25,47,110,35,104,118,104,84,74,85,16,73,103,72,13]
[null,71,78,114,106,74,109,89,47,10,122,37,23,93,86,18,129,14,68,25,129,42,54]
[null,51,116,89,99,79,85,111,118,56,108,58,88,114,74,121,91,78,40,33,114,123,57]
[null,48,73,12,19,11,44,77,115,118,83,91,16,103,103,66,72,54,100,37,63,40,116]
[null,106,76,26,58,34,13,118,48,86,67,127,85,72,108,83,90,73,126,17,88,64,78]
[null,43,117,69,115,82,76,69,54,126,120,67,30,109,77,19,98,44,115,88,77,14,109]
[null,104,86,101,66,69,73,107,74,98,112,83,75,92,123,120,115,117,78,110,70,96,85]
[null,57,15,52,32,60,72,96,41,1,71,50,32,14,6,58,86,98,10,30,21,10,79]
[null,75,32,50,53,55,90,101,71,8,70,26,103,51,36,68,117,15,36,11,13,80,74]
[null,33,40,67,109,110,32,68,109,19,94,48,46,22,45,51,76,72,2,69,58,56,129]
[null,120,58,86,81,83,15,97,32,3,82,5,77,54,30,95,73,40,43,76,51,70,91]
[null,83,39,20,2,43,79,123,61,95,99,73,10,36,46,1,116,129,72,115,17,48,58]
[null,54,1,49,1,17,74,119,87,67,128,85,124,32,35,97,78,39,89,106,11,114,40]
[null,98,56,129,116,85,1,126,100,115,92,89,9,9,42,6,109,79,69,39,12,36,32]
[null,18,51,108,118,117,39,127,11,93,121,74,127,5,55,90,85,56,86,66,69,102,15]
[null,36,3,53,94,4,123,51,4,96,103,27,74,87,126,36,104,126,8,34,29,20,96]
[null,103,4,40,112,40,119,56,116,114,95,71,59,101,82,104,114,3,12,67,36,111,101]
[null,30,11,94,60,102,4,1,120,100,93,9,101,91,129,50,89,123,33,108,37,23,68]
[null,64,7,97,43,104,3,39,1,73,80,60,13,104,121,93,111,11,21,98,54,89,97]
[null,123,33,13,102,23,96,58,37,36,106,115,83,70,68,45,77,68,88,128,31,15,7]
[null,12,62,21,88,67,101,40,99,9,84,102,60,66,98,103,118,33,83,127,43,79,11]
[null,125,29,99,33,115,62,32,102,62,100,120,111,111,70,3,69,96,91,21,49,26,4]
[null,4,34,87,50,81,33,15,63,54,125,118,36,56,93,98,107,29,96,6,3,75,3]
[null,41,5,103,52,14,106,71,40,2,34,29,66,23,120,102,124,100,124,49,120,53,103]
[null,110,30,73,37,30,84,70,104,50,29,42,68,7,91,34,75,5,119,53,68,124,95]
[null,42,46,38,67,76,30,94,125,6,62,43,61,80,89,99,102,106,121,89,122,11,93]
[null,85,24,45,69,123,5,82,27,51,33,52,109,63,99,60,113,46,127,122,83,98,80]
[null,90,50,127,4,44,103,99,44,71,7,119,1,2,80,116,66,93,24,107,115,47,24]
[null,19,37,128,55,50,95,128,113,113,11,81,95,17,122,5,81,50,59,123,107,57,46]
[null,122,35,14,124,97,37,92,85,78,4,61,8,25,79,123,87,103,27,26,108,17,30]
[null,25,27,10,113,72,50,121,49,92,3,98,93,47,102,2,105,35,45,48,126,78,5]
[null,69,9,95,74,12,99,27,2,116,51,23,96,112,11,73,88,92,123,59,86,24,71]
[null,80,38,126,86,9,128,35,92,104,56,13,25,81,2,49,110,9,81,45,110,92,70]
[null,52,2,64,39,112,38,37,114,107,1,55,90,100,18,91,122,99,80,70,66,22,94]
[null,93,31,51,25,89,9,50,33,125,39,38,54,73,23,4,108,2,64,92,102,122,82]
[null,129,48,125,120,16,71,24,60,43,58,113,81,119,21,89,83,94,31,125,73,69,31]
[null,34,36,82,110,22,70,46,75,39,40,124,12,89,59,56,67,48,1,90,84,84,2]
[null,124,60,60,26,68,36,30,79,46,32,122,128,62,29,113,120,71,57,9,106,18,38]
[null,44,59,42,40,91,48,5,35,41,15,96,31,124,54,29,112,60,35,35,78,126,9]
[null,13,18,56,34,78,83,124,66,20,86,116,57,129,15,13,59,120,46,14,124,63,88]
[null,81,10,68,7,88,67,75,78,45,117,105,125,82,52,87,60,18,23,13,97,62,110]
[null,9,63,111,85,59,10,102,110,48,76,111,24,97,3,61,36,83,54,99,89,76,122]
[null,115,47,105,114,53,18,113,7,53,73,86,113,115,49,78,48,63,38,94,75,27,108]
[null,68,22,34,30,120,88,66,22,99,116,62,44,75,24,54,31,122,70,101,90,128,47]
[null,53,8,17,35,99,110,81,91,101,78,46,51,88,19,119,2,22,82,111,128,29,63]
[null,101,20,75,79,5,8,87,122,70,109,54,20,96,12,42,38,88,110,52,71,118,10]
[null,2,42,112,62,38,22,105,19,103,85,51,82,84,33,109,9,20,112,43,100,30,18]
[null,58,25,9,121,57,66,42,42,102,104,128,116,10,83,20,27,87,25,18,121,99,124]
[null,127,43,37,103,93,81,20,62,119,114,109,38,20,96,106,35,25,63,16,116,37,75]
[null,14,49,106,29,19,43,8,94,61,89,94,115,3,72,23,37,66,5,83,112,85,102]
[null,99,64,98,23,24,25,22,34,66,111,129,11,28,105,92,50,49,53,118,98,44,113]
[null,92,17,15,125,124,124,47,57,22,77,53,58,61,69,12,24,102,113,102,104,87,64]
[null,63,28,58,108,105,75,63,127,13,118,40,43,31,67,75,46,17,93,84,80,21,49]
[null,107,55,119,71,36,28,10,112,7,69,33,108,71,125,22,30,124,104,50,96,127,43]
[null,39,6,54,47,29,17,18,29,21,107,31,4,44,90,71,5,55,111,51,91,35,25]
[null,17,23,100,73,103,77,86,6,40,6,123,7,122,116,77,34,69,116,4,5,97,104]
[null,109,61,123,54,66,118,117,77,24,55,126,78,95,92,8,29,23,101,56,35,25,114]
[null,16,12,47,127,35,61,76,106,55,28,110,63,106,57,115,62,77,75,103,48,91,89]
[null,84,53,6,89,32,23,73,58,18,17,108,80,90,66,30,33,12,74,120,19,59,111]
[null,119,19,107,46,128,104,116,23,58,64,30,41,85,114,82,7,89,22,86,56,117,53]
[null,60,41,91,11,129,114,78,117,88,49,66,97,117,117,63,11,19,32,72,45,5,12]
[null,102,16,46,82,21,41,109,121,105,43,24,39,77,110,105,4,104,51,1,25,121,61]
[null,56,26,71,117,8,19,85,50,81,25,16,102,78,87,44,3,16,28,62,38,1,23]
[null,22,45,102,122,84,116,26,46,97,42,112,112,4,17,114,51,109,117,55,7,81,86]
[null,95,21,122,92,127,78,16,105,83,20,95,26,12,26,46,56,45,114,57,27,58,117]
[null,59,52,16,24,56,21,41,83,120,8,93,107,37,44,112,1,116,62,105,1,88,76]
[null,79,14,41,31,51,45,19,12,74,22,72,42,16,56,9,39,52,90,97,16,7,73]
[null,82,57,118,111,119,86,53,15,12,47,39,114,27,27,64,58,76,30,93,67,90,14]
[null,24,54,104,72,96,117,12,82,44,63,3,45,58,22,47,40,57,4,113,42,66,52]
[null,87,13,61,15,48,54,61,76,4,10,63,100,21,53,111,32,86,15,42,53,116,21]
[null,26,44,29,64,61,57,23,56,32,18,47,55,38,7,10,15,13,52,20,60,34,45]
[null,44,115,129,80,59,98,89,73,116,124,120,32,72,109,70,100,51,78,34,58,120,98]
[null,13,98,122,104,60,77,59,55,79,94,50,115,62,117,75,119,56,80,29,40,94,27]
[null,54,90,111,82,36,21,21,97,108,85,74,58,79,72,20,61,1,63,62,98,128,84]
[null,57,72,127,125,48,49,98,10,76,100,60,90,35,79,47,54,39,44,33,115,87,53]
[null,14,91,35,57,31,128,69,47,94,84,82,1,129,113,87,15,72,110,7,51,58,120]
[null,52,129,63,45,2,129,43,76,98,95,16,91,33,119,113,24,90,81,11,56,41,6]
[null,21,74,15,41,38,14,30,32,121,88,94,51,124,118,45,91,98,1,4,129,61,121]
[null,45,79,37,56,9,12,119,112,125,75,28,74,40,61,13,64,115,22,3,91,44,3]
[null,26,127,34,103,27,36,126,94,43,4,110,4,94,101,126,96,34,77,79,7,122,56]
[null,16,126,16,59,35,18,14,27,29,48,19,127,26,94,90,63,29,90,74,11,118,71]
[null,41,119,30,121,37,70,10,100,39,1,107,7,80,93,28,22,62,36,129,126,97,29]
[null,19,123,57,70,50,87,129,66,26,9,41,119,37,76,26,32,33,33,91,127,109,117]
[null,53,97,94,15,24,28,93,7,60,62,115,62,85,99,107,2,123,117,72,34,42,47]
[null,12,68,121,28,46,42,31,118,64,32,51,97,27,87,63,3,119,109,90,29,47,70]
[null,61,101,68,10,30,97,28,5,19,60,104,34,127,81,15,109,126,31,98,68,39,19]
[null,23,96,76,12,5,80,67,126,74,37,55,101,32,127,49,124,127,43,115,97,34,94]
[null,6,125,128,101,96,78,90,89,107,10,77,30,28,10,116,81,27,27,59,24,6,64]
[null,55,100,80,88,101,93,26,20,123,39,6,125,96,62,100,77,35,57,60,46,11,62]
[null,28,84,124,87,68,63,5,88,50,41,119,24,31,8,54,41,37,92,36,100,9,69]
[null,17,106,79,78,97,61,103,45,67,31,32,84,70,47,7,8,50,85,48,125,3,21]
[null,64,80,59,11,123,126,86,40,128,50,83,37,14,15,86,23,106,3,31,27,106,129]
[null,49,93,17,49,119,75,17,111,113,8,73,80,125,23,80,7,84,2,2,35,71,35]
[null,43,95,52,69,126,6,45,8,105,51,113,27,7,22,33,104,100,116,38,93,103,122]
[null,25,103,38,32,127,17,81,105,83,28,52,95,128,4,58,82,125,120,9,80,85,37]
[null,42,121,14,107,79,56,128,61,18,119,106,38,57,44,118,71,59,35,103,31,7,34]
[null,20,92,26,117,74,44,38,50,49,128,38,121,81,20,121,85,60,4,95,2,49,105]
[null,8,128,23,75,129,91,16,78,30,112,108,31,39,64,18,60,36,66,93,92,50,40]
[null,22,99,5,92,91,105,97,37,57,107,8,128,126,28,41,38,48,79,80,121,66,76]
[null,47,82,87,17,72,10,70,1,11,109,61,36,41,57,114,5,99,5,106,59,99,49]
[null,63,94,91,6,90,20,55,96,41,71,46,82,74,46,108,40,128,48,84,60,129,118]
[null,10,70,84,8,98,104,51,6,68,101,112,59,17,24,62,121,92,70,100,94,73,2]
[null,18,71,89,34,115,90,95,86,6,76,4,70,101,52,39,95,121,88,125,82,95,99]
[null,71,112,110,14,44,96,64,117,1,115,67,10,117,6,52,116,42,74,6,47,84,73]
[null,70,120,85,25,13,123,52,49,48,78,68,112,43,33,42,117,20,62,55,63,107,5]
[null,94,67,82,19,54,45,20,121,33,127,54,47,69,41,71,31,8,19,28,120,76,106]
[null,82,83,77,44,57,16,123,15,15,81,103,67,52,55,77,36,22,25,17,112,92,17]
[null,99,108,31,68,14,100,108,62,55,106,2,8,76,40,10,29,83,96,64,42,60,86]
[null,128,122,29,84,52,95,39,77,42,111,101,108,11,2,31,19,67,113,49,20,48,79]
[null,92,110,60,76,21,51,8,29,34,118,12,42,88,59,125,78,120,55,43,122,20,110]
[null,121,88,27,79,45,68,111,128,46,97,100,110,21,30,92,87,112,18,25,108,18,48]
[null,103,105,28,2,26,9,88,72,120,47,31,43,110,9,73,112,6,121,88,64,105,14]
[null,95,87,11,21,16,27,68,3,110,34,93,105,24,14,37,114,55,93,110,49,67,92]
[null,93,81,69,36,41,101,36,116,127,58,45,64,107,18,111,47,28,24,122,87,125,15]
[null,80,66,64,1,19,107,96,31,102,25,86,81,38,32,106,12,17,32,108,105,77,119]
[null,106,113,108,77,53,5,73,38,69,61,43,28,118,26,6,28,66,115,83,6,17,72]
[null,84,102,117,90,12,22,3,67,99,63,109,113,55,50,25,46,81,72,67,55,37,87]
[null,100,75,123,97,61,59,18,23,59,5,3,6,108,34,94,80,87,11,120,102,26,22]
[null,125,124,109,99,23,83,101,91,86,40,95,75,59,39,101,79,105,76,112,113,19,126]
[null,96,107,90,7,124,57,124,113,8,14,33,61,53,125,27,126,26,30,44,53,14,123]
[null,101,69,106,4,75,76,53,21,35,38,105,107,122,95,64,74,16,7,13,12,29,52]
[null,68,118,75,20,102,3,24,114,24,73,39,53,15,82,95,27,41,83,54,69,55,67]
[null,97,77,112,22,113,41,72,46,40,64,71,118,100,111,98,10,19,124,57,107,56,50]
[null,123,111,72,100,66,84,107,11,45,16,13,41,48,74,2,44,77,23,14,26,108,89]
[null,119,89,42,64,81,119,13,70,13,13,125,111,67,85,1,58,118,39,52,16,98,33]
[null,126,114,25,106,87,48,9,28,53,20,9,26,25,105,109,129,69,84,21,89,79,91]
[null,127,104,49,114,105,13,80,74,52,43,129,114,86,92,122,68,107,59,45,111,102,28]
[null,79,85,33,18,88,8,84,108,126,113,49,21,16,123,46,75,44,28,104,14,13,18]
[null,74,109,47,35,110,38,25,35,118,104,72,85,84,103,3,73,13,8,114,52,16,104]
[null,129,78,10,37,122,106,47,71,93,86,42,14,18,129,74,25,54,114,89,109,68,23]
[null,91,116,56,58,108,99,118,51,114,74,123,78,121,114,79,33,57,89,111,85,40,88]
[null,72,73,118,91,83,19,115,48,103,103,40,54,66,63,11,37,116,12,77,44,100,16]
[null,90,76,86,127,67,58,48,106,72,108,64,73,83,88,34,17,78,26,118,13,126,85]
[null,98,117,126,67,120,115,54,43,109,77,14,44,19,77,82,88,109,69,69,76,115,30]
[null,115,86,98,83,112,66,74,104,92,123,96,117,120,70,69,110,85,101,107,73,78,75]
[null,86,15,1,50,71,32,41,57,14,6,10,98,58,21,60,30,79,52,96,72,10,32]
[null,117,32,8,26,70,53,71,75,51,36,80,15,68,13,55,11,74,50,101,90,36,103]
[null,76,40,19,48,94,109,109,33,22,45,56,72,51,58,110,69,129,67,68,32,2,46]
[null,73,58,3,5,82,81,32,120,54,30,70,40,95,51,83,76,91,86,97,15,43,77]
[null,116,39,95,73,99,2,61,83,36,46,48,129,1,17,43,115,58,20,123,79,72,10]
[null,78,1,67,85,128,1,87,54,32,35,114,39,97,11,17,106,40,49,119,74,89,124]
[null,109,56,115,89,92,116,100,98,9,42,36,79,6,12,85,39,32,129,126,1,69,9]
[null,85,51,93,74,121,118,11,18,5,55,102,56,90,69,117,66,15,108,127,39,86,127]
[null,104,3,96,27,103,94,4,36,87,126,20,126,36,29,4,34,96,53,51,123,8,74]
[null,114,4,114,71,95,112,116,103,101,82,111,3,104,36,40,67,101,40,56,119,12,59]
[null,89,11,100,9,93,60,120,30,91,129,23,123,50,37,102,108,68,94,1,4,33,101]
[null,111,7,73,60,80,43,1,64,104,121,89,11,93,54,104,98,97,97,39,3,21,13]
[null,77,33,36,115,106,102,37,123,70,68,15,68,45,31,23,128,7,13,58,96,88,83]
[null,118,62,9,102,84,88,99,12,66,98,79,33,103,43,67,127,11,21,40,101,83,60]
[null,69,29,62,120,100,33,102,125,111,70,26,96,3,49,115,21,4,99,32,62,91,111]
[null,107,34,54,118,125,50,63,4,56,93,75,29,98,3,81,6,3,87,15,33,96,36]
[null,124,5,2,29,34,52,40,41,23,120,53,100,102,120,14,49,103,103,71,106,124,66]
[null,75,30,50,42,29,37,104,110,7,91,124,5,34,68,30,53,95,73,70,84,119,68]
[null,102,46,6,43,62,67,125,42,80,89,11,106,99,122,76,89,93,38,94,30,121,61]
[null,113,24,51,52,33,69,27,85,63,99,98,46,60,83,123,122,80,45,82,5,127,109]
[null,66,50,71,119,7,4,44,90,2,80,47,93,116,115,44,107,24,127,99,103,24,1]
[null,81,37,113,81,11,55,113,19,17,122,57,50,5,107,50,123,46,128,128,95,59,95]
[null,87,35,78,61,4,124,85,122,25,79,17,103,123,108,97,26,30,14,92,37,27,8]
[null,105,27,92,98,3,113,49,25,47,102,78,35,2,126,72,48,5,10,121,50,45,93]
[null,88,9,116,23,51,74,2,69,112,11,24,92,73,86,12,59,71,95,27,99,123,96]
[null,110,38,104,13,56,86,92,80,81,2,92,9,49,110,9,45,70,126,35,128,81,25]
[null,122,2,107,55,1,39,114,52,100,18,22,99,91,66,112,70,94,64,37,38,80,90]
[null,108,31,125,38,39,25,33,93,73,23,122,2,4,102,89,92,82,51,50,9,64,54]
[null,83,48,43,113,58,120,60,129,119,21,69,94,89,73,16,125,31,125,24,71,31,81]
[null,67,36,39,124,40,110,75,34,89,59,84,48,56,84,22,90,2,82,46,70,1,12]
[null,120,60,46,122,32,26,79,124,62,29,18,71,113,106,68,9,38,60,30,36,57,128]
[null,112,59,41,96,15,40,35,44,124,54,126,60,29,78,91,35,9,42,5,48,35,31]
[null,59,18,20,116,86,34,66,13,129,15,63,120,13,124,78,14,88,56,124,83,46,57]
[null,60,10,45,105,117,7,78,81,82,52,62,18,87,97,88,13,110,68,75,67,23,125]
[null,36,63,48,111,76,85,110,9,97,3,76,83,61,89,59,99,122,111,102,10,54,24]
[null,48,47,53,86,73,114,7,115,115,49,27,63,78,75,53,94,108,105,113,18,38,113]
[null,31,22,99,62,116,30,22,68,75,24,128,122,54,90,120,101,47,34,66,88,70,44]
[null,2,8,101,46,78,35,91,53,88,19,29,22,119,128,99,111,63,17,81,110,82,51]
[null,38,20,70,54,109,79,122,101,96,12,118,88,42,71,5,52,10,75,87,8,110,20]
[null,9,42,103,51,85,62,19,2,84,33,30,20,109,100,38,43,18,112,105,22,112,82]
[null,27,25,102,128,104,121,42,58,10,83,99,87,20,121,57,18,124,9,42,66,25,116]
[null,35,43,119,109,114,103,62,127,20,96,37,25,106,116,93,16,75,37,20,81,63,38]
[null,37,49,61,94,89,29,94,14,3,72,85,66,23,112,19,83,102,106,8,43,5,115]
[null,50,64,66,129,111,23,34,99,28,105,44,49,92,98,24,118,113,98,22,25,53,11]
[null,24,17,22,53,77,125,57,92,61,69,87,102,12,104,124,102,64,15,47,124,113,58]
[null,46,28,13,40,118,108,127,63,31,67,21,17,75,80,105,84,49,58,63,75,93,43]
[null,30,55,7,33,69,71,112,107,71,125,127,124,22,96,36,50,43,119,10,28,104,108]
[null,5,6,21,31,107,47,29,39,44,90,35,55,71,91,29,51,25,54,18,17,111,4]
[null,34,23,40,123,6,73,6,17,122,116,97,69,77,5,103,4,104,100,86,77,116,7]
[null,29,61,24,126,55,54,77,109,95,92,25,23,8,35,66,56,114,123,117,118,101,78]
[null,62,12,55,110,28,127,106,16,106,57,91,77,115,48,35,103,89,47,76,61,75,63]
[null,33,53,18,108,17,89,58,84,90,66,59,12,30,19,32,120,111,6,73,23,74,80]
[null,7,19,58,30,64,46,23,119,85,114,117,89,82,56,128,86,53,107,116,104,22,41]
[null,11,41,88,66,49,11,117,60,117,117,5,19,63,45,129,72,12,91,78,114,32,97]
[null,4,16,105,24,43,82,121,102,77,110,121,104,105,25,21,1,61,46,109,41,51,39]
[null,3,26,81,16,25,117,50,56,78,87,1,16,44,38,8,62,23,71,85,19,28,102]
[null,51,45,97,112,42,122,46,22,4,17,81,109,114,7,84,55,86,102,26,116,117,112]
[null,56,21,83,95,20,92,105,95,12,26,58,45,46,27,127,57,117,122,16,78,114,26]
[null,1,52,120,93,8,24,83,59,37,44,88,116,112,1,56,105,76,16,41,21,62,107]
[null,39,14,74,72,22,31,12,79,16,56,7,52,9,16,51,97,73,41,19,45,90,42]
[null,58,57,12,39,47,111,15,82,27,27,90,76,64,67,119,93,14,118,53,86,30,114]
[null,40,54,44,3,63,72,82,24,58,22,66,57,47,42,96,113,52,104,12,117,4,45]
[null,32,13,4,63,10,15,76,87,21,53,116,86,111,53,48,42,21,61,61,54,15,100]
[null,15,44,32,47,18,64,56,26,38,7,34,13,10,60,61,20,45,29,23,57,52,55]
[null,120,72,73,124,70,89,51,44,109,78,80,98,120,32,98,59,129,58,34,115,100,116]
[null,50,62,55,94,75,59,56,13,117,80,104,27,94,115,77,60,122,40,29,98,119,79]
[null,74,79,97,85,20,21,1,54,72,63,82,84,128,58,21,36,111,98,62,90,61,108]
[null,60,35,10,100,47,98,39,57,79,44,125,53,87,90,49,48,127,115,33,72,54,76]
[null,82,129,47,84,87,69,72,14,113,110,57,120,58,1,128,31,35,51,7,91,15,94]
[null,16,33,76,95,113,43,90,52,119,81,45,6,41,91,129,2,63,56,11,129,24,98]
[null,94,124,32,88,45,30,98,21,118,1,41,121,61,51,14,38,15,129,4,74,91,121]
[null,28,40,112,75,13,119,115,45,61,22,56,3,44,74,12,9,37,91,3,79,64,125]
[null,110,94,94,4,126,126,34,26,101,77,103,56,122,4,36,27,34,7,79,127,96,43]
[null,19,26,27,48,90,14,29,16,94,90,59,71,118,127,18,35,16,11,74,126,63,29]
[null,107,80,100,1,28,10,62,41,93,36,121,29,97,7,70,37,30,126,129,119,22,39]
[null,41,37,66,9,26,129,33,19,76,33,70,117,109,119,87,50,57,127,91,123,32,26]
[null,115,85,7,62,107,93,123,53,99,117,15,47,42,62,28,24,94,34,72,97,2,60]
[null,51,27,118,32,63,31,119,12,87,109,28,70,47,97,42,46,121,29,90,68,3,64]
[null,104,127,5,60,15,28,126,61,81,31,10,19,39,34,97,30,68,68,98,101,109,19]
[null,55,32,126,37,49,67,127,23,127,43,12,94,34,101,80,5,76,97,115,96,124,74]
[null,77,28,89,10,116,90,27,6,10,27,101,64,6,30,78,96,128,24,59,125,81,107]
[null,6,96,20,39,100,26,35,55,62,57,88,62,11,125,93,101,80,46,60,100,77,123]
[null,119,31,88,41,54,5,37,28,8,92,87,69,9,24,63,68,124,100,36,84,41,50]
[null,32,70,45,31,7,103,50,17,47,85,78,21,3,84,61,97,79,125,48,106,8,67]
[null,83,14,40,50,86,86,106,64,15,3,11,129,106,37,126,123,59,27,31,80,23,128]
[null,73,125,111,8,80,17,84,49,23,2,49,35,71,80,75,119,17,35,2,93,7,113]
[null,113,7,8,51,33,45,100,43,22,116,69,122,103,27,6,126,52,93,38,95,104,105]
[null,52,128,105,28,58,81,125,25,4,120,32,37,85,95,17,127,38,80,9,103,82,83]
[null,106,57,61,119,118,128,59,42,44,35,107,34,7,38,56,79,14,31,103,121,71,18]
[null,38,81,50,128,121,38,60,20,20,4,117,105,49,121,44,74,26,2,95,92,85,49]
[null,108,39,78,112,18,16,36,8,64,66,75,40,50,31,91,129,23,92,93,128,60,30]
[null,8,126,37,107,41,97,48,22,28,79,92,76,66,128,105,91,5,121,80,99,38,57]
[null,61,41,1,109,114,70,99,47,57,5,17,49,99,36,10,72,87,59,106,82,5,11]
[null,46,74,96,71,108,55,128,63,46,48,6,118,129,82,20,90,91,60,84,94,40,41]
[null,112,17,6,101,62,51,92,10,24,70,8,2,73,59,104,98,84,94,100,70,121,68]
[null,4,101,86,76,39,95,121,18,52,88,34,99,95,70,90,115,89,82,125,71,95,6]
[null,67,117,117,115,52,64,42,71,6,74,14,73,84,10,96,44,110,47,6,112,116,1]
[null,68,43,49,78,42,52,20,70,33,62,25,5,107,112,123,13,85,63,55,120,117,48]
[null,54,69,121,127,71,20,8,94,41,19,19,106,76,47,45,54,82,120,28,67,31,33]
[null,103,52,15,81,77,123,22,82,55,25,44,17,92,67,16,57,77,112,17,83,36,15]
[null,2,76,62,106,10,108,83,99,40,96,68,86,60,8,100,14,31,42,64,108,29,55]
[null,101,11,77,111,31,39,67,128,2,113,84,79,48,108,95,52,29,20,49,122,19,42]
[null,12,88,29,118,125,8,120,92,59,55,76,110,20,42,51,21,60,122,43,110,78,34]
[null,100,21,128,97,92,111,112,121,30,18,79,48,18,110,68,45,27,108,25,88,87,46]
[null,31,110,72,47,73,88,6,103,9,121,2,14,105,43,9,26,28,64,88,105,112,120]
[null,93,24,3,34,37,68,55,95,14,93,21,92,67,105,27,16,11,49,110,87,114,110]
[null,45,107,116,58,111,36,28,93,18,24,36,15,125,64,101,41,69,87,122,81,47,127]
[null,86,38,31,25,106,96,17,80,32,32,1,119,77,81,107,19,64,105,108,66,12,102]
[null,43,118,38,61,6,73,66,106,26,115,77,72,17,28,5,53,108,6,83,113,28,69]
[null,109,55,67,63,25,3,81,84,50,72,90,87,37,113,22,12,117,55,67,102,46,99]
[null,3,108,23,5,94,18,87,100,34,11,97,22,26,6,59,61,123,102,120,75,80,59]
[null,95,59,91,40,101,101,105,125,39,76,99,126,19,75,83,23,109,113,112,124,79,86]
[null,33,53,113,14,27,124,26,96,125,30,7,123,14,61,57,124,90,53,44,107,126,8]
[null,105,122,21,38,64,53,16,101,95,7,4,52,29,107,76,75,106,12,13,69,74,35]
[null,39,15,114,73,95,24,41,68,82,83,20,67,55,53,3,102,75,69,54,118,27,24]
[null,71,100,46,64,98,72,19,97,111,124,22,50,56,118,41,113,112,107,57,77,10,40]
[null,13,48,11,16,2,107,77,123,74,23,100,89,108,41,84,66,72,26,14,111,44,45]
[null,125,67,70,13,1,13,118,119,85,39,64,33,98,111,119,81,42,16,52,89,58,13]
[null,9,25,28,20,109,9,69,126,105,84,106,91,79,26,48,87,25,89,21,114,129,53]
[null,129,86,74,43,122,80,107,127,92,59,114,28,102,114,13,105,49,111,45,104,68,52]
[null,49,16,108,113,46,84,44,79,123,28,18,18,13,21,8,88,33,14,104,85,75,126]
[null,72,84,35,104,3,25,13,74,103,8,35,104,16,85,38,110,47,52,114,109,73,118]
[null,42,18,71,86,74,47,54,129,129,114,37,23,68,14,106,122,10,109,89,78,25,93]
[null,123,121,51,74,79,118,57,91,114,89,58,88,40,78,99,108,56,85,111,116,33,114]
[null,40,66,48,103,11,115,116,72,63,12,91,16,100,54,19,83,118,44,77,73,37,103]
[null,64,83,106,108,34,48,78,90,88,26,127,85,126,73,58,67,86,13,118,76,17,72]
[null,14,19,43,77,82,54,109,98,77,69,67,30,115,44,115,120,126,76,69,117,88,109]
[null,96,120,104,123,69,74,85,115,70,101,83,75,78,117,66,112,98,73,107,86,110,92]
[null,10,58,57,6,60,41,79,86,21,52,50,32,10,98,32,71,1,72,96,15,30,14]
[null,80,68,75,36,55,71,74,117,13,50,26,103,36,15,53,70,8,90,101,32,11,51]
[null,56,51,33,45,110,109,129,76,58,67,48,46,2,72,109,94,19,32,68,40,69,22]
[null,70,95,120,30,83,32,91,73,51,86,5,77,43,40,81,82,3,15,97,58,76,54]
[null,48,1,83,46,43,61,58,116,17,20,73,10,72,129,2,99,95,79,123,39,115,36]
[null,114,97,54,35,17,87,40,78,11,49,85,124,89,39,1,128,67,74,119,1,106,32]
[null,36,6,98,42,85,100,32,109,12,129,89,9,69,79,116,92,115,1,126,56,39,9]
[null,102,90,18,55,117,11,15,85,69,108,74,127,86,56,118,121,93,39,127,51,66,5]
[null,20,36,36,126,4,4,96,104,29,53,27,74,8,126,94,103,96,123,51,3,34,87]
[null,111,104,103,82,40,116,101,114,36,40,71,59,12,3,112,95,114,119,56,4,67,101]
[null,23,50,30,129,102,120,68,89,37,94,9,101,33,123,60,93,100,4,1,11,108,91]
[null,89,93,64,121,104,1,97,111,54,97,60,13,21,11,43,80,73,3,39,7,98,104]
[null,15,45,123,68,23,37,7,77,31,13,115,83,88,68,102,106,36,96,58,33,128,70]
[null,79,103,12,98,67,99,11,118,43,21,102,60,83,33,88,84,9,101,40,62,127,66]
[null,26,3,125,70,115,102,4,69,49,99,120,111,91,96,33,100,62,62,32,29,21,111]
[null,75,98,4,93,81,63,3,107,3,87,118,36,96,29,50,125,54,33,15,34,6,56]
[null,53,102,41,120,14,40,103,124,120,103,29,66,124,100,52,34,2,106,71,5,49,23]
[null,124,34,110,91,30,104,95,75,68,73,42,68,119,5,37,29,50,84,70,30,53,7]
[null,11,99,42,89,76,125,93,102,122,38,43,61,121,106,67,62,6,30,94,46,89,80]
[null,98,60,85,99,123,27,80,113,83,45,52,109,127,46,69,33,51,5,82,24,122,63]
[null,47,116,90,80,44,44,24,66,115,127,119,1,24,93,4,7,71,103,99,50,107,2]
[null,57,5,19,122,50,113,46,81,107,128,81,95,59,50,55,11,113,95,128,37,123,17]
[null,17,123,122,79,97,85,30,87,108,14,61,8,27,103,124,4,78,37,92,35,26,25]
[null,78,2,25,102,72,49,5,105,126,10,98,93,45,35,113,3,92,50,121,27,48,47]
[null,24,73,69,11,12,2,71,88,86,95,23,96,123,92,74,51,116,99,27,9,59,112]
[null,92,49,80,2,9,92,70,110,110,126,13,25,81,9,86,56,104,128,35,38,45,81]
[null,22,91,52,18,112,114,94,122,66,64,55,90,80,99,39,1,107,38,37,2,70,100]
[null,122,4,93,23,89,33,82,108,102,51,38,54,64,2,25,39,125,9,50,31,92,73]
[null,69,89,129,21,16,60,31,83,73,125,113,81,31,94,120,58,43,71,24,48,125,119]
[null,84,56,34,59,22,75,2,67,84,82,124,12,1,48,110,40,39,70,46,36,90,89]
[null,18,113,124,29,68,79,38,120,106,60,122,128,57,71,26,32,46,36,30,60,9,62]
[null,126,29,44,54,91,35,9,112,78,42,96,31,35,60,40,15,41,48,5,59,35,124]
[null,63,13,13,15,78,66,88,59,124,56,116,57,46,120,34,86,20,83,124,18,14,129]
[null,62,87,81,52,88,78,110,60,97,68,105,125,23,18,7,117,45,67,75,10,13,82]
[null,76,61,9,3,59,110,122,36,89,111,111,24,54,83,85,76,48,10,102,63,99,97]
[null,27,78,115,49,53,7,108,48,75,105,86,113,38,63,114,73,53,18,113,47,94,115]
[null,128,54,68,24,120,22,47,31,90,34,62,44,70,122,30,116,99,88,66,22,101,75]
[null,29,119,53,19,99,91,63,2,128,17,46,51,82,22,35,78,101,110,81,8,111,88]
[null,118,42,101,12,5,122,10,38,71,75,54,20,110,88,79,109,70,8,87,20,52,96]
[null,30,109,2,33,38,19,18,9,100,112,51,82,112,20,62,85,103,22,105,42,43,84]
[null,99,20,58,83,57,42,124,27,121,9,128,116,25,87,121,104,102,66,42,25,18,10]
[null,37,106,127,96,93,62,75,35,116,37,109,38,63,25,103,114,119,81,20,43,16,20]
[null,85,23,14,72,19,94,102,37,112,106,94,115,5,66,29,89,61,43,8,49,83,3]
[null,44,92,99,105,24,34,113,50,98,98,129,11,53,49,23,111,66,25,22,64,118,28]
[null,87,12,92,69,124,57,64,24,104,15,53,58,113,102,125,77,22,124,47,17,102,61]
[null,21,75,63,67,105,127,49,46,80,58,40,43,93,17,108,118,13,75,63,28,84,31]
[null,127,22,107,125,36,112,43,30,96,119,33,108,104,124,71,69,7,28,10,55,50,71]
[null,35,71,39,90,29,29,25,5,91,54,31,4,111,55,47,107,21,17,18,6,51,44]
[null,97,77,17,116,103,6,104,34,5,100,123,7,116,69,73,6,40,77,86,23,4,122]
[null,25,8,109,92,66,77,114,29,35,123,126,78,101,23,54,55,24,118,117,61,56,95]
[null,91,115,16,57,35,106,89,62,48,47,110,63,75,77,127,28,55,61,76,12,103,106]
[null,59,30,84,66,32,58,111,33,19,6,108,80,74,12,89,17,18,23,73,53,120,90]
[null,117,82,119,114,128,23,53,7,56,107,30,41,22,89,46,64,58,104,116,19,86,85]
[null,5,63,60,117,129,117,12,11,45,91,66,97,32,19,11,49,88,114,78,41,72,117]
[null,121,105,102,110,21,121,61,4,25,46,24,39,51,104,82,43,105,41,109,16,1,77]
[null,1,44,56,87,8,50,23,3,38,71,16,102,28,16,117,25,81,19,85,26,62,78]
[null,81,114,22,17,84,46,86,51,7,102,112,112,117,109,122,42,97,116,26,45,55,4]
[null,58,46,95,26,127,105,117,56,27,122,95,26,114,45,92,20,83,78,16,21,57,12]
[null,88,112,59,44,56,83,76,1,1,16,93,107,62,116,24,8,120,21,41,52,105,37]
[null,7,9,79,56,51,12,73,39,16,41,72,42,90,52,31,22,74,45,19,14,97,16]
[null,90,64,82,27,119,15,14,58,67,118,39,114,30,76,111,47,12,86,53,57,93,27]
[null,66,47,24,22,96,82,52,40,42,104,3,45,4,57,72,63,44,117,12,54,113,58]
[null,116,111,87,53,48,76,21,32,53,61,63,100,15,86,15,10,4,54,61,13,42,21]
[null,34,10,26,7,61,56,45,15,60,29,47,55,52,13,64,18,32,57,23,44,20,38]
[null,100,89,78,115,34,32,116,44,70,80,72,58,109,120,129,124,120,98,59,98,73,51]
[null,119,59,80,98,29,115,79,13,75,104,62,40,117,94,122,94,50,27,60,77,55,56]
[null,61,21,63,90,62,58,108,54,20,82,79,98,72,128,111,85,74,84,36,21,97,1]
[null,54,98,44,72,33,90,76,57,47,125,35,115,79,87,127,100,60,53,48,49,10,39]
[null,15,69,110,91,7,1,94,14,87,57,129,51,113,58,35,84,82,120,31,128,47,72]
[null,24,43,81,129,11,91,98,52,113,45,33,56,119,41,63,95,16,6,2,129,76,90]
[null,91,30,1,74,4,51,121,21,45,41,124,129,118,61,15,88,94,121,38,14,32,98]
[null,64,119,22,79,3,74,125,45,13,56,40,91,61,44,37,75,28,3,9,12,112,115]
[null,96,126,77,127,79,4,43,26,126,103,94,7,101,122,34,4,110,56,27,36,94,34]
[null,63,14,90,126,74,127,29,16,90,59,26,11,94,118,16,48,19,71,35,18,27,29]
[null,22,10,36,119,129,7,39,41,28,121,80,126,93,97,30,1,107,29,37,70,100,62]
[null,32,129,33,123,91,119,26,19,26,70,37,127,76,109,57,9,41,117,50,87,66,33]
[null,2,93,117,97,72,62,60,53,107,15,85,34,99,42,94,62,115,47,24,28,7,123]
[null,3,31,109,68,90,97,64,12,63,28,27,29,87,47,121,32,51,70,46,42,118,119]
[null,109,28,31,101,98,34,19,61,15,10,127,68,81,39,68,60,104,19,30,97,5,126]
[null,124,67,43,96,115,101,74,23,49,12,32,97,127,34,76,37,55,94,5,80,126,127]
[null,81,90,27,125,59,30,107,6,116,101,28,24,10,6,128,10,77,64,96,78,89,27]
[null,77,26,57,100,60,125,123,55,100,88,96,46,62,11,80,39,6,62,101,93,20,35]
[null,41,5,92,84,36,24,50,28,54,87,31,100,8,9,124,41,119,69,68,63,88,37]
[null,8,103,85,106,48,84,67,17,7,78,70,125,47,3,79,31,32,21,97,61,45,50]
[null,23,86,3,80,31,37,128,64,86,11,14,27,15,106,59,50,83,129,123,126,40,106]
[null,7,17,2,93,2,80,113,49,80,49,125,35,23,71,17,8,73,35,119,75,111,84]
[null,104,45,116,95,38,27,105,43,33,69,7,93,22,103,52,51,113,122,126,6,8,100]
[null,82,81,120,103,9,95,83,25,58,32,128,80,4,85,38,28,52,37,127,17,105,125]
[null,71,128,35,121,103,38,18,42,118,107,57,31,44,7,14,119,106,34,79,56,61,59]
[null,85,38,4,92,95,121,49,20,121,117,81,2,20,49,26,128,38,105,74,44,50,60]
[null,60,16,66,128,93,31,30,8,18,75,39,92,64,50,23,112,108,40,129,91,78,36]
[null,38,97,79,99,80,128,57,22,41,92,126,121,28,66,5,107,8,76,91,105,37,48]
[null,5,70,5,82,106,36,11,47,114,17,41,59,57,99,87,109,61,49,72,10,1,99]
[null,40,55,48,94,84,82,41,63,108,6,74,60,46,129,91,71,46,118,90,20,96,128]
[null,121,51,70,70,100,59,68,10,62,8,17,94,24,73,84,101,112,2,98,104,6,92]
[null,95,95,88,71,125,70,6,18,39,34,101,82,52,95,89,76,4,99,115,90,86,121]
[null,116,64,74,112,6,10,1,71,52,14,117,47,6,84,110,115,67,73,44,96,117,42]
[null,117,52,62,120,55,112,48,70,42,25,43,63,33,107,85,78,68,5,13,123,49,20]
[null,31,20,19,67,28,47,33,94,71,19,69,120,41,76,82,127,54,106,54,45,121,8]
[null,36,123,25,83,17,67,15,82,77,44,52,112,55,92,77,81,103,17,57,16,15,22]
[null,29,108,96,108,64,8,55,99,10,68,76,42,40,60,31,106,2,86,14,100,62,83]
[null,19,39,113,122,49,108,42,128,31,84,11,20,2,48,29,111,101,79,52,95,77,67]
[null,78,8,55,110,43,42,34,92,125,76,88,122,59,20,60,118,12,110,21,51,29,120]
[null,87,111,18,88,25,110,46,121,92,79,21,108,30,18,27,97,100,48,45,68,128,112]
[null,112,88,121,105,88,43,120,103,73,2,110,64,9,105,28,47,31,14,26,9,72,6]
[null,114,68,93,87,110,105,110,95,37,21,24,49,14,67,11,34,93,92,16,27,3,55]
[null,47,36,24,81,122,64,127,93,111,36,107,87,18,125,69,58,45,15,41,101,116,28]
[null,12,96,32,66,108,81,102,80,106,1,38,105,32,77,64,25,86,119,19,107,31,17]
[null,28,73,115,113,83,28,69,106,6,77,118,6,26,17,108,61,43,72,53,5,38,66]
[null,46,3,72,102,67,113,99,84,25,90,55,55,50,37,117,63,109,87,12,22,67,81]
[null,80,18,11,75,120,6,59,100,94,97,108,102,34,26,123,5,3,22,61,59,23,87]
[null,79,101,76,124,112,75,86,125,101,99,59,113,39,19,109,40,95,126,23,83,91,105]
[null,126,124,30,107,44,61,8,96,27,7,53,53,125,14,90,14,33,123,124,57,113,26]
[null,74,53,7,69,13,107,35,101,64,4,122,12,95,29,106,38,105,52,75,76,21,16]
[null,27,24,83,118,54,53,24,68,95,20,15,69,82,55,75,73,39,67,102,3,114,41]
[null,10,72,124,77,57,118,40,97,98,22,100,107,111,56,112,64,71,50,113,41,46,19]
[null,44,107,23,111,14,41,45,123,2,100,48,26,74,108,72,16,13,89,66,84,11,77]
[null,58,13,39,89,52,111,13,119,1,64,67,16,85,98,42,13,125,33,81,119,70,118]
[null,129,9,84,114,21,26,53,126,109,106,25,89,105,79,25,20,9,91,87,48,28,69]
[null,68,80,59,104,45,114,52,127,122,114,86,111,92,102,49,43,129,28,105,13,74,107]
[null,75,84,28,85,104,21,126,79,46,18,16,14,123,13,33,113,49,18,88,8,108,44]
[null,73,25,8,109,114,85,118,74,3,35,84,52,103,16,47,104,72,104,110,38,35,13]
[null,25,47,114,78,89,14,93,129,74,37,18,109,129,68,10,86,42,23,122,106,71,54]
[null,33,118,89,116,111,78,114,91,79,58,121,85,114,40,56,74,123,88,108,99,51,57]
[null,37,115,12,73,77,54,103,72,11,91,66,44,63,100,118,103,40,16,83,19,48,116]
[null,17,48,26,76,118,73,72,90,34,127,83,13,88,126,86,108,64,85,67,58,106,78]
[null,88,54,69,117,69,44,109,98,82,67,19,76,77,115,126,77,14,30,120,115,43,109]
[null,110,74,101,86,107,117,92,115,69,83,120,73,70,78,98,123,96,75,112,66,104,85]
[null,30,41,52,15,96,98,14,86,60,50,58,72,21,10,1,6,10,32,71,32,57,79]
[null,11,71,50,32,101,15,51,117,55,26,68,90,13,36,8,36,80,103,70,53,75,74]
[null,69,109,67,40,68,72,22,76,110,48,51,32,58,2,19,45,56,46,94,109,33,129]
[null,76,32,86,58,97,40,54,73,83,5,95,15,51,43,3,30,70,77,82,81,120,91]
[null,115,61,20,39,123,129,36,116,43,73,1,79,17,72,95,46,48,10,99,2,83,58]
[null,106,87,49,1,119,39,32,78,17,85,97,74,11,89,67,35,114,124,128,1,54,40]
[null,39,100,129,56,126,79,9,109,85,89,6,1,12,69,115,42,36,9,92,116,98,32]
[null,66,11,108,51,127,56,5,85,117,74,90,39,69,86,93,55,102,127,121,118,18,15]
[null,34,4,53,3,51,126,87,104,4,27,36,123,29,8,96,126,20,74,103,94,36,96]
[null,67,116,40,4,56,3,101,114,40,71,104,119,36,12,114,82,111,59,95,112,103,101]
[null,108,120,94,11,1,123,91,89,102,9,50,4,37,33,100,129,23,101,93,60,30,68]
[null,98,1,97,7,39,11,104,111,104,60,93,3,54,21,73,121,89,13,80,43,64,97]
[null,128,37,13,33,58,68,70,77,23,115,45,96,31,88,36,68,15,83,106,102,123,7]
[null,127,99,21,62,40,33,66,118,67,102,103,101,43,83,9,98,79,60,84,88,12,11]
[null,21,102,99,29,32,96,111,69,115,120,3,62,49,91,62,70,26,111,100,33,125,4]
[null,6,63,87,34,15,29,56,107,81,118,98,33,3,96,54,93,75,36,125,50,4,3]
[null,49,40,103,5,71,100,23,124,14,29,102,106,120,124,2,120,53,66,34,52,41,103]
[null,53,104,73,30,70,5,7,75,30,42,34,84,68,119,50,91,124,68,29,37,110,95]
[null,89,125,38,46,94,106,80,102,76,43,99,30,122,121,6,89,11,61,62,67,42,93]
[null,122,27,45,24,82,46,63,113,123,52,60,5,83,127,51,99,98,109,33,69,85,80]
[null,107,44,127,50,99,93,2,66,44,119,116,103,115,24,71,80,47,1,7,4,90,24]
[null,123,113,128,37,128,50,17,81,50,81,5,95,107,59,113,122,57,95,11,55,19,46]
[null,26,85,14,35,92,103,25,87,97,61,123,37,108,27,78,79,17,8,4,124,122,30]
[null,48,49,10,27,121,35,47,105,72,98,2,50,126,45,92,102,78,93,3,113,25,5]
[null,59,2,95,9,27,92,112,88,12,23,73,99,86,123,116,11,24,96,51,74,69,71]
[null,45,92,126,38,35,9,81,110,9,13,49,128,110,81,104,2,92,25,56,86,80,70]
[null,70,114,64,2,37,99,100,122,112,55,91,38,66,80,107,18,22,90,1,39,52,94]
[null,92,33,51,31,50,2,73,108,89,38,4,9,102,64,125,23,122,54,39,25,93,82]
[null,125,60,125,48,24,94,119,83,16,113,89,71,73,31,43,21,69,81,58,120,129,31]
[null,90,75,82,36,46,48,89,67,22,124,56,70,84,1,39,59,84,12,40,110,34,2]
[null,9,79,60,60,30,71,62,120,68,122,113,36,106,57,46,29,18,128,32,26,124,38]
[null,35,35,42,59,5,60,124,112,91,96,29,48,78,35,41,54,126,31,15,40,44,9]
[null,14,66,56,18,124,120,129,59,78,116,13,83,124,46,20,15,63,57,86,34,13,88]
[null,13,78,68,10,75,18,82,60,88,105,87,67,97,23,45,52,62,125,117,7,81,110]
[null,99,110,111,63,102,83,97,36,59,111,61,10,89,54,48,3,76,24,76,85,9,122]
[null,94,7,105,47,113,63,115,48,53,86,78,18,75,38,53,49,27,113,73,114,115,108]
[null,101,22,34,22,66,122,75,31,120,62,54,88,90,70,99,24,128,44,116,30,68,47]
[null,111,91,17,8,81,22,88,2,99,46,119,110,128,82,101,19,29,51,78,35,53,63]
[null,52,122,75,20,87,88,96,38,5,54,42,8,71,110,70,12,118,20,109,79,101,10]
[null,43,19,112,42,105,20,84,9,38,51,109,22,100,112,103,33,30,82,85,62,2,18]
[null,18,42,9,25,42,87,10,27,57,128,20,66,121,25,102,83,99,116,104,121,58,124]
[null,16,62,37,43,20,25,20,35,93,109,106,81,116,63,119,96,37,38,114,103,127,75]
[null,83,94,106,49,8,66,3,37,19,94,23,43,112,5,61,72,85,115,89,29,14,102]
[null,118,34,98,64,22,49,28,50,24,129,92,25,98,53,66,105,44,11,111,23,99,113]
[null,102,57,15,17,47,102,61,24,124,53,12,124,104,113,22,69,87,58,77,125,92,64]
[null,84,127,58,28,63,17,31,46,105,40,75,75,80,93,13,67,21,43,118,108,63,49]
[null,50,112,119,55,10,124,71,30,36,33,22,28,96,104,7,125,127,108,69,71,107,43]
[null,51,29,54,6,18,55,44,5,29,31,71,17,91,111,21,90,35,4,107,47,39,25]
[null,4,6,100,23,86,69,122,34,103,123,77,77,5,116,40,116,97,7,6,73,17,104]
[null,56,77,123,61,117,23,95,29,66,126,8,118,35,101,24,92,25,78,55,54,109,114]
[null,103,106,47,12,76,77,106,62,35,110,115,61,48,75,55,57,91,63,28,127,16,89]
[null,120,58,6,53,73,12,90,33,32,108,30,23,19,74,18,66,59,80,17,89,84,111]
[null,86,23,107,19,116,89,85,7,128,30,82,104,56,22,58,114,117,41,64,46,119,53]
[null,72,117,91,41,78,19,117,11,129,66,63,114,45,32,88,117,5,97,49,11,60,12]
[null,1,121,46,16,109,104,77,4,21,24,105,41,25,51,105,110,121,39,43,82,102,61]
[null,62,50,71,26,85,16,78,3,8,16,44,19,38,28,81,87,1,102,25,117,56,23]
[null,55,46,102,45,26,109,4,51,84,112,114,116,7,117,97,17,81,112,42,122,22,86]
[null,57,105,122,21,16,45,12,56,127,95,46,78,27,114,83,26,58,26,20,92,95,117]
[null,105,83,16,52,41,116,37,1,56,93,112,21,1,62,120,44,88,107,8,24,59,76]
[null,97,12,41,14,19,52,16,39,51,72,9,45,16,90,74,56,7,42,22,31,79,73]
[null,93,15,118,57,53,76,27,58,119,39,64,86,67,30,12,27,90,114,47,111,82,14]
[null,113,82,104,54,12,57,58,40,96,3,47,117,42,4,44,22,66,45,63,72,24,52]
[null,42,76,61,13,61,86,21,32,48,63,111,54,53,15,4,53,116,100,10,15,87,21]
[null,20,56,29,44,23,13,38,15,61,47,10,57,60,52,32,7,34,55,18,64,26,45]
[null,98,58,109,80,120,116,100,89,124,70,44,73,59,120,115,32,72,51,34,78,129,98]
[null,77,40,117,104,50,79,119,59,94,75,13,55,60,94,98,115,62,56,29,80,122,27]
[null,21,98,72,82,74,108,61,21,85,20,54,97,36,128,90,58,79,1,62,63,111,84]
[null,49,115,79,125,60,76,54,98,100,47,57,10,48,87,72,90,35,39,33,44,127,53]
[null,128,51,113,57,82,94,15,69,84,87,14,47,31,58,91,1,129,72,7,110,35,120]
[null,129,56,119,45,16,98,24,43,95,113,52,76,2,41,129,91,33,90,11,81,63,6]
[null,14,129,118,41,94,121,91,30,88,45,21,32,38,61,74,51,124,98,4,1,15,121]
[null,12,91,61,56,28,125,64,119,75,13,45,112,9,44,79,74,40,115,3,22,37,3]
[null,36,7,101,103,110,43,96,126,4,126,26,94,27,122,127,4,94,34,79,77,34,56]
[null,18,11,94,59,19,29,63,14,48,90,16,27,35,118,126,127,26,29,74,90,16,71]
[null,70,126,93,121,107,39,22,10,1,28,41,100,37,97,119,7,80,62,129,36,30,29]
[null,87,127,76,70,41,26,32,129,9,26,19,66,50,109,123,119,37,33,91,33,57,117]
[null,28,34,99,15,115,60,2,93,62,107,53,7,24,42,97,62,85,123,72,117,94,47]
[null,42,29,87,28,51,64,3,31,32,63,12,118,46,47,68,97,27,119,90,109,121,70]
[null,97,68,81,10,104,19,109,28,60,15,61,5,30,39,101,34,127,126,98,31,68,19]
[null,80,97,127,12,55,74,124,67,37,49,23,126,5,34,96,101,32,127,115,43,76,94]
[null,78,24,10,101,77,107,81,90,10,116,6,89,96,6,125,30,28,27,59,27,128,64]
[null,93,46,62,88,6,123,77,26,39,100,55,20,101,11,100,125,96,35,60,57,80,62]
[null,63,100,8,87,119,50,41,5,41,54,28,88,68,9,84,24,31,37,36,92,124,69]
[null,61,125,47,78,32,67,8,103,31,7,17,45,97,3,106,84,70,50,48,85,79,21]
[null,126,27,15,11,83,128,23,86,50,86,64,40,123,106,80,37,14,106,31,3,59,129]
[null,75,35,23,49,73,113,7,17,8,80,49,111,119,71,93,80,125,84,2,2,17,35]
[null,6,93,22,69,113,105,104,45,51,33,43,8,126,103,95,27,7,100,38,116,52,122]
[null,17,80,4,32,52,83,82,81,28,58,25,105,127,85,103,95,128,125,9,120,38,37]
[null,56,31,44,107,106,18,71,128,119,118,42,61,79,7,121,38,57,59,103,35,14,34]
[null,44,2,20,117,38,49,85,38,128,121,20,50,74,49,92,121,81,60,95,4,26,105]
[null,91,92,64,75,108,30,60,16,112,18,8,78,129,50,128,31,39,36,93,66,23,40]
[null,105,121,28,92,8,57,38,97,107,41,22,37,91,66,99,128,126,48,80,79,5,76]
[null,10,59,57,17,61,11,5,70,109,114,47,1,72,99,82,36,41,99,106,5,87,49]
[null,20,60,46,6,46,41,40,55,71,108,63,96,90,129,94,82,74,128,84,48,91,118]
[null,104,94,24,8,112,68,121,51,101,62,10,6,98,73,70,59,17,92,100,70,84,2]
[null,90,82,52,34,4,6,95,95,76,39,18,86,115,95,71,70,101,121,125,88,89,99]
[null,96,47,6,14,67,1,116,64,115,52,71,117,44,84,112,10,117,42,6,74,110,73]
[null,123,63,33,25,68,48,117,52,78,42,70,49,13,107,120,112,43,20,55,62,85,5]
[null,45,120,41,19,54,33,31,20,127,71,94,121,54,76,67,47,69,8,28,19,82,106]
[null,16,112,55,44,103,15,36,123,81,77,82,15,57,92,83,67,52,22,17,25,77,17]
[null,100,42,40,68,2,55,29,108,106,10,99,62,14,60,108,8,76,83,64,96,31,86]
[null,95,20,2,84,101,42,19,39,111,31,128,77,52,48,122,108,11,67,49,113,29,79]
[null,51,122,59,76,12,34,78,8,118,125,92,29,21,20,110,42,88,120,43,55,60,110]
[null,68,108,30,79,100,46,87,111,97,92,121,128,45,18,88,110,21,112,25,18,27,48]
[null,9,64,9,2,31,120,112,88,47,73,103,72,26,105,105,43,110,6,88,121,28,14]
[null,27,49,14,21,93,110,114,68,34,37,95,3,16,67,87,105,24,55,110,93,11,92]
[null,101,87,18,36,45,127,47,36,58,111,93,116,41,125,81,64,107,28,122,24,69,15]
[null,107,105,32,1,86,102,12,96,25,106,80,31,19,77,66,81,38,17,108,32,64,119]
[null,5,6,26,77,43,69,28,73,61,6,106,38,53,17,113,28,118,66,83,115,108,72]
[null,22,55,50,90,109,99,46,3,63,25,84,67,12,37,102,113,55,81,67,72,117,87]
[null,59,102,34,97,3,59,80,18,5,94,100,23,61,26,75,6,108,87,120,11,123,22]
[null,83,113,39,99,95,86,79,101,40,101,125,91,23,19,124,75,59,105,112,76,109,126]
[null,57,53,125,7,33,8,126,124,14,27,96,113,124,14,107,61,53,26,44,30,90,123]
[null,76,12,95,4,105,35,74,53,38,64,101,21,75,29,69,107,122,16,13,7,106,52]
[null,3,69,82,20,39,24,27,24,73,95,68,114,102,55,118,53,15,41,54,83,75,67]
[null,41,107,111,22,71,40,10,72,64,98,97,46,113,56,77,118,100,19,57,124,112,50]
[null,84,26,74,100,13,45,44,107,16,2,123,11,66,108,111,41,48,77,14,23,72,89]
[null,119,16,85,64,125,13,58,13,13,1,119,70,81,98,89,111,67,118,52,39,42,33]
[null,48,89,105,106,9,53,129,9,20,109,126,28,87,79,114,26,25,69,21,84,25,91]
[null,13,111,92,114,129,52,68,80,43,122,127,74,105,102,104,114,86,107,45,59,49,28]
[null,8,14,123,18,49,126,75,84,113,46,79,108,88,13,85,21,16,44,104,28,33,18]
[null,38,52,103,35,72,118,73,25,104,3,74,35,110,16,109,85,84,13,114,8,47,104]
[null,106,109,129,37,42,93,25,47,86,74,129,71,122,68,78,14,18,54,89,114,10,23]
[null,99,85,114,58,123,114,33,118,74,79,91,51,108,40,116,78,121,57,111,89,56,88]
[null,19,44,63,91,40,103,37,115,103,11,72,48,83,100,73,54,66,116,77,12,118,16]
[null,58,13,88,127,64,72,17,48,108,34,90,106,67,126,76,73,83,78,118,26,86,85]
[null,115,76,77,67,14,109,88,54,77,82,98,43,120,115,117,44,19,109,69,69,126,30]
[null,66,73,70,83,96,92,110,74,123,69,115,104,112,78,86,117,120,85,107,101,98,75]
[null,32,72,21,50,10,14,30,41,6,60,86,57,71,10,15,98,58,79,96,52,1,32]
[null,53,90,13,26,80,51,11,71,36,55,117,75,70,36,32,15,68,74,101,50,8,103]
[null,109,32,58,48,56,22,69,109,45,110,76,33,94,2,40,72,51,129,68,67,19,46]
[null,81,15,51,5,70,54,76,32,30,83,73,120,82,43,58,40,95,91,97,86,3,77]
[null,2,79,17,73,48,36,115,61,46,43,116,83,99,72,39,129,1,58,123,20,95,10]
[null,1,74,11,85,114,32,106,87,35,17,78,54,128,89,1,39,97,40,119,49,67,124]
[null,116,1,12,89,36,9,39,100,42,85,109,98,92,69,56,79,6,32,126,129,115,9]
[null,118,39,69,74,102,5,66,11,55,117,85,18,121,86,51,56,90,15,127,108,93,127]
[null,94,123,29,27,20,87,34,4,126,4,104,36,103,8,3,126,36,96,51,53,96,74]
[null,112,119,36,71,111,101,67,116,82,40,114,103,95,12,4,3,104,101,56,40,114,59]
[null,60,4,37,9,23,91,108,120,129,102,89,30,93,33,11,123,50,68,1,94,100,101]
[null,43,3,54,60,89,104,98,1,121,104,111,64,80,21,7,11,93,97,39,97,73,13]
[null,102,96,31,115,15,70,128,37,68,23,77,123,106,88,33,68,45,7,58,13,36,83]
[null,88,101,43,102,79,66,127,99,98,67,118,12,84,83,62,33,103,11,40,21,9,60]
[null,33,62,49,120,26,111,21,102,70,115,69,125,100,91,29,96,3,4,32,99,62,111]
[null,50,33,3,118,75,56,6,63,93,81,107,4,125,96,34,29,98,3,15,87,54,36]
[null,52,106,120,29,53,23,49,40,120,14,124,41,34,124,5,100,102,103,71,103,2,66]
[null,37,84,68,42,124,7,53,104,91,30,75,110,29,119,30,5,34,95,70,73,50,68]
[null,67,30,122,43,11,80,89,125,89,76,102,42,62,121,46,106,99,93,94,38,6,61]
[null,69,5,83,52,98,63,122,27,99,123,113,85,33,127,24,46,60,80,82,45,51,109]
[null,4,103,115,119,47,2,107,44,80,44,66,90,7,24,50,93,116,24,99,127,71,1]
[null,55,95,107,81,57,17,123,113,122,50,81,19,11,59,37,50,5,46,128,128,113,95]
[null,124,37,108,61,17,25,26,85,79,97,87,122,4,27,35,103,123,30,92,14,78,8]
[null,113,50,126,98,78,47,48,49,102,72,105,25,3,45,27,35,2,5,121,10,92,93]
[null,74,99,86,23,24,112,59,2,11,12,88,69,51,123,9,92,73,71,27,95,116,96]
[null,86,128,110,13,92,81,45,92,2,9,110,80,56,81,38,9,49,70,35,126,104,25]
[null,39,38,66,55,22,100,70,114,18,112,122,52,1,80,2,99,91,94,37,64,107,90]
[null,25,9,102,38,122,73,92,33,23,89,108,93,39,64,31,2,4,82,50,51,125,54]
[null,120,71,73,113,69,119,125,60,21,16,83,129,58,31,48,94,89,31,24,125,43,81]
[null,110,70,84,124,84,89,90,75,59,22,67,34,40,1,36,48,56,2,46,82,39,12]
[null,26,36,106,122,18,62,9,79,29,68,120,124,32,57,60,71,113,38,30,60,46,128]
[null,40,48,78,96,126,124,35,35,54,91,112,44,15,35,59,60,29,9,5,42,41,31]
[null,34,83,124,116,63,129,14,66,15,78,59,13,86,46,18,120,13,88,124,56,20,57]
[null,7,67,97,105,62,82,13,78,52,88,60,81,117,23,10,18,87,110,75,68,45,125]
[null,85,10,89,111,76,97,99,110,3,59,36,9,76,54,63,83,61,122,102,111,48,24]
[null,114,18,75,86,27,115,94,7,49,53,48,115,73,38,47,63,78,108,113,105,53,113]
[null,30,88,90,62,128,75,101,22,24,120,31,68,116,70,22,122,54,47,66,34,99,44]
[null,35,110,128,46,29,88,111,91,19,99,2,53,78,82,8,22,119,63,81,17,101,51]
[null,79,8,71,54,118,96,52,122,12,5,38,101,109,110,20,88,42,10,87,75,70,20]
[null,62,22,100,51,30,84,43,19,33,38,9,2,85,112,42,20,109,18,105,112,103,82]
[null,121,66,121,128,99,10,18,42,83,57,27,58,104,25,25,87,20,124,42,9,102,116]
[null,103,81,116,109,37,20,16,62,96,93,35,127,114,63,43,25,106,75,20,37,119,38]
[null,29,43,112,94,85,3,83,94,72,19,37,14,89,5,49,66,23,102,8,106,61,115]
[null,23,25,98,129,44,28,118,34,105,24,50,99,111,53,64,49,92,113,22,98,66,11]
[null,125,124,104,53,87,61,102,57,69,124,24,92,77,113,17,102,12,64,47,15,22,58]
[null,108,75,80,40,21,31,84,127,67,105,46,63,118,93,28,17,75,49,63,58,13,43]
[null,71,28,96,33,127,71,50,112,125,36,30,107,69,104,55,124,22,43,10,119,7,108]
[null,47,17,91,31,35,44,51,29,90,29,5,39,107,111,6,55,71,25,18,54,21,4]
[null,73,77,5,123,97,122,4,6,116,103,34,17,6,116,23,69,77,104,86,100,40,7]
[null,54,118,35,126,25,95,56,77,92,66,29,109,55,101,61,23,8,114,117,123,24,78]
[null,127,61,48,110,91,106,103,106,57,35,62,16,28,75,12,77,115,89,76,47,55,63]
[null,89,23,19,108,59,90,120,58,66,32,33,84,17,74,53,12,30,111,73,6,18,80]
[null,46,104,56,30,117,85,86,23,114,128,7,119,64,22,19,89,82,53,116,107,58,41]
[null,11,114,45,66,5,117,72,117,117,129,11,60,49,32,41,19,63,12,78,91,88,97]
[null,82,41,25,24,121,77,1,121,110,21,4,102,43,51,16,104,105,61,109,46,105,39]
[null,117,19,38,16,1,78,62,50,87,8,3,56,25,28,26,16,44,23,85,71,81,102]
[null,122,116,7,112,81,4,55,46,17,84,51,22,42,117,45,109,114,86,26,102,97,112]
[null,92,78,27,95,58,12,57,105,26,127,56,95,20,114,21,45,46,117,16,122,83,26]
[null,24,21,1,93,88,37,105,83,44,56,1,59,8,62,52,116,112,76,41,16,120,107]
[null,31,45,16,72,7,16,97,12,56,51,39,79,22,90,14,52,9,73,19,41,74,42]
[null,111,86,67,39,90,27,93,15,27,119,58,82,47,30,57,76,64,14,53,118,12,114]
[null,72,117,42,3,66,58,113,82,22,96,40,24,63,4,54,57,47,52,12,104,44,45]
[null,15,54,53,63,116,21,42,76,53,48,32,87,10,15,13,86,111,21,61,61,4,100]
[null,64,57,60,47,34,38,20,56,7,61,15,26,18,52,44,13,10,45,23,29,32,55]

{"sheet":"NOLH for up to 22 factors","index":10,"n_rows":134,"n_cols":23,"rows_kept":134,"cut":false,"hidden":false,"merged":[]}
[]
["low level",1,1,1,1,1,1,1,1,1,1,1,1,1,1,1,1,1,1,1,1,1,1]
["high level",129,129,129,129,129,129,129,129,129,129,129,129,129,129,129,129,129,129,129,129,129,129]
["decimals",0,0,0,0,0,0,0,0,0,0,0,0,0,0,0,0,0,0,0,0,0,0]
["factor name"]
[null,{"$f":"ROUND(B$2+ (('coded NOLH for 17-22 factors'!B5-1)*(B$3-B$2) )/128, B$4 )","v":32},{"$f":"ROUND(C$2+ (('coded NOLH for 17-22 factors'!C5-1)*(C$3-C$2) )/128, C$4 )","v":58},{"$f":"ROUND(D$2+ (('coded NOLH for 17-22 factors'!D5-1)*(D$3-D$2) )/128, D$4 )","v":51},{"$f":"ROUND(E$2+ (('coded NOLH for 17-22 factors'!E5-1)*(E$3-E$2) )/128, E$4 )","v":59},{"$f":"ROUND(F$2+ (('coded NOLH for 17-22 factors'!F5-1)*(F$3-F$2) )/128, F$4 )","v":44},{"$f":"ROUND(G$2+ (('coded NOLH for 17-22 factors'!G5-1)*(G$3-G$2) )/128, G$4 )","v":89},{"$f":"ROUND(H$2+ (('coded NOLH for 17-22 factors'!H5-1)*(H$3-H$2) )/128, H$4 )","v":73},{"$f":"ROUND(I$2+ (('coded NOLH for 17-22 factors'!I5-1)*(I$3-I$2) )/128, I$4 )","v":98},{"$f":"ROUND(J$2+ (('coded NOLH for 17-22 factors'!J5-1)*(J$3-J$2) )/128, J$4 )","v":72},{"$f":"ROUND(K$2+ (('coded NOLH for 17-22 factors'!K5-1)*(K$3-K$2) )/128, K$4 )","v":120},{"$f":"ROUND(L$2+ (('coded NOLH for 17-22 factors'!L5-1)*(L$3-L$2) )/128, L$4 )","v":100},{"$f":"ROUND(M$2+ (('coded NOLH for 17-22 factors'!M5-1)*(M$3-M$2) )/128, M$4 )","v":98},{"$f":"ROUND(N$2+ (('coded NOLH for 17-22 factors'!N5-1)*(N$3-N$2) )/128, N$4 )","v":78},{"$f":"ROUND(O$2+ (('coded NOLH for 17-22 factors'!O5-1)*(O$3-O$2) )/128, O$4 )","v":129},{"$f":"ROUND(P$2+ (('coded NOLH for 17-22 factors'!P5-1)*(P$3-P$2) )/128, P$4 )","v":120},{"$f":"ROUND(Q$2+ (('coded NOLH for 17-22 factors'!Q5-1)*(Q$3-Q$2) )/128, Q$4 )","v":80},{"$f":"ROUND(R$2+ (('coded NOLH for 17-22 factors'!R5-1)*(R$3-R$2) )/128, R$4 )","v":109},{"$f":"ROUND(S$2+ (('coded NOLH for 17-22 factors'!S5-1)*(S$3-S$2) )/128, S$4 )","v":70},{"$f":"ROUND(T$2+ (('coded NOLH for 17-22 factors'!T5-1)*(T$3-T$2) )/128, T$4 )","v":116},{"$f":"ROUND(U$2+ (('coded NOLH for 17-22 factors'!U5-1)*(U$3-U$2) )/128, U$4 )","v":124},{"$f":"ROUND(V$2+ (('coded NOLH for 17-22 factors'!V5-1)*(V$3-V$2) )/128, V$4 )","v":34},{"$f":"ROUND(W$2+ (('coded NOLH for 17-22 factors'!W5-1)*(W$3-W$2) )/128, W$4 )","v":115}]
[null,{"$f":"ROUND(B$2+ (('coded NOLH for 17-22 factors'!B6-1)*(B$3-B$2) )/128, B$4 )","v":115},{"$f":"ROUND(C$2+ (('coded NOLH for 17-22 factors'!C6-1)*(C$3-C$2) )/128, C$4 )","v":40},{"$f":"ROUND(D$2+ (('coded NOLH for 17-22 factors'!D6-1)*(D$3-D$2) )/128, D$4 )","v":56},{"$f":"ROUND(E$2+ (('coded NOLH for 17-22 factors'!E6-1)*(E$3-E$2) )/128, E$4 )","v":60},{"$f":"ROUND(F$2+ (('coded NOLH for 17-22 factors'!F6-1)*(F$3-F$2) )/128, F$4 )","v":13},{"$f":"ROUND(G$2+ (('coded NOLH for 17-22 factors'!G6-1)*(G$3-G$2) )/128, G$4 )","v":59},{"$f":"ROUND(H$2+ (('coded NOLH for 17-22 factors'!H6-1)*(H$3-H$2) )/128, H$4 )","v":55},{"$f":"ROUND(I$2+ (('coded NOLH for 17-22 factors'!I6-1)*(I$3-I$2) )/128, I$4 )","v":27},{"$f":"ROUND(J$2+ (('coded NOLH for 17-22 factors'!J6-1)*(J$3-J$2) )/128, J$4 )","v":62},{"$f":"ROUND(K$2+ (('coded NOLH for 17-22 factors'!K6-1)*(K$3-K$2) )/128, K$4 )","v":50},{"$f":"ROUND(L$2+ (('coded NOLH for 17-22 factors'!L6-1)*(L$3-L$2) )/128, L$4 )","v":119},{"$f":"ROUND(M$2+ (('coded NOLH for 17-22 factors'!M6-1)*(M$3-M$2) )/128, M$4 )","v":77},{"$f":"ROUND(N$2+ (('coded NOLH for 17-22 factors'!N6-1)*(N$3-N$2) )/128, N$4 )","v":80},{"$f":"ROUND(O$2+ (('coded NOLH for 17-22 factors'!O6-1)*(O$3-O$2) )/128, O$4 )","v":122},{"$f":"ROUND(P$2+ (('coded NOLH for 17-22 factors'!P6-1)*(P$3-P$2) )/128, P$4 )","v":94},{"$f":"ROUND(Q$2+ (('coded NOLH for 17-22 factors'!Q6-1)*(Q$3-Q$2) )/128, Q$4 )","v":104},{"$f":"ROUND(R$2+ (('coded NOLH for 17-22 factors'!R6-1)*(R$3-R$2) )/128, R$4 )","v":117},{"$f":"ROUND(S$2+ (('coded NOLH for 17-22 factors'!S6-1)*(S$3-S$2) )/128, S$4 )","v":75},{"$f":"ROUND(T$2+ (('coded NOLH for 17-22 factors'!T6-1)*(T$3-T$2) )/128, T$4 )","v":79},{"$f":"ROUND(U$2+ (('coded NOLH for 17-22 factors'!U6-1)*(U$3-U$2) )/128, U$4 )","v":94},{"$f":"ROUND(V$2+ (('coded NOLH for 17-22 factors'!V6-1)*(V$3-V$2) )/128, V$4 )","v":29},{"$f":"ROUND(W$2+ (('coded NOLH for 17-22 factors'!W6-1)*(W$3-W$2) )/128, W$4 )","v":98}]
[null,{"$f":"ROUND(B$2+ (('coded NOLH for 17-22 factors'!B7-1)*(B$3-B$2) )/128, B$4 )","v":58},{"$f":"ROUND(C$2+ (('coded NOLH for 17-22 factors'!C7-1)*(C$3-C$2) )/128, C$4 )","v":98},{"$f":"ROUND(D$2+ (('coded NOLH for 17-22 factors'!D7-1)*(D$3-D$2) )/128, D$4 )","v":1},{"$f":"ROUND(E$2+ (('coded NOLH for 17-22 factors'!E7-1)*(E$3-E$2) )/128, E$4 )","v":36},{"$f":"ROUND(F$2+ (('coded NOLH for 17-22 factors'!F7-1)*(F$3-F$2) )/128, F$4 )","v":54},{"$f":"ROUND(G$2+ (('coded NOLH for 17-22 factors'!G7-1)*(G$3-G$2) )/128, G$4 )","v":21},{"$f":"ROUND(H$2+ (('coded NOLH for 17-22 factors'!H7-1)*(H$3-H$2) )/128, H$4 )","v":97},{"$f":"ROUND(I$2+ (('coded NOLH for 17-22 factors'!I7-1)*(I$3-I$2) )/128, I$4 )","v":84},{"$f":"ROUND(J$2+ (('coded NOLH for 17-22 factors'!J7-1)*(J$3-J$2) )/128, J$4 )","v":79},{"$f":"ROUND(K$2+ (('coded NOLH for 17-22 factors'!K7-1)*(K$3-K$2) )/128, K$4 )","v":74},{"$f":"ROUND(L$2+ (('coded NOLH for 17-22 factors'!L7-1)*(L$3-L$2) )/128, L$4 )","v":61},{"$f":"ROUND(M$2+ (('coded NOLH for 17-22 factors'!M7-1)*(M$3-M$2) )/128, M$4 )","v":21},{"$f":"ROUND(N$2+ (('coded NOLH for 17-22 factors'!N7-1)*(N$3-N$2) )/128, N$4 )","v":63},{"$f":"ROUND(O$2+ (('coded NOLH for 17-22 factors'!O7-1)*(O$3-O$2) )/128, O$4 )","v":111},{"$f":"ROUND(P$2+ (('coded NOLH for 17-22 factors'!P7-1)*(P$3-P$2) )/128, P$4 )","v":128},{"$f":"ROUND(Q$2+ (('coded NOLH for 17-22 factors'!Q7-1)*(Q$3-Q$2) )/128, Q$4 )","v":82},{"$f":"ROUND(R$2+ (('coded NOLH for 17-22 factors'!R7-1)*(R$3-R$2) )/128, R$4 )","v":72},{"$f":"ROUND(S$2+ (('coded NOLH for 17-22 factors'!S7-1)*(S$3-S$2) )/128, S$4 )","v":20},{"$f":"ROUND(T$2+ (('coded NOLH for 17-22 factors'!T7-1)*(T$3-T$2) )/128, T$4 )","v":108},{"$f":"ROUND(U$2+ (('coded NOLH for 17-22 factors'!U7-1)*(U$3-U$2) )/128, U$4 )","v":85},{"$f":"ROUND(V$2+ (('coded NOLH for 17-22 factors'!V7-1)*(V$3-V$2) )/128, V$4 )","v":62},{"$f":"ROUND(W$2+ (('coded NOLH for 17-22 factors'!W7-1)*(W$3-W$2) )/128, W$4 )","v":90}]
[null,{"$f":"ROUND(B$2+ (('coded NOLH for 17-22 factors'!B8-1)*(B$3-B$2) )/128, B$4 )","v":90},{"$f":"ROUND(C$2+ (('coded NOLH for 17-22 factors'!C8-1)*(C$3-C$2) )/128, C$4 )","v":115},{"$f":"ROUND(D$2+ (('coded NOLH for 17-22 factors'!D8-1)*(D$3-D$2) )/128, D$4 )","v":39},{"$f":"ROUND(E$2+ (('coded NOLH for 17-22 factors'!E8-1)*(E$3-E$2) )/128, E$4 )","v":48},{"$f":"ROUND(F$2+ (('coded NOLH for 17-22 factors'!F8-1)*(F$3-F$2) )/128, F$4 )","v":57},{"$f":"ROUND(G$2+ (('coded NOLH for 17-22 factors'!G8-1)*(G$3-G$2) )/128, G$4 )","v":98},{"$f":"ROUND(H$2+ (('coded NOLH for 17-22 factors'!H8-1)*(H$3-H$2) )/128, H$4 )","v":10},{"$f":"ROUND(I$2+ (('coded NOLH for 17-22 factors'!I8-1)*(I$3-I$2) )/128, I$4 )","v":53},{"$f":"ROUND(J$2+ (('coded NOLH for 17-22 factors'!J8-1)*(J$3-J$2) )/128, J$4 )","v":35},{"$f":"ROUND(K$2+ (('coded NOLH for 17-22 factors'!K8-1)*(K$3-K$2) )/128, K$4 )","v":60},{"$f":"ROUND(L$2+ (('coded NOLH for 17-22 factors'!L8-1)*(L$3-L$2) )/128, L$4 )","v":54},{"$f":"ROUND(M$2+ (('coded NOLH for 17-22 factors'!M8-1)*(M$3-M$2) )/128, M$4 )","v":49},{"$f":"ROUND(N$2+ (('coded NOLH for 17-22 factors'!N8-1)*(N$3-N$2) )/128, N$4 )","v":44},{"$f":"ROUND(O$2+ (('coded NOLH for 17-22 factors'!O8-1)*(O$3-O$2) )/128, O$4 )","v":127},{"$f":"ROUND(P$2+ (('coded NOLH for 17-22 factors'!P8-1)*(P$3-P$2) )/128, P$4 )","v":87},{"$f":"ROUND(Q$2+ (('coded NOLH for 17-22 factors'!Q8-1)*(Q$3-Q$2) )/128, Q$4 )","v":125},{"$f":"ROUND(R$2+ (('coded NOLH for 17-22 factors'!R8-1)*(R$3-R$2) )/128, R$4 )","v":79},{"$f":"ROUND(S$2+ (('coded NOLH for 17-22 factors'!S8-1)*(S$3-S$2) )/128, S$4 )","v":47},{"$f":"ROUND(T$2+ (('coded NOLH for 17-22 factors'!T8-1)*(T$3-T$2) )/128, T$4 )","v":76},{"$f":"ROUND(U$2+ (('coded NOLH for 17-22 factors'!U8-1)*(U$3-U$2) )/128, U$4 )","v":100},{"$f":"ROUND(V$2+ (('coded NOLH for 17-22 factors'!V8-1)*(V$3-V$2) )/128, V$4 )","v":33},{"$f":"ROUND(W$2+ (('coded NOLH for 17-22 factors'!W8-1)*(W$3-W$2) )/128, W$4 )","v":72}]
[null,{"$f":"ROUND(B$2+ (('coded NOLH for 17-22 factors'!B9-1)*(B$3-B$2) )/128, B$4 )","v":1},{"$f":"ROUND(C$2+ (('coded NOLH for 17-22 factors'!C9-1)*(C$3-C$2) )/128, C$4 )","v":51},{"$f":"ROUND(D$2+ (('coded NOLH for 17-22 factors'!D9-1)*(D$3-D$2) )/128, D$4 )","v":72},{"$f":"ROUND(E$2+ (('coded NOLH for 17-22 factors'!E9-1)*(E$3-E$2) )/128, E$4 )","v":31},{"$f":"ROUND(F$2+ (('coded NOLH for 17-22 factors'!F9-1)*(F$3-F$2) )/128, F$4 )","v":14},{"$f":"ROUND(G$2+ (('coded NOLH for 17-22 factors'!G9-1)*(G$3-G$2) )/128, G$4 )","v":69},{"$f":"ROUND(H$2+ (('coded NOLH for 17-22 factors'!H9-1)*(H$3-H$2) )/128, H$4 )","v":47},{"$f":"ROUND(I$2+ (('coded NOLH for 17-22 factors'!I9-1)*(I$3-I$2) )/128, I$4 )","v":120},{"$f":"ROUND(J$2+ (('coded NOLH for 17-22 factors'!J9-1)*(J$3-J$2) )/128, J$4 )","v":129},{"$f":"ROUND(K$2+ (('coded NOLH for 17-22 factors'!K9-1)*(K$3-K$2) )/128, K$4 )","v":82},{"$f":"ROUND(L$2+ (('coded NOLH for 17-22 factors'!L9-1)*(L$3-L$2) )/128, L$4 )","v":15},{"$f":"ROUND(M$2+ (('coded NOLH for 17-22 factors'!M9-1)*(M$3-M$2) )/128, M$4 )","v":128},{"$f":"ROUND(N$2+ (('coded NOLH for 17-22 factors'!N9-1)*(N$3-N$2) )/128, N$4 )","v":110},{"$f":"ROUND(O$2+ (('coded NOLH for 17-22 factors'!O9-1)*(O$3-O$2) )/128, O$4 )","v":35},{"$f":"ROUND(P$2+ (('coded NOLH for 17-22 factors'!P9-1)*(P$3-P$2) )/128, P$4 )","v":58},{"$f":"ROUND(Q$2+ (('coded NOLH for 17-22 factors'!Q9-1)*(Q$3-Q$2) )/128, Q$4 )","v":57},{"$f":"ROUND(R$2+ (('coded NOLH for 17-22 factors'!R9-1)*(R$3-R$2) )/128, R$4 )","v":113},{"$f":"ROUND(S$2+ (('coded NOLH for 17-22 factors'!S9-1)*(S$3-S$2) )/128, S$4 )","v":87},{"$f":"ROUND(T$2+ (('coded NOLH for 17-22 factors'!T9-1)*(T$3-T$2) )/128, T$4 )","v":94},{"$f":"ROUND(U$2+ (('coded NOLH for 17-22 factors'!U9-1)*(U$3-U$2) )/128, U$4 )","v":84},{"$f":"ROUND(V$2+ (('coded NOLH for 17-22 factors'!V9-1)*(V$3-V$2) )/128, V$4 )","v":7},{"$f":"ROUND(W$2+ (('coded NOLH for 17-22 factors'!W9-1)*(W$3-W$2) )/128, W$4 )","v":91}]
[null,{"$f":"ROUND(B$2+ (('coded NOLH for 17-22 factors'!B10-1)*(B$3-B$2) )/128, B$4 )","v":91},{"$f":"ROUND(C$2+ (('coded NOLH for 17-22 factors'!C10-1)*(C$3-C$2) )/128, C$4 )","v":56},{"$f":"ROUND(D$2+ (('coded NOLH for 17-22 factors'!D10-1)*(D$3-D$2) )/128, D$4 )","v":90},{"$f":"ROUND(E$2+ (('coded NOLH for 17-22 factors'!E10-1)*(E$3-E$2) )/128, E$4 )","v":2},{"$f":"ROUND(F$2+ (('coded NOLH for 17-22 factors'!F10-1)*(F$3-F$2) )/128, F$4 )","v":52},{"$f":"ROUND(G$2+ (('coded NOLH for 17-22 factors'!G10-1)*(G$3-G$2) )/128, G$4 )","v":43},{"$f":"ROUND(H$2+ (('coded NOLH for 17-22 factors'!H10-1)*(H$3-H$2) )/128, H$4 )","v":76},{"$f":"ROUND(I$2+ (('coded NOLH for 17-22 factors'!I10-1)*(I$3-I$2) )/128, I$4 )","v":6},{"$f":"ROUND(J$2+ (('coded NOLH for 17-22 factors'!J10-1)*(J$3-J$2) )/128, J$4 )","v":33},{"$f":"ROUND(K$2+ (('coded NOLH for 17-22 factors'!K10-1)*(K$3-K$2) )/128, K$4 )","v":16},{"$f":"ROUND(L$2+ (('coded NOLH for 17-22 factors'!L10-1)*(L$3-L$2) )/128, L$4 )","v":24},{"$f":"ROUND(M$2+ (('coded NOLH for 17-22 factors'!M10-1)*(M$3-M$2) )/128, M$4 )","v":129},{"$f":"ROUND(N$2+ (('coded NOLH for 17-22 factors'!N10-1)*(N$3-N$2) )/128, N$4 )","v":81},{"$f":"ROUND(O$2+ (('coded NOLH for 17-22 factors'!O10-1)*(O$3-O$2) )/128, O$4 )","v":63},{"$f":"ROUND(P$2+ (('coded NOLH for 17-22 factors'!P10-1)*(P$3-P$2) )/128, P$4 )","v":41},{"$f":"ROUND(Q$2+ (('coded NOLH for 17-22 factors'!Q10-1)*(Q$3-Q$2) )/128, Q$4 )","v":45},{"$f":"ROUND(R$2+ (('coded NOLH for 17-22 factors'!R10-1)*(R$3-R$2) )/128, R$4 )","v":119},{"$f":"ROUND(S$2+ (('coded NOLH for 17-22 factors'!S10-1)*(S$3-S$2) )/128, S$4 )","v":113},{"$f":"ROUND(T$2+ (('coded NOLH for 17-22 factors'!T10-1)*(T$3-T$2) )/128, T$4 )","v":98},{"$f":"ROUND(U$2+ (('coded NOLH for 17-22 factors'!U10-1)*(U$3-U$2) )/128, U$4 )","v":95},{"$f":"ROUND(V$2+ (('coded NOLH for 17-22 factors'!V10-1)*(V$3-V$2) )/128, V$4 )","v":11},{"$f":"ROUND(W$2+ (('coded NOLH for 17-22 factors'!W10-1)*(W$3-W$2) )/128, W$4 )","v":129}]
[null,{"$f":"ROUND(B$2+ (('coded NOLH for 17-22 factors'!B11-1)*(B$3-B$2) )/128, B$4 )","v":51},{"$f":"ROUND(C$2+ (('coded NOLH for 17-22 factors'!C11-1)*(C$3-C$2) )/128, C$4 )","v":129},{"$f":"ROUND(D$2+ (('coded NOLH for 17-22 factors'!D11-1)*(D$3-D$2) )/128, D$4 )","v":98},{"$f":"ROUND(E$2+ (('coded NOLH for 17-22 factors'!E11-1)*(E$3-E$2) )/128, E$4 )","v":38},{"$f":"ROUND(F$2+ (('coded NOLH for 17-22 factors'!F11-1)*(F$3-F$2) )/128, F$4 )","v":21},{"$f":"ROUND(G$2+ (('coded NOLH for 17-22 factors'!G11-1)*(G$3-G$2) )/128, G$4 )","v":30},{"$f":"ROUND(H$2+ (('coded NOLH for 17-22 factors'!H11-1)*(H$3-H$2) )/128, H$4 )","v":32},{"$f":"ROUND(I$2+ (('coded NOLH for 17-22 factors'!I11-1)*(I$3-I$2) )/128, I$4 )","v":121},{"$f":"ROUND(J$2+ (('coded NOLH for 17-22 factors'!J11-1)*(J$3-J$2) )/128, J$4 )","v":124},{"$f":"ROUND(K$2+ (('coded NOLH for 17-22 factors'!K11-1)*(K$3-K$2) )/128, K$4 )","v":94},{"$f":"ROUND(L$2+ (('coded NOLH for 17-22 factors'!L11-1)*(L$3-L$2) )/128, L$4 )","v":91},{"$f":"ROUND(M$2+ (('coded NOLH for 17-22 factors'!M11-1)*(M$3-M$2) )/128, M$4 )","v":14},{"$f":"ROUND(N$2+ (('coded NOLH for 17-22 factors'!N11-1)*(N$3-N$2) )/128, N$4 )","v":1},{"$f":"ROUND(O$2+ (('coded NOLH for 17-22 factors'!O11-1)*(O$3-O$2) )/128, O$4 )","v":15},{"$f":"ROUND(P$2+ (('coded NOLH for 17-22 factors'!P11-1)*(P$3-P$2) )/128, P$4 )","v":61},{"$f":"ROUND(Q$2+ (('coded NOLH for 17-22 factors'!Q11-1)*(Q$3-Q$2) )/128, Q$4 )","v":41},{"$f":"ROUND(R$2+ (('coded NOLH for 17-22 factors'!R11-1)*(R$3-R$2) )/128, R$4 )","v":118},{"$f":"ROUND(S$2+ (('coded NOLH for 17-22 factors'!S11-1)*(S$3-S$2) )/128, S$4 )","v":45},{"$f":"ROUND(T$2+ (('coded NOLH for 17-22 factors'!T11-1)*(T$3-T$2) )/128, T$4 )","v":121},{"$f":"ROUND(U$2+ (('coded NOLH for 17-22 factors'!U11-1)*(U$3-U$2) )/128, U$4 )","v":88},{"$f":"ROUND(V$2+ (('coded NOLH for 17-22 factors'!V11-1)*(V$3-V$2) )/128, V$4 )","v":4},{"$f":"ROUND(W$2+ (('coded NOLH for 17-22 factors'!W11-1)*(W$3-W$2) )/128, W$4 )","v":74}]
[null,{"$f":"ROUND(B$2+ (('coded NOLH for 17-22 factors'!B12-1)*(B$3-B$2) )/128, B$4 )","v":74},{"$f":"ROUND(C$2+ (('coded NOLH for 17-22 factors'!C12-1)*(C$3-C$2) )/128, C$4 )","v":91},{"$f":"ROUND(D$2+ (('coded NOLH for 17-22 factors'!D12-1)*(D$3-D$2) )/128, D$4 )","v":115},{"$f":"ROUND(E$2+ (('coded NOLH for 17-22 factors'!E12-1)*(E$3-E$2) )/128, E$4 )","v":9},{"$f":"ROUND(F$2+ (('coded NOLH for 17-22 factors'!F12-1)*(F$3-F$2) )/128, F$4 )","v":45},{"$f":"ROUND(G$2+ (('coded NOLH for 17-22 factors'!G12-1)*(G$3-G$2) )/128, G$4 )","v":119},{"$f":"ROUND(H$2+ (('coded NOLH for 17-22 factors'!H12-1)*(H$3-H$2) )/128, H$4 )","v":112},{"$f":"ROUND(I$2+ (('coded NOLH for 17-22 factors'!I12-1)*(I$3-I$2) )/128, I$4 )","v":3},{"$f":"ROUND(J$2+ (('coded NOLH for 17-22 factors'!J12-1)*(J$3-J$2) )/128, J$4 )","v":40},{"$f":"ROUND(K$2+ (('coded NOLH for 17-22 factors'!K12-1)*(K$3-K$2) )/128, K$4 )","v":28},{"$f":"ROUND(L$2+ (('coded NOLH for 17-22 factors'!L12-1)*(L$3-L$2) )/128, L$4 )","v":64},{"$f":"ROUND(M$2+ (('coded NOLH for 17-22 factors'!M12-1)*(M$3-M$2) )/128, M$4 )","v":12},{"$f":"ROUND(N$2+ (('coded NOLH for 17-22 factors'!N12-1)*(N$3-N$2) )/128, N$4 )","v":22},{"$f":"ROUND(O$2+ (('coded NOLH for 17-22 factors'!O12-1)*(O$3-O$2) )/128, O$4 )","v":37},{"$f":"ROUND(P$2+ (('coded NOLH for 17-22 factors'!P12-1)*(P$3-P$2) )/128, P$4 )","v":44},{"$f":"ROUND(Q$2+ (('coded NOLH for 17-22 factors'!Q12-1)*(Q$3-Q$2) )/128, Q$4 )","v":56},{"$f":"ROUND(R$2+ (('coded NOLH for 17-22 factors'!R12-1)*(R$3-R$2) )/128, R$4 )","v":61},{"$f":"ROUND(S$2+ (('coded NOLH for 17-22 factors'!S12-1)*(S$3-S$2) )/128, S$4 )","v":13},{"$f":"ROUND(T$2+ (('coded NOLH for 17-22 factors'!T12-1)*(T$3-T$2) )/128, T$4 )","v":125},{"$f":"ROUND(U$2+ (('coded NOLH for 17-22 factors'!U12-1)*(U$3-U$2) )/128, U$4 )","v":75},{"$f":"ROUND(V$2+ (('coded NOLH for 17-22 factors'!V12-1)*(V$3-V$2) )/128, V$4 )","v":3},{"$f":"ROUND(W$2+ (('coded NOLH for 17-22 factors'!W12-1)*(W$3-W$2) )/128, W$4 )","v":79}]
[null,{"$f":"ROUND(B$2+ (('coded NOLH for 17-22 factors'!B13-1)*(B$3-B$2) )/128, B$4 )","v":4},{"$f":"ROUND(C$2+ (('coded NOLH for 17-22 factors'!C13-1)*(C$3-C$2) )/128, C$4 )","v":7},{"$f":"ROUND(D$2+ (('coded NOLH for 17-22 factors'!D13-1)*(D$3-D$2) )/128, D$4 )","v":34},{"$f":"ROUND(E$2+ (('coded NOLH for 17-22 factors'!E13-1)*(E$3-E$2) )/128, E$4 )","v":27},{"$f":"ROUND(F$2+ (('coded NOLH for 17-22 factors'!F13-1)*(F$3-F$2) )/128, F$4 )","v":26},{"$f":"ROUND(G$2+ (('coded NOLH for 17-22 factors'!G13-1)*(G$3-G$2) )/128, G$4 )","v":126},{"$f":"ROUND(H$2+ (('coded NOLH for 17-22 factors'!H13-1)*(H$3-H$2) )/128, H$4 )","v":94},{"$f":"ROUND(I$2+ (('coded NOLH for 17-22 factors'!I13-1)*(I$3-I$2) )/128, I$4 )","v":56},{"$f":"ROUND(J$2+ (('coded NOLH for 17-22 factors'!J13-1)*(J$3-J$2) )/128, J$4 )","v":94},{"$f":"ROUND(K$2+ (('coded NOLH for 17-22 factors'!K13-1)*(K$3-K$2) )/128, K$4 )","v":110},{"$f":"ROUND(L$2+ (('coded NOLH for 17-22 factors'!L13-1)*(L$3-L$2) )/128, L$4 )","v":96},{"$f":"ROUND(M$2+ (('coded NOLH for 17-22 factors'!M13-1)*(M$3-M$2) )/128, M$4 )","v":36},{"$f":"ROUND(N$2+ (('coded NOLH for 17-22 factors'!N13-1)*(N$3-N$2) )/128, N$4 )","v":77},{"$f":"ROUND(O$2+ (('coded NOLH for 17-22 factors'!O13-1)*(O$3-O$2) )/128, O$4 )","v":34},{"$f":"ROUND(P$2+ (('coded NOLH for 17-22 factors'!P13-1)*(P$3-P$2) )/128, P$4 )","v":122},{"$f":"ROUND(Q$2+ (('coded NOLH for 17-22 factors'!Q13-1)*(Q$3-Q$2) )/128, Q$4 )","v":103},{"$f":"ROUND(R$2+ (('coded NOLH for 17-22 factors'!R13-1)*(R$3-R$2) )/128, R$4 )","v":101},{"$f":"ROUND(S$2+ (('coded NOLH for 17-22 factors'!S13-1)*(S$3-S$2) )/128, S$4 )","v":126},{"$f":"ROUND(T$2+ (('coded NOLH for 17-22 factors'!T13-1)*(T$3-T$2) )/128, T$4 )","v":43},{"$f":"ROUND(U$2+ (('coded NOLH for 17-22 factors'!U13-1)*(U$3-U$2) )/128, U$4 )","v":4},{"$f":"ROUND(V$2+ (('coded NOLH for 17-22 factors'!V13-1)*(V$3-V$2) )/128, V$4 )","v":79},{"$f":"ROUND(W$2+ (('coded NOLH for 17-22 factors'!W13-1)*(W$3-W$2) )/128, W$4 )","v":127}]
[null,{"$f":"ROUND(B$2+ (('coded NOLH for 17-22 factors'!B14-1)*(B$3-B$2) )/128, B$4 )","v":127},{"$f":"ROUND(C$2+ (('coded NOLH for 17-22 factors'!C14-1)*(C$3-C$2) )/128, C$4 )","v":11},{"$f":"ROUND(D$2+ (('coded NOLH for 17-22 factors'!D14-1)*(D$3-D$2) )/128, D$4 )","v":29},{"$f":"ROUND(E$2+ (('coded NOLH for 17-22 factors'!E14-1)*(E$3-E$2) )/128, E$4 )","v":35},{"$f":"ROUND(F$2+ (('coded NOLH for 17-22 factors'!F14-1)*(F$3-F$2) )/128, F$4 )","v":16},{"$f":"ROUND(G$2+ (('coded NOLH for 17-22 factors'!G14-1)*(G$3-G$2) )/128, G$4 )","v":14},{"$f":"ROUND(H$2+ (('coded NOLH for 17-22 factors'!H14-1)*(H$3-H$2) )/128, H$4 )","v":27},{"$f":"ROUND(I$2+ (('coded NOLH for 17-22 factors'!I14-1)*(I$3-I$2) )/128, I$4 )","v":71},{"$f":"ROUND(J$2+ (('coded NOLH for 17-22 factors'!J14-1)*(J$3-J$2) )/128, J$4 )","v":26},{"$f":"ROUND(K$2+ (('coded NOLH for 17-22 factors'!K14-1)*(K$3-K$2) )/128, K$4 )","v":19},{"$f":"ROUND(L$2+ (('coded NOLH for 17-22 factors'!L14-1)*(L$3-L$2) )/128, L$4 )","v":63},{"$f":"ROUND(M$2+ (('coded NOLH for 17-22 factors'!M14-1)*(M$3-M$2) )/128, M$4 )","v":18},{"$f":"ROUND(N$2+ (('coded NOLH for 17-22 factors'!N14-1)*(N$3-N$2) )/128, N$4 )","v":90},{"$f":"ROUND(O$2+ (('coded NOLH for 17-22 factors'!O14-1)*(O$3-O$2) )/128, O$4 )","v":16},{"$f":"ROUND(P$2+ (('coded NOLH for 17-22 factors'!P14-1)*(P$3-P$2) )/128, P$4 )","v":118},{"$f":"ROUND(Q$2+ (('coded NOLH for 17-22 factors'!Q14-1)*(Q$3-Q$2) )/128, Q$4 )","v":59},{"$f":"ROUND(R$2+ (('coded NOLH for 17-22 factors'!R14-1)*(R$3-R$2) )/128, R$4 )","v":94},{"$f":"ROUND(S$2+ (('coded NOLH for 17-22 factors'!S14-1)*(S$3-S$2) )/128, S$4 )","v":90},{"$f":"ROUND(T$2+ (('coded NOLH for 17-22 factors'!T14-1)*(T$3-T$2) )/128, T$4 )","v":29},{"$f":"ROUND(U$2+ (('coded NOLH for 17-22 factors'!U14-1)*(U$3-U$2) )/128, U$4 )","v":48},{"$f":"ROUND(V$2+ (('coded NOLH for 17-22 factors'!V14-1)*(V$3-V$2) )/128, V$4 )","v":74},{"$f":"ROUND(W$2+ (('coded NOLH for 17-22 factors'!W14-1)*(W$3-W$2) )/128, W$4 )","v":126}]
[null,{"$f":"ROUND(B$2+ (('coded NOLH for 17-22 factors'!B15-1)*(B$3-B$2) )/128, B$4 )","v":7},{"$f":"ROUND(C$2+ (('coded NOLH for 17-22 factors'!C15-1)*(C$3-C$2) )/128, C$4 )","v":126},{"$f":"ROUND(D$2+ (('coded NOLH for 17-22 factors'!D15-1)*(D$3-D$2) )/128, D$4 )","v":62},{"$f":"ROUND(E$2+ (('coded NOLH for 17-22 factors'!E15-1)*(E$3-E$2) )/128, E$4 )","v":37},{"$f":"ROUND(F$2+ (('coded NOLH for 17-22 factors'!F15-1)*(F$3-F$2) )/128, F$4 )","v":41},{"$f":"ROUND(G$2+ (('coded NOLH for 17-22 factors'!G15-1)*(G$3-G$2) )/128, G$4 )","v":10},{"$f":"ROUND(H$2+ (('coded NOLH for 17-22 factors'!H15-1)*(H$3-H$2) )/128, H$4 )","v":100},{"$f":"ROUND(I$2+ (('coded NOLH for 17-22 factors'!I15-1)*(I$3-I$2) )/128, I$4 )","v":29},{"$f":"ROUND(J$2+ (('coded NOLH for 17-22 factors'!J15-1)*(J$3-J$2) )/128, J$4 )","v":80},{"$f":"ROUND(K$2+ (('coded NOLH for 17-22 factors'!K15-1)*(K$3-K$2) )/128, K$4 )","v":107},{"$f":"ROUND(L$2+ (('coded NOLH for 17-22 factors'!L15-1)*(L$3-L$2) )/128, L$4 )","v":22},{"$f":"ROUND(M$2+ (('coded NOLH for 17-22 factors'!M15-1)*(M$3-M$2) )/128, M$4 )","v":70},{"$f":"ROUND(N$2+ (('coded NOLH for 17-22 factors'!N15-1)*(N$3-N$2) )/128, N$4 )","v":36},{"$f":"ROUND(O$2+ (('coded NOLH for 17-22 factors'!O15-1)*(O$3-O$2) )/128, O$4 )","v":30},{"$f":"ROUND(P$2+ (('coded NOLH for 17-22 factors'!P15-1)*(P$3-P$2) )/128, P$4 )","v":97},{"$f":"ROUND(Q$2+ (('coded NOLH for 17-22 factors'!Q15-1)*(Q$3-Q$2) )/128, Q$4 )","v":121},{"$f":"ROUND(R$2+ (('coded NOLH for 17-22 factors'!R15-1)*(R$3-R$2) )/128, R$4 )","v":93},{"$f":"ROUND(S$2+ (('coded NOLH for 17-22 factors'!S15-1)*(S$3-S$2) )/128, S$4 )","v":28},{"$f":"ROUND(T$2+ (('coded NOLH for 17-22 factors'!T15-1)*(T$3-T$2) )/128, T$4 )","v":39},{"$f":"ROUND(U$2+ (('coded NOLH for 17-22 factors'!U15-1)*(U$3-U$2) )/128, U$4 )","v":1},{"$f":"ROUND(V$2+ (('coded NOLH for 17-22 factors'!V15-1)*(V$3-V$2) )/128, V$4 )","v":129},{"$f":"ROUND(W$2+ (('coded NOLH for 17-22 factors'!W15-1)*(W$3-W$2) )/128, W$4 )","v":119}]
[null,{"$f":"ROUND(B$2+ (('coded NOLH for 17-22 factors'!B16-1)*(B$3-B$2) )/128, B$4 )","v":119},{"$f":"ROUND(C$2+ (('coded NOLH for 17-22 factors'!C16-1)*(C$3-C$2) )/128, C$4 )","v":127},{"$f":"ROUND(D$2+ (('coded NOLH for 17-22 factors'!D16-1)*(D$3-D$2) )/128, D$4 )","v":33},{"$f":"ROUND(E$2+ (('coded NOLH for 17-22 factors'!E16-1)*(E$3-E$2) )/128, E$4 )","v":50},{"$f":"ROUND(F$2+ (('coded NOLH for 17-22 factors'!F16-1)*(F$3-F$2) )/128, F$4 )","v":19},{"$f":"ROUND(G$2+ (('coded NOLH for 17-22 factors'!G16-1)*(G$3-G$2) )/128, G$4 )","v":129},{"$f":"ROUND(H$2+ (('coded NOLH for 17-22 factors'!H16-1)*(H$3-H$2) )/128, H$4 )","v":66},{"$f":"ROUND(I$2+ (('coded NOLH for 17-22 factors'!I16-1)*(I$3-I$2) )/128, I$4 )","v":117},{"$f":"ROUND(J$2+ (('coded NOLH for 17-22 factors'!J16-1)*(J$3-J$2) )/128, J$4 )","v":37},{"$f":"ROUND(K$2+ (('coded NOLH for 17-22 factors'!K16-1)*(K$3-K$2) )/128, K$4 )","v":41},{"$f":"ROUND(L$2+ (('coded NOLH for 17-22 factors'!L16-1)*(L$3-L$2) )/128, L$4 )","v":32},{"$f":"ROUND(M$2+ (('coded NOLH for 17-22 factors'!M16-1)*(M$3-M$2) )/128, M$4 )","v":87},{"$f":"ROUND(N$2+ (('coded NOLH for 17-22 factors'!N16-1)*(N$3-N$2) )/128, N$4 )","v":33},{"$f":"ROUND(O$2+ (('coded NOLH for 17-22 factors'!O16-1)*(O$3-O$2) )/128, O$4 )","v":57},{"$f":"ROUND(P$2+ (('coded NOLH for 17-22 factors'!P16-1)*(P$3-P$2) )/128, P$4 )","v":109},{"$f":"ROUND(Q$2+ (('coded NOLH for 17-22 factors'!Q16-1)*(Q$3-Q$2) )/128, Q$4 )","v":70},{"$f":"ROUND(R$2+ (('coded NOLH for 17-22 factors'!R16-1)*(R$3-R$2) )/128, R$4 )","v":76},{"$f":"ROUND(S$2+ (('coded NOLH for 17-22 factors'!S16-1)*(S$3-S$2) )/128, S$4 )","v":26},{"$f":"ROUND(T$2+ (('coded NOLH for 17-22 factors'!T16-1)*(T$3-T$2) )/128, T$4 )","v":26},{"$f":"ROUND(U$2+ (('coded NOLH for 17-22 factors'!U16-1)*(U$3-U$2) )/128, U$4 )","v":9},{"$f":"ROUND(V$2+ (('coded NOLH for 17-22 factors'!V16-1)*(V$3-V$2) )/128, V$4 )","v":91},{"$f":"ROUND(W$2+ (('coded NOLH for 17-22 factors'!W16-1)*(W$3-W$2) )/128, W$4 )","v":123}]
[null,{"$f":"ROUND(B$2+ (('coded NOLH for 17-22 factors'!B17-1)*(B$3-B$2) )/128, B$4 )","v":62},{"$f":"ROUND(C$2+ (('coded NOLH for 17-22 factors'!C17-1)*(C$3-C$2) )/128, C$4 )","v":34},{"$f":"ROUND(D$2+ (('coded NOLH for 17-22 factors'!D17-1)*(D$3-D$2) )/128, D$4 )","v":123},{"$f":"ROUND(E$2+ (('coded NOLH for 17-22 factors'!E17-1)*(E$3-E$2) )/128, E$4 )","v":24},{"$f":"ROUND(F$2+ (('coded NOLH for 17-22 factors'!F17-1)*(F$3-F$2) )/128, F$4 )","v":53},{"$f":"ROUND(G$2+ (('coded NOLH for 17-22 factors'!G17-1)*(G$3-G$2) )/128, G$4 )","v":93},{"$f":"ROUND(H$2+ (('coded NOLH for 17-22 factors'!H17-1)*(H$3-H$2) )/128, H$4 )","v":7},{"$f":"ROUND(I$2+ (('coded NOLH for 17-22 factors'!I17-1)*(I$3-I$2) )/128, I$4 )","v":47},{"$f":"ROUND(J$2+ (('coded NOLH for 17-22 factors'!J17-1)*(J$3-J$2) )/128, J$4 )","v":85},{"$f":"ROUND(K$2+ (('coded NOLH for 17-22 factors'!K17-1)*(K$3-K$2) )/128, K$4 )","v":115},{"$f":"ROUND(L$2+ (('coded NOLH for 17-22 factors'!L17-1)*(L$3-L$2) )/128, L$4 )","v":2},{"$f":"ROUND(M$2+ (('coded NOLH for 17-22 factors'!M17-1)*(M$3-M$2) )/128, M$4 )","v":28},{"$f":"ROUND(N$2+ (('coded NOLH for 17-22 factors'!N17-1)*(N$3-N$2) )/128, N$4 )","v":117},{"$f":"ROUND(O$2+ (('coded NOLH for 17-22 factors'!O17-1)*(O$3-O$2) )/128, O$4 )","v":94},{"$f":"ROUND(P$2+ (('coded NOLH for 17-22 factors'!P17-1)*(P$3-P$2) )/128, P$4 )","v":42},{"$f":"ROUND(Q$2+ (('coded NOLH for 17-22 factors'!Q17-1)*(Q$3-Q$2) )/128, Q$4 )","v":15},{"$f":"ROUND(R$2+ (('coded NOLH for 17-22 factors'!R17-1)*(R$3-R$2) )/128, R$4 )","v":99},{"$f":"ROUND(S$2+ (('coded NOLH for 17-22 factors'!S17-1)*(S$3-S$2) )/128, S$4 )","v":107},{"$f":"ROUND(T$2+ (('coded NOLH for 17-22 factors'!T17-1)*(T$3-T$2) )/128, T$4 )","v":60},{"$f":"ROUND(U$2+ (('coded NOLH for 17-22 factors'!U17-1)*(U$3-U$2) )/128, U$4 )","v":62},{"$f":"ROUND(V$2+ (('coded NOLH for 17-22 factors'!V17-1)*(V$3-V$2) )/128, V$4 )","v":72},{"$f":"ROUND(W$2+ (('coded NOLH for 17-22 factors'!W17-1)*(W$3-W$2) )/128, W$4 )","v":97}]
[null,{"$f":"ROUND(B$2+ (('coded NOLH for 17-22 factors'!B18-1)*(B$3-B$2) )/128, B$4 )","v":97},{"$f":"ROUND(C$2+ (('coded NOLH for 17-22 factors'!C18-1)*(C$3-C$2) )/128, C$4 )","v":29},{"$f":"ROUND(D$2+ (('coded NOLH for 17-22 factors'!D18-1)*(D$3-D$2) )/128, D$4 )","v":119},{"$f":"ROUND(E$2+ (('coded NOLH for 17-22 factors'!E18-1)*(E$3-E$2) )/128, E$4 )","v":46},{"$f":"ROUND(F$2+ (('coded NOLH for 17-22 factors'!F18-1)*(F$3-F$2) )/128, F$4 )","v":12},{"$f":"ROUND(G$2+ (('coded NOLH for 17-22 factors'!G18-1)*(G$3-G$2) )/128, G$4 )","v":31},{"$f":"ROUND(H$2+ (('coded NOLH for 17-22 factors'!H18-1)*(H$3-H$2) )/128, H$4 )","v":118},{"$f":"ROUND(I$2+ (('coded NOLH for 17-22 factors'!I18-1)*(I$3-I$2) )/128, I$4 )","v":70},{"$f":"ROUND(J$2+ (('coded NOLH for 17-22 factors'!J18-1)*(J$3-J$2) )/128, J$4 )","v":27},{"$f":"ROUND(K$2+ (('coded NOLH for 17-22 factors'!K18-1)*(K$3-K$2) )/128, K$4 )","v":51},{"$f":"ROUND(L$2+ (('coded NOLH for 17-22 factors'!L18-1)*(L$3-L$2) )/128, L$4 )","v":3},{"$f":"ROUND(M$2+ (('coded NOLH for 17-22 factors'!M18-1)*(M$3-M$2) )/128, M$4 )","v":42},{"$f":"ROUND(N$2+ (('coded NOLH for 17-22 factors'!N18-1)*(N$3-N$2) )/128, N$4 )","v":109},{"$f":"ROUND(O$2+ (('coded NOLH for 17-22 factors'!O18-1)*(O$3-O$2) )/128, O$4 )","v":121},{"$f":"ROUND(P$2+ (('coded NOLH for 17-22 factors'!P18-1)*(P$3-P$2) )/128, P$4 )","v":47},{"$f":"ROUND(Q$2+ (('coded NOLH for 17-22 factors'!Q18-1)*(Q$3-Q$2) )/128, Q$4 )","v":28},{"$f":"ROUND(R$2+ (('coded NOLH for 17-22 factors'!R18-1)*(R$3-R$2) )/128, R$4 )","v":87},{"$f":"ROUND(S$2+ (('coded NOLH for 17-22 factors'!S18-1)*(S$3-S$2) )/128, S$4 )","v":63},{"$f":"ROUND(T$2+ (('coded NOLH for 17-22 factors'!T18-1)*(T$3-T$2) )/128, T$4 )","v":64},{"$f":"ROUND(U$2+ (('coded NOLH for 17-22 factors'!U18-1)*(U$3-U$2) )/128, U$4 )","v":32},{"$f":"ROUND(V$2+ (('coded NOLH for 17-22 factors'!V18-1)*(V$3-V$2) )/128, V$4 )","v":90},{"$f":"ROUND(W$2+ (('coded NOLH for 17-22 factors'!W18-1)*(W$3-W$2) )/128, W$4 )","v":68}]
[null,{"$f":"ROUND(B$2+ (('coded NOLH for 17-22 factors'!B19-1)*(B$3-B$2) )/128, B$4 )","v":34},{"$f":"ROUND(C$2+ (('coded NOLH for 17-22 factors'!C19-1)*(C$3-C$2) )/128, C$4 )","v":68},{"$f":"ROUND(D$2+ (('coded NOLH for 17-22 factors'!D19-1)*(D$3-D$2) )/128, D$4 )","v":126},{"$f":"ROUND(E$2+ (('coded NOLH for 17-22 factors'!E19-1)*(E$3-E$2) )/128, E$4 )","v":30},{"$f":"ROUND(F$2+ (('coded NOLH for 17-22 factors'!F19-1)*(F$3-F$2) )/128, F$4 )","v":61},{"$f":"ROUND(G$2+ (('coded NOLH for 17-22 factors'!G19-1)*(G$3-G$2) )/128, G$4 )","v":28},{"$f":"ROUND(H$2+ (('coded NOLH for 17-22 factors'!H19-1)*(H$3-H$2) )/128, H$4 )","v":5},{"$f":"ROUND(I$2+ (('coded NOLH for 17-22 factors'!I19-1)*(I$3-I$2) )/128, I$4 )","v":19},{"$f":"ROUND(J$2+ (('coded NOLH for 17-22 factors'!J19-1)*(J$3-J$2) )/128, J$4 )","v":127},{"$f":"ROUND(K$2+ (('coded NOLH for 17-22 factors'!K19-1)*(K$3-K$2) )/128, K$4 )","v":104},{"$f":"ROUND(L$2+ (('coded NOLH for 17-22 factors'!L19-1)*(L$3-L$2) )/128, L$4 )","v":109},{"$f":"ROUND(M$2+ (('coded NOLH for 17-22 factors'!M19-1)*(M$3-M$2) )/128, M$4 )","v":97},{"$f":"ROUND(N$2+ (('coded NOLH for 17-22 factors'!N19-1)*(N$3-N$2) )/128, N$4 )","v":31},{"$f":"ROUND(O$2+ (('coded NOLH for 17-22 factors'!O19-1)*(O$3-O$2) )/128, O$4 )","v":68},{"$f":"ROUND(P$2+ (('coded NOLH for 17-22 factors'!P19-1)*(P$3-P$2) )/128, P$4 )","v":39},{"$f":"ROUND(Q$2+ (('coded NOLH for 17-22 factors'!Q19-1)*(Q$3-Q$2) )/128, Q$4 )","v":10},{"$f":"ROUND(R$2+ (('coded NOLH for 17-22 factors'!R19-1)*(R$3-R$2) )/128, R$4 )","v":81},{"$f":"ROUND(S$2+ (('coded NOLH for 17-22 factors'!S19-1)*(S$3-S$2) )/128, S$4 )","v":15},{"$f":"ROUND(T$2+ (('coded NOLH for 17-22 factors'!T19-1)*(T$3-T$2) )/128, T$4 )","v":19},{"$f":"ROUND(U$2+ (('coded NOLH for 17-22 factors'!U19-1)*(U$3-U$2) )/128, U$4 )","v":60},{"$f":"ROUND(V$2+ (('coded NOLH for 17-22 factors'!V19-1)*(V$3-V$2) )/128, V$4 )","v":98},{"$f":"ROUND(W$2+ (('coded NOLH for 17-22 factors'!W19-1)*(W$3-W$2) )/128, W$4 )","v":101}]
[null,{"$f":"ROUND(B$2+ (('coded NOLH for 17-22 factors'!B20-1)*(B$3-B$2) )/128, B$4 )","v":101},{"$f":"ROUND(C$2+ (('coded NOLH for 17-22 factors'!C20-1)*(C$3-C$2) )/128, C$4 )","v":97},{"$f":"ROUND(D$2+ (('coded NOLH for 17-22 factors'!D20-1)*(D$3-D$2) )/128, D$4 )","v":127},{"$f":"ROUND(E$2+ (('coded NOLH for 17-22 factors'!E20-1)*(E$3-E$2) )/128, E$4 )","v":5},{"$f":"ROUND(F$2+ (('coded NOLH for 17-22 factors'!F20-1)*(F$3-F$2) )/128, F$4 )","v":23},{"$f":"ROUND(G$2+ (('coded NOLH for 17-22 factors'!G20-1)*(G$3-G$2) )/128, G$4 )","v":67},{"$f":"ROUND(H$2+ (('coded NOLH for 17-22 factors'!H20-1)*(H$3-H$2) )/128, H$4 )","v":126},{"$f":"ROUND(I$2+ (('coded NOLH for 17-22 factors'!I20-1)*(I$3-I$2) )/128, I$4 )","v":94},{"$f":"ROUND(J$2+ (('coded NOLH for 17-22 factors'!J20-1)*(J$3-J$2) )/128, J$4 )","v":32},{"$f":"ROUND(K$2+ (('coded NOLH for 17-22 factors'!K20-1)*(K$3-K$2) )/128, K$4 )","v":55},{"$f":"ROUND(L$2+ (('coded NOLH for 17-22 factors'!L20-1)*(L$3-L$2) )/128, L$4 )","v":124},{"$f":"ROUND(M$2+ (('coded NOLH for 17-22 factors'!M20-1)*(M$3-M$2) )/128, M$4 )","v":80},{"$f":"ROUND(N$2+ (('coded NOLH for 17-22 factors'!N20-1)*(N$3-N$2) )/128, N$4 )","v":43},{"$f":"ROUND(O$2+ (('coded NOLH for 17-22 factors'!O20-1)*(O$3-O$2) )/128, O$4 )","v":76},{"$f":"ROUND(P$2+ (('coded NOLH for 17-22 factors'!P20-1)*(P$3-P$2) )/128, P$4 )","v":34},{"$f":"ROUND(Q$2+ (('coded NOLH for 17-22 factors'!Q20-1)*(Q$3-Q$2) )/128, Q$4 )","v":12},{"$f":"ROUND(R$2+ (('coded NOLH for 17-22 factors'!R20-1)*(R$3-R$2) )/128, R$4 )","v":127},{"$f":"ROUND(S$2+ (('coded NOLH for 17-22 factors'!S20-1)*(S$3-S$2) )/128, S$4 )","v":49},{"$f":"ROUND(T$2+ (('coded NOLH for 17-22 factors'!T20-1)*(T$3-T$2) )/128, T$4 )","v":74},{"$f":"ROUND(U$2+ (('coded NOLH for 17-22 factors'!U20-1)*(U$3-U$2) )/128, U$4 )","v":37},{"$f":"ROUND(V$2+ (('coded NOLH for 17-22 factors'!V20-1)*(V$3-V$2) )/128, V$4 )","v":115},{"$f":"ROUND(W$2+ (('coded NOLH for 17-22 factors'!W20-1)*(W$3-W$2) )/128, W$4 )","v":96}]
[null,{"$f":"ROUND(B$2+ (('coded NOLH for 17-22 factors'!B21-1)*(B$3-B$2) )/128, B$4 )","v":30},{"$f":"ROUND(C$2+ (('coded NOLH for 17-22 factors'!C21-1)*(C$3-C$2) )/128, C$4 )","v":24},{"$f":"ROUND(D$2+ (('coded NOLH for 17-22 factors'!D21-1)*(D$3-D$2) )/128, D$4 )","v":27},{"$f":"ROUND(E$2+ (('coded NOLH for 17-22 factors'!E21-1)*(E$3-E$2) )/128, E$4 )","v":96},{"$f":"ROUND(F$2+ (('coded NOLH for 17-22 factors'!F21-1)*(F$3-F$2) )/128, F$4 )","v":6},{"$f":"ROUND(G$2+ (('coded NOLH for 17-22 factors'!G21-1)*(G$3-G$2) )/128, G$4 )","v":90},{"$f":"ROUND(H$2+ (('coded NOLH for 17-22 factors'!H21-1)*(H$3-H$2) )/128, H$4 )","v":89},{"$f":"ROUND(I$2+ (('coded NOLH for 17-22 factors'!I21-1)*(I$3-I$2) )/128, I$4 )","v":64},{"$f":"ROUND(J$2+ (('coded NOLH for 17-22 factors'!J21-1)*(J$3-J$2) )/128, J$4 )","v":28},{"$f":"ROUND(K$2+ (('coded NOLH for 17-22 factors'!K21-1)*(K$3-K$2) )/128, K$4 )","v":77},{"$f":"ROUND(L$2+ (('coded NOLH for 17-22 factors'!L21-1)*(L$3-L$2) )/128, L$4 )","v":81},{"$f":"ROUND(M$2+ (('coded NOLH for 17-22 factors'!M21-1)*(M$3-M$2) )/128, M$4 )","v":78},{"$f":"ROUND(N$2+ (('coded NOLH for 17-22 factors'!N21-1)*(N$3-N$2) )/128, N$4 )","v":27},{"$f":"ROUND(O$2+ (('coded NOLH for 17-22 factors'!O21-1)*(O$3-O$2) )/128, O$4 )","v":128},{"$f":"ROUND(P$2+ (('coded NOLH for 17-22 factors'!P21-1)*(P$3-P$2) )/128, P$4 )","v":6},{"$f":"ROUND(Q$2+ (('coded NOLH for 17-22 factors'!Q21-1)*(Q$3-Q$2) )/128, Q$4 )","v":101},{"$f":"ROUND(R$2+ (('coded NOLH for 17-22 factors'!R21-1)*(R$3-R$2) )/128, R$4 )","v":10},{"$f":"ROUND(S$2+ (('coded NOLH for 17-22 factors'!S21-1)*(S$3-S$2) )/128, S$4 )","v":116},{"$f":"ROUND(T$2+ (('coded NOLH for 17-22 factors'!T21-1)*(T$3-T$2) )/128, T$4 )","v":107},{"$f":"ROUND(U$2+ (('coded NOLH for 17-22 factors'!U21-1)*(U$3-U$2) )/128, U$4 )","v":10},{"$f":"ROUND(V$2+ (('coded NOLH for 17-22 factors'!V21-1)*(V$3-V$2) )/128, V$4 )","v":59},{"$f":"ROUND(W$2+ (('coded NOLH for 17-22 factors'!W21-1)*(W$3-W$2) )/128, W$4 )","v":125}]
[null,{"$f":"ROUND(B$2+ (('coded NOLH for 17-22 factors'!B22-1)*(B$3-B$2) )/128, B$4 )","v":125},{"$f":"ROUND(C$2+ (('coded NOLH for 17-22 factors'!C22-1)*(C$3-C$2) )/128, C$4 )","v":46},{"$f":"ROUND(D$2+ (('coded NOLH for 17-22 factors'!D22-1)*(D$3-D$2) )/128, D$4 )","v":35},{"$f":"ROUND(E$2+ (('coded NOLH for 17-22 factors'!E22-1)*(E$3-E$2) )/128, E$4 )","v":101},{"$f":"ROUND(F$2+ (('coded NOLH for 17-22 factors'!F22-1)*(F$3-F$2) )/128, F$4 )","v":55},{"$f":"ROUND(G$2+ (('coded NOLH for 17-22 factors'!G22-1)*(G$3-G$2) )/128, G$4 )","v":26},{"$f":"ROUND(H$2+ (('coded NOLH for 17-22 factors'!H22-1)*(H$3-H$2) )/128, H$4 )","v":20},{"$f":"ROUND(I$2+ (('coded NOLH for 17-22 factors'!I22-1)*(I$3-I$2) )/128, I$4 )","v":62},{"$f":"ROUND(J$2+ (('coded NOLH for 17-22 factors'!J22-1)*(J$3-J$2) )/128, J$4 )","v":96},{"$f":"ROUND(K$2+ (('coded NOLH for 17-22 factors'!K22-1)*(K$3-K$2) )/128, K$4 )","v":6},{"$f":"ROUND(L$2+ (('coded NOLH for 17-22 factors'!L22-1)*(L$3-L$2) )/128, L$4 )","v":77},{"$f":"ROUND(M$2+ (('coded NOLH for 17-22 factors'!M22-1)*(M$3-M$2) )/128, M$4 )","v":93},{"$f":"ROUND(N$2+ (('coded NOLH for 17-22 factors'!N22-1)*(N$3-N$2) )/128, N$4 )","v":57},{"$f":"ROUND(O$2+ (('coded NOLH for 17-22 factors'!O22-1)*(O$3-O$2) )/128, O$4 )","v":80},{"$f":"ROUND(P$2+ (('coded NOLH for 17-22 factors'!P22-1)*(P$3-P$2) )/128, P$4 )","v":11},{"$f":"ROUND(Q$2+ (('coded NOLH for 17-22 factors'!Q22-1)*(Q$3-Q$2) )/128, Q$4 )","v":88},{"$f":"ROUND(R$2+ (('coded NOLH for 17-22 factors'!R22-1)*(R$3-R$2) )/128, R$4 )","v":62},{"$f":"ROUND(S$2+ (('coded NOLH for 17-22 factors'!S22-1)*(S$3-S$2) )/128, S$4 )","v":100},{"$f":"ROUND(T$2+ (('coded NOLH for 17-22 factors'!T22-1)*(T$3-T$2) )/128, T$4 )","v":123},{"$f":"ROUND(U$2+ (('coded NOLH for 17-22 factors'!U22-1)*(U$3-U$2) )/128, U$4 )","v":39},{"$f":"ROUND(V$2+ (('coded NOLH for 17-22 factors'!V22-1)*(V$3-V$2) )/128, V$4 )","v":60},{"$f":"ROUND(W$2+ (('coded NOLH for 17-22 factors'!W22-1)*(W$3-W$2) )/128, W$4 )","v":100}]
[null,{"$f":"ROUND(B$2+ (('coded NOLH for 17-22 factors'!B23-1)*(B$3-B$2) )/128, B$4 )","v":24},{"$f":"ROUND(C$2+ (('coded NOLH for 17-22 factors'!C23-1)*(C$3-C$2) )/128, C$4 )","v":100},{"$f":"ROUND(D$2+ (('coded NOLH for 17-22 factors'!D23-1)*(D$3-D$2) )/128, D$4 )","v":37},{"$f":"ROUND(E$2+ (('coded NOLH for 17-22 factors'!E23-1)*(E$3-E$2) )/128, E$4 )","v":68},{"$f":"ROUND(F$2+ (('coded NOLH for 17-22 factors'!F23-1)*(F$3-F$2) )/128, F$4 )","v":28},{"$f":"ROUND(G$2+ (('coded NOLH for 17-22 factors'!G23-1)*(G$3-G$2) )/128, G$4 )","v":5},{"$f":"ROUND(H$2+ (('coded NOLH for 17-22 factors'!H23-1)*(H$3-H$2) )/128, H$4 )","v":88},{"$f":"ROUND(I$2+ (('coded NOLH for 17-22 factors'!I23-1)*(I$3-I$2) )/128, I$4 )","v":69},{"$f":"ROUND(J$2+ (('coded NOLH for 17-22 factors'!J23-1)*(J$3-J$2) )/128, J$4 )","v":31},{"$f":"ROUND(K$2+ (('coded NOLH for 17-22 factors'!K23-1)*(K$3-K$2) )/128, K$4 )","v":119},{"$f":"ROUND(L$2+ (('coded NOLH for 17-22 factors'!L23-1)*(L$3-L$2) )/128, L$4 )","v":41},{"$f":"ROUND(M$2+ (('coded NOLH for 17-22 factors'!M23-1)*(M$3-M$2) )/128, M$4 )","v":63},{"$f":"ROUND(N$2+ (('coded NOLH for 17-22 factors'!N23-1)*(N$3-N$2) )/128, N$4 )","v":92},{"$f":"ROUND(O$2+ (('coded NOLH for 17-22 factors'!O23-1)*(O$3-O$2) )/128, O$4 )","v":124},{"$f":"ROUND(P$2+ (('coded NOLH for 17-22 factors'!P23-1)*(P$3-P$2) )/128, P$4 )","v":9},{"$f":"ROUND(Q$2+ (('coded NOLH for 17-22 factors'!Q23-1)*(Q$3-Q$2) )/128, Q$4 )","v":87},{"$f":"ROUND(R$2+ (('coded NOLH for 17-22 factors'!R23-1)*(R$3-R$2) )/128, R$4 )","v":8},{"$f":"ROUND(S$2+ (('coded NOLH for 17-22 factors'!S23-1)*(S$3-S$2) )/128, S$4 )","v":54},{"$f":"ROUND(T$2+ (('coded NOLH for 17-22 factors'!T23-1)*(T$3-T$2) )/128, T$4 )","v":50},{"$f":"ROUND(U$2+ (('coded NOLH for 17-22 factors'!U23-1)*(U$3-U$2) )/128, U$4 )","v":41},{"$f":"ROUND(V$2+ (('coded NOLH for 17-22 factors'!V23-1)*(V$3-V$2) )/128, V$4 )","v":36},{"$f":"ROUND(W$2+ (('coded NOLH for 17-22 factors'!W23-1)*(W$3-W$2) )/128, W$4 )","v":84}]
[null,{"$f":"ROUND(B$2+ (('coded NOLH for 17-22 factors'!B24-1)*(B$3-B$2) )/128, B$4 )","v":84},{"$f":"ROUND(C$2+ (('coded NOLH for 17-22 factors'!C24-1)*(C$3-C$2) )/128, C$4 )","v":125},{"$f":"ROUND(D$2+ (('coded NOLH for 17-22 factors'!D24-1)*(D$3-D$2) )/128, D$4 )","v":50},{"$f":"ROUND(E$2+ (('coded NOLH for 17-22 factors'!E24-1)*(E$3-E$2) )/128, E$4 )","v":97},{"$f":"ROUND(F$2+ (('coded NOLH for 17-22 factors'!F24-1)*(F$3-F$2) )/128, F$4 )","v":17},{"$f":"ROUND(G$2+ (('coded NOLH for 17-22 factors'!G24-1)*(G$3-G$2) )/128, G$4 )","v":103},{"$f":"ROUND(H$2+ (('coded NOLH for 17-22 factors'!H24-1)*(H$3-H$2) )/128, H$4 )","v":45},{"$f":"ROUND(I$2+ (('coded NOLH for 17-22 factors'!I24-1)*(I$3-I$2) )/128, I$4 )","v":21},{"$f":"ROUND(J$2+ (('coded NOLH for 17-22 factors'!J24-1)*(J$3-J$2) )/128, J$4 )","v":70},{"$f":"ROUND(K$2+ (('coded NOLH for 17-22 factors'!K24-1)*(K$3-K$2) )/128, K$4 )","v":32},{"$f":"ROUND(L$2+ (('coded NOLH for 17-22 factors'!L24-1)*(L$3-L$2) )/128, L$4 )","v":8},{"$f":"ROUND(M$2+ (('coded NOLH for 17-22 factors'!M24-1)*(M$3-M$2) )/128, M$4 )","v":61},{"$f":"ROUND(N$2+ (('coded NOLH for 17-22 factors'!N24-1)*(N$3-N$2) )/128, N$4 )","v":85},{"$f":"ROUND(O$2+ (('coded NOLH for 17-22 factors'!O24-1)*(O$3-O$2) )/128, O$4 )","v":79},{"$f":"ROUND(P$2+ (('coded NOLH for 17-22 factors'!P24-1)*(P$3-P$2) )/128, P$4 )","v":3},{"$f":"ROUND(Q$2+ (('coded NOLH for 17-22 factors'!Q24-1)*(Q$3-Q$2) )/128, Q$4 )","v":78},{"$f":"ROUND(R$2+ (('coded NOLH for 17-22 factors'!R24-1)*(R$3-R$2) )/128, R$4 )","v":47},{"$f":"ROUND(S$2+ (('coded NOLH for 17-22 factors'!S24-1)*(S$3-S$2) )/128, S$4 )","v":7},{"$f":"ROUND(T$2+ (('coded NOLH for 17-22 factors'!T24-1)*(T$3-T$2) )/128, T$4 )","v":67},{"$f":"ROUND(U$2+ (('coded NOLH for 17-22 factors'!U24-1)*(U$3-U$2) )/128, U$4 )","v":31},{"$f":"ROUND(V$2+ (('coded NOLH for 17-22 factors'!V24-1)*(V$3-V$2) )/128, V$4 )","v":48},{"$f":"ROUND(W$2+ (('coded NOLH for 17-22 factors'!W24-1)*(W$3-W$2) )/128, W$4 )","v":106}]
[null,{"$f":"ROUND(B$2+ (('coded NOLH for 17-22 factors'!B25-1)*(B$3-B$2) )/128, B$4 )","v":37},{"$f":"ROUND(C$2+ (('coded NOLH for 17-22 factors'!C25-1)*(C$3-C$2) )/128, C$4 )","v":27},{"$f":"ROUND(D$2+ (('coded NOLH for 17-22 factors'!D25-1)*(D$3-D$2) )/128, D$4 )","v":106},{"$f":"ROUND(E$2+ (('coded NOLH for 17-22 factors'!E25-1)*(E$3-E$2) )/128, E$4 )","v":123},{"$f":"ROUND(F$2+ (('coded NOLH for 17-22 factors'!F25-1)*(F$3-F$2) )/128, F$4 )","v":64},{"$f":"ROUND(G$2+ (('coded NOLH for 17-22 factors'!G25-1)*(G$3-G$2) )/128, G$4 )","v":86},{"$f":"ROUND(H$2+ (('coded NOLH for 17-22 factors'!H25-1)*(H$3-H$2) )/128, H$4 )","v":40},{"$f":"ROUND(I$2+ (('coded NOLH for 17-22 factors'!I25-1)*(I$3-I$2) )/128, I$4 )","v":129},{"$f":"ROUND(J$2+ (('coded NOLH for 17-22 factors'!J25-1)*(J$3-J$2) )/128, J$4 )","v":14},{"$f":"ROUND(K$2+ (('coded NOLH for 17-22 factors'!K25-1)*(K$3-K$2) )/128, K$4 )","v":83},{"$f":"ROUND(L$2+ (('coded NOLH for 17-22 factors'!L25-1)*(L$3-L$2) )/128, L$4 )","v":23},{"$f":"ROUND(M$2+ (('coded NOLH for 17-22 factors'!M25-1)*(M$3-M$2) )/128, M$4 )","v":126},{"$f":"ROUND(N$2+ (('coded NOLH for 17-22 factors'!N25-1)*(N$3-N$2) )/128, N$4 )","v":3},{"$f":"ROUND(O$2+ (('coded NOLH for 17-22 factors'!O25-1)*(O$3-O$2) )/128, O$4 )","v":59},{"$f":"ROUND(P$2+ (('coded NOLH for 17-22 factors'!P25-1)*(P$3-P$2) )/128, P$4 )","v":106},{"$f":"ROUND(Q$2+ (('coded NOLH for 17-22 factors'!Q25-1)*(Q$3-Q$2) )/128, Q$4 )","v":11},{"$f":"ROUND(R$2+ (('coded NOLH for 17-22 factors'!R25-1)*(R$3-R$2) )/128, R$4 )","v":15},{"$f":"ROUND(S$2+ (('coded NOLH for 17-22 factors'!S25-1)*(S$3-S$2) )/128, S$4 )","v":86},{"$f":"ROUND(T$2+ (('coded NOLH for 17-22 factors'!T25-1)*(T$3-T$2) )/128, T$4 )","v":128},{"$f":"ROUND(U$2+ (('coded NOLH for 17-22 factors'!U25-1)*(U$3-U$2) )/128, U$4 )","v":50},{"$f":"ROUND(V$2+ (('coded NOLH for 17-22 factors'!V25-1)*(V$3-V$2) )/128, V$4 )","v":31},{"$f":"ROUND(W$2+ (('coded NOLH for 17-22 factors'!W25-1)*(W$3-W$2) )/128, W$4 )","v":80}]
[null,{"$f":"ROUND(B$2+ (('coded NOLH for 17-22 factors'!B26-1)*(B$3-B$2) )/128, B$4 )","v":80},{"$f":"ROUND(C$2+ (('coded NOLH for 17-22 factors'!C26-1)*(C$3-C$2) )/128, C$4 )","v":35},{"$f":"ROUND(D$2+ (('coded NOLH for 17-22 factors'!D26-1)*(D$3-D$2) )/128, D$4 )","v":84},{"$f":"ROUND(E$2+ (('coded NOLH for 17-22 factors'!E26-1)*(E$3-E$2) )/128, E$4 )","v":119},{"$f":"ROUND(F$2+ (('coded NOLH for 17-22 factors'!F26-1)*(F$3-F$2) )/128, F$4 )","v":49},{"$f":"ROUND(G$2+ (('coded NOLH for 17-22 factors'!G26-1)*(G$3-G$2) )/128, G$4 )","v":17},{"$f":"ROUND(H$2+ (('coded NOLH for 17-22 factors'!H26-1)*(H$3-H$2) )/128, H$4 )","v":111},{"$f":"ROUND(I$2+ (('coded NOLH for 17-22 factors'!I26-1)*(I$3-I$2) )/128, I$4 )","v":35},{"$f":"ROUND(J$2+ (('coded NOLH for 17-22 factors'!J26-1)*(J$3-J$2) )/128, J$4 )","v":125},{"$f":"ROUND(K$2+ (('coded NOLH for 17-22 factors'!K26-1)*(K$3-K$2) )/128, K$4 )","v":73},{"$f":"ROUND(L$2+ (('coded NOLH for 17-22 factors'!L26-1)*(L$3-L$2) )/128, L$4 )","v":7},{"$f":"ROUND(M$2+ (('coded NOLH for 17-22 factors'!M26-1)*(M$3-M$2) )/128, M$4 )","v":75},{"$f":"ROUND(N$2+ (('coded NOLH for 17-22 factors'!N26-1)*(N$3-N$2) )/128, N$4 )","v":2},{"$f":"ROUND(O$2+ (('coded NOLH for 17-22 factors'!O26-1)*(O$3-O$2) )/128, O$4 )","v":17},{"$f":"ROUND(P$2+ (('coded NOLH for 17-22 factors'!P26-1)*(P$3-P$2) )/128, P$4 )","v":71},{"$f":"ROUND(Q$2+ (('coded NOLH for 17-22 factors'!Q26-1)*(Q$3-Q$2) )/128, Q$4 )","v":49},{"$f":"ROUND(R$2+ (('coded NOLH for 17-22 factors'!R26-1)*(R$3-R$2) )/128, R$4 )","v":23},{"$f":"ROUND(S$2+ (('coded NOLH for 17-22 factors'!S26-1)*(S$3-S$2) )/128, S$4 )","v":80},{"$f":"ROUND(T$2+ (('coded NOLH for 17-22 factors'!T26-1)*(T$3-T$2) )/128, T$4 )","v":113},{"$f":"ROUND(U$2+ (('coded NOLH for 17-22 factors'!U26-1)*(U$3-U$2) )/128, U$4 )","v":8},{"$f":"ROUND(V$2+ (('coded NOLH for 17-22 factors'!V26-1)*(V$3-V$2) )/128, V$4 )","v":2},{"$f":"ROUND(W$2+ (('coded NOLH for 17-22 factors'!W26-1)*(W$3-W$2) )/128, W$4 )","v":93}]
[null,{"$f":"ROUND(B$2+ (('coded NOLH for 17-22 factors'!B27-1)*(B$3-B$2) )/128, B$4 )","v":27},{"$f":"ROUND(C$2+ (('coded NOLH for 17-22 factors'!C27-1)*(C$3-C$2) )/128, C$4 )","v":93},{"$f":"ROUND(D$2+ (('coded NOLH for 17-22 factors'!D27-1)*(D$3-D$2) )/128, D$4 )","v":100},{"$f":"ROUND(E$2+ (('coded NOLH for 17-22 factors'!E27-1)*(E$3-E$2) )/128, E$4 )","v":126},{"$f":"ROUND(F$2+ (('coded NOLH for 17-22 factors'!F27-1)*(F$3-F$2) )/128, F$4 )","v":43},{"$f":"ROUND(G$2+ (('coded NOLH for 17-22 factors'!G27-1)*(G$3-G$2) )/128, G$4 )","v":45},{"$f":"ROUND(H$2+ (('coded NOLH for 17-22 factors'!H27-1)*(H$3-H$2) )/128, H$4 )","v":8},{"$f":"ROUND(I$2+ (('coded NOLH for 17-22 factors'!I27-1)*(I$3-I$2) )/128, I$4 )","v":122},{"$f":"ROUND(J$2+ (('coded NOLH for 17-22 factors'!J27-1)*(J$3-J$2) )/128, J$4 )","v":7},{"$f":"ROUND(K$2+ (('coded NOLH for 17-22 factors'!K27-1)*(K$3-K$2) )/128, K$4 )","v":113},{"$f":"ROUND(L$2+ (('coded NOLH for 17-22 factors'!L27-1)*(L$3-L$2) )/128, L$4 )","v":104},{"$f":"ROUND(M$2+ (('coded NOLH for 17-22 factors'!M27-1)*(M$3-M$2) )/128, M$4 )","v":6},{"$f":"ROUND(N$2+ (('coded NOLH for 17-22 factors'!N27-1)*(N$3-N$2) )/128, N$4 )","v":116},{"$f":"ROUND(O$2+ (('coded NOLH for 17-22 factors'!O27-1)*(O$3-O$2) )/128, O$4 )","v":52},{"$f":"ROUND(P$2+ (('coded NOLH for 17-22 factors'!P27-1)*(P$3-P$2) )/128, P$4 )","v":103},{"$f":"ROUND(Q$2+ (('coded NOLH for 17-22 factors'!Q27-1)*(Q$3-Q$2) )/128, Q$4 )","v":69},{"$f":"ROUND(R$2+ (('coded NOLH for 17-22 factors'!R27-1)*(R$3-R$2) )/128, R$4 )","v":22},{"$f":"ROUND(S$2+ (('coded NOLH for 17-22 factors'!S27-1)*(S$3-S$2) )/128, S$4 )","v":33},{"$f":"ROUND(T$2+ (('coded NOLH for 17-22 factors'!T27-1)*(T$3-T$2) )/128, T$4 )","v":105},{"$f":"ROUND(U$2+ (('coded NOLH for 17-22 factors'!U27-1)*(U$3-U$2) )/128, U$4 )","v":51},{"$f":"ROUND(V$2+ (('coded NOLH for 17-22 factors'!V27-1)*(V$3-V$2) )/128, V$4 )","v":38},{"$f":"ROUND(W$2+ (('coded NOLH for 17-22 factors'!W27-1)*(W$3-W$2) )/128, W$4 )","v":95}]
[null,{"$f":"ROUND(B$2+ (('coded NOLH for 17-22 factors'!B28-1)*(B$3-B$2) )/128, B$4 )","v":95},{"$f":"ROUND(C$2+ (('coded NOLH for 17-22 factors'!C28-1)*(C$3-C$2) )/128, C$4 )","v":80},{"$f":"ROUND(D$2+ (('coded NOLH for 17-22 factors'!D28-1)*(D$3-D$2) )/128, D$4 )","v":125},{"$f":"ROUND(E$2+ (('coded NOLH for 17-22 factors'!E28-1)*(E$3-E$2) )/128, E$4 )","v":127},{"$f":"ROUND(F$2+ (('coded NOLH for 17-22 factors'!F28-1)*(F$3-F$2) )/128, F$4 )","v":25},{"$f":"ROUND(G$2+ (('coded NOLH for 17-22 factors'!G28-1)*(G$3-G$2) )/128, G$4 )","v":81},{"$f":"ROUND(H$2+ (('coded NOLH for 17-22 factors'!H28-1)*(H$3-H$2) )/128, H$4 )","v":105},{"$f":"ROUND(I$2+ (('coded NOLH for 17-22 factors'!I28-1)*(I$3-I$2) )/128, I$4 )","v":37},{"$f":"ROUND(J$2+ (('coded NOLH for 17-22 factors'!J28-1)*(J$3-J$2) )/128, J$4 )","v":128},{"$f":"ROUND(K$2+ (('coded NOLH for 17-22 factors'!K28-1)*(K$3-K$2) )/128, K$4 )","v":52},{"$f":"ROUND(L$2+ (('coded NOLH for 17-22 factors'!L28-1)*(L$3-L$2) )/128, L$4 )","v":82},{"$f":"ROUND(M$2+ (('coded NOLH for 17-22 factors'!M28-1)*(M$3-M$2) )/128, M$4 )","v":17},{"$f":"ROUND(N$2+ (('coded NOLH for 17-22 factors'!N28-1)*(N$3-N$2) )/128, N$4 )","v":120},{"$f":"ROUND(O$2+ (('coded NOLH for 17-22 factors'!O28-1)*(O$3-O$2) )/128, O$4 )","v":38},{"$f":"ROUND(P$2+ (('coded NOLH for 17-22 factors'!P28-1)*(P$3-P$2) )/128, P$4 )","v":85},{"$f":"ROUND(Q$2+ (('coded NOLH for 17-22 factors'!Q28-1)*(Q$3-Q$2) )/128, Q$4 )","v":32},{"$f":"ROUND(R$2+ (('coded NOLH for 17-22 factors'!R28-1)*(R$3-R$2) )/128, R$4 )","v":4},{"$f":"ROUND(S$2+ (('coded NOLH for 17-22 factors'!S28-1)*(S$3-S$2) )/128, S$4 )","v":58},{"$f":"ROUND(T$2+ (('coded NOLH for 17-22 factors'!T28-1)*(T$3-T$2) )/128, T$4 )","v":83},{"$f":"ROUND(U$2+ (('coded NOLH for 17-22 factors'!U28-1)*(U$3-U$2) )/128, U$4 )","v":28},{"$f":"ROUND(V$2+ (('coded NOLH for 17-22 factors'!V28-1)*(V$3-V$2) )/128, V$4 )","v":9},{"$f":"ROUND(W$2+ (('coded NOLH for 17-22 factors'!W28-1)*(W$3-W$2) )/128, W$4 )","v":103}]
[null,{"$f":"ROUND(B$2+ (('coded NOLH for 17-22 factors'!B29-1)*(B$3-B$2) )/128, B$4 )","v":38},{"$f":"ROUND(C$2+ (('coded NOLH for 17-22 factors'!C29-1)*(C$3-C$2) )/128, C$4 )","v":31},{"$f":"ROUND(D$2+ (('coded NOLH for 17-22 factors'!D29-1)*(D$3-D$2) )/128, D$4 )","v":59},{"$f":"ROUND(E$2+ (('coded NOLH for 17-22 factors'!E29-1)*(E$3-E$2) )/128, E$4 )","v":79},{"$f":"ROUND(F$2+ (('coded NOLH for 17-22 factors'!F29-1)*(F$3-F$2) )/128, F$4 )","v":42},{"$f":"ROUND(G$2+ (('coded NOLH for 17-22 factors'!G29-1)*(G$3-G$2) )/128, G$4 )","v":128},{"$f":"ROUND(H$2+ (('coded NOLH for 17-22 factors'!H29-1)*(H$3-H$2) )/128, H$4 )","v":61},{"$f":"ROUND(I$2+ (('coded NOLH for 17-22 factors'!I29-1)*(I$3-I$2) )/128, I$4 )","v":34},{"$f":"ROUND(J$2+ (('coded NOLH for 17-22 factors'!J29-1)*(J$3-J$2) )/128, J$4 )","v":57},{"$f":"ROUND(K$2+ (('coded NOLH for 17-22 factors'!K29-1)*(K$3-K$2) )/128, K$4 )","v":106},{"$f":"ROUND(L$2+ (('coded NOLH for 17-22 factors'!L29-1)*(L$3-L$2) )/128, L$4 )","v":71},{"$f":"ROUND(M$2+ (('coded NOLH for 17-22 factors'!M29-1)*(M$3-M$2) )/128, M$4 )","v":56},{"$f":"ROUND(N$2+ (('coded NOLH for 17-22 factors'!N29-1)*(N$3-N$2) )/128, N$4 )","v":35},{"$f":"ROUND(O$2+ (('coded NOLH for 17-22 factors'!O29-1)*(O$3-O$2) )/128, O$4 )","v":14},{"$f":"ROUND(P$2+ (('coded NOLH for 17-22 factors'!P29-1)*(P$3-P$2) )/128, P$4 )","v":7},{"$f":"ROUND(Q$2+ (('coded NOLH for 17-22 factors'!Q29-1)*(Q$3-Q$2) )/128, Q$4 )","v":107},{"$f":"ROUND(R$2+ (('coded NOLH for 17-22 factors'!R29-1)*(R$3-R$2) )/128, R$4 )","v":44},{"$f":"ROUND(S$2+ (('coded NOLH for 17-22 factors'!S29-1)*(S$3-S$2) )/128, S$4 )","v":118},{"$f":"ROUND(T$2+ (('coded NOLH for 17-22 factors'!T29-1)*(T$3-T$2) )/128, T$4 )","v":18},{"$f":"ROUND(U$2+ (('coded NOLH for 17-22 factors'!U29-1)*(U$3-U$2) )/128, U$4 )","v":119},{"$f":"ROUND(V$2+ (('coded NOLH for 17-22 factors'!V29-1)*(V$3-V$2) )/128, V$4 )","v":103},{"$f":"ROUND(W$2+ (('coded NOLH for 17-22 factors'!W29-1)*(W$3-W$2) )/128, W$4 )","v":121}]
[null,{"$f":"ROUND(B$2+ (('coded NOLH for 17-22 factors'!B30-1)*(B$3-B$2) )/128, B$4 )","v":121},{"$f":"ROUND(C$2+ (('coded NOLH for 17-22 factors'!C30-1)*(C$3-C$2) )/128, C$4 )","v":2},{"$f":"ROUND(D$2+ (('coded NOLH for 17-22 factors'!D30-1)*(D$3-D$2) )/128, D$4 )","v":60},{"$f":"ROUND(E$2+ (('coded NOLH for 17-22 factors'!E30-1)*(E$3-E$2) )/128, E$4 )","v":74},{"$f":"ROUND(F$2+ (('coded NOLH for 17-22 factors'!F30-1)*(F$3-F$2) )/128, F$4 )","v":20},{"$f":"ROUND(G$2+ (('coded NOLH for 17-22 factors'!G30-1)*(G$3-G$2) )/128, G$4 )","v":38},{"$f":"ROUND(H$2+ (('coded NOLH for 17-22 factors'!H30-1)*(H$3-H$2) )/128, H$4 )","v":50},{"$f":"ROUND(I$2+ (('coded NOLH for 17-22 factors'!I30-1)*(I$3-I$2) )/128, I$4 )","v":105},{"$f":"ROUND(J$2+ (('coded NOLH for 17-22 factors'!J30-1)*(J$3-J$2) )/128, J$4 )","v":81},{"$f":"ROUND(K$2+ (('coded NOLH for 17-22 factors'!K30-1)*(K$3-K$2) )/128, K$4 )","v":38},{"$f":"ROUND(L$2+ (('coded NOLH for 17-22 factors'!L30-1)*(L$3-L$2) )/128, L$4 )","v":85},{"$f":"ROUND(M$2+ (('coded NOLH for 17-22 factors'!M30-1)*(M$3-M$2) )/128, M$4 )","v":44},{"$f":"ROUND(N$2+ (('coded NOLH for 17-22 factors'!N30-1)*(N$3-N$2) )/128, N$4 )","v":4},{"$f":"ROUND(O$2+ (('coded NOLH for 17-22 factors'!O30-1)*(O$3-O$2) )/128, O$4 )","v":26},{"$f":"ROUND(P$2+ (('coded NOLH for 17-22 factors'!P30-1)*(P$3-P$2) )/128, P$4 )","v":49},{"$f":"ROUND(Q$2+ (('coded NOLH for 17-22 factors'!Q30-1)*(Q$3-Q$2) )/128, Q$4 )","v":117},{"$f":"ROUND(R$2+ (('coded NOLH for 17-22 factors'!R30-1)*(R$3-R$2) )/128, R$4 )","v":20},{"$f":"ROUND(S$2+ (('coded NOLH for 17-22 factors'!S30-1)*(S$3-S$2) )/128, S$4 )","v":121},{"$f":"ROUND(T$2+ (('coded NOLH for 17-22 factors'!T30-1)*(T$3-T$2) )/128, T$4 )","v":49},{"$f":"ROUND(U$2+ (('coded NOLH for 17-22 factors'!U30-1)*(U$3-U$2) )/128, U$4 )","v":128},{"$f":"ROUND(V$2+ (('coded NOLH for 17-22 factors'!V30-1)*(V$3-V$2) )/128, V$4 )","v":95},{"$f":"ROUND(W$2+ (('coded NOLH for 17-22 factors'!W30-1)*(W$3-W$2) )/128, W$4 )","v":92}]
[null,{"$f":"ROUND(B$2+ (('coded NOLH for 17-22 factors'!B31-1)*(B$3-B$2) )/128, B$4 )","v":31},{"$f":"ROUND(C$2+ (('coded NOLH for 17-22 factors'!C31-1)*(C$3-C$2) )/128, C$4 )","v":92},{"$f":"ROUND(D$2+ (('coded NOLH for 17-22 factors'!D31-1)*(D$3-D$2) )/128, D$4 )","v":36},{"$f":"ROUND(E$2+ (('coded NOLH for 17-22 factors'!E31-1)*(E$3-E$2) )/128, E$4 )","v":129},{"$f":"ROUND(F$2+ (('coded NOLH for 17-22 factors'!F31-1)*(F$3-F$2) )/128, F$4 )","v":8},{"$f":"ROUND(G$2+ (('coded NOLH for 17-22 factors'!G31-1)*(G$3-G$2) )/128, G$4 )","v":16},{"$f":"ROUND(H$2+ (('coded NOLH for 17-22 factors'!H31-1)*(H$3-H$2) )/128, H$4 )","v":78},{"$f":"ROUND(I$2+ (('coded NOLH for 17-22 factors'!I31-1)*(I$3-I$2) )/128, I$4 )","v":40},{"$f":"ROUND(J$2+ (('coded NOLH for 17-22 factors'!J31-1)*(J$3-J$2) )/128, J$4 )","v":39},{"$f":"ROUND(K$2+ (('coded NOLH for 17-22 factors'!K31-1)*(K$3-K$2) )/128, K$4 )","v":108},{"$f":"ROUND(L$2+ (('coded NOLH for 17-22 factors'!L31-1)*(L$3-L$2) )/128, L$4 )","v":60},{"$f":"ROUND(M$2+ (('coded NOLH for 17-22 factors'!M31-1)*(M$3-M$2) )/128, M$4 )","v":91},{"$f":"ROUND(N$2+ (('coded NOLH for 17-22 factors'!N31-1)*(N$3-N$2) )/128, N$4 )","v":66},{"$f":"ROUND(O$2+ (('coded NOLH for 17-22 factors'!O31-1)*(O$3-O$2) )/128, O$4 )","v":23},{"$f":"ROUND(P$2+ (('coded NOLH for 17-22 factors'!P31-1)*(P$3-P$2) )/128, P$4 )","v":50},{"$f":"ROUND(Q$2+ (('coded NOLH for 17-22 factors'!Q31-1)*(Q$3-Q$2) )/128, Q$4 )","v":75},{"$f":"ROUND(R$2+ (('coded NOLH for 17-22 factors'!R31-1)*(R$3-R$2) )/128, R$4 )","v":64},{"$f":"ROUND(S$2+ (('coded NOLH for 17-22 factors'!S31-1)*(S$3-S$2) )/128, S$4 )","v":18},{"$f":"ROUND(T$2+ (('coded NOLH for 17-22 factors'!T31-1)*(T$3-T$2) )/128, T$4 )","v":30},{"$f":"ROUND(U$2+ (('coded NOLH for 17-22 factors'!U31-1)*(U$3-U$2) )/128, U$4 )","v":112},{"$f":"ROUND(V$2+ (('coded NOLH for 17-22 factors'!V31-1)*(V$3-V$2) )/128, V$4 )","v":93},{"$f":"ROUND(W$2+ (('coded NOLH for 17-22 factors'!W31-1)*(W$3-W$2) )/128, W$4 )","v":128}]
[null,{"$f":"ROUND(B$2+ (('coded NOLH for 17-22 factors'!B32-1)*(B$3-B$2) )/128, B$4 )","v":128},{"$f":"ROUND(C$2+ (('coded NOLH for 17-22 factors'!C32-1)*(C$3-C$2) )/128, C$4 )","v":121},{"$f":"ROUND(D$2+ (('coded NOLH for 17-22 factors'!D32-1)*(D$3-D$2) )/128, D$4 )","v":48},{"$f":"ROUND(E$2+ (('coded NOLH for 17-22 factors'!E32-1)*(E$3-E$2) )/128, E$4 )","v":91},{"$f":"ROUND(F$2+ (('coded NOLH for 17-22 factors'!F32-1)*(F$3-F$2) )/128, F$4 )","v":22},{"$f":"ROUND(G$2+ (('coded NOLH for 17-22 factors'!G32-1)*(G$3-G$2) )/128, G$4 )","v":97},{"$f":"ROUND(H$2+ (('coded NOLH for 17-22 factors'!H32-1)*(H$3-H$2) )/128, H$4 )","v":37},{"$f":"ROUND(I$2+ (('coded NOLH for 17-22 factors'!I32-1)*(I$3-I$2) )/128, I$4 )","v":76},{"$f":"ROUND(J$2+ (('coded NOLH for 17-22 factors'!J32-1)*(J$3-J$2) )/128, J$4 )","v":126},{"$f":"ROUND(K$2+ (('coded NOLH for 17-22 factors'!K32-1)*(K$3-K$2) )/128, K$4 )","v":8},{"$f":"ROUND(L$2+ (('coded NOLH for 17-22 factors'!L32-1)*(L$3-L$2) )/128, L$4 )","v":38},{"$f":"ROUND(M$2+ (('coded NOLH for 17-22 factors'!M32-1)*(M$3-M$2) )/128, M$4 )","v":105},{"$f":"ROUND(N$2+ (('coded NOLH for 17-22 factors'!N32-1)*(N$3-N$2) )/128, N$4 )","v":79},{"$f":"ROUND(O$2+ (('coded NOLH for 17-22 factors'!O32-1)*(O$3-O$2) )/128, O$4 )","v":5},{"$f":"ROUND(P$2+ (('coded NOLH for 17-22 factors'!P32-1)*(P$3-P$2) )/128, P$4 )","v":66},{"$f":"ROUND(Q$2+ (('coded NOLH for 17-22 factors'!Q32-1)*(Q$3-Q$2) )/128, Q$4 )","v":92},{"$f":"ROUND(R$2+ (('coded NOLH for 17-22 factors'!R32-1)*(R$3-R$2) )/128, R$4 )","v":28},{"$f":"ROUND(S$2+ (('coded NOLH for 17-22 factors'!S32-1)*(S$3-S$2) )/128, S$4 )","v":41},{"$f":"ROUND(T$2+ (('coded NOLH for 17-22 factors'!T32-1)*(T$3-T$2) )/128, T$4 )","v":57},{"$f":"ROUND(U$2+ (('coded NOLH for 17-22 factors'!U32-1)*(U$3-U$2) )/128, U$4 )","v":107},{"$f":"ROUND(V$2+ (('coded NOLH for 17-22 factors'!V32-1)*(V$3-V$2) )/128, V$4 )","v":80},{"$f":"ROUND(W$2+ (('coded NOLH for 17-22 factors'!W32-1)*(W$3-W$2) )/128, W$4 )","v":99}]
[null,{"$f":"ROUND(B$2+ (('coded NOLH for 17-22 factors'!B33-1)*(B$3-B$2) )/128, B$4 )","v":36},{"$f":"ROUND(C$2+ (('coded NOLH for 17-22 factors'!C33-1)*(C$3-C$2) )/128, C$4 )","v":59},{"$f":"ROUND(D$2+ (('coded NOLH for 17-22 factors'!D33-1)*(D$3-D$2) )/128, D$4 )","v":99},{"$f":"ROUND(E$2+ (('coded NOLH for 17-22 factors'!E33-1)*(E$3-E$2) )/128, E$4 )","v":72},{"$f":"ROUND(F$2+ (('coded NOLH for 17-22 factors'!F33-1)*(F$3-F$2) )/128, F$4 )","v":47},{"$f":"ROUND(G$2+ (('coded NOLH for 17-22 factors'!G33-1)*(G$3-G$2) )/128, G$4 )","v":70},{"$f":"ROUND(H$2+ (('coded NOLH for 17-22 factors'!H33-1)*(H$3-H$2) )/128, H$4 )","v":1},{"$f":"ROUND(I$2+ (('coded NOLH for 17-22 factors'!I33-1)*(I$3-I$2) )/128, I$4 )","v":49},{"$f":"ROUND(J$2+ (('coded NOLH for 17-22 factors'!J33-1)*(J$3-J$2) )/128, J$4 )","v":41},{"$f":"ROUND(K$2+ (('coded NOLH for 17-22 factors'!K33-1)*(K$3-K$2) )/128, K$4 )","v":61},{"$f":"ROUND(L$2+ (('coded NOLH for 17-22 factors'!L33-1)*(L$3-L$2) )/128, L$4 )","v":5},{"$f":"ROUND(M$2+ (('coded NOLH for 17-22 factors'!M33-1)*(M$3-M$2) )/128, M$4 )","v":10},{"$f":"ROUND(N$2+ (('coded NOLH for 17-22 factors'!N33-1)*(N$3-N$2) )/128, N$4 )","v":5},{"$f":"ROUND(O$2+ (('coded NOLH for 17-22 factors'!O33-1)*(O$3-O$2) )/128, O$4 )","v":87},{"$f":"ROUND(P$2+ (('coded NOLH for 17-22 factors'!P33-1)*(P$3-P$2) )/128, P$4 )","v":99},{"$f":"ROUND(Q$2+ (('coded NOLH for 17-22 factors'!Q33-1)*(Q$3-Q$2) )/128, Q$4 )","v":17},{"$f":"ROUND(R$2+ (('coded NOLH for 17-22 factors'!R33-1)*(R$3-R$2) )/128, R$4 )","v":57},{"$f":"ROUND(S$2+ (('coded NOLH for 17-22 factors'!S33-1)*(S$3-S$2) )/128, S$4 )","v":114},{"$f":"ROUND(T$2+ (('coded NOLH for 17-22 factors'!T33-1)*(T$3-T$2) )/128, T$4 )","v":11},{"$f":"ROUND(U$2+ (('coded NOLH for 17-22 factors'!U33-1)*(U$3-U$2) )/128, U$4 )","v":109},{"$f":"ROUND(V$2+ (('coded NOLH for 17-22 factors'!V33-1)*(V$3-V$2) )/128, V$4 )","v":106},{"$f":"ROUND(W$2+ (('coded NOLH for 17-22 factors'!W33-1)*(W$3-W$2) )/128, W$4 )","v":82}]
[null,{"$f":"ROUND(B$2+ (('coded NOLH for 17-22 factors'!B34-1)*(B$3-B$2) )/128, B$4 )","v":82},{"$f":"ROUND(C$2+ (('coded NOLH for 17-22 factors'!C34-1)*(C$3-C$2) )/128, C$4 )","v":60},{"$f":"ROUND(D$2+ (('coded NOLH for 17-22 factors'!D34-1)*(D$3-D$2) )/128, D$4 )","v":128},{"$f":"ROUND(E$2+ (('coded NOLH for 17-22 factors'!E34-1)*(E$3-E$2) )/128, E$4 )","v":90},{"$f":"ROUND(F$2+ (('coded NOLH for 17-22 factors'!F34-1)*(F$3-F$2) )/128, F$4 )","v":63},{"$f":"ROUND(G$2+ (('coded NOLH for 17-22 factors'!G34-1)*(G$3-G$2) )/128, G$4 )","v":55},{"$f":"ROUND(H$2+ (('coded NOLH for 17-22 factors'!H34-1)*(H$3-H$2) )/128, H$4 )","v":96},{"$f":"ROUND(I$2+ (('coded NOLH for 17-22 factors'!I34-1)*(I$3-I$2) )/128, I$4 )","v":118},{"$f":"ROUND(J$2+ (('coded NOLH for 17-22 factors'!J34-1)*(J$3-J$2) )/128, J$4 )","v":74},{"$f":"ROUND(K$2+ (('coded NOLH for 17-22 factors'!K34-1)*(K$3-K$2) )/128, K$4 )","v":46},{"$f":"ROUND(L$2+ (('coded NOLH for 17-22 factors'!L34-1)*(L$3-L$2) )/128, L$4 )","v":40},{"$f":"ROUND(M$2+ (('coded NOLH for 17-22 factors'!M34-1)*(M$3-M$2) )/128, M$4 )","v":20},{"$f":"ROUND(N$2+ (('coded NOLH for 17-22 factors'!N34-1)*(N$3-N$2) )/128, N$4 )","v":48},{"$f":"ROUND(O$2+ (('coded NOLH for 17-22 factors'!O34-1)*(O$3-O$2) )/128, O$4 )","v":91},{"$f":"ROUND(P$2+ (('coded NOLH for 17-22 factors'!P34-1)*(P$3-P$2) )/128, P$4 )","v":129},{"$f":"ROUND(Q$2+ (('coded NOLH for 17-22 factors'!Q34-1)*(Q$3-Q$2) )/128, Q$4 )","v":6},{"$f":"ROUND(R$2+ (('coded NOLH for 17-22 factors'!R34-1)*(R$3-R$2) )/128, R$4 )","v":46},{"$f":"ROUND(S$2+ (('coded NOLH for 17-22 factors'!S34-1)*(S$3-S$2) )/128, S$4 )","v":108},{"$f":"ROUND(T$2+ (('coded NOLH for 17-22 factors'!T34-1)*(T$3-T$2) )/128, T$4 )","v":41},{"$f":"ROUND(U$2+ (('coded NOLH for 17-22 factors'!U34-1)*(U$3-U$2) )/128, U$4 )","v":71},{"$f":"ROUND(V$2+ (('coded NOLH for 17-22 factors'!V34-1)*(V$3-V$2) )/128, V$4 )","v":84},{"$f":"ROUND(W$2+ (('coded NOLH for 17-22 factors'!W34-1)*(W$3-W$2) )/128, W$4 )","v":94}]
[null,{"$f":"ROUND(B$2+ (('coded NOLH for 17-22 factors'!B35-1)*(B$3-B$2) )/128, B$4 )","v":59},{"$f":"ROUND(C$2+ (('coded NOLH for 17-22 factors'!C35-1)*(C$3-C$2) )/128, C$4 )","v":94},{"$f":"ROUND(D$2+ (('coded NOLH for 17-22 factors'!D35-1)*(D$3-D$2) )/128, D$4 )","v":92},{"$f":"ROUND(E$2+ (('coded NOLH for 17-22 factors'!E35-1)*(E$3-E$2) )/128, E$4 )","v":98},{"$f":"ROUND(F$2+ (('coded NOLH for 17-22 factors'!F35-1)*(F$3-F$2) )/128, F$4 )","v":10},{"$f":"ROUND(G$2+ (('coded NOLH for 17-22 factors'!G35-1)*(G$3-G$2) )/128, G$4 )","v":51},{"$f":"ROUND(H$2+ (('coded NOLH for 17-22 factors'!H35-1)*(H$3-H$2) )/128, H$4 )","v":6},{"$f":"ROUND(I$2+ (('coded NOLH for 17-22 factors'!I35-1)*(I$3-I$2) )/128, I$4 )","v":2},{"$f":"ROUND(J$2+ (('coded NOLH for 17-22 factors'!J35-1)*(J$3-J$2) )/128, J$4 )","v":17},{"$f":"ROUND(K$2+ (('coded NOLH for 17-22 factors'!K35-1)*(K$3-K$2) )/128, K$4 )","v":112},{"$f":"ROUND(L$2+ (('coded NOLH for 17-22 factors'!L35-1)*(L$3-L$2) )/128, L$4 )","v":121},{"$f":"ROUND(M$2+ (('coded NOLH for 17-22 factors'!M35-1)*(M$3-M$2) )/128, M$4 )","v":104},{"$f":"ROUND(N$2+ (('coded NOLH for 17-22 factors'!N35-1)*(N$3-N$2) )/128, N$4 )","v":70},{"$f":"ROUND(O$2+ (('coded NOLH for 17-22 factors'!O35-1)*(O$3-O$2) )/128, O$4 )","v":84},{"$f":"ROUND(P$2+ (('coded NOLH for 17-22 factors'!P35-1)*(P$3-P$2) )/128, P$4 )","v":73},{"$f":"ROUND(Q$2+ (('coded NOLH for 17-22 factors'!Q35-1)*(Q$3-Q$2) )/128, Q$4 )","v":8},{"$f":"ROUND(R$2+ (('coded NOLH for 17-22 factors'!R35-1)*(R$3-R$2) )/128, R$4 )","v":24},{"$f":"ROUND(S$2+ (('coded NOLH for 17-22 factors'!S35-1)*(S$3-S$2) )/128, S$4 )","v":62},{"$f":"ROUND(T$2+ (('coded NOLH for 17-22 factors'!T35-1)*(T$3-T$2) )/128, T$4 )","v":68},{"$f":"ROUND(U$2+ (('coded NOLH for 17-22 factors'!U35-1)*(U$3-U$2) )/128, U$4 )","v":101},{"$f":"ROUND(V$2+ (('coded NOLH for 17-22 factors'!V35-1)*(V$3-V$2) )/128, V$4 )","v":100},{"$f":"ROUND(W$2+ (('coded NOLH for 17-22 factors'!W35-1)*(W$3-W$2) )/128, W$4 )","v":70}]
[null,{"$f":"ROUND(B$2+ (('coded NOLH for 17-22 factors'!B36-1)*(B$3-B$2) )/128, B$4 )","v":70},{"$f":"ROUND(C$2+ (('coded NOLH for 17-22 factors'!C36-1)*(C$3-C$2) )/128, C$4 )","v":82},{"$f":"ROUND(D$2+ (('coded NOLH for 17-22 factors'!D36-1)*(D$3-D$2) )/128, D$4 )","v":121},{"$f":"ROUND(E$2+ (('coded NOLH for 17-22 factors'!E36-1)*(E$3-E$2) )/128, E$4 )","v":115},{"$f":"ROUND(F$2+ (('coded NOLH for 17-22 factors'!F36-1)*(F$3-F$2) )/128, F$4 )","v":18},{"$f":"ROUND(G$2+ (('coded NOLH for 17-22 factors'!G36-1)*(G$3-G$2) )/128, G$4 )","v":95},{"$f":"ROUND(H$2+ (('coded NOLH for 17-22 factors'!H36-1)*(H$3-H$2) )/128, H$4 )","v":86},{"$f":"ROUND(I$2+ (('coded NOLH for 17-22 factors'!I36-1)*(I$3-I$2) )/128, I$4 )","v":99},{"$f":"ROUND(J$2+ (('coded NOLH for 17-22 factors'!J36-1)*(J$3-J$2) )/128, J$4 )","v":101},{"$f":"ROUND(K$2+ (('coded NOLH for 17-22 factors'!K36-1)*(K$3-K$2) )/128, K$4 )","v":4},{"$f":"ROUND(L$2+ (('coded NOLH for 17-22 factors'!L36-1)*(L$3-L$2) )/128, L$4 )","v":95},{"$f":"ROUND(M$2+ (('coded NOLH for 17-22 factors'!M36-1)*(M$3-M$2) )/128, M$4 )","v":90},{"$f":"ROUND(N$2+ (('coded NOLH for 17-22 factors'!N36-1)*(N$3-N$2) )/128, N$4 )","v":88},{"$f":"ROUND(O$2+ (('coded NOLH for 17-22 factors'!O36-1)*(O$3-O$2) )/128, O$4 )","v":89},{"$f":"ROUND(P$2+ (('coded NOLH for 17-22 factors'!P36-1)*(P$3-P$2) )/128, P$4 )","v":95},{"$f":"ROUND(Q$2+ (('coded NOLH for 17-22 factors'!Q36-1)*(Q$3-Q$2) )/128, Q$4 )","v":34},{"$f":"ROUND(R$2+ (('coded NOLH for 17-22 factors'!R36-1)*(R$3-R$2) )/128, R$4 )","v":52},{"$f":"ROUND(S$2+ (('coded NOLH for 17-22 factors'!S36-1)*(S$3-S$2) )/128, S$4 )","v":39},{"$f":"ROUND(T$2+ (('coded NOLH for 17-22 factors'!T36-1)*(T$3-T$2) )/128, T$4 )","v":6},{"$f":"ROUND(U$2+ (('coded NOLH for 17-22 factors'!U36-1)*(U$3-U$2) )/128, U$4 )","v":76},{"$f":"ROUND(V$2+ (('coded NOLH for 17-22 factors'!V36-1)*(V$3-V$2) )/128, V$4 )","v":125},{"$f":"ROUND(W$2+ (('coded NOLH for 17-22 factors'!W36-1)*(W$3-W$2) )/128, W$4 )","v":71}]
[null,{"$f":"ROUND(B$2+ (('coded NOLH for 17-22 factors'!B37-1)*(B$3-B$2) )/128, B$4 )","v":10},{"$f":"ROUND(C$2+ (('coded NOLH for 17-22 factors'!C37-1)*(C$3-C$2) )/128, C$4 )","v":47},{"$f":"ROUND(D$2+ (('coded NOLH for 17-22 factors'!D37-1)*(D$3-D$2) )/128, D$4 )","v":42},{"$f":"ROUND(E$2+ (('coded NOLH for 17-22 factors'!E37-1)*(E$3-E$2) )/128, E$4 )","v":44},{"$f":"ROUND(F$2+ (('coded NOLH for 17-22 factors'!F37-1)*(F$3-F$2) )/128, F$4 )","v":71},{"$f":"ROUND(G$2+ (('coded NOLH for 17-22 factors'!G37-1)*(G$3-G$2) )/128, G$4 )","v":64},{"$f":"ROUND(H$2+ (('coded NOLH for 17-22 factors'!H37-1)*(H$3-H$2) )/128, H$4 )","v":117},{"$f":"ROUND(I$2+ (('coded NOLH for 17-22 factors'!I37-1)*(I$3-I$2) )/128, I$4 )","v":73},{"$f":"ROUND(J$2+ (('coded NOLH for 17-22 factors'!J37-1)*(J$3-J$2) )/128, J$4 )","v":117},{"$f":"ROUND(K$2+ (('coded NOLH for 17-22 factors'!K37-1)*(K$3-K$2) )/128, K$4 )","v":67},{"$f":"ROUND(L$2+ (('coded NOLH for 17-22 factors'!L37-1)*(L$3-L$2) )/128, L$4 )","v":116},{"$f":"ROUND(M$2+ (('coded NOLH for 17-22 factors'!M37-1)*(M$3-M$2) )/128, M$4 )","v":96},{"$f":"ROUND(N$2+ (('coded NOLH for 17-22 factors'!N37-1)*(N$3-N$2) )/128, N$4 )","v":74},{"$f":"ROUND(O$2+ (('coded NOLH for 17-22 factors'!O37-1)*(O$3-O$2) )/128, O$4 )","v":110},{"$f":"ROUND(P$2+ (('coded NOLH for 17-22 factors'!P37-1)*(P$3-P$2) )/128, P$4 )","v":84},{"$f":"ROUND(Q$2+ (('coded NOLH for 17-22 factors'!Q37-1)*(Q$3-Q$2) )/128, Q$4 )","v":14},{"$f":"ROUND(R$2+ (('coded NOLH for 17-22 factors'!R37-1)*(R$3-R$2) )/128, R$4 )","v":6},{"$f":"ROUND(S$2+ (('coded NOLH for 17-22 factors'!S37-1)*(S$3-S$2) )/128, S$4 )","v":52},{"$f":"ROUND(T$2+ (('coded NOLH for 17-22 factors'!T37-1)*(T$3-T$2) )/128, T$4 )","v":1},{"$f":"ROUND(U$2+ (('coded NOLH for 17-22 factors'!U37-1)*(U$3-U$2) )/128, U$4 )","v":115},{"$f":"ROUND(V$2+ (('coded NOLH for 17-22 factors'!V37-1)*(V$3-V$2) )/128, V$4 )","v":6},{"$f":"ROUND(W$2+ (('coded NOLH for 17-22 factors'!W37-1)*(W$3-W$2) )/128, W$4 )","v":112}]
[null,{"$f":"ROUND(B$2+ (('coded NOLH for 17-22 factors'!B38-1)*(B$3-B$2) )/128, B$4 )","v":112},{"$f":"ROUND(C$2+ (('coded NOLH for 17-22 factors'!C38-1)*(C$3-C$2) )/128, C$4 )","v":63},{"$f":"ROUND(D$2+ (('coded NOLH for 17-22 factors'!D38-1)*(D$3-D$2) )/128, D$4 )","v":20},{"$f":"ROUND(E$2+ (('coded NOLH for 17-22 factors'!E38-1)*(E$3-E$2) )/128, E$4 )","v":13},{"$f":"ROUND(F$2+ (('coded NOLH for 17-22 factors'!F38-1)*(F$3-F$2) )/128, F$4 )","v":70},{"$f":"ROUND(G$2+ (('coded NOLH for 17-22 factors'!G38-1)*(G$3-G$2) )/128, G$4 )","v":52},{"$f":"ROUND(H$2+ (('coded NOLH for 17-22 factors'!H38-1)*(H$3-H$2) )/128, H$4 )","v":49},{"$f":"ROUND(I$2+ (('coded NOLH for 17-22 factors'!I38-1)*(I$3-I$2) )/128, I$4 )","v":5},{"$f":"ROUND(J$2+ (('coded NOLH for 17-22 factors'!J38-1)*(J$3-J$2) )/128, J$4 )","v":43},{"$f":"ROUND(K$2+ (('coded NOLH for 17-22 factors'!K38-1)*(K$3-K$2) )/128, K$4 )","v":68},{"$f":"ROUND(L$2+ (('coded NOLH for 17-22 factors'!L38-1)*(L$3-L$2) )/128, L$4 )","v":117},{"$f":"ROUND(M$2+ (('coded NOLH for 17-22 factors'!M38-1)*(M$3-M$2) )/128, M$4 )","v":123},{"$f":"ROUND(N$2+ (('coded NOLH for 17-22 factors'!N38-1)*(N$3-N$2) )/128, N$4 )","v":62},{"$f":"ROUND(O$2+ (('coded NOLH for 17-22 factors'!O38-1)*(O$3-O$2) )/128, O$4 )","v":85},{"$f":"ROUND(P$2+ (('coded NOLH for 17-22 factors'!P38-1)*(P$3-P$2) )/128, P$4 )","v":107},{"$f":"ROUND(Q$2+ (('coded NOLH for 17-22 factors'!Q38-1)*(Q$3-Q$2) )/128, Q$4 )","v":25},{"$f":"ROUND(R$2+ (('coded NOLH for 17-22 factors'!R38-1)*(R$3-R$2) )/128, R$4 )","v":33},{"$f":"ROUND(S$2+ (('coded NOLH for 17-22 factors'!S38-1)*(S$3-S$2) )/128, S$4 )","v":42},{"$f":"ROUND(T$2+ (('coded NOLH for 17-22 factors'!T38-1)*(T$3-T$2) )/128, T$4 )","v":48},{"$f":"ROUND(U$2+ (('coded NOLH for 17-22 factors'!U38-1)*(U$3-U$2) )/128, U$4 )","v":78},{"$f":"ROUND(V$2+ (('coded NOLH for 17-22 factors'!V38-1)*(V$3-V$2) )/128, V$4 )","v":55},{"$f":"ROUND(W$2+ (('coded NOLH for 17-22 factors'!W38-1)*(W$3-W$2) )/128, W$4 )","v":120}]
[null,{"$f":"ROUND(B$2+ (('coded NOLH for 17-22 factors'!B39-1)*(B$3-B$2) )/128, B$4 )","v":47},{"$f":"ROUND(C$2+ (('coded NOLH for 17-22 factors'!C39-1)*(C$3-C$2) )/128, C$4 )","v":120},{"$f":"ROUND(D$2+ (('coded NOLH for 17-22 factors'!D39-1)*(D$3-D$2) )/128, D$4 )","v":8},{"$f":"ROUND(E$2+ (('coded NOLH for 17-22 factors'!E39-1)*(E$3-E$2) )/128, E$4 )","v":54},{"$f":"ROUND(F$2+ (('coded NOLH for 17-22 factors'!F39-1)*(F$3-F$2) )/128, F$4 )","v":94},{"$f":"ROUND(G$2+ (('coded NOLH for 17-22 factors'!G39-1)*(G$3-G$2) )/128, G$4 )","v":20},{"$f":"ROUND(H$2+ (('coded NOLH for 17-22 factors'!H39-1)*(H$3-H$2) )/128, H$4 )","v":121},{"$f":"ROUND(I$2+ (('coded NOLH for 17-22 factors'!I39-1)*(I$3-I$2) )/128, I$4 )","v":106},{"$f":"ROUND(J$2+ (('coded NOLH for 17-22 factors'!J39-1)*(J$3-J$2) )/128, J$4 )","v":69},{"$f":"ROUND(K$2+ (('coded NOLH for 17-22 factors'!K39-1)*(K$3-K$2) )/128, K$4 )","v":54},{"$f":"ROUND(L$2+ (('coded NOLH for 17-22 factors'!L39-1)*(L$3-L$2) )/128, L$4 )","v":31},{"$f":"ROUND(M$2+ (('coded NOLH for 17-22 factors'!M39-1)*(M$3-M$2) )/128, M$4 )","v":45},{"$f":"ROUND(N$2+ (('coded NOLH for 17-22 factors'!N39-1)*(N$3-N$2) )/128, N$4 )","v":19},{"$f":"ROUND(O$2+ (('coded NOLH for 17-22 factors'!O39-1)*(O$3-O$2) )/128, O$4 )","v":82},{"$f":"ROUND(P$2+ (('coded NOLH for 17-22 factors'!P39-1)*(P$3-P$2) )/128, P$4 )","v":76},{"$f":"ROUND(Q$2+ (('coded NOLH for 17-22 factors'!Q39-1)*(Q$3-Q$2) )/128, Q$4 )","v":19},{"$f":"ROUND(R$2+ (('coded NOLH for 17-22 factors'!R39-1)*(R$3-R$2) )/128, R$4 )","v":41},{"$f":"ROUND(S$2+ (('coded NOLH for 17-22 factors'!S39-1)*(S$3-S$2) )/128, S$4 )","v":71},{"$f":"ROUND(T$2+ (('coded NOLH for 17-22 factors'!T39-1)*(T$3-T$2) )/128, T$4 )","v":33},{"$f":"ROUND(U$2+ (('coded NOLH for 17-22 factors'!U39-1)*(U$3-U$2) )/128, U$4 )","v":127},{"$f":"ROUND(V$2+ (('coded NOLH for 17-22 factors'!V39-1)*(V$3-V$2) )/128, V$4 )","v":28},{"$f":"ROUND(W$2+ (('coded NOLH for 17-22 factors'!W39-1)*(W$3-W$2) )/128, W$4 )","v":67}]
[null,{"$f":"ROUND(B$2+ (('coded NOLH for 17-22 factors'!B40-1)*(B$3-B$2) )/128, B$4 )","v":67},{"$f":"ROUND(C$2+ (('coded NOLH for 17-22 factors'!C40-1)*(C$3-C$2) )/128, C$4 )","v":112},{"$f":"ROUND(D$2+ (('coded NOLH for 17-22 factors'!D40-1)*(D$3-D$2) )/128, D$4 )","v":22},{"$f":"ROUND(E$2+ (('coded NOLH for 17-22 factors'!E40-1)*(E$3-E$2) )/128, E$4 )","v":57},{"$f":"ROUND(F$2+ (('coded NOLH for 17-22 factors'!F40-1)*(F$3-F$2) )/128, F$4 )","v":82},{"$f":"ROUND(G$2+ (('coded NOLH for 17-22 factors'!G40-1)*(G$3-G$2) )/128, G$4 )","v":123},{"$f":"ROUND(H$2+ (('coded NOLH for 17-22 factors'!H40-1)*(H$3-H$2) )/128, H$4 )","v":15},{"$f":"ROUND(I$2+ (('coded NOLH for 17-22 factors'!I40-1)*(I$3-I$2) )/128, I$4 )","v":17},{"$f":"ROUND(J$2+ (('coded NOLH for 17-22 factors'!J40-1)*(J$3-J$2) )/128, J$4 )","v":52},{"$f":"ROUND(K$2+ (('coded NOLH for 17-22 factors'!K40-1)*(K$3-K$2) )/128, K$4 )","v":103},{"$f":"ROUND(L$2+ (('coded NOLH for 17-22 factors'!L40-1)*(L$3-L$2) )/128, L$4 )","v":36},{"$f":"ROUND(M$2+ (('coded NOLH for 17-22 factors'!M40-1)*(M$3-M$2) )/128, M$4 )","v":16},{"$f":"ROUND(N$2+ (('coded NOLH for 17-22 factors'!N40-1)*(N$3-N$2) )/128, N$4 )","v":25},{"$f":"ROUND(O$2+ (('coded NOLH for 17-22 factors'!O40-1)*(O$3-O$2) )/128, O$4 )","v":77},{"$f":"ROUND(P$2+ (('coded NOLH for 17-22 factors'!P40-1)*(P$3-P$2) )/128, P$4 )","v":92},{"$f":"ROUND(Q$2+ (('coded NOLH for 17-22 factors'!Q40-1)*(Q$3-Q$2) )/128, Q$4 )","v":44},{"$f":"ROUND(R$2+ (('coded NOLH for 17-22 factors'!R40-1)*(R$3-R$2) )/128, R$4 )","v":55},{"$f":"ROUND(S$2+ (('coded NOLH for 17-22 factors'!S40-1)*(S$3-S$2) )/128, S$4 )","v":77},{"$f":"ROUND(T$2+ (('coded NOLH for 17-22 factors'!T40-1)*(T$3-T$2) )/128, T$4 )","v":15},{"$f":"ROUND(U$2+ (('coded NOLH for 17-22 factors'!U40-1)*(U$3-U$2) )/128, U$4 )","v":81},{"$f":"ROUND(V$2+ (('coded NOLH for 17-22 factors'!V40-1)*(V$3-V$2) )/128, V$4 )","v":17},{"$f":"ROUND(W$2+ (('coded NOLH for 17-22 factors'!W40-1)*(W$3-W$2) )/128, W$4 )","v":83}]
[null,{"$f":"ROUND(B$2+ (('coded NOLH for 17-22 factors'!B41-1)*(B$3-B$2) )/128, B$4 )","v":8},{"$f":"ROUND(C$2+ (('coded NOLH for 17-22 factors'!C41-1)*(C$3-C$2) )/128, C$4 )","v":42},{"$f":"ROUND(D$2+ (('coded NOLH for 17-22 factors'!D41-1)*(D$3-D$2) )/128, D$4 )","v":83},{"$f":"ROUND(E$2+ (('coded NOLH for 17-22 factors'!E41-1)*(E$3-E$2) )/128, E$4 )","v":14},{"$f":"ROUND(F$2+ (('coded NOLH for 17-22 factors'!F41-1)*(F$3-F$2) )/128, F$4 )","v":99},{"$f":"ROUND(G$2+ (('coded NOLH for 17-22 factors'!G41-1)*(G$3-G$2) )/128, G$4 )","v":108},{"$f":"ROUND(H$2+ (('coded NOLH for 17-22 factors'!H41-1)*(H$3-H$2) )/128, H$4 )","v":62},{"$f":"ROUND(I$2+ (('coded NOLH for 17-22 factors'!I41-1)*(I$3-I$2) )/128, I$4 )","v":86},{"$f":"ROUND(J$2+ (('coded NOLH for 17-22 factors'!J41-1)*(J$3-J$2) )/128, J$4 )","v":76},{"$f":"ROUND(K$2+ (('coded NOLH for 17-22 factors'!K41-1)*(K$3-K$2) )/128, K$4 )","v":2},{"$f":"ROUND(L$2+ (('coded NOLH for 17-22 factors'!L41-1)*(L$3-L$2) )/128, L$4 )","v":29},{"$f":"ROUND(M$2+ (('coded NOLH for 17-22 factors'!M41-1)*(M$3-M$2) )/128, M$4 )","v":100},{"$f":"ROUND(N$2+ (('coded NOLH for 17-22 factors'!N41-1)*(N$3-N$2) )/128, N$4 )","v":96},{"$f":"ROUND(O$2+ (('coded NOLH for 17-22 factors'!O41-1)*(O$3-O$2) )/128, O$4 )","v":31},{"$f":"ROUND(P$2+ (('coded NOLH for 17-22 factors'!P41-1)*(P$3-P$2) )/128, P$4 )","v":60},{"$f":"ROUND(Q$2+ (('coded NOLH for 17-22 factors'!Q41-1)*(Q$3-Q$2) )/128, Q$4 )","v":68},{"$f":"ROUND(R$2+ (('coded NOLH for 17-22 factors'!R41-1)*(R$3-R$2) )/128, R$4 )","v":40},{"$f":"ROUND(S$2+ (('coded NOLH for 17-22 factors'!S41-1)*(S$3-S$2) )/128, S$4 )","v":10},{"$f":"ROUND(T$2+ (('coded NOLH for 17-22 factors'!T41-1)*(T$3-T$2) )/128, T$4 )","v":55},{"$f":"ROUND(U$2+ (('coded NOLH for 17-22 factors'!U41-1)*(U$3-U$2) )/128, U$4 )","v":106},{"$f":"ROUND(V$2+ (('coded NOLH for 17-22 factors'!V41-1)*(V$3-V$2) )/128, V$4 )","v":64},{"$f":"ROUND(W$2+ (('coded NOLH for 17-22 factors'!W41-1)*(W$3-W$2) )/128, W$4 )","v":108}]
[null,{"$f":"ROUND(B$2+ (('coded NOLH for 17-22 factors'!B42-1)*(B$3-B$2) )/128, B$4 )","v":108},{"$f":"ROUND(C$2+ (('coded NOLH for 17-22 factors'!C42-1)*(C$3-C$2) )/128, C$4 )","v":20},{"$f":"ROUND(D$2+ (('coded NOLH for 17-22 factors'!D42-1)*(D$3-D$2) )/128, D$4 )","v":67},{"$f":"ROUND(E$2+ (('coded NOLH for 17-22 factors'!E42-1)*(E$3-E$2) )/128, E$4 )","v":52},{"$f":"ROUND(F$2+ (('coded NOLH for 17-22 factors'!F42-1)*(F$3-F$2) )/128, F$4 )","v":128},{"$f":"ROUND(G$2+ (('coded NOLH for 17-22 factors'!G42-1)*(G$3-G$2) )/128, G$4 )","v":39},{"$f":"ROUND(H$2+ (('coded NOLH for 17-22 factors'!H42-1)*(H$3-H$2) )/128, H$4 )","v":77},{"$f":"ROUND(I$2+ (('coded NOLH for 17-22 factors'!I42-1)*(I$3-I$2) )/128, I$4 )","v":79},{"$f":"ROUND(J$2+ (('coded NOLH for 17-22 factors'!J42-1)*(J$3-J$2) )/128, J$4 )","v":11},{"$f":"ROUND(K$2+ (('coded NOLH for 17-22 factors'!K42-1)*(K$3-K$2) )/128, K$4 )","v":101},{"$f":"ROUND(L$2+ (('coded NOLH for 17-22 factors'!L42-1)*(L$3-L$2) )/128, L$4 )","v":19},{"$f":"ROUND(M$2+ (('coded NOLH for 17-22 factors'!M42-1)*(M$3-M$2) )/128, M$4 )","v":95},{"$f":"ROUND(N$2+ (('coded NOLH for 17-22 factors'!N42-1)*(N$3-N$2) )/128, N$4 )","v":113},{"$f":"ROUND(O$2+ (('coded NOLH for 17-22 factors'!O42-1)*(O$3-O$2) )/128, O$4 )","v":29},{"$f":"ROUND(P$2+ (('coded NOLH for 17-22 factors'!P42-1)*(P$3-P$2) )/128, P$4 )","v":48},{"$f":"ROUND(Q$2+ (('coded NOLH for 17-22 factors'!Q42-1)*(Q$3-Q$2) )/128, Q$4 )","v":84},{"$f":"ROUND(R$2+ (('coded NOLH for 17-22 factors'!R42-1)*(R$3-R$2) )/128, R$4 )","v":2},{"$f":"ROUND(S$2+ (('coded NOLH for 17-22 factors'!S42-1)*(S$3-S$2) )/128, S$4 )","v":31},{"$f":"ROUND(T$2+ (('coded NOLH for 17-22 factors'!T42-1)*(T$3-T$2) )/128, T$4 )","v":42},{"$f":"ROUND(U$2+ (('coded NOLH for 17-22 factors'!U42-1)*(U$3-U$2) )/128, U$4 )","v":111},{"$f":"ROUND(V$2+ (('coded NOLH for 17-22 factors'!V42-1)*(V$3-V$2) )/128, V$4 )","v":49},{"$f":"ROUND(W$2+ (('coded NOLH for 17-22 factors'!W42-1)*(W$3-W$2) )/128, W$4 )","v":122}]
[null,{"$f":"ROUND(B$2+ (('coded NOLH for 17-22 factors'!B43-1)*(B$3-B$2) )/128, B$4 )","v":42},{"$f":"ROUND(C$2+ (('coded NOLH for 17-22 factors'!C43-1)*(C$3-C$2) )/128, C$4 )","v":122},{"$f":"ROUND(D$2+ (('coded NOLH for 17-22 factors'!D43-1)*(D$3-D$2) )/128, D$4 )","v":120},{"$f":"ROUND(E$2+ (('coded NOLH for 17-22 factors'!E43-1)*(E$3-E$2) )/128, E$4 )","v":21},{"$f":"ROUND(F$2+ (('coded NOLH for 17-22 factors'!F43-1)*(F$3-F$2) )/128, F$4 )","v":92},{"$f":"ROUND(G$2+ (('coded NOLH for 17-22 factors'!G43-1)*(G$3-G$2) )/128, G$4 )","v":8},{"$f":"ROUND(H$2+ (('coded NOLH for 17-22 factors'!H43-1)*(H$3-H$2) )/128, H$4 )","v":29},{"$f":"ROUND(I$2+ (('coded NOLH for 17-22 factors'!I43-1)*(I$3-I$2) )/128, I$4 )","v":110},{"$f":"ROUND(J$2+ (('coded NOLH for 17-22 factors'!J43-1)*(J$3-J$2) )/128, J$4 )","v":88},{"$f":"ROUND(K$2+ (('coded NOLH for 17-22 factors'!K43-1)*(K$3-K$2) )/128, K$4 )","v":12},{"$f":"ROUND(L$2+ (('coded NOLH for 17-22 factors'!L43-1)*(L$3-L$2) )/128, L$4 )","v":78},{"$f":"ROUND(M$2+ (('coded NOLH for 17-22 factors'!M43-1)*(M$3-M$2) )/128, M$4 )","v":51},{"$f":"ROUND(N$2+ (('coded NOLH for 17-22 factors'!N43-1)*(N$3-N$2) )/128, N$4 )","v":55},{"$f":"ROUND(O$2+ (('coded NOLH for 17-22 factors'!O43-1)*(O$3-O$2) )/128, O$4 )","v":60},{"$f":"ROUND(P$2+ (('coded NOLH for 17-22 factors'!P43-1)*(P$3-P$2) )/128, P$4 )","v":20},{"$f":"ROUND(Q$2+ (('coded NOLH for 17-22 factors'!Q43-1)*(Q$3-Q$2) )/128, Q$4 )","v":76},{"$f":"ROUND(R$2+ (('coded NOLH for 17-22 factors'!R43-1)*(R$3-R$2) )/128, R$4 )","v":59},{"$f":"ROUND(S$2+ (('coded NOLH for 17-22 factors'!S43-1)*(S$3-S$2) )/128, S$4 )","v":125},{"$f":"ROUND(T$2+ (('coded NOLH for 17-22 factors'!T43-1)*(T$3-T$2) )/128, T$4 )","v":34},{"$f":"ROUND(U$2+ (('coded NOLH for 17-22 factors'!U43-1)*(U$3-U$2) )/128, U$4 )","v":118},{"$f":"ROUND(V$2+ (('coded NOLH for 17-22 factors'!V43-1)*(V$3-V$2) )/128, V$4 )","v":43},{"$f":"ROUND(W$2+ (('coded NOLH for 17-22 factors'!W43-1)*(W$3-W$2) )/128, W$4 )","v":110}]
[null,{"$f":"ROUND(B$2+ (('coded NOLH for 17-22 factors'!B44-1)*(B$3-B$2) )/128, B$4 )","v":110},{"$f":"ROUND(C$2+ (('coded NOLH for 17-22 factors'!C44-1)*(C$3-C$2) )/128, C$4 )","v":108},{"$f":"ROUND(D$2+ (('coded NOLH for 17-22 factors'!D44-1)*(D$3-D$2) )/128, D$4 )","v":112},{"$f":"ROUND(E$2+ (('coded NOLH for 17-22 factors'!E44-1)*(E$3-E$2) )/128, E$4 )","v":45},{"$f":"ROUND(F$2+ (('coded NOLH for 17-22 factors'!F44-1)*(F$3-F$2) )/128, F$4 )","v":121},{"$f":"ROUND(G$2+ (('coded NOLH for 17-22 factors'!G44-1)*(G$3-G$2) )/128, G$4 )","v":111},{"$f":"ROUND(H$2+ (('coded NOLH for 17-22 factors'!H44-1)*(H$3-H$2) )/128, H$4 )","v":128},{"$f":"ROUND(I$2+ (('coded NOLH for 17-22 factors'!I44-1)*(I$3-I$2) )/128, I$4 )","v":48},{"$f":"ROUND(J$2+ (('coded NOLH for 17-22 factors'!J44-1)*(J$3-J$2) )/128, J$4 )","v":21},{"$f":"ROUND(K$2+ (('coded NOLH for 17-22 factors'!K44-1)*(K$3-K$2) )/128, K$4 )","v":100},{"$f":"ROUND(L$2+ (('coded NOLH for 17-22 factors'!L44-1)*(L$3-L$2) )/128, L$4 )","v":87},{"$f":"ROUND(M$2+ (('coded NOLH for 17-22 factors'!M44-1)*(M$3-M$2) )/128, M$4 )","v":68},{"$f":"ROUND(N$2+ (('coded NOLH for 17-22 factors'!N44-1)*(N$3-N$2) )/128, N$4 )","v":18},{"$f":"ROUND(O$2+ (('coded NOLH for 17-22 factors'!O44-1)*(O$3-O$2) )/128, O$4 )","v":27},{"$f":"ROUND(P$2+ (('coded NOLH for 17-22 factors'!P44-1)*(P$3-P$2) )/128, P$4 )","v":18},{"$f":"ROUND(Q$2+ (('coded NOLH for 17-22 factors'!Q44-1)*(Q$3-Q$2) )/128, Q$4 )","v":79},{"$f":"ROUND(R$2+ (('coded NOLH for 17-22 factors'!R44-1)*(R$3-R$2) )/128, R$4 )","v":30},{"$f":"ROUND(S$2+ (('coded NOLH for 17-22 factors'!S44-1)*(S$3-S$2) )/128, S$4 )","v":92},{"$f":"ROUND(T$2+ (('coded NOLH for 17-22 factors'!T44-1)*(T$3-T$2) )/128, T$4 )","v":46},{"$f":"ROUND(U$2+ (('coded NOLH for 17-22 factors'!U44-1)*(U$3-U$2) )/128, U$4 )","v":97},{"$f":"ROUND(V$2+ (('coded NOLH for 17-22 factors'!V44-1)*(V$3-V$2) )/128, V$4 )","v":25},{"$f":"ROUND(W$2+ (('coded NOLH for 17-22 factors'!W44-1)*(W$3-W$2) )/128, W$4 )","v":88}]
[null,{"$f":"ROUND(B$2+ (('coded NOLH for 17-22 factors'!B45-1)*(B$3-B$2) )/128, B$4 )","v":43},{"$f":"ROUND(C$2+ (('coded NOLH for 17-22 factors'!C45-1)*(C$3-C$2) )/128, C$4 )","v":64},{"$f":"ROUND(D$2+ (('coded NOLH for 17-22 factors'!D45-1)*(D$3-D$2) )/128, D$4 )","v":6},{"$f":"ROUND(E$2+ (('coded NOLH for 17-22 factors'!E45-1)*(E$3-E$2) )/128, E$4 )","v":26},{"$f":"ROUND(F$2+ (('coded NOLH for 17-22 factors'!F45-1)*(F$3-F$2) )/128, F$4 )","v":103},{"$f":"ROUND(G$2+ (('coded NOLH for 17-22 factors'!G45-1)*(G$3-G$2) )/128, G$4 )","v":88},{"$f":"ROUND(H$2+ (('coded NOLH for 17-22 factors'!H45-1)*(H$3-H$2) )/128, H$4 )","v":72},{"$f":"ROUND(I$2+ (('coded NOLH for 17-22 factors'!I45-1)*(I$3-I$2) )/128, I$4 )","v":14},{"$f":"ROUND(J$2+ (('coded NOLH for 17-22 factors'!J45-1)*(J$3-J$2) )/128, J$4 )","v":110},{"$f":"ROUND(K$2+ (('coded NOLH for 17-22 factors'!K45-1)*(K$3-K$2) )/128, K$4 )","v":31},{"$f":"ROUND(L$2+ (('coded NOLH for 17-22 factors'!L45-1)*(L$3-L$2) )/128, L$4 )","v":112},{"$f":"ROUND(M$2+ (('coded NOLH for 17-22 factors'!M45-1)*(M$3-M$2) )/128, M$4 )","v":9},{"$f":"ROUND(N$2+ (('coded NOLH for 17-22 factors'!N45-1)*(N$3-N$2) )/128, N$4 )","v":121},{"$f":"ROUND(O$2+ (('coded NOLH for 17-22 factors'!O45-1)*(O$3-O$2) )/128, O$4 )","v":28},{"$f":"ROUND(P$2+ (('coded NOLH for 17-22 factors'!P45-1)*(P$3-P$2) )/128, P$4 )","v":105},{"$f":"ROUND(Q$2+ (('coded NOLH for 17-22 factors'!Q45-1)*(Q$3-Q$2) )/128, Q$4 )","v":2},{"$f":"ROUND(R$2+ (('coded NOLH for 17-22 factors'!R45-1)*(R$3-R$2) )/128, R$4 )","v":9},{"$f":"ROUND(S$2+ (('coded NOLH for 17-22 factors'!S45-1)*(S$3-S$2) )/128, S$4 )","v":73},{"$f":"ROUND(T$2+ (('coded NOLH for 17-22 factors'!T45-1)*(T$3-T$2) )/128, T$4 )","v":120},{"$f":"ROUND(U$2+ (('coded NOLH for 17-22 factors'!U45-1)*(U$3-U$2) )/128, U$4 )","v":47},{"$f":"ROUND(V$2+ (('coded NOLH for 17-22 factors'!V45-1)*(V$3-V$2) )/128, V$4 )","v":88},{"$f":"ROUND(W$2+ (('coded NOLH for 17-22 factors'!W45-1)*(W$3-W$2) )/128, W$4 )","v":105}]
[null,{"$f":"ROUND(B$2+ (('coded NOLH for 17-22 factors'!B46-1)*(B$3-B$2) )/128, B$4 )","v":105},{"$f":"ROUND(C$2+ (('coded NOLH for 17-22 factors'!C46-1)*(C$3-C$2) )/128, C$4 )","v":49},{"$f":"ROUND(D$2+ (('coded NOLH for 17-22 factors'!D46-1)*(D$3-D$2) )/128, D$4 )","v":55},{"$f":"ROUND(E$2+ (('coded NOLH for 17-22 factors'!E46-1)*(E$3-E$2) )/128, E$4 )","v":16},{"$f":"ROUND(F$2+ (('coded NOLH for 17-22 factors'!F46-1)*(F$3-F$2) )/128, F$4 )","v":95},{"$f":"ROUND(G$2+ (('coded NOLH for 17-22 factors'!G46-1)*(G$3-G$2) )/128, G$4 )","v":68},{"$f":"ROUND(H$2+ (('coded NOLH for 17-22 factors'!H46-1)*(H$3-H$2) )/128, H$4 )","v":3},{"$f":"ROUND(I$2+ (('coded NOLH for 17-22 factors'!I46-1)*(I$3-I$2) )/128, I$4 )","v":92},{"$f":"ROUND(J$2+ (('coded NOLH for 17-22 factors'!J46-1)*(J$3-J$2) )/128, J$4 )","v":24},{"$f":"ROUND(K$2+ (('coded NOLH for 17-22 factors'!K46-1)*(K$3-K$2) )/128, K$4 )","v":93},{"$f":"ROUND(L$2+ (('coded NOLH for 17-22 factors'!L46-1)*(L$3-L$2) )/128, L$4 )","v":114},{"$f":"ROUND(M$2+ (('coded NOLH for 17-22 factors'!M46-1)*(M$3-M$2) )/128, M$4 )","v":27},{"$f":"ROUND(N$2+ (('coded NOLH for 17-22 factors'!N46-1)*(N$3-N$2) )/128, N$4 )","v":93},{"$f":"ROUND(O$2+ (('coded NOLH for 17-22 factors'!O46-1)*(O$3-O$2) )/128, O$4 )","v":11},{"$f":"ROUND(P$2+ (('coded NOLH for 17-22 factors'!P46-1)*(P$3-P$2) )/128, P$4 )","v":67},{"$f":"ROUND(Q$2+ (('coded NOLH for 17-22 factors'!Q46-1)*(Q$3-Q$2) )/128, Q$4 )","v":21},{"$f":"ROUND(R$2+ (('coded NOLH for 17-22 factors'!R46-1)*(R$3-R$2) )/128, R$4 )","v":14},{"$f":"ROUND(S$2+ (('coded NOLH for 17-22 factors'!S46-1)*(S$3-S$2) )/128, S$4 )","v":37},{"$f":"ROUND(T$2+ (('coded NOLH for 17-22 factors'!T46-1)*(T$3-T$2) )/128, T$4 )","v":110},{"$f":"ROUND(U$2+ (('coded NOLH for 17-22 factors'!U46-1)*(U$3-U$2) )/128, U$4 )","v":34},{"$f":"ROUND(V$2+ (('coded NOLH for 17-22 factors'!V46-1)*(V$3-V$2) )/128, V$4 )","v":110},{"$f":"ROUND(W$2+ (('coded NOLH for 17-22 factors'!W46-1)*(W$3-W$2) )/128, W$4 )","v":87}]
[null,{"$f":"ROUND(B$2+ (('coded NOLH for 17-22 factors'!B47-1)*(B$3-B$2) )/128, B$4 )","v":64},{"$f":"ROUND(C$2+ (('coded NOLH for 17-22 factors'!C47-1)*(C$3-C$2) )/128, C$4 )","v":87},{"$f":"ROUND(D$2+ (('coded NOLH for 17-22 factors'!D47-1)*(D$3-D$2) )/128, D$4 )","v":28},{"$f":"ROUND(E$2+ (('coded NOLH for 17-22 factors'!E47-1)*(E$3-E$2) )/128, E$4 )","v":41},{"$f":"ROUND(F$2+ (('coded NOLH for 17-22 factors'!F47-1)*(F$3-F$2) )/128, F$4 )","v":93},{"$f":"ROUND(G$2+ (('coded NOLH for 17-22 factors'!G47-1)*(G$3-G$2) )/128, G$4 )","v":36},{"$f":"ROUND(H$2+ (('coded NOLH for 17-22 factors'!H47-1)*(H$3-H$2) )/128, H$4 )","v":116},{"$f":"ROUND(I$2+ (('coded NOLH for 17-22 factors'!I47-1)*(I$3-I$2) )/128, I$4 )","v":15},{"$f":"ROUND(J$2+ (('coded NOLH for 17-22 factors'!J47-1)*(J$3-J$2) )/128, J$4 )","v":107},{"$f":"ROUND(K$2+ (('coded NOLH for 17-22 factors'!K47-1)*(K$3-K$2) )/128, K$4 )","v":45},{"$f":"ROUND(L$2+ (('coded NOLH for 17-22 factors'!L47-1)*(L$3-L$2) )/128, L$4 )","v":47},{"$f":"ROUND(M$2+ (('coded NOLH for 17-22 factors'!M47-1)*(M$3-M$2) )/128, M$4 )","v":101},{"$f":"ROUND(N$2+ (('coded NOLH for 17-22 factors'!N47-1)*(N$3-N$2) )/128, N$4 )","v":24},{"$f":"ROUND(O$2+ (('coded NOLH for 17-22 factors'!O47-1)*(O$3-O$2) )/128, O$4 )","v":69},{"$f":"ROUND(P$2+ (('coded NOLH for 17-22 factors'!P47-1)*(P$3-P$2) )/128, P$4 )","v":125},{"$f":"ROUND(Q$2+ (('coded NOLH for 17-22 factors'!Q47-1)*(Q$3-Q$2) )/128, Q$4 )","v":36},{"$f":"ROUND(R$2+ (('coded NOLH for 17-22 factors'!R47-1)*(R$3-R$2) )/128, R$4 )","v":18},{"$f":"ROUND(S$2+ (('coded NOLH for 17-22 factors'!S47-1)*(S$3-S$2) )/128, S$4 )","v":111},{"$f":"ROUND(T$2+ (('coded NOLH for 17-22 factors'!T47-1)*(T$3-T$2) )/128, T$4 )","v":127},{"$f":"ROUND(U$2+ (('coded NOLH for 17-22 factors'!U47-1)*(U$3-U$2) )/128, U$4 )","v":58},{"$f":"ROUND(V$2+ (('coded NOLH for 17-22 factors'!V47-1)*(V$3-V$2) )/128, V$4 )","v":122},{"$f":"ROUND(W$2+ (('coded NOLH for 17-22 factors'!W47-1)*(W$3-W$2) )/128, W$4 )","v":81}]
[null,{"$f":"ROUND(B$2+ (('coded NOLH for 17-22 factors'!B48-1)*(B$3-B$2) )/128, B$4 )","v":81},{"$f":"ROUND(C$2+ (('coded NOLH for 17-22 factors'!C48-1)*(C$3-C$2) )/128, C$4 )","v":105},{"$f":"ROUND(D$2+ (('coded NOLH for 17-22 factors'!D48-1)*(D$3-D$2) )/128, D$4 )","v":17},{"$f":"ROUND(E$2+ (('coded NOLH for 17-22 factors'!E48-1)*(E$3-E$2) )/128, E$4 )","v":19},{"$f":"ROUND(F$2+ (('coded NOLH for 17-22 factors'!F48-1)*(F$3-F$2) )/128, F$4 )","v":80},{"$f":"ROUND(G$2+ (('coded NOLH for 17-22 factors'!G48-1)*(G$3-G$2) )/128, G$4 )","v":96},{"$f":"ROUND(H$2+ (('coded NOLH for 17-22 factors'!H48-1)*(H$3-H$2) )/128, H$4 )","v":31},{"$f":"ROUND(I$2+ (('coded NOLH for 17-22 factors'!I48-1)*(I$3-I$2) )/128, I$4 )","v":119},{"$f":"ROUND(J$2+ (('coded NOLH for 17-22 factors'!J48-1)*(J$3-J$2) )/128, J$4 )","v":38},{"$f":"ROUND(K$2+ (('coded NOLH for 17-22 factors'!K48-1)*(K$3-K$2) )/128, K$4 )","v":86},{"$f":"ROUND(L$2+ (('coded NOLH for 17-22 factors'!L48-1)*(L$3-L$2) )/128, L$4 )","v":12},{"$f":"ROUND(M$2+ (('coded NOLH for 17-22 factors'!M48-1)*(M$3-M$2) )/128, M$4 )","v":107},{"$f":"ROUND(N$2+ (('coded NOLH for 17-22 factors'!N48-1)*(N$3-N$2) )/128, N$4 )","v":32},{"$f":"ROUND(O$2+ (('coded NOLH for 17-22 factors'!O48-1)*(O$3-O$2) )/128, O$4 )","v":64},{"$f":"ROUND(P$2+ (('coded NOLH for 17-22 factors'!P48-1)*(P$3-P$2) )/128, P$4 )","v":77},{"$f":"ROUND(Q$2+ (('coded NOLH for 17-22 factors'!Q48-1)*(Q$3-Q$2) )/128, Q$4 )","v":1},{"$f":"ROUND(R$2+ (('coded NOLH for 17-22 factors'!R48-1)*(R$3-R$2) )/128, R$4 )","v":32},{"$f":"ROUND(S$2+ (('coded NOLH for 17-22 factors'!S48-1)*(S$3-S$2) )/128, S$4 )","v":106},{"$f":"ROUND(T$2+ (('coded NOLH for 17-22 factors'!T48-1)*(T$3-T$2) )/128, T$4 )","v":102},{"$f":"ROUND(U$2+ (('coded NOLH for 17-22 factors'!U48-1)*(U$3-U$2) )/128, U$4 )","v":25},{"$f":"ROUND(V$2+ (('coded NOLH for 17-22 factors'!V48-1)*(V$3-V$2) )/128, V$4 )","v":108},{"$f":"ROUND(W$2+ (('coded NOLH for 17-22 factors'!W48-1)*(W$3-W$2) )/128, W$4 )","v":66}]
[null,{"$f":"ROUND(B$2+ (('coded NOLH for 17-22 factors'!B49-1)*(B$3-B$2) )/128, B$4 )","v":28},{"$f":"ROUND(C$2+ (('coded NOLH for 17-22 factors'!C49-1)*(C$3-C$2) )/128, C$4 )","v":6},{"$f":"ROUND(D$2+ (('coded NOLH for 17-22 factors'!D49-1)*(D$3-D$2) )/128, D$4 )","v":66},{"$f":"ROUND(E$2+ (('coded NOLH for 17-22 factors'!E49-1)*(E$3-E$2) )/128, E$4 )","v":53},{"$f":"ROUND(F$2+ (('coded NOLH for 17-22 factors'!F49-1)*(F$3-F$2) )/128, F$4 )","v":106},{"$f":"ROUND(G$2+ (('coded NOLH for 17-22 factors'!G49-1)*(G$3-G$2) )/128, G$4 )","v":73},{"$f":"ROUND(H$2+ (('coded NOLH for 17-22 factors'!H49-1)*(H$3-H$2) )/128, H$4 )","v":38},{"$f":"ROUND(I$2+ (('coded NOLH for 17-22 factors'!I49-1)*(I$3-I$2) )/128, I$4 )","v":72},{"$f":"ROUND(J$2+ (('coded NOLH for 17-22 factors'!J49-1)*(J$3-J$2) )/128, J$4 )","v":118},{"$f":"ROUND(K$2+ (('coded NOLH for 17-22 factors'!K49-1)*(K$3-K$2) )/128, K$4 )","v":43},{"$f":"ROUND(L$2+ (('coded NOLH for 17-22 factors'!L49-1)*(L$3-L$2) )/128, L$4 )","v":28},{"$f":"ROUND(M$2+ (('coded NOLH for 17-22 factors'!M49-1)*(M$3-M$2) )/128, M$4 )","v":5},{"$f":"ROUND(N$2+ (('coded NOLH for 17-22 factors'!N49-1)*(N$3-N$2) )/128, N$4 )","v":115},{"$f":"ROUND(O$2+ (('coded NOLH for 17-22 factors'!O49-1)*(O$3-O$2) )/128, O$4 )","v":108},{"$f":"ROUND(P$2+ (('coded NOLH for 17-22 factors'!P49-1)*(P$3-P$2) )/128, P$4 )","v":17},{"$f":"ROUND(Q$2+ (('coded NOLH for 17-22 factors'!Q49-1)*(Q$3-Q$2) )/128, Q$4 )","v":77},{"$f":"ROUND(R$2+ (('coded NOLH for 17-22 factors'!R49-1)*(R$3-R$2) )/128, R$4 )","v":26},{"$f":"ROUND(S$2+ (('coded NOLH for 17-22 factors'!S49-1)*(S$3-S$2) )/128, S$4 )","v":6},{"$f":"ROUND(T$2+ (('coded NOLH for 17-22 factors'!T49-1)*(T$3-T$2) )/128, T$4 )","v":69},{"$f":"ROUND(U$2+ (('coded NOLH for 17-22 factors'!U49-1)*(U$3-U$2) )/128, U$4 )","v":61},{"$f":"ROUND(V$2+ (('coded NOLH for 17-22 factors'!V49-1)*(V$3-V$2) )/128, V$4 )","v":83},{"$f":"ROUND(W$2+ (('coded NOLH for 17-22 factors'!W49-1)*(W$3-W$2) )/128, W$4 )","v":113}]
[null,{"$f":"ROUND(B$2+ (('coded NOLH for 17-22 factors'!B50-1)*(B$3-B$2) )/128, B$4 )","v":113},{"$f":"ROUND(C$2+ (('coded NOLH for 17-22 factors'!C50-1)*(C$3-C$2) )/128, C$4 )","v":55},{"$f":"ROUND(D$2+ (('coded NOLH for 17-22 factors'!D50-1)*(D$3-D$2) )/128, D$4 )","v":81},{"$f":"ROUND(E$2+ (('coded NOLH for 17-22 factors'!E50-1)*(E$3-E$2) )/128, E$4 )","v":12},{"$f":"ROUND(F$2+ (('coded NOLH for 17-22 factors'!F50-1)*(F$3-F$2) )/128, F$4 )","v":84},{"$f":"ROUND(G$2+ (('coded NOLH for 17-22 factors'!G50-1)*(G$3-G$2) )/128, G$4 )","v":3},{"$f":"ROUND(H$2+ (('coded NOLH for 17-22 factors'!H50-1)*(H$3-H$2) )/128, H$4 )","v":67},{"$f":"ROUND(I$2+ (('coded NOLH for 17-22 factors'!I50-1)*(I$3-I$2) )/128, I$4 )","v":87},{"$f":"ROUND(J$2+ (('coded NOLH for 17-22 factors'!J50-1)*(J$3-J$2) )/128, J$4 )","v":55},{"$f":"ROUND(K$2+ (('coded NOLH for 17-22 factors'!K50-1)*(K$3-K$2) )/128, K$4 )","v":109},{"$f":"ROUND(L$2+ (('coded NOLH for 17-22 factors'!L50-1)*(L$3-L$2) )/128, L$4 )","v":46},{"$f":"ROUND(M$2+ (('coded NOLH for 17-22 factors'!M50-1)*(M$3-M$2) )/128, M$4 )","v":22},{"$f":"ROUND(N$2+ (('coded NOLH for 17-22 factors'!N50-1)*(N$3-N$2) )/128, N$4 )","v":72},{"$f":"ROUND(O$2+ (('coded NOLH for 17-22 factors'!O50-1)*(O$3-O$2) )/128, O$4 )","v":117},{"$f":"ROUND(P$2+ (('coded NOLH for 17-22 factors'!P50-1)*(P$3-P$2) )/128, P$4 )","v":37},{"$f":"ROUND(Q$2+ (('coded NOLH for 17-22 factors'!Q50-1)*(Q$3-Q$2) )/128, Q$4 )","v":90},{"$f":"ROUND(R$2+ (('coded NOLH for 17-22 factors'!R50-1)*(R$3-R$2) )/128, R$4 )","v":50},{"$f":"ROUND(S$2+ (('coded NOLH for 17-22 factors'!S50-1)*(S$3-S$2) )/128, S$4 )","v":25},{"$f":"ROUND(T$2+ (('coded NOLH for 17-22 factors'!T50-1)*(T$3-T$2) )/128, T$4 )","v":99},{"$f":"ROUND(U$2+ (('coded NOLH for 17-22 factors'!U50-1)*(U$3-U$2) )/128, U$4 )","v":63},{"$f":"ROUND(V$2+ (('coded NOLH for 17-22 factors'!V50-1)*(V$3-V$2) )/128, V$4 )","v":67},{"$f":"ROUND(W$2+ (('coded NOLH for 17-22 factors'!W50-1)*(W$3-W$2) )/128, W$4 )","v":102}]
[null,{"$f":"ROUND(B$2+ (('coded NOLH for 17-22 factors'!B51-1)*(B$3-B$2) )/128, B$4 )","v":6},{"$f":"ROUND(C$2+ (('coded NOLH for 17-22 factors'!C51-1)*(C$3-C$2) )/128, C$4 )","v":102},{"$f":"ROUND(D$2+ (('coded NOLH for 17-22 factors'!D51-1)*(D$3-D$2) )/128, D$4 )","v":87},{"$f":"ROUND(E$2+ (('coded NOLH for 17-22 factors'!E51-1)*(E$3-E$2) )/128, E$4 )","v":61},{"$f":"ROUND(F$2+ (('coded NOLH for 17-22 factors'!F51-1)*(F$3-F$2) )/128, F$4 )","v":100},{"$f":"ROUND(G$2+ (('coded NOLH for 17-22 factors'!G51-1)*(G$3-G$2) )/128, G$4 )","v":18},{"$f":"ROUND(H$2+ (('coded NOLH for 17-22 factors'!H51-1)*(H$3-H$2) )/128, H$4 )","v":23},{"$f":"ROUND(I$2+ (('coded NOLH for 17-22 factors'!I51-1)*(I$3-I$2) )/128, I$4 )","v":22},{"$f":"ROUND(J$2+ (('coded NOLH for 17-22 factors'!J51-1)*(J$3-J$2) )/128, J$4 )","v":108},{"$f":"ROUND(K$2+ (('coded NOLH for 17-22 factors'!K51-1)*(K$3-K$2) )/128, K$4 )","v":3},{"$f":"ROUND(L$2+ (('coded NOLH for 17-22 factors'!L51-1)*(L$3-L$2) )/128, L$4 )","v":80},{"$f":"ROUND(M$2+ (('coded NOLH for 17-22 factors'!M51-1)*(M$3-M$2) )/128, M$4 )","v":59},{"$f":"ROUND(N$2+ (('coded NOLH for 17-22 factors'!N51-1)*(N$3-N$2) )/128, N$4 )","v":11},{"$f":"ROUND(O$2+ (('coded NOLH for 17-22 factors'!O51-1)*(O$3-O$2) )/128, O$4 )","v":123},{"$f":"ROUND(P$2+ (('coded NOLH for 17-22 factors'!P51-1)*(P$3-P$2) )/128, P$4 )","v":26},{"$f":"ROUND(Q$2+ (('coded NOLH for 17-22 factors'!Q51-1)*(Q$3-Q$2) )/128, Q$4 )","v":97},{"$f":"ROUND(R$2+ (('coded NOLH for 17-22 factors'!R51-1)*(R$3-R$2) )/128, R$4 )","v":34},{"$f":"ROUND(S$2+ (('coded NOLH for 17-22 factors'!S51-1)*(S$3-S$2) )/128, S$4 )","v":94},{"$f":"ROUND(T$2+ (('coded NOLH for 17-22 factors'!T51-1)*(T$3-T$2) )/128, T$4 )","v":59},{"$f":"ROUND(U$2+ (('coded NOLH for 17-22 factors'!U51-1)*(U$3-U$2) )/128, U$4 )","v":5},{"$f":"ROUND(V$2+ (('coded NOLH for 17-22 factors'!V51-1)*(V$3-V$2) )/128, V$4 )","v":120},{"$f":"ROUND(W$2+ (('coded NOLH for 17-22 factors'!W51-1)*(W$3-W$2) )/128, W$4 )","v":75}]
[null,{"$f":"ROUND(B$2+ (('coded NOLH for 17-22 factors'!B52-1)*(B$3-B$2) )/128, B$4 )","v":75},{"$f":"ROUND(C$2+ (('coded NOLH for 17-22 factors'!C52-1)*(C$3-C$2) )/128, C$4 )","v":113},{"$f":"ROUND(D$2+ (('coded NOLH for 17-22 factors'!D52-1)*(D$3-D$2) )/128, D$4 )","v":105},{"$f":"ROUND(E$2+ (('coded NOLH for 17-22 factors'!E52-1)*(E$3-E$2) )/128, E$4 )","v":23},{"$f":"ROUND(F$2+ (('coded NOLH for 17-22 factors'!F52-1)*(F$3-F$2) )/128, F$4 )","v":125},{"$f":"ROUND(G$2+ (('coded NOLH for 17-22 factors'!G52-1)*(G$3-G$2) )/128, G$4 )","v":101},{"$f":"ROUND(H$2+ (('coded NOLH for 17-22 factors'!H52-1)*(H$3-H$2) )/128, H$4 )","v":91},{"$f":"ROUND(I$2+ (('coded NOLH for 17-22 factors'!I52-1)*(I$3-I$2) )/128, I$4 )","v":126},{"$f":"ROUND(J$2+ (('coded NOLH for 17-22 factors'!J52-1)*(J$3-J$2) )/128, J$4 )","v":59},{"$f":"ROUND(K$2+ (('coded NOLH for 17-22 factors'!K52-1)*(K$3-K$2) )/128, K$4 )","v":95},{"$f":"ROUND(L$2+ (('coded NOLH for 17-22 factors'!L52-1)*(L$3-L$2) )/128, L$4 )","v":79},{"$f":"ROUND(M$2+ (('coded NOLH for 17-22 factors'!M52-1)*(M$3-M$2) )/128, M$4 )","v":83},{"$f":"ROUND(N$2+ (('coded NOLH for 17-22 factors'!N52-1)*(N$3-N$2) )/128, N$4 )","v":76},{"$f":"ROUND(O$2+ (('coded NOLH for 17-22 factors'!O52-1)*(O$3-O$2) )/128, O$4 )","v":109},{"$f":"ROUND(P$2+ (('coded NOLH for 17-22 factors'!P52-1)*(P$3-P$2) )/128, P$4 )","v":19},{"$f":"ROUND(Q$2+ (('coded NOLH for 17-22 factors'!Q52-1)*(Q$3-Q$2) )/128, Q$4 )","v":99},{"$f":"ROUND(R$2+ (('coded NOLH for 17-22 factors'!R52-1)*(R$3-R$2) )/128, R$4 )","v":39},{"$f":"ROUND(S$2+ (('coded NOLH for 17-22 factors'!S52-1)*(S$3-S$2) )/128, S$4 )","v":101},{"$f":"ROUND(T$2+ (('coded NOLH for 17-22 factors'!T52-1)*(T$3-T$2) )/128, T$4 )","v":86},{"$f":"ROUND(U$2+ (('coded NOLH for 17-22 factors'!U52-1)*(U$3-U$2) )/128, U$4 )","v":40},{"$f":"ROUND(V$2+ (('coded NOLH for 17-22 factors'!V52-1)*(V$3-V$2) )/128, V$4 )","v":112},{"$f":"ROUND(W$2+ (('coded NOLH for 17-22 factors'!W52-1)*(W$3-W$2) )/128, W$4 )","v":124}]
[null,{"$f":"ROUND(B$2+ (('coded NOLH for 17-22 factors'!B53-1)*(B$3-B$2) )/128, B$4 )","v":61},{"$f":"ROUND(C$2+ (('coded NOLH for 17-22 factors'!C53-1)*(C$3-C$2) )/128, C$4 )","v":53},{"$f":"ROUND(D$2+ (('coded NOLH for 17-22 factors'!D53-1)*(D$3-D$2) )/128, D$4 )","v":26},{"$f":"ROUND(E$2+ (('coded NOLH for 17-22 factors'!E53-1)*(E$3-E$2) )/128, E$4 )","v":124},{"$f":"ROUND(F$2+ (('coded NOLH for 17-22 factors'!F53-1)*(F$3-F$2) )/128, F$4 )","v":96},{"$f":"ROUND(G$2+ (('coded NOLH for 17-22 factors'!G53-1)*(G$3-G$2) )/128, G$4 )","v":124},{"$f":"ROUND(H$2+ (('coded NOLH for 17-22 factors'!H53-1)*(H$3-H$2) )/128, H$4 )","v":113},{"$f":"ROUND(I$2+ (('coded NOLH for 17-22 factors'!I53-1)*(I$3-I$2) )/128, I$4 )","v":123},{"$f":"ROUND(J$2+ (('coded NOLH for 17-22 factors'!J53-1)*(J$3-J$2) )/128, J$4 )","v":53},{"$f":"ROUND(K$2+ (('coded NOLH for 17-22 factors'!K53-1)*(K$3-K$2) )/128, K$4 )","v":33},{"$f":"ROUND(L$2+ (('coded NOLH for 17-22 factors'!L53-1)*(L$3-L$2) )/128, L$4 )","v":126},{"$f":"ROUND(M$2+ (('coded NOLH for 17-22 factors'!M53-1)*(M$3-M$2) )/128, M$4 )","v":57},{"$f":"ROUND(N$2+ (('coded NOLH for 17-22 factors'!N53-1)*(N$3-N$2) )/128, N$4 )","v":30},{"$f":"ROUND(O$2+ (('coded NOLH for 17-22 factors'!O53-1)*(O$3-O$2) )/128, O$4 )","v":90},{"$f":"ROUND(P$2+ (('coded NOLH for 17-22 factors'!P53-1)*(P$3-P$2) )/128, P$4 )","v":14},{"$f":"ROUND(Q$2+ (('coded NOLH for 17-22 factors'!Q53-1)*(Q$3-Q$2) )/128, Q$4 )","v":7},{"$f":"ROUND(R$2+ (('coded NOLH for 17-22 factors'!R53-1)*(R$3-R$2) )/128, R$4 )","v":125},{"$f":"ROUND(S$2+ (('coded NOLH for 17-22 factors'!S53-1)*(S$3-S$2) )/128, S$4 )","v":27},{"$f":"ROUND(T$2+ (('coded NOLH for 17-22 factors'!T53-1)*(T$3-T$2) )/128, T$4 )","v":8},{"$f":"ROUND(U$2+ (('coded NOLH for 17-22 factors'!U53-1)*(U$3-U$2) )/128, U$4 )","v":14},{"$f":"ROUND(V$2+ (('coded NOLH for 17-22 factors'!V53-1)*(V$3-V$2) )/128, V$4 )","v":44},{"$f":"ROUND(W$2+ (('coded NOLH for 17-22 factors'!W53-1)*(W$3-W$2) )/128, W$4 )","v":107}]
[null,{"$f":"ROUND(B$2+ (('coded NOLH for 17-22 factors'!B54-1)*(B$3-B$2) )/128, B$4 )","v":107},{"$f":"ROUND(C$2+ (('coded NOLH for 17-22 factors'!C54-1)*(C$3-C$2) )/128, C$4 )","v":12},{"$f":"ROUND(D$2+ (('coded NOLH for 17-22 factors'!D54-1)*(D$3-D$2) )/128, D$4 )","v":16},{"$f":"ROUND(E$2+ (('coded NOLH for 17-22 factors'!E54-1)*(E$3-E$2) )/128, E$4 )","v":75},{"$f":"ROUND(F$2+ (('coded NOLH for 17-22 factors'!F54-1)*(F$3-F$2) )/128, F$4 )","v":101},{"$f":"ROUND(G$2+ (('coded NOLH for 17-22 factors'!G54-1)*(G$3-G$2) )/128, G$4 )","v":53},{"$f":"ROUND(H$2+ (('coded NOLH for 17-22 factors'!H54-1)*(H$3-H$2) )/128, H$4 )","v":21},{"$f":"ROUND(I$2+ (('coded NOLH for 17-22 factors'!I54-1)*(I$3-I$2) )/128, I$4 )","v":52},{"$f":"ROUND(J$2+ (('coded NOLH for 17-22 factors'!J54-1)*(J$3-J$2) )/128, J$4 )","v":122},{"$f":"ROUND(K$2+ (('coded NOLH for 17-22 factors'!K54-1)*(K$3-K$2) )/128, K$4 )","v":105},{"$f":"ROUND(L$2+ (('coded NOLH for 17-22 factors'!L54-1)*(L$3-L$2) )/128, L$4 )","v":74},{"$f":"ROUND(M$2+ (('coded NOLH for 17-22 factors'!M54-1)*(M$3-M$2) )/128, M$4 )","v":76},{"$f":"ROUND(N$2+ (('coded NOLH for 17-22 factors'!N54-1)*(N$3-N$2) )/128, N$4 )","v":7},{"$f":"ROUND(O$2+ (('coded NOLH for 17-22 factors'!O54-1)*(O$3-O$2) )/128, O$4 )","v":106},{"$f":"ROUND(P$2+ (('coded NOLH for 17-22 factors'!P54-1)*(P$3-P$2) )/128, P$4 )","v":29},{"$f":"ROUND(Q$2+ (('coded NOLH for 17-22 factors'!Q54-1)*(Q$3-Q$2) )/128, Q$4 )","v":4},{"$f":"ROUND(R$2+ (('coded NOLH for 17-22 factors'!R54-1)*(R$3-R$2) )/128, R$4 )","v":95},{"$f":"ROUND(S$2+ (('coded NOLH for 17-22 factors'!S54-1)*(S$3-S$2) )/128, S$4 )","v":64},{"$f":"ROUND(T$2+ (('coded NOLH for 17-22 factors'!T54-1)*(T$3-T$2) )/128, T$4 )","v":35},{"$f":"ROUND(U$2+ (('coded NOLH for 17-22 factors'!U54-1)*(U$3-U$2) )/128, U$4 )","v":38},{"$f":"ROUND(V$2+ (('coded NOLH for 17-22 factors'!V54-1)*(V$3-V$2) )/128, V$4 )","v":13},{"$f":"ROUND(W$2+ (('coded NOLH for 17-22 factors'!W54-1)*(W$3-W$2) )/128, W$4 )","v":69}]
[null,{"$f":"ROUND(B$2+ (('coded NOLH for 17-22 factors'!B55-1)*(B$3-B$2) )/128, B$4 )","v":53},{"$f":"ROUND(C$2+ (('coded NOLH for 17-22 factors'!C55-1)*(C$3-C$2) )/128, C$4 )","v":69},{"$f":"ROUND(D$2+ (('coded NOLH for 17-22 factors'!D55-1)*(D$3-D$2) )/128, D$4 )","v":41},{"$f":"ROUND(E$2+ (('coded NOLH for 17-22 factors'!E55-1)*(E$3-E$2) )/128, E$4 )","v":102},{"$f":"ROUND(F$2+ (('coded NOLH for 17-22 factors'!F55-1)*(F$3-F$2) )/128, F$4 )","v":68},{"$f":"ROUND(G$2+ (('coded NOLH for 17-22 factors'!G55-1)*(G$3-G$2) )/128, G$4 )","v":24},{"$f":"ROUND(H$2+ (('coded NOLH for 17-22 factors'!H55-1)*(H$3-H$2) )/128, H$4 )","v":114},{"$f":"ROUND(I$2+ (('coded NOLH for 17-22 factors'!I55-1)*(I$3-I$2) )/128, I$4 )","v":67},{"$f":"ROUND(J$2+ (('coded NOLH for 17-22 factors'!J55-1)*(J$3-J$2) )/128, J$4 )","v":15},{"$f":"ROUND(K$2+ (('coded NOLH for 17-22 factors'!K55-1)*(K$3-K$2) )/128, K$4 )","v":39},{"$f":"ROUND(L$2+ (('coded NOLH for 17-22 factors'!L55-1)*(L$3-L$2) )/128, L$4 )","v":27},{"$f":"ROUND(M$2+ (('coded NOLH for 17-22 factors'!M55-1)*(M$3-M$2) )/128, M$4 )","v":3},{"$f":"ROUND(N$2+ (('coded NOLH for 17-22 factors'!N55-1)*(N$3-N$2) )/128, N$4 )","v":83},{"$f":"ROUND(O$2+ (('coded NOLH for 17-22 factors'!O55-1)*(O$3-O$2) )/128, O$4 )","v":75},{"$f":"ROUND(P$2+ (('coded NOLH for 17-22 factors'!P55-1)*(P$3-P$2) )/128, P$4 )","v":55},{"$f":"ROUND(Q$2+ (('coded NOLH for 17-22 factors'!Q55-1)*(Q$3-Q$2) )/128, Q$4 )","v":20},{"$f":"ROUND(R$2+ (('coded NOLH for 17-22 factors'!R55-1)*(R$3-R$2) )/128, R$4 )","v":82},{"$f":"ROUND(S$2+ (('coded NOLH for 17-22 factors'!S55-1)*(S$3-S$2) )/128, S$4 )","v":95},{"$f":"ROUND(T$2+ (('coded NOLH for 17-22 factors'!T55-1)*(T$3-T$2) )/128, T$4 )","v":24},{"$f":"ROUND(U$2+ (('coded NOLH for 17-22 factors'!U55-1)*(U$3-U$2) )/128, U$4 )","v":73},{"$f":"ROUND(V$2+ (('coded NOLH for 17-22 factors'!V55-1)*(V$3-V$2) )/128, V$4 )","v":54},{"$f":"ROUND(W$2+ (('coded NOLH for 17-22 factors'!W55-1)*(W$3-W$2) )/128, W$4 )","v":118}]
[null,{"$f":"ROUND(B$2+ (('coded NOLH for 17-22 factors'!B56-1)*(B$3-B$2) )/128, B$4 )","v":118},{"$f":"ROUND(C$2+ (('coded NOLH for 17-22 factors'!C56-1)*(C$3-C$2) )/128, C$4 )","v":107},{"$f":"ROUND(D$2+ (('coded NOLH for 17-22 factors'!D56-1)*(D$3-D$2) )/128, D$4 )","v":19},{"$f":"ROUND(E$2+ (('coded NOLH for 17-22 factors'!E56-1)*(E$3-E$2) )/128, E$4 )","v":113},{"$f":"ROUND(F$2+ (('coded NOLH for 17-22 factors'!F56-1)*(F$3-F$2) )/128, F$4 )","v":97},{"$f":"ROUND(G$2+ (('coded NOLH for 17-22 factors'!G56-1)*(G$3-G$2) )/128, G$4 )","v":72},{"$f":"ROUND(H$2+ (('coded NOLH for 17-22 factors'!H56-1)*(H$3-H$2) )/128, H$4 )","v":46},{"$f":"ROUND(I$2+ (('coded NOLH for 17-22 factors'!I56-1)*(I$3-I$2) )/128, I$4 )","v":50},{"$f":"ROUND(J$2+ (('coded NOLH for 17-22 factors'!J56-1)*(J$3-J$2) )/128, J$4 )","v":100},{"$f":"ROUND(K$2+ (('coded NOLH for 17-22 factors'!K56-1)*(K$3-K$2) )/128, K$4 )","v":71},{"$f":"ROUND(L$2+ (('coded NOLH for 17-22 factors'!L56-1)*(L$3-L$2) )/128, L$4 )","v":10},{"$f":"ROUND(M$2+ (('coded NOLH for 17-22 factors'!M56-1)*(M$3-M$2) )/128, M$4 )","v":41},{"$f":"ROUND(N$2+ (('coded NOLH for 17-22 factors'!N56-1)*(N$3-N$2) )/128, N$4 )","v":124},{"$f":"ROUND(O$2+ (('coded NOLH for 17-22 factors'!O56-1)*(O$3-O$2) )/128, O$4 )","v":112},{"$f":"ROUND(P$2+ (('coded NOLH for 17-22 factors'!P56-1)*(P$3-P$2) )/128, P$4 )","v":56},{"$f":"ROUND(Q$2+ (('coded NOLH for 17-22 factors'!Q56-1)*(Q$3-Q$2) )/128, Q$4 )","v":22},{"$f":"ROUND(R$2+ (('coded NOLH for 17-22 factors'!R56-1)*(R$3-R$2) )/128, R$4 )","v":111},{"$f":"ROUND(S$2+ (('coded NOLH for 17-22 factors'!S56-1)*(S$3-S$2) )/128, S$4 )","v":98},{"$f":"ROUND(T$2+ (('coded NOLH for 17-22 factors'!T56-1)*(T$3-T$2) )/128, T$4 )","v":40},{"$f":"ROUND(U$2+ (('coded NOLH for 17-22 factors'!U56-1)*(U$3-U$2) )/128, U$4 )","v":64},{"$f":"ROUND(V$2+ (('coded NOLH for 17-22 factors'!V56-1)*(V$3-V$2) )/128, V$4 )","v":57},{"$f":"ROUND(W$2+ (('coded NOLH for 17-22 factors'!W56-1)*(W$3-W$2) )/128, W$4 )","v":77}]
[null,{"$f":"ROUND(B$2+ (('coded NOLH for 17-22 factors'!B57-1)*(B$3-B$2) )/128, B$4 )","v":41},{"$f":"ROUND(C$2+ (('coded NOLH for 17-22 factors'!C57-1)*(C$3-C$2) )/128, C$4 )","v":26},{"$f":"ROUND(D$2+ (('coded NOLH for 17-22 factors'!D57-1)*(D$3-D$2) )/128, D$4 )","v":77},{"$f":"ROUND(E$2+ (('coded NOLH for 17-22 factors'!E57-1)*(E$3-E$2) )/128, E$4 )","v":66},{"$f":"ROUND(F$2+ (('coded NOLH for 17-22 factors'!F57-1)*(F$3-F$2) )/128, F$4 )","v":123},{"$f":"ROUND(G$2+ (('coded NOLH for 17-22 factors'!G57-1)*(G$3-G$2) )/128, G$4 )","v":107},{"$f":"ROUND(H$2+ (('coded NOLH for 17-22 factors'!H57-1)*(H$3-H$2) )/128, H$4 )","v":11},{"$f":"ROUND(I$2+ (('coded NOLH for 17-22 factors'!I57-1)*(I$3-I$2) )/128, I$4 )","v":89},{"$f":"ROUND(J$2+ (('coded NOLH for 17-22 factors'!J57-1)*(J$3-J$2) )/128, J$4 )","v":48},{"$f":"ROUND(K$2+ (('coded NOLH for 17-22 factors'!K57-1)*(K$3-K$2) )/128, K$4 )","v":13},{"$f":"ROUND(L$2+ (('coded NOLH for 17-22 factors'!L57-1)*(L$3-L$2) )/128, L$4 )","v":44},{"$f":"ROUND(M$2+ (('coded NOLH for 17-22 factors'!M57-1)*(M$3-M$2) )/128, M$4 )","v":84},{"$f":"ROUND(N$2+ (('coded NOLH for 17-22 factors'!N57-1)*(N$3-N$2) )/128, N$4 )","v":23},{"$f":"ROUND(O$2+ (('coded NOLH for 17-22 factors'!O57-1)*(O$3-O$2) )/128, O$4 )","v":72},{"$f":"ROUND(P$2+ (('coded NOLH for 17-22 factors'!P57-1)*(P$3-P$2) )/128, P$4 )","v":108},{"$f":"ROUND(Q$2+ (('coded NOLH for 17-22 factors'!Q57-1)*(Q$3-Q$2) )/128, Q$4 )","v":100},{"$f":"ROUND(R$2+ (('coded NOLH for 17-22 factors'!R57-1)*(R$3-R$2) )/128, R$4 )","v":74},{"$f":"ROUND(S$2+ (('coded NOLH for 17-22 factors'!S57-1)*(S$3-S$2) )/128, S$4 )","v":2},{"$f":"ROUND(T$2+ (('coded NOLH for 17-22 factors'!T57-1)*(T$3-T$2) )/128, T$4 )","v":45},{"$f":"ROUND(U$2+ (('coded NOLH for 17-22 factors'!U57-1)*(U$3-U$2) )/128, U$4 )","v":16},{"$f":"ROUND(V$2+ (('coded NOLH for 17-22 factors'!V57-1)*(V$3-V$2) )/128, V$4 )","v":14},{"$f":"ROUND(W$2+ (('coded NOLH for 17-22 factors'!W57-1)*(W$3-W$2) )/128, W$4 )","v":111}]
[null,{"$f":"ROUND(B$2+ (('coded NOLH for 17-22 factors'!B58-1)*(B$3-B$2) )/128, B$4 )","v":111},{"$f":"ROUND(C$2+ (('coded NOLH for 17-22 factors'!C58-1)*(C$3-C$2) )/128, C$4 )","v":16},{"$f":"ROUND(D$2+ (('coded NOLH for 17-22 factors'!D58-1)*(D$3-D$2) )/128, D$4 )","v":118},{"$f":"ROUND(E$2+ (('coded NOLH for 17-22 factors'!E58-1)*(E$3-E$2) )/128, E$4 )","v":81},{"$f":"ROUND(F$2+ (('coded NOLH for 17-22 factors'!F58-1)*(F$3-F$2) )/128, F$4 )","v":119},{"$f":"ROUND(G$2+ (('coded NOLH for 17-22 factors'!G58-1)*(G$3-G$2) )/128, G$4 )","v":13},{"$f":"ROUND(H$2+ (('coded NOLH for 17-22 factors'!H58-1)*(H$3-H$2) )/128, H$4 )","v":70},{"$f":"ROUND(I$2+ (('coded NOLH for 17-22 factors'!I58-1)*(I$3-I$2) )/128, I$4 )","v":33},{"$f":"ROUND(J$2+ (('coded NOLH for 17-22 factors'!J58-1)*(J$3-J$2) )/128, J$4 )","v":67},{"$f":"ROUND(K$2+ (('coded NOLH for 17-22 factors'!K58-1)*(K$3-K$2) )/128, K$4 )","v":125},{"$f":"ROUND(L$2+ (('coded NOLH for 17-22 factors'!L58-1)*(L$3-L$2) )/128, L$4 )","v":58},{"$f":"ROUND(M$2+ (('coded NOLH for 17-22 factors'!M58-1)*(M$3-M$2) )/128, M$4 )","v":119},{"$f":"ROUND(N$2+ (('coded NOLH for 17-22 factors'!N58-1)*(N$3-N$2) )/128, N$4 )","v":39},{"$f":"ROUND(O$2+ (('coded NOLH for 17-22 factors'!O58-1)*(O$3-O$2) )/128, O$4 )","v":42},{"$f":"ROUND(P$2+ (('coded NOLH for 17-22 factors'!P58-1)*(P$3-P$2) )/128, P$4 )","v":98},{"$f":"ROUND(Q$2+ (('coded NOLH for 17-22 factors'!Q58-1)*(Q$3-Q$2) )/128, Q$4 )","v":64},{"$f":"ROUND(R$2+ (('coded NOLH for 17-22 factors'!R58-1)*(R$3-R$2) )/128, R$4 )","v":85},{"$f":"ROUND(S$2+ (('coded NOLH for 17-22 factors'!S58-1)*(S$3-S$2) )/128, S$4 )","v":1},{"$f":"ROUND(T$2+ (('coded NOLH for 17-22 factors'!T58-1)*(T$3-T$2) )/128, T$4 )","v":13},{"$f":"ROUND(U$2+ (('coded NOLH for 17-22 factors'!U58-1)*(U$3-U$2) )/128, U$4 )","v":13},{"$f":"ROUND(V$2+ (('coded NOLH for 17-22 factors'!V58-1)*(V$3-V$2) )/128, V$4 )","v":52},{"$f":"ROUND(W$2+ (('coded NOLH for 17-22 factors'!W58-1)*(W$3-W$2) )/128, W$4 )","v":89}]
[null,{"$f":"ROUND(B$2+ (('coded NOLH for 17-22 factors'!B59-1)*(B$3-B$2) )/128, B$4 )","v":26},{"$f":"ROUND(C$2+ (('coded NOLH for 17-22 factors'!C59-1)*(C$3-C$2) )/128, C$4 )","v":89},{"$f":"ROUND(D$2+ (('coded NOLH for 17-22 factors'!D59-1)*(D$3-D$2) )/128, D$4 )","v":69},{"$f":"ROUND(E$2+ (('coded NOLH for 17-22 factors'!E59-1)*(E$3-E$2) )/128, E$4 )","v":87},{"$f":"ROUND(F$2+ (('coded NOLH for 17-22 factors'!F59-1)*(F$3-F$2) )/128, F$4 )","v":126},{"$f":"ROUND(G$2+ (('coded NOLH for 17-22 factors'!G59-1)*(G$3-G$2) )/128, G$4 )","v":9},{"$f":"ROUND(H$2+ (('coded NOLH for 17-22 factors'!H59-1)*(H$3-H$2) )/128, H$4 )","v":28},{"$f":"ROUND(I$2+ (('coded NOLH for 17-22 factors'!I59-1)*(I$3-I$2) )/128, I$4 )","v":91},{"$f":"ROUND(J$2+ (('coded NOLH for 17-22 factors'!J59-1)*(J$3-J$2) )/128, J$4 )","v":25},{"$f":"ROUND(K$2+ (('coded NOLH for 17-22 factors'!K59-1)*(K$3-K$2) )/128, K$4 )","v":9},{"$f":"ROUND(L$2+ (('coded NOLH for 17-22 factors'!L59-1)*(L$3-L$2) )/128, L$4 )","v":129},{"$f":"ROUND(M$2+ (('coded NOLH for 17-22 factors'!M59-1)*(M$3-M$2) )/128, M$4 )","v":48},{"$f":"ROUND(N$2+ (('coded NOLH for 17-22 factors'!N59-1)*(N$3-N$2) )/128, N$4 )","v":84},{"$f":"ROUND(O$2+ (('coded NOLH for 17-22 factors'!O59-1)*(O$3-O$2) )/128, O$4 )","v":25},{"$f":"ROUND(P$2+ (('coded NOLH for 17-22 factors'!P59-1)*(P$3-P$2) )/128, P$4 )","v":79},{"$f":"ROUND(Q$2+ (('coded NOLH for 17-22 factors'!Q59-1)*(Q$3-Q$2) )/128, Q$4 )","v":106},{"$f":"ROUND(R$2+ (('coded NOLH for 17-22 factors'!R59-1)*(R$3-R$2) )/128, R$4 )","v":105},{"$f":"ROUND(S$2+ (('coded NOLH for 17-22 factors'!S59-1)*(S$3-S$2) )/128, S$4 )","v":109},{"$f":"ROUND(T$2+ (('coded NOLH for 17-22 factors'!T59-1)*(T$3-T$2) )/128, T$4 )","v":53},{"$f":"ROUND(U$2+ (('coded NOLH for 17-22 factors'!U59-1)*(U$3-U$2) )/128, U$4 )","v":20},{"$f":"ROUND(V$2+ (('coded NOLH for 17-22 factors'!V59-1)*(V$3-V$2) )/128, V$4 )","v":21},{"$f":"ROUND(W$2+ (('coded NOLH for 17-22 factors'!W59-1)*(W$3-W$2) )/128, W$4 )","v":114}]
[null,{"$f":"ROUND(B$2+ (('coded NOLH for 17-22 factors'!B60-1)*(B$3-B$2) )/128, B$4 )","v":114},{"$f":"ROUND(C$2+ (('coded NOLH for 17-22 factors'!C60-1)*(C$3-C$2) )/128, C$4 )","v":111},{"$f":"ROUND(D$2+ (('coded NOLH for 17-22 factors'!D60-1)*(D$3-D$2) )/128, D$4 )","v":107},{"$f":"ROUND(E$2+ (('coded NOLH for 17-22 factors'!E60-1)*(E$3-E$2) )/128, E$4 )","v":105},{"$f":"ROUND(F$2+ (('coded NOLH for 17-22 factors'!F60-1)*(F$3-F$2) )/128, F$4 )","v":127},{"$f":"ROUND(G$2+ (('coded NOLH for 17-22 factors'!G60-1)*(G$3-G$2) )/128, G$4 )","v":80},{"$f":"ROUND(H$2+ (('coded NOLH for 17-22 factors'!H60-1)*(H$3-H$2) )/128, H$4 )","v":74},{"$f":"ROUND(I$2+ (('coded NOLH for 17-22 factors'!I60-1)*(I$3-I$2) )/128, I$4 )","v":28},{"$f":"ROUND(J$2+ (('coded NOLH for 17-22 factors'!J60-1)*(J$3-J$2) )/128, J$4 )","v":86},{"$f":"ROUND(K$2+ (('coded NOLH for 17-22 factors'!K60-1)*(K$3-K$2) )/128, K$4 )","v":129},{"$f":"ROUND(L$2+ (('coded NOLH for 17-22 factors'!L60-1)*(L$3-L$2) )/128, L$4 )","v":68},{"$f":"ROUND(M$2+ (('coded NOLH for 17-22 factors'!M60-1)*(M$3-M$2) )/128, M$4 )","v":13},{"$f":"ROUND(N$2+ (('coded NOLH for 17-22 factors'!N60-1)*(N$3-N$2) )/128, N$4 )","v":59},{"$f":"ROUND(O$2+ (('coded NOLH for 17-22 factors'!O60-1)*(O$3-O$2) )/128, O$4 )","v":49},{"$f":"ROUND(P$2+ (('coded NOLH for 17-22 factors'!P60-1)*(P$3-P$2) )/128, P$4 )","v":102},{"$f":"ROUND(Q$2+ (('coded NOLH for 17-22 factors'!Q60-1)*(Q$3-Q$2) )/128, Q$4 )","v":114},{"$f":"ROUND(R$2+ (('coded NOLH for 17-22 factors'!R60-1)*(R$3-R$2) )/128, R$4 )","v":92},{"$f":"ROUND(S$2+ (('coded NOLH for 17-22 factors'!S60-1)*(S$3-S$2) )/128, S$4 )","v":122},{"$f":"ROUND(T$2+ (('coded NOLH for 17-22 factors'!T60-1)*(T$3-T$2) )/128, T$4 )","v":52},{"$f":"ROUND(U$2+ (('coded NOLH for 17-22 factors'!U60-1)*(U$3-U$2) )/128, U$4 )","v":43},{"$f":"ROUND(V$2+ (('coded NOLH for 17-22 factors'!V60-1)*(V$3-V$2) )/128, V$4 )","v":45},{"$f":"ROUND(W$2+ (('coded NOLH for 17-22 factors'!W60-1)*(W$3-W$2) )/128, W$4 )","v":104}]
[null,{"$f":"ROUND(B$2+ (('coded NOLH for 17-22 factors'!B61-1)*(B$3-B$2) )/128, B$4 )","v":21},{"$f":"ROUND(C$2+ (('coded NOLH for 17-22 factors'!C61-1)*(C$3-C$2) )/128, C$4 )","v":14},{"$f":"ROUND(D$2+ (('coded NOLH for 17-22 factors'!D61-1)*(D$3-D$2) )/128, D$4 )","v":44},{"$f":"ROUND(E$2+ (('coded NOLH for 17-22 factors'!E61-1)*(E$3-E$2) )/128, E$4 )","v":88},{"$f":"ROUND(F$2+ (('coded NOLH for 17-22 factors'!F61-1)*(F$3-F$2) )/128, F$4 )","v":79},{"$f":"ROUND(G$2+ (('coded NOLH for 17-22 factors'!G61-1)*(G$3-G$2) )/128, G$4 )","v":84},{"$f":"ROUND(H$2+ (('coded NOLH for 17-22 factors'!H61-1)*(H$3-H$2) )/128, H$4 )","v":108},{"$f":"ROUND(I$2+ (('coded NOLH for 17-22 factors'!I61-1)*(I$3-I$2) )/128, I$4 )","v":18},{"$f":"ROUND(J$2+ (('coded NOLH for 17-22 factors'!J61-1)*(J$3-J$2) )/128, J$4 )","v":16},{"$f":"ROUND(K$2+ (('coded NOLH for 17-22 factors'!K61-1)*(K$3-K$2) )/128, K$4 )","v":49},{"$f":"ROUND(L$2+ (('coded NOLH for 17-22 factors'!L61-1)*(L$3-L$2) )/128, L$4 )","v":75},{"$f":"ROUND(M$2+ (('coded NOLH for 17-22 factors'!M61-1)*(M$3-M$2) )/128, M$4 )","v":8},{"$f":"ROUND(N$2+ (('coded NOLH for 17-22 factors'!N61-1)*(N$3-N$2) )/128, N$4 )","v":28},{"$f":"ROUND(O$2+ (('coded NOLH for 17-22 factors'!O61-1)*(O$3-O$2) )/128, O$4 )","v":33},{"$f":"ROUND(P$2+ (('coded NOLH for 17-22 factors'!P61-1)*(P$3-P$2) )/128, P$4 )","v":13},{"$f":"ROUND(Q$2+ (('coded NOLH for 17-22 factors'!Q61-1)*(Q$3-Q$2) )/128, Q$4 )","v":18},{"$f":"ROUND(R$2+ (('coded NOLH for 17-22 factors'!R61-1)*(R$3-R$2) )/128, R$4 )","v":123},{"$f":"ROUND(S$2+ (('coded NOLH for 17-22 factors'!S61-1)*(S$3-S$2) )/128, S$4 )","v":46},{"$f":"ROUND(T$2+ (('coded NOLH for 17-22 factors'!T61-1)*(T$3-T$2) )/128, T$4 )","v":126},{"$f":"ROUND(U$2+ (('coded NOLH for 17-22 factors'!U61-1)*(U$3-U$2) )/128, U$4 )","v":113},{"$f":"ROUND(V$2+ (('coded NOLH for 17-22 factors'!V61-1)*(V$3-V$2) )/128, V$4 )","v":104},{"$f":"ROUND(W$2+ (('coded NOLH for 17-22 factors'!W61-1)*(W$3-W$2) )/128, W$4 )","v":85}]
[null,{"$f":"ROUND(B$2+ (('coded NOLH for 17-22 factors'!B62-1)*(B$3-B$2) )/128, B$4 )","v":85},{"$f":"ROUND(C$2+ (('coded NOLH for 17-22 factors'!C62-1)*(C$3-C$2) )/128, C$4 )","v":52},{"$f":"ROUND(D$2+ (('coded NOLH for 17-22 factors'!D62-1)*(D$3-D$2) )/128, D$4 )","v":13},{"$f":"ROUND(E$2+ (('coded NOLH for 17-22 factors'!E62-1)*(E$3-E$2) )/128, E$4 )","v":110},{"$f":"ROUND(F$2+ (('coded NOLH for 17-22 factors'!F62-1)*(F$3-F$2) )/128, F$4 )","v":74},{"$f":"ROUND(G$2+ (('coded NOLH for 17-22 factors'!G62-1)*(G$3-G$2) )/128, G$4 )","v":25},{"$f":"ROUND(H$2+ (('coded NOLH for 17-22 factors'!H62-1)*(H$3-H$2) )/128, H$4 )","v":35},{"$f":"ROUND(I$2+ (('coded NOLH for 17-22 factors'!I62-1)*(I$3-I$2) )/128, I$4 )","v":104},{"$f":"ROUND(J$2+ (('coded NOLH for 17-22 factors'!J62-1)*(J$3-J$2) )/128, J$4 )","v":84},{"$f":"ROUND(K$2+ (('coded NOLH for 17-22 factors'!K62-1)*(K$3-K$2) )/128, K$4 )","v":72},{"$f":"ROUND(L$2+ (('coded NOLH for 17-22 factors'!L62-1)*(L$3-L$2) )/128, L$4 )","v":73},{"$f":"ROUND(M$2+ (('coded NOLH for 17-22 factors'!M62-1)*(M$3-M$2) )/128, M$4 )","v":38},{"$f":"ROUND(N$2+ (('coded NOLH for 17-22 factors'!N62-1)*(N$3-N$2) )/128, N$4 )","v":8},{"$f":"ROUND(O$2+ (('coded NOLH for 17-22 factors'!O62-1)*(O$3-O$2) )/128, O$4 )","v":47},{"$f":"ROUND(P$2+ (('coded NOLH for 17-22 factors'!P62-1)*(P$3-P$2) )/128, P$4 )","v":16},{"$f":"ROUND(Q$2+ (('coded NOLH for 17-22 factors'!Q62-1)*(Q$3-Q$2) )/128, Q$4 )","v":35},{"$f":"ROUND(R$2+ (('coded NOLH for 17-22 factors'!R62-1)*(R$3-R$2) )/128, R$4 )","v":103},{"$f":"ROUND(S$2+ (('coded NOLH for 17-22 factors'!S62-1)*(S$3-S$2) )/128, S$4 )","v":3},{"$f":"ROUND(T$2+ (('coded NOLH for 17-22 factors'!T62-1)*(T$3-T$2) )/128, T$4 )","v":118},{"$f":"ROUND(U$2+ (('coded NOLH for 17-22 factors'!U62-1)*(U$3-U$2) )/128, U$4 )","v":104},{"$f":"ROUND(V$2+ (('coded NOLH for 17-22 factors'!V62-1)*(V$3-V$2) )/128, V$4 )","v":114},{"$f":"ROUND(W$2+ (('coded NOLH for 17-22 factors'!W62-1)*(W$3-W$2) )/128, W$4 )","v":109}]
[null,{"$f":"ROUND(B$2+ (('coded NOLH for 17-22 factors'!B63-1)*(B$3-B$2) )/128, B$4 )","v":14},{"$f":"ROUND(C$2+ (('coded NOLH for 17-22 factors'!C63-1)*(C$3-C$2) )/128, C$4 )","v":109},{"$f":"ROUND(D$2+ (('coded NOLH for 17-22 factors'!D63-1)*(D$3-D$2) )/128, D$4 )","v":54},{"$f":"ROUND(E$2+ (('coded NOLH for 17-22 factors'!E63-1)*(E$3-E$2) )/128, E$4 )","v":122},{"$f":"ROUND(F$2+ (('coded NOLH for 17-22 factors'!F63-1)*(F$3-F$2) )/128, F$4 )","v":129},{"$f":"ROUND(G$2+ (('coded NOLH for 17-22 factors'!G63-1)*(G$3-G$2) )/128, G$4 )","v":47},{"$f":"ROUND(H$2+ (('coded NOLH for 17-22 factors'!H63-1)*(H$3-H$2) )/128, H$4 )","v":71},{"$f":"ROUND(I$2+ (('coded NOLH for 17-22 factors'!I63-1)*(I$3-I$2) )/128, I$4 )","v":23},{"$f":"ROUND(J$2+ (('coded NOLH for 17-22 factors'!J63-1)*(J$3-J$2) )/128, J$4 )","v":18},{"$f":"ROUND(K$2+ (('coded NOLH for 17-22 factors'!K63-1)*(K$3-K$2) )/128, K$4 )","v":42},{"$f":"ROUND(L$2+ (('coded NOLH for 17-22 factors'!L63-1)*(L$3-L$2) )/128, L$4 )","v":25},{"$f":"ROUND(M$2+ (('coded NOLH for 17-22 factors'!M63-1)*(M$3-M$2) )/128, M$4 )","v":106},{"$f":"ROUND(N$2+ (('coded NOLH for 17-22 factors'!N63-1)*(N$3-N$2) )/128, N$4 )","v":114},{"$f":"ROUND(O$2+ (('coded NOLH for 17-22 factors'!O63-1)*(O$3-O$2) )/128, O$4 )","v":10},{"$f":"ROUND(P$2+ (('coded NOLH for 17-22 factors'!P63-1)*(P$3-P$2) )/128, P$4 )","v":68},{"$f":"ROUND(Q$2+ (('coded NOLH for 17-22 factors'!Q63-1)*(Q$3-Q$2) )/128, Q$4 )","v":37},{"$f":"ROUND(R$2+ (('coded NOLH for 17-22 factors'!R63-1)*(R$3-R$2) )/128, R$4 )","v":129},{"$f":"ROUND(S$2+ (('coded NOLH for 17-22 factors'!S63-1)*(S$3-S$2) )/128, S$4 )","v":74},{"$f":"ROUND(T$2+ (('coded NOLH for 17-22 factors'!T63-1)*(T$3-T$2) )/128, T$4 )","v":93},{"$f":"ROUND(U$2+ (('coded NOLH for 17-22 factors'!U63-1)*(U$3-U$2) )/128, U$4 )","v":86},{"$f":"ROUND(V$2+ (('coded NOLH for 17-22 factors'!V63-1)*(V$3-V$2) )/128, V$4 )","v":89},{"$f":"ROUND(W$2+ (('coded NOLH for 17-22 factors'!W63-1)*(W$3-W$2) )/128, W$4 )","v":78}]
[null,{"$f":"ROUND(B$2+ (('coded NOLH for 17-22 factors'!B64-1)*(B$3-B$2) )/128, B$4 )","v":78},{"$f":"ROUND(C$2+ (('coded NOLH for 17-22 factors'!C64-1)*(C$3-C$2) )/128, C$4 )","v":85},{"$f":"ROUND(D$2+ (('coded NOLH for 17-22 factors'!D64-1)*(D$3-D$2) )/128, D$4 )","v":57},{"$f":"ROUND(E$2+ (('coded NOLH for 17-22 factors'!E64-1)*(E$3-E$2) )/128, E$4 )","v":108},{"$f":"ROUND(F$2+ (('coded NOLH for 17-22 factors'!F64-1)*(F$3-F$2) )/128, F$4 )","v":91},{"$f":"ROUND(G$2+ (('coded NOLH for 17-22 factors'!G64-1)*(G$3-G$2) )/128, G$4 )","v":118},{"$f":"ROUND(H$2+ (('coded NOLH for 17-22 factors'!H64-1)*(H$3-H$2) )/128, H$4 )","v":51},{"$f":"ROUND(I$2+ (('coded NOLH for 17-22 factors'!I64-1)*(I$3-I$2) )/128, I$4 )","v":88},{"$f":"ROUND(J$2+ (('coded NOLH for 17-22 factors'!J64-1)*(J$3-J$2) )/128, J$4 )","v":121},{"$f":"ROUND(K$2+ (('coded NOLH for 17-22 factors'!K64-1)*(K$3-K$2) )/128, K$4 )","v":123},{"$f":"ROUND(L$2+ (('coded NOLH for 17-22 factors'!L64-1)*(L$3-L$2) )/128, L$4 )","v":33},{"$f":"ROUND(M$2+ (('coded NOLH for 17-22 factors'!M64-1)*(M$3-M$2) )/128, M$4 )","v":99},{"$f":"ROUND(N$2+ (('coded NOLH for 17-22 factors'!N64-1)*(N$3-N$2) )/128, N$4 )","v":89},{"$f":"ROUND(O$2+ (('coded NOLH for 17-22 factors'!O64-1)*(O$3-O$2) )/128, O$4 )","v":56},{"$f":"ROUND(P$2+ (('coded NOLH for 17-22 factors'!P64-1)*(P$3-P$2) )/128, P$4 )","v":40},{"$f":"ROUND(Q$2+ (('coded NOLH for 17-22 factors'!Q64-1)*(Q$3-Q$2) )/128, Q$4 )","v":58},{"$f":"ROUND(R$2+ (('coded NOLH for 17-22 factors'!R64-1)*(R$3-R$2) )/128, R$4 )","v":114},{"$f":"ROUND(S$2+ (('coded NOLH for 17-22 factors'!S64-1)*(S$3-S$2) )/128, S$4 )","v":79},{"$f":"ROUND(T$2+ (('coded NOLH for 17-22 factors'!T64-1)*(T$3-T$2) )/128, T$4 )","v":114},{"$f":"ROUND(U$2+ (('coded NOLH for 17-22 factors'!U64-1)*(U$3-U$2) )/128, U$4 )","v":74},{"$f":"ROUND(V$2+ (('coded NOLH for 17-22 factors'!V64-1)*(V$3-V$2) )/128, V$4 )","v":111},{"$f":"ROUND(W$2+ (('coded NOLH for 17-22 factors'!W64-1)*(W$3-W$2) )/128, W$4 )","v":116}]
[null,{"$f":"ROUND(B$2+ (('coded NOLH for 17-22 factors'!B65-1)*(B$3-B$2) )/128, B$4 )","v":54},{"$f":"ROUND(C$2+ (('coded NOLH for 17-22 factors'!C65-1)*(C$3-C$2) )/128, C$4 )","v":44},{"$f":"ROUND(D$2+ (('coded NOLH for 17-22 factors'!D65-1)*(D$3-D$2) )/128, D$4 )","v":116},{"$f":"ROUND(E$2+ (('coded NOLH for 17-22 factors'!E65-1)*(E$3-E$2) )/128, E$4 )","v":83},{"$f":"ROUND(F$2+ (('coded NOLH for 17-22 factors'!F65-1)*(F$3-F$2) )/128, F$4 )","v":72},{"$f":"ROUND(G$2+ (('coded NOLH for 17-22 factors'!G65-1)*(G$3-G$2) )/128, G$4 )","v":115},{"$f":"ROUND(H$2+ (('coded NOLH for 17-22 factors'!H65-1)*(H$3-H$2) )/128, H$4 )","v":48},{"$f":"ROUND(I$2+ (('coded NOLH for 17-22 factors'!I65-1)*(I$3-I$2) )/128, I$4 )","v":16},{"$f":"ROUND(J$2+ (('coded NOLH for 17-22 factors'!J65-1)*(J$3-J$2) )/128, J$4 )","v":66},{"$f":"ROUND(K$2+ (('coded NOLH for 17-22 factors'!K65-1)*(K$3-K$2) )/128, K$4 )","v":40},{"$f":"ROUND(L$2+ (('coded NOLH for 17-22 factors'!L65-1)*(L$3-L$2) )/128, L$4 )","v":37},{"$f":"ROUND(M$2+ (('coded NOLH for 17-22 factors'!M65-1)*(M$3-M$2) )/128, M$4 )","v":19},{"$f":"ROUND(N$2+ (('coded NOLH for 17-22 factors'!N65-1)*(N$3-N$2) )/128, N$4 )","v":12},{"$f":"ROUND(O$2+ (('coded NOLH for 17-22 factors'!O65-1)*(O$3-O$2) )/128, O$4 )","v":118},{"$f":"ROUND(P$2+ (('coded NOLH for 17-22 factors'!P65-1)*(P$3-P$2) )/128, P$4 )","v":100},{"$f":"ROUND(Q$2+ (('coded NOLH for 17-22 factors'!Q65-1)*(Q$3-Q$2) )/128, Q$4 )","v":91},{"$f":"ROUND(R$2+ (('coded NOLH for 17-22 factors'!R65-1)*(R$3-R$2) )/128, R$4 )","v":63},{"$f":"ROUND(S$2+ (('coded NOLH for 17-22 factors'!S65-1)*(S$3-S$2) )/128, S$4 )","v":11},{"$f":"ROUND(T$2+ (('coded NOLH for 17-22 factors'!T65-1)*(T$3-T$2) )/128, T$4 )","v":103},{"$f":"ROUND(U$2+ (('coded NOLH for 17-22 factors'!U65-1)*(U$3-U$2) )/128, U$4 )","v":103},{"$f":"ROUND(V$2+ (('coded NOLH for 17-22 factors'!V65-1)*(V$3-V$2) )/128, V$4 )","v":77},{"$f":"ROUND(W$2+ (('coded NOLH for 17-22 factors'!W65-1)*(W$3-W$2) )/128, W$4 )","v":73}]
[null,{"$f":"ROUND(B$2+ (('coded NOLH for 17-22 factors'!B66-1)*(B$3-B$2) )/128, B$4 )","v":73},{"$f":"ROUND(C$2+ (('coded NOLH for 17-22 factors'!C66-1)*(C$3-C$2) )/128, C$4 )","v":13},{"$f":"ROUND(D$2+ (('coded NOLH for 17-22 factors'!D66-1)*(D$3-D$2) )/128, D$4 )","v":78},{"$f":"ROUND(E$2+ (('coded NOLH for 17-22 factors'!E66-1)*(E$3-E$2) )/128, E$4 )","v":67},{"$f":"ROUND(F$2+ (('coded NOLH for 17-22 factors'!F66-1)*(F$3-F$2) )/128, F$4 )","v":90},{"$f":"ROUND(G$2+ (('coded NOLH for 17-22 factors'!G66-1)*(G$3-G$2) )/128, G$4 )","v":48},{"$f":"ROUND(H$2+ (('coded NOLH for 17-22 factors'!H66-1)*(H$3-H$2) )/128, H$4 )","v":106},{"$f":"ROUND(I$2+ (('coded NOLH for 17-22 factors'!I66-1)*(I$3-I$2) )/128, I$4 )","v":85},{"$f":"ROUND(J$2+ (('coded NOLH for 17-22 factors'!J66-1)*(J$3-J$2) )/128, J$4 )","v":83},{"$f":"ROUND(K$2+ (('coded NOLH for 17-22 factors'!K66-1)*(K$3-K$2) )/128, K$4 )","v":64},{"$f":"ROUND(L$2+ (('coded NOLH for 17-22 factors'!L66-1)*(L$3-L$2) )/128, L$4 )","v":17},{"$f":"ROUND(M$2+ (('coded NOLH for 17-22 factors'!M66-1)*(M$3-M$2) )/128, M$4 )","v":58},{"$f":"ROUND(N$2+ (('coded NOLH for 17-22 factors'!N66-1)*(N$3-N$2) )/128, N$4 )","v":26},{"$f":"ROUND(O$2+ (('coded NOLH for 17-22 factors'!O66-1)*(O$3-O$2) )/128, O$4 )","v":86},{"$f":"ROUND(P$2+ (('coded NOLH for 17-22 factors'!P66-1)*(P$3-P$2) )/128, P$4 )","v":126},{"$f":"ROUND(Q$2+ (('coded NOLH for 17-22 factors'!Q66-1)*(Q$3-Q$2) )/128, Q$4 )","v":127},{"$f":"ROUND(R$2+ (('coded NOLH for 17-22 factors'!R66-1)*(R$3-R$2) )/128, R$4 )","v":88},{"$f":"ROUND(S$2+ (('coded NOLH for 17-22 factors'!S66-1)*(S$3-S$2) )/128, S$4 )","v":34},{"$f":"ROUND(T$2+ (('coded NOLH for 17-22 factors'!T66-1)*(T$3-T$2) )/128, T$4 )","v":72},{"$f":"ROUND(U$2+ (('coded NOLH for 17-22 factors'!U66-1)*(U$3-U$2) )/128, U$4 )","v":108},{"$f":"ROUND(V$2+ (('coded NOLH for 17-22 factors'!V66-1)*(V$3-V$2) )/128, V$4 )","v":118},{"$f":"ROUND(W$2+ (('coded NOLH for 17-22 factors'!W66-1)*(W$3-W$2) )/128, W$4 )","v":76}]
[null,{"$f":"ROUND(B$2+ (('coded NOLH for 17-22 factors'!B67-1)*(B$3-B$2) )/128, B$4 )","v":44},{"$f":"ROUND(C$2+ (('coded NOLH for 17-22 factors'!C67-1)*(C$3-C$2) )/128, C$4 )","v":76},{"$f":"ROUND(D$2+ (('coded NOLH for 17-22 factors'!D67-1)*(D$3-D$2) )/128, D$4 )","v":109},{"$f":"ROUND(E$2+ (('coded NOLH for 17-22 factors'!E67-1)*(E$3-E$2) )/128, E$4 )","v":120},{"$f":"ROUND(F$2+ (('coded NOLH for 17-22 factors'!F67-1)*(F$3-F$2) )/128, F$4 )","v":98},{"$f":"ROUND(G$2+ (('coded NOLH for 17-22 factors'!G67-1)*(G$3-G$2) )/128, G$4 )","v":54},{"$f":"ROUND(H$2+ (('coded NOLH for 17-22 factors'!H67-1)*(H$3-H$2) )/128, H$4 )","v":43},{"$f":"ROUND(I$2+ (('coded NOLH for 17-22 factors'!I67-1)*(I$3-I$2) )/128, I$4 )","v":30},{"$f":"ROUND(J$2+ (('coded NOLH for 17-22 factors'!J67-1)*(J$3-J$2) )/128, J$4 )","v":19},{"$f":"ROUND(K$2+ (('coded NOLH for 17-22 factors'!K67-1)*(K$3-K$2) )/128, K$4 )","v":14},{"$f":"ROUND(L$2+ (('coded NOLH for 17-22 factors'!L67-1)*(L$3-L$2) )/128, L$4 )","v":88},{"$f":"ROUND(M$2+ (('coded NOLH for 17-22 factors'!M67-1)*(M$3-M$2) )/128, M$4 )","v":115},{"$f":"ROUND(N$2+ (('coded NOLH for 17-22 factors'!N67-1)*(N$3-N$2) )/128, N$4 )","v":69},{"$f":"ROUND(O$2+ (('coded NOLH for 17-22 factors'!O67-1)*(O$3-O$2) )/128, O$4 )","v":126},{"$f":"ROUND(P$2+ (('coded NOLH for 17-22 factors'!P67-1)*(P$3-P$2) )/128, P$4 )","v":115},{"$f":"ROUND(Q$2+ (('coded NOLH for 17-22 factors'!Q67-1)*(Q$3-Q$2) )/128, Q$4 )","v":67},{"$f":"ROUND(R$2+ (('coded NOLH for 17-22 factors'!R67-1)*(R$3-R$2) )/128, R$4 )","v":77},{"$f":"ROUND(S$2+ (('coded NOLH for 17-22 factors'!S67-1)*(S$3-S$2) )/128, S$4 )","v":82},{"$f":"ROUND(T$2+ (('coded NOLH for 17-22 factors'!T67-1)*(T$3-T$2) )/128, T$4 )","v":109},{"$f":"ROUND(U$2+ (('coded NOLH for 17-22 factors'!U67-1)*(U$3-U$2) )/128, U$4 )","v":77},{"$f":"ROUND(V$2+ (('coded NOLH for 17-22 factors'!V67-1)*(V$3-V$2) )/128, V$4 )","v":69},{"$f":"ROUND(W$2+ (('coded NOLH for 17-22 factors'!W67-1)*(W$3-W$2) )/128, W$4 )","v":117}]
[null,{"$f":"ROUND(B$2+ (('coded NOLH for 17-22 factors'!B68-1)*(B$3-B$2) )/128, B$4 )","v":117},{"$f":"ROUND(C$2+ (('coded NOLH for 17-22 factors'!C68-1)*(C$3-C$2) )/128, C$4 )","v":73},{"$f":"ROUND(D$2+ (('coded NOLH for 17-22 factors'!D68-1)*(D$3-D$2) )/128, D$4 )","v":85},{"$f":"ROUND(E$2+ (('coded NOLH for 17-22 factors'!E68-1)*(E$3-E$2) )/128, E$4 )","v":112},{"$f":"ROUND(F$2+ (('coded NOLH for 17-22 factors'!F68-1)*(F$3-F$2) )/128, F$4 )","v":115},{"$f":"ROUND(G$2+ (('coded NOLH for 17-22 factors'!G68-1)*(G$3-G$2) )/128, G$4 )","v":74},{"$f":"ROUND(H$2+ (('coded NOLH for 17-22 factors'!H68-1)*(H$3-H$2) )/128, H$4 )","v":104},{"$f":"ROUND(I$2+ (('coded NOLH for 17-22 factors'!I68-1)*(I$3-I$2) )/128, I$4 )","v":75},{"$f":"ROUND(J$2+ (('coded NOLH for 17-22 factors'!J68-1)*(J$3-J$2) )/128, J$4 )","v":120},{"$f":"ROUND(K$2+ (('coded NOLH for 17-22 factors'!K68-1)*(K$3-K$2) )/128, K$4 )","v":96},{"$f":"ROUND(L$2+ (('coded NOLH for 17-22 factors'!L68-1)*(L$3-L$2) )/128, L$4 )","v":110},{"$f":"ROUND(M$2+ (('coded NOLH for 17-22 factors'!M68-1)*(M$3-M$2) )/128, M$4 )","v":66},{"$f":"ROUND(N$2+ (('coded NOLH for 17-22 factors'!N68-1)*(N$3-N$2) )/128, N$4 )","v":101},{"$f":"ROUND(O$2+ (('coded NOLH for 17-22 factors'!O68-1)*(O$3-O$2) )/128, O$4 )","v":98},{"$f":"ROUND(P$2+ (('coded NOLH for 17-22 factors'!P68-1)*(P$3-P$2) )/128, P$4 )","v":78},{"$f":"ROUND(Q$2+ (('coded NOLH for 17-22 factors'!Q68-1)*(Q$3-Q$2) )/128, Q$4 )","v":83},{"$f":"ROUND(R$2+ (('coded NOLH for 17-22 factors'!R68-1)*(R$3-R$2) )/128, R$4 )","v":70},{"$f":"ROUND(S$2+ (('coded NOLH for 17-22 factors'!S68-1)*(S$3-S$2) )/128, S$4 )","v":69},{"$f":"ROUND(T$2+ (('coded NOLH for 17-22 factors'!T68-1)*(T$3-T$2) )/128, T$4 )","v":92},{"$f":"ROUND(U$2+ (('coded NOLH for 17-22 factors'!U68-1)*(U$3-U$2) )/128, U$4 )","v":123},{"$f":"ROUND(V$2+ (('coded NOLH for 17-22 factors'!V68-1)*(V$3-V$2) )/128, V$4 )","v":107},{"$f":"ROUND(W$2+ (('coded NOLH for 17-22 factors'!W68-1)*(W$3-W$2) )/128, W$4 )","v":86}]
[null,{"$f":"ROUND(B$2+ (('coded NOLH for 17-22 factors'!B69-1)*(B$3-B$2) )/128, B$4 )","v":65},{"$f":"ROUND(C$2+ (('coded NOLH for 17-22 factors'!C69-1)*(C$3-C$2) )/128, C$4 )","v":65},{"$f":"ROUND(D$2+ (('coded NOLH for 17-22 factors'!D69-1)*(D$3-D$2) )/128, D$4 )","v":65},{"$f":"ROUND(E$2+ (('coded NOLH for 17-22 factors'!E69-1)*(E$3-E$2) )/128, E$4 )","v":65},{"$f":"ROUND(F$2+ (('coded NOLH for 17-22 factors'!F69-1)*(F$3-F$2) )/128, F$4 )","v":65},{"$f":"ROUND(G$2+ (('coded NOLH for 17-22 factors'!G69-1)*(G$3-G$2) )/128, G$4 )","v":65},{"$f":"ROUND(H$2+ (('coded NOLH for 17-22 factors'!H69-1)*(H$3-H$2) )/128, H$4 )","v":65},{"$f":"ROUND(I$2+ (('coded NOLH for 17-22 factors'!I69-1)*(I$3-I$2) )/128, I$4 )","v":65},{"$f":"ROUND(J$2+ (('coded NOLH for 17-22 factors'!J69-1)*(J$3-J$2) )/128, J$4 )","v":65},{"$f":"ROUND(K$2+ (('coded NOLH for 17-22 factors'!K69-1)*(K$3-K$2) )/128, K$4 )","v":65},{"$f":"ROUND(L$2+ (('coded NOLH for 17-22 factors'!L69-1)*(L$3-L$2) )/128, L$4 )","v":65},{"$f":"ROUND(M$2+ (('coded NOLH for 17-22 factors'!M69-1)*(M$3-M$2) )/128, M$4 )","v":65},{"$f":"ROUND(N$2+ (('coded NOLH for 17-22 factors'!N69-1)*(N$3-N$2) )/128, N$4 )","v":65},{"$f":"ROUND(O$2+ (('coded NOLH for 17-22 factors'!O69-1)*(O$3-O$2) )/128, O$4 )","v":65},{"$f":"ROUND(P$2+ (('coded NOLH for 17-22 factors'!P69-1)*(P$3-P$2) )/128, P$4 )","v":65},{"$f":"ROUND(Q$2+ (('coded NOLH for 17-22 factors'!Q69-1)*(Q$3-Q$2) )/128, Q$4 )","v":65},{"$f":"ROUND(R$2+ (('coded NOLH for 17-22 factors'!R69-1)*(R$3-R$2) )/128, R$4 )","v":65},{"$f":"ROUND(S$2+ (('coded NOLH for 17-22 factors'!S69-1)*(S$3-S$2) )/128, S$4 )","v":65},{"$f":"ROUND(T$2+ (('coded NOLH for 17-22 factors'!T69-1)*(T$3-T$2) )/128, T$4 )","v":65},{"$f":"ROUND(U$2+ (('coded NOLH for 17-22 factors'!U69-1)*(U$3-U$2) )/128, U$4 )","v":65},{"$f":"ROUND(V$2+ (('coded NOLH for 17-22 factors'!V69-1)*(V$3-V$2) )/128, V$4 )","v":65},{"$f":"ROUND(W$2+ (('coded NOLH for 17-22 factors'!W69-1)*(W$3-W$2) )/128, W$4 )","v":65}]
[null,{"$f":"ROUND(B$2+ (('coded NOLH for 17-22 factors'!B70-1)*(B$3-B$2) )/128, B$4 )","v":98},{"$f":"ROUND(C$2+ (('coded NOLH for 17-22 factors'!C70-1)*(C$3-C$2) )/128, C$4 )","v":72},{"$f":"ROUND(D$2+ (('coded NOLH for 17-22 factors'!D70-1)*(D$3-D$2) )/128, D$4 )","v":79},{"$f":"ROUND(E$2+ (('coded NOLH for 17-22 factors'!E70-1)*(E$3-E$2) )/128, E$4 )","v":71},{"$f":"ROUND(F$2+ (('coded NOLH for 17-22 factors'!F70-1)*(F$3-F$2) )/128, F$4 )","v":86},{"$f":"ROUND(G$2+ (('coded NOLH for 17-22 factors'!G70-1)*(G$3-G$2) )/128, G$4 )","v":41},{"$f":"ROUND(H$2+ (('coded NOLH for 17-22 factors'!H70-1)*(H$3-H$2) )/128, H$4 )","v":57},{"$f":"ROUND(I$2+ (('coded NOLH for 17-22 factors'!I70-1)*(I$3-I$2) )/128, I$4 )","v":32},{"$f":"ROUND(J$2+ (('coded NOLH for 17-22 factors'!J70-1)*(J$3-J$2) )/128, J$4 )","v":58},{"$f":"ROUND(K$2+ (('coded NOLH for 17-22 factors'!K70-1)*(K$3-K$2) )/128, K$4 )","v":10},{"$f":"ROUND(L$2+ (('coded NOLH for 17-22 factors'!L70-1)*(L$3-L$2) )/128, L$4 )","v":30},{"$f":"ROUND(M$2+ (('coded NOLH for 17-22 factors'!M70-1)*(M$3-M$2) )/128, M$4 )","v":32},{"$f":"ROUND(N$2+ (('coded NOLH for 17-22 factors'!N70-1)*(N$3-N$2) )/128, N$4 )","v":52},{"$f":"ROUND(O$2+ (('coded NOLH for 17-22 factors'!O70-1)*(O$3-O$2) )/128, O$4 )","v":1},{"$f":"ROUND(P$2+ (('coded NOLH for 17-22 factors'!P70-1)*(P$3-P$2) )/128, P$4 )","v":10},{"$f":"ROUND(Q$2+ (('coded NOLH for 17-22 factors'!Q70-1)*(Q$3-Q$2) )/128, Q$4 )","v":50},{"$f":"ROUND(R$2+ (('coded NOLH for 17-22 factors'!R70-1)*(R$3-R$2) )/128, R$4 )","v":21},{"$f":"ROUND(S$2+ (('coded NOLH for 17-22 factors'!S70-1)*(S$3-S$2) )/128, S$4 )","v":60},{"$f":"ROUND(T$2+ (('coded NOLH for 17-22 factors'!T70-1)*(T$3-T$2) )/128, T$4 )","v":14},{"$f":"ROUND(U$2+ (('coded NOLH for 17-22 factors'!U70-1)*(U$3-U$2) )/128, U$4 )","v":6},{"$f":"ROUND(V$2+ (('coded NOLH for 17-22 factors'!V70-1)*(V$3-V$2) )/128, V$4 )","v":96},{"$f":"ROUND(W$2+ (('coded NOLH for 17-22 factors'!W70-1)*(W$3-W$2) )/128, W$4 )","v":15}]
[null,{"$f":"ROUND(B$2+ (('coded NOLH for 17-22 factors'!B71-1)*(B$3-B$2) )/128, B$4 )","v":15},{"$f":"ROUND(C$2+ (('coded NOLH for 17-22 factors'!C71-1)*(C$3-C$2) )/128, C$4 )","v":90},{"$f":"ROUND(D$2+ (('coded NOLH for 17-22 factors'!D71-1)*(D$3-D$2) )/128, D$4 )","v":74},{"$f":"ROUND(E$2+ (('coded NOLH for 17-22 factors'!E71-1)*(E$3-E$2) )/128, E$4 )","v":70},{"$f":"ROUND(F$2+ (('coded NOLH for 17-22 factors'!F71-1)*(F$3-F$2) )/128, F$4 )","v":117},{"$f":"ROUND(G$2+ (('coded NOLH for 17-22 factors'!G71-1)*(G$3-G$2) )/128, G$4 )","v":71},{"$f":"ROUND(H$2+ (('coded NOLH for 17-22 factors'!H71-1)*(H$3-H$2) )/128, H$4 )","v":75},{"$f":"ROUND(I$2+ (('coded NOLH for 17-22 factors'!I71-1)*(I$3-I$2) )/128, I$4 )","v":103},{"$f":"ROUND(J$2+ (('coded NOLH for 17-22 factors'!J71-1)*(J$3-J$2) )/128, J$4 )","v":68},{"$f":"ROUND(K$2+ (('coded NOLH for 17-22 factors'!K71-1)*(K$3-K$2) )/128, K$4 )","v":80},{"$f":"ROUND(L$2+ (('coded NOLH for 17-22 factors'!L71-1)*(L$3-L$2) )/128, L$4 )","v":11},{"$f":"ROUND(M$2+ (('coded NOLH for 17-22 factors'!M71-1)*(M$3-M$2) )/128, M$4 )","v":53},{"$f":"ROUND(N$2+ (('coded NOLH for 17-22 factors'!N71-1)*(N$3-N$2) )/128, N$4 )","v":50},{"$f":"ROUND(O$2+ (('coded NOLH for 17-22 factors'!O71-1)*(O$3-O$2) )/128, O$4 )","v":8},{"$f":"ROUND(P$2+ (('coded NOLH for 17-22 factors'!P71-1)*(P$3-P$2) )/128, P$4 )","v":36},{"$f":"ROUND(Q$2+ (('coded NOLH for 17-22 factors'!Q71-1)*(Q$3-Q$2) )/128, Q$4 )","v":26},{"$f":"ROUND(R$2+ (('coded NOLH for 17-22 factors'!R71-1)*(R$3-R$2) )/128, R$4 )","v":13},{"$f":"ROUND(S$2+ (('coded NOLH for 17-22 factors'!S71-1)*(S$3-S$2) )/128, S$4 )","v":55},{"$f":"ROUND(T$2+ (('coded NOLH for 17-22 factors'!T71-1)*(T$3-T$2) )/128, T$4 )","v":51},{"$f":"ROUND(U$2+ (('coded NOLH for 17-22 factors'!U71-1)*(U$3-U$2) )/128, U$4 )","v":36},{"$f":"ROUND(V$2+ (('coded NOLH for 17-22 factors'!V71-1)*(V$3-V$2) )/128, V$4 )","v":101},{"$f":"ROUND(W$2+ (('coded NOLH for 17-22 factors'!W71-1)*(W$3-W$2) )/128, W$4 )","v":32}]
[null,{"$f":"ROUND(B$2+ (('coded NOLH for 17-22 factors'!B72-1)*(B$3-B$2) )/128, B$4 )","v":72},{"$f":"ROUND(C$2+ (('coded NOLH for 17-22 factors'!C72-1)*(C$3-C$2) )/128, C$4 )","v":32},{"$f":"ROUND(D$2+ (('coded NOLH for 17-22 factors'!D72-1)*(D$3-D$2) )/128, D$4 )","v":129},{"$f":"ROUND(E$2+ (('coded NOLH for 17-22 factors'!E72-1)*(E$3-E$2) )/128, E$4 )","v":94},{"$f":"ROUND(F$2+ (('coded NOLH for 17-22 factors'!F72-1)*(F$3-F$2) )/128, F$4 )","v":76},{"$f":"ROUND(G$2+ (('coded NOLH for 17-22 factors'!G72-1)*(G$3-G$2) )/128, G$4 )","v":109},{"$f":"ROUND(H$2+ (('coded NOLH for 17-22 factors'!H72-1)*(H$3-H$2) )/128, H$4 )","v":33},{"$f":"ROUND(I$2+ (('coded NOLH for 17-22 factors'!I72-1)*(I$3-I$2) )/128, I$4 )","v":46},{"$f":"ROUND(J$2+ (('coded NOLH for 17-22 factors'!J72-1)*(J$3-J$2) )/128, J$4 )","v":51},{"$f":"ROUND(K$2+ (('coded NOLH for 17-22 factors'!K72-1)*(K$3-K$2) )/128, K$4 )","v":56},{"$f":"ROUND(L$2+ (('coded NOLH for 17-22 factors'!L72-1)*(L$3-L$2) )/128, L$4 )","v":69},{"$f":"ROUND(M$2+ (('coded NOLH for 17-22 factors'!M72-1)*(M$3-M$2) )/128, M$4 )","v":109},{"$f":"ROUND(N$2+ (('coded NOLH for 17-22 factors'!N72-1)*(N$3-N$2) )/128, N$4 )","v":67},{"$f":"ROUND(O$2+ (('coded NOLH for 17-22 factors'!O72-1)*(O$3-O$2) )/128, O$4 )","v":19},{"$f":"ROUND(P$2+ (('coded NOLH for 17-22 factors'!P72-1)*(P$3-P$2) )/128, P$4 )","v":2},{"$f":"ROUND(Q$2+ (('coded NOLH for 17-22 factors'!Q72-1)*(Q$3-Q$2) )/128, Q$4 )","v":48},{"$f":"ROUND(R$2+ (('coded NOLH for 17-22 factors'!R72-1)*(R$3-R$2) )/128, R$4 )","v":58},{"$f":"ROUND(S$2+ (('coded NOLH for 17-22 factors'!S72-1)*(S$3-S$2) )/128, S$4 )","v":110},{"$f":"ROUND(T$2+ (('coded NOLH for 17-22 factors'!T72-1)*(T$3-T$2) )/128, T$4 )","v":22},{"$f":"ROUND(U$2+ (('coded NOLH for 17-22 factors'!U72-1)*(U$3-U$2) )/128, U$4 )","v":45},{"$f":"ROUND(V$2+ (('coded NOLH for 17-22 factors'!V72-1)*(V$3-V$2) )/128, V$4 )","v":68},{"$f":"ROUND(W$2+ (('coded NOLH for 17-22 factors'!W72-1)*(W$3-W$2) )/128, W$4 )","v":40}]
[null,{"$f":"ROUND(B$2+ (('coded NOLH for 17-22 factors'!B73-1)*(B$3-B$2) )/128, B$4 )","v":40},{"$f":"ROUND(C$2+ (('coded NOLH for 17-22 factors'!C73-1)*(C$3-C$2) )/128, C$4 )","v":15},{"$f":"ROUND(D$2+ (('coded NOLH for 17-22 factors'!D73-1)*(D$3-D$2) )/128, D$4 )","v":91},{"$f":"ROUND(E$2+ (('coded NOLH for 17-22 factors'!E73-1)*(E$3-E$2) )/128, E$4 )","v":82},{"$f":"ROUND(F$2+ (('coded NOLH for 17-22 factors'!F73-1)*(F$3-F$2) )/128, F$4 )","v":73},{"$f":"ROUND(G$2+ (('coded NOLH for 17-22 factors'!G73-1)*(G$3-G$2) )/128, G$4 )","v":32},{"$f":"ROUND(H$2+ (('coded NOLH for 17-22 factors'!H73-1)*(H$3-H$2) )/128, H$4 )","v":120},{"$f":"ROUND(I$2+ (('coded NOLH for 17-22 factors'!I73-1)*(I$3-I$2) )/128, I$4 )","v":77},{"$f":"ROUND(J$2+ (('coded NOLH for 17-22 factors'!J73-1)*(J$3-J$2) )/128, J$4 )","v":95},{"$f":"ROUND(K$2+ (('coded NOLH for 17-22 factors'!K73-1)*(K$3-K$2) )/128, K$4 )","v":70},{"$f":"ROUND(L$2+ (('coded NOLH for 17-22 factors'!L73-1)*(L$3-L$2) )/128, L$4 )","v":76},{"$f":"ROUND(M$2+ (('coded NOLH for 17-22 factors'!M73-1)*(M$3-M$2) )/128, M$4 )","v":81},{"$f":"ROUND(N$2+ (('coded NOLH for 17-22 factors'!N73-1)*(N$3-N$2) )/128, N$4 )","v":86},{"$f":"ROUND(O$2+ (('coded NOLH for 17-22 factors'!O73-1)*(O$3-O$2) )/128, O$4 )","v":3},{"$f":"ROUND(P$2+ (('coded NOLH for 17-22 factors'!P73-1)*(P$3-P$2) )/128, P$4 )","v":43},{"$f":"ROUND(Q$2+ (('coded NOLH for 17-22 factors'!Q73-1)*(Q$3-Q$2) )/128, Q$4 )","v":5},{"$f":"ROUND(R$2+ (('coded NOLH for 17-22 factors'!R73-1)*(R$3-R$2) )/128, R$4 )","v":51},{"$f":"ROUND(S$2+ (('coded NOLH for 17-22 factors'!S73-1)*(S$3-S$2) )/128, S$4 )","v":83},{"$f":"ROUND(T$2+ (('coded NOLH for 17-22 factors'!T73-1)*(T$3-T$2) )/128, T$4 )","v":54},{"$f":"ROUND(U$2+ (('coded NOLH for 17-22 factors'!U73-1)*(U$3-U$2) )/128, U$4 )","v":30},{"$f":"ROUND(V$2+ (('coded NOLH for 17-22 factors'!V73-1)*(V$3-V$2) )/128, V$4 )","v":97},{"$f":"ROUND(W$2+ (('coded NOLH for 17-22 factors'!W73-1)*(W$3-W$2) )/128, W$4 )","v":58}]
[null,{"$f":"ROUND(B$2+ (('coded NOLH for 17-22 factors'!B74-1)*(B$3-B$2) )/128, B$4 )","v":129},{"$f":"ROUND(C$2+ (('coded NOLH for 17-22 factors'!C74-1)*(C$3-C$2) )/128, C$4 )","v":79},{"$f":"ROUND(D$2+ (('coded NOLH for 17-22 factors'!D74-1)*(D$3-D$2) )/128, D$4 )","v":58},{"$f":"ROUND(E$2+ (('coded NOLH for 17-22 factors'!E74-1)*(E$3-E$2) )/128, E$4 )","v":99},{"$f":"ROUND(F$2+ (('coded NOLH for 17-22 factors'!F74-1)*(F$3-F$2) )/128, F$4 )","v":116},{"$f":"ROUND(G$2+ (('coded NOLH for 17-22 factors'!G74-1)*(G$3-G$2) )/128, G$4 )","v":61},{"$f":"ROUND(H$2+ (('coded NOLH for 17-22 factors'!H74-1)*(H$3-H$2) )/128, H$4 )","v":83},{"$f":"ROUND(I$2+ (('coded NOLH for 17-22 factors'!I74-1)*(I$3-I$2) )/128, I$4 )","v":10},{"$f":"ROUND(J$2+ (('coded NOLH for 17-22 factors'!J74-1)*(J$3-J$2) )/128, J$4 )","v":1},{"$f":"ROUND(K$2+ (('coded NOLH for 17-22 factors'!K74-1)*(K$3-K$2) )/128, K$4 )","v":48},{"$f":"ROUND(L$2+ (('coded NOLH for 17-22 factors'!L74-1)*(L$3-L$2) )/128, L$4 )","v":115},{"$f":"ROUND(M$2+ (('coded NOLH for 17-22 factors'!M74-1)*(M$3-M$2) )/128, M$4 )","v":2},{"$f":"ROUND(N$2+ (('coded NOLH for 17-22 factors'!N74-1)*(N$3-N$2) )/128, N$4 )","v":20},{"$f":"ROUND(O$2+ (('coded NOLH for 17-22 factors'!O74-1)*(O$3-O$2) )/128, O$4 )","v":95},{"$f":"ROUND(P$2+ (('coded NOLH for 17-22 factors'!P74-1)*(P$3-P$2) )/128, P$4 )","v":72},{"$f":"ROUND(Q$2+ (('coded NOLH for 17-22 factors'!Q74-1)*(Q$3-Q$2) )/128, Q$4 )","v":73},{"$f":"ROUND(R$2+ (('coded NOLH for 17-22 factors'!R74-1)*(R$3-R$2) )/128, R$4 )","v":17},{"$f":"ROUND(S$2+ (('coded NOLH for 17-22 factors'!S74-1)*(S$3-S$2) )/128, S$4 )","v":43},{"$f":"ROUND(T$2+ (('coded NOLH for 17-22 factors'!T74-1)*(T$3-T$2) )/128, T$4 )","v":36},{"$f":"ROUND(U$2+ (('coded NOLH for 17-22 factors'!U74-1)*(U$3-U$2) )/128, U$4 )","v":46},{"$f":"ROUND(V$2+ (('coded NOLH for 17-22 factors'!V74-1)*(V$3-V$2) )/128, V$4 )","v":123},{"$f":"ROUND(W$2+ (('coded NOLH for 17-22 factors'!W74-1)*(W$3-W$2) )/128, W$4 )","v":39}]
[null,{"$f":"ROUND(B$2+ (('coded NOLH for 17-22 factors'!B75-1)*(B$3-B$2) )/128, B$4 )","v":39},{"$f":"ROUND(C$2+ (('coded NOLH for 17-22 factors'!C75-1)*(C$3-C$2) )/128, C$4 )","v":74},{"$f":"ROUND(D$2+ (('coded NOLH for 17-22 factors'!D75-1)*(D$3-D$2) )/128, D$4 )","v":40},{"$f":"ROUND(E$2+ (('coded NOLH for 17-22 factors'!E75-1)*(E$3-E$2) )/128, E$4 )","v":128},{"$f":"ROUND(F$2+ (('coded NOLH for 17-22 factors'!F75-1)*(F$3-F$2) )/128, F$4 )","v":78},{"$f":"ROUND(G$2+ (('coded NOLH for 17-22 factors'!G75-1)*(G$3-G$2) )/128, G$4 )","v":87},{"$f":"ROUND(H$2+ (('coded NOLH for 17-22 factors'!H75-1)*(H$3-H$2) )/128, H$4 )","v":54},{"$f":"ROUND(I$2+ (('coded NOLH for 17-22 factors'!I75-1)*(I$3-I$2) )/128, I$4 )","v":124},{"$f":"ROUND(J$2+ (('coded NOLH for 17-22 factors'!J75-1)*(J$3-J$2) )/128, J$4 )","v":97},{"$f":"ROUND(K$2+ (('coded NOLH for 17-22 factors'!K75-1)*(K$3-K$2) )/128, K$4 )","v":114},{"$f":"ROUND(L$2+ (('coded NOLH for 17-22 factors'!L75-1)*(L$3-L$2) )/128, L$4 )","v":106},{"$f":"ROUND(M$2+ (('coded NOLH for 17-22 factors'!M75-1)*(M$3-M$2) )/128, M$4 )","v":1},{"$f":"ROUND(N$2+ (('coded NOLH for 17-22 factors'!N75-1)*(N$3-N$2) )/128, N$4 )","v":49},{"$f":"ROUND(O$2+ (('coded NOLH for 17-22 factors'!O75-1)*(O$3-O$2) )/128, O$4 )","v":67},{"$f":"ROUND(P$2+ (('coded NOLH for 17-22 factors'!P75-1)*(P$3-P$2) )/128, P$4 )","v":89},{"$f":"ROUND(Q$2+ (('coded NOLH for 17-22 factors'!Q75-1)*(Q$3-Q$2) )/128, Q$4 )","v":85},{"$f":"ROUND(R$2+ (('coded NOLH for 17-22 factors'!R75-1)*(R$3-R$2) )/128, R$4 )","v":11},{"$f":"ROUND(S$2+ (('coded NOLH for 17-22 factors'!S75-1)*(S$3-S$2) )/128, S$4 )","v":17},{"$f":"ROUND(T$2+ (('coded NOLH for 17-22 factors'!T75-1)*(T$3-T$2) )/128, T$4 )","v":32},{"$f":"ROUND(U$2+ (('coded NOLH for 17-22 factors'!U75-1)*(U$3-U$2) )/128, U$4 )","v":35},{"$f":"ROUND(V$2+ (('coded NOLH for 17-22 factors'!V75-1)*(V$3-V$2) )/128, V$4 )","v":119},{"$f":"ROUND(W$2+ (('coded NOLH for 17-22 factors'!W75-1)*(W$3-W$2) )/128, W$4 )","v":1}]
[null,{"$f":"ROUND(B$2+ (('coded NOLH for 17-22 factors'!B76-1)*(B$3-B$2) )/128, B$4 )","v":79},{"$f":"ROUND(C$2+ (('coded NOLH for 17-22 factors'!C76-1)*(C$3-C$2) )/128, C$4 )","v":1},{"$f":"ROUND(D$2+ (('coded NOLH for 17-22 factors'!D76-1)*(D$3-D$2) )/128, D$4 )","v":32},{"$f":"ROUND(E$2+ (('coded NOLH for 17-22 factors'!E76-1)*(E$3-E$2) )/128, E$4 )","v":92},{"$f":"ROUND(F$2+ (('coded NOLH for 17-22 factors'!F76-1)*(F$3-F$2) )/128, F$4 )","v":109},{"$f":"ROUND(G$2+ (('coded NOLH for 17-22 factors'!G76-1)*(G$3-G$2) )/128, G$4 )","v":100},{"$f":"ROUND(H$2+ (('coded NOLH for 17-22 factors'!H76-1)*(H$3-H$2) )/128, H$4 )","v":98},{"$f":"ROUND(I$2+ (('coded NOLH for 17-22 factors'!I76-1)*(I$3-I$2) )/128, I$4 )","v":9},{"$f":"ROUND(J$2+ (('coded NOLH for 17-22 factors'!J76-1)*(J$3-J$2) )/128, J$4 )","v":6},{"$f":"ROUND(K$2+ (('coded NOLH for 17-22 factors'!K76-1)*(K$3-K$2) )/128, K$4 )","v":36},{"$f":"ROUND(L$2+ (('coded NOLH for 17-22 factors'!L76-1)*(L$3-L$2) )/128, L$4 )","v":39},{"$f":"ROUND(M$2+ (('coded NOLH for 17-22 factors'!M76-1)*(M$3-M$2) )/128, M$4 )","v":116},{"$f":"ROUND(N$2+ (('coded NOLH for 17-22 factors'!N76-1)*(N$3-N$2) )/128, N$4 )","v":129},{"$f":"ROUND(O$2+ (('coded NOLH for 17-22 factors'!O76-1)*(O$3-O$2) )/128, O$4 )","v":115},{"$f":"ROUND(P$2+ (('coded NOLH for 17-22 factors'!P76-1)*(P$3-P$2) )/128, P$4 )","v":69},{"$f":"ROUND(Q$2+ (('coded NOLH for 17-22 factors'!Q76-1)*(Q$3-Q$2) )/128, Q$4 )","v":89},{"$f":"ROUND(R$2+ (('coded NOLH for 17-22 factors'!R76-1)*(R$3-R$2) )/128, R$4 )","v":12},{"$f":"ROUND(S$2+ (('coded NOLH for 17-22 factors'!S76-1)*(S$3-S$2) )/128, S$4 )","v":85},{"$f":"ROUND(T$2+ (('coded NOLH for 17-22 factors'!T76-1)*(T$3-T$2) )/128, T$4 )","v":9},{"$f":"ROUND(U$2+ (('coded NOLH for 17-22 factors'!U76-1)*(U$3-U$2) )/128, U$4 )","v":42},{"$f":"ROUND(V$2+ (('coded NOLH for 17-22 factors'!V76-1)*(V$3-V$2) )/128, V$4 )","v":126},{"$f":"ROUND(W$2+ (('coded NOLH for 17-22 factors'!W76-1)*(W$3-W$2) )/128, W$4 )","v":56}]
[null,{"$f":"ROUND(B$2+ (('coded NOLH for 17-22 factors'!B77-1)*(B$3-B$2) )/128, B$4 )","v":56},{"$f":"ROUND(C$2+ (('coded NOLH for 17-22 factors'!C77-1)*(C$3-C$2) )/128, C$4 )","v":39},{"$f":"ROUND(D$2+ (('coded NOLH for 17-22 factors'!D77-1)*(D$3-D$2) )/128, D$4 )","v":15},{"$f":"ROUND(E$2+ (('coded NOLH for 17-22 factors'!E77-1)*(E$3-E$2) )/128, E$4 )","v":121},{"$f":"ROUND(F$2+ (('coded NOLH for 17-22 factors'!F77-1)*(F$3-F$2) )/128, F$4 )","v":85},{"$f":"ROUND(G$2+ (('coded NOLH for 17-22 factors'!G77-1)*(G$3-G$2) )/128, G$4 )","v":11},{"$f":"ROUND(H$2+ (('coded NOLH for 17-22 factors'!H77-1)*(H$3-H$2) )/128, H$4 )","v":18},{"$f":"ROUND(I$2+ (('coded NOLH for 17-22 factors'!I77-1)*(I$3-I$2) )/128, I$4 )","v":127},{"$f":"ROUND(J$2+ (('coded NOLH for 17-22 factors'!J77-1)*(J$3-J$2) )/128, J$4 )","v":90},{"$f":"ROUND(K$2+ (('coded NOLH for 17-22 factors'!K77-1)*(K$3-K$2) )/128, K$4 )","v":102},{"$f":"ROUND(L$2+ (('coded NOLH for 17-22 factors'!L77-1)*(L$3-L$2) )/128, L$4 )","v":66},{"$f":"ROUND(M$2+ (('coded NOLH for 17-22 factors'!M77-1)*(M$3-M$2) )/128, M$4 )","v":118},{"$f":"ROUND(N$2+ (('coded NOLH for 17-22 factors'!N77-1)*(N$3-N$2) )/128, N$4 )","v":108},{"$f":"ROUND(O$2+ (('coded NOLH for 17-22 factors'!O77-1)*(O$3-O$2) )/128, O$4 )","v":93},{"$f":"ROUND(P$2+ (('coded NOLH for 17-22 factors'!P77-1)*(P$3-P$2) )/128, P$4 )","v":86},{"$f":"ROUND(Q$2+ (('coded NOLH for 17-22 factors'!Q77-1)*(Q$3-Q$2) )/128, Q$4 )","v":74},{"$f":"ROUND(R$2+ (('coded NOLH for 17-22 factors'!R77-1)*(R$3-R$2) )/128, R$4 )","v":69},{"$f":"ROUND(S$2+ (('coded NOLH for 17-22 factors'!S77-1)*(S$3-S$2) )/128, S$4 )","v":117},{"$f":"ROUND(T$2+ (('coded NOLH for 17-22 factors'!T77-1)*(T$3-T$2) )/128, T$4 )","v":5},{"$f":"ROUND(U$2+ (('coded NOLH for 17-22 factors'!U77-1)*(U$3-U$2) )/128, U$4 )","v":55},{"$f":"ROUND(V$2+ (('coded NOLH for 17-22 factors'!V77-1)*(V$3-V$2) )/128, V$4 )","v":127},{"$f":"ROUND(W$2+ (('coded NOLH for 17-22 factors'!W77-1)*(W$3-W$2) )/128, W$4 )","v":51}]
[null,{"$f":"ROUND(B$2+ (('coded NOLH for 17-22 factors'!B78-1)*(B$3-B$2) )/128, B$4 )","v":126},{"$f":"ROUND(C$2+ (('coded NOLH for 17-22 factors'!C78-1)*(C$3-C$2) )/128, C$4 )","v":123},{"$f":"ROUND(D$2+ (('coded NOLH for 17-22 factors'!D78-1)*(D$3-D$2) )/128, D$4 )","v":96},{"$f":"ROUND(E$2+ (('coded NOLH for 17-22 factors'!E78-1)*(E$3-E$2) )/128, E$4 )","v":103},{"$f":"ROUND(F$2+ (('coded NOLH for 17-22 factors'!F78-1)*(F$3-F$2) )/128, F$4 )","v":104},{"$f":"ROUND(G$2+ (('coded NOLH for 17-22 factors'!G78-1)*(G$3-G$2) )/128, G$4 )","v":4},{"$f":"ROUND(H$2+ (('coded NOLH for 17-22 factors'!H78-1)*(H$3-H$2) )/128, H$4 )","v":36},{"$f":"ROUND(I$2+ (('coded NOLH for 17-22 factors'!I78-1)*(I$3-I$2) )/128, I$4 )","v":74},{"$f":"ROUND(J$2+ (('coded NOLH for 17-22 factors'!J78-1)*(J$3-J$2) )/128, J$4 )","v":36},{"$f":"ROUND(K$2+ (('coded NOLH for 17-22 factors'!K78-1)*(K$3-K$2) )/128, K$4 )","v":20},{"$f":"ROUND(L$2+ (('coded NOLH for 17-22 factors'!L78-1)*(L$3-L$2) )/128, L$4 )","v":34},{"$f":"ROUND(M$2+ (('coded NOLH for 17-22 factors'!M78-1)*(M$3-M$2) )/128, M$4 )","v":94},{"$f":"ROUND(N$2+ (('coded NOLH for 17-22 factors'!N78-1)*(N$3-N$2) )/128, N$4 )","v":53},{"$f":"ROUND(O$2+ (('coded NOLH for 17-22 factors'!O78-1)*(O$3-O$2) )/128, O$4 )","v":96},{"$f":"ROUND(P$2+ (('coded NOLH for 17-22 factors'!P78-1)*(P$3-P$2) )/128, P$4 )","v":8},{"$f":"ROUND(Q$2+ (('coded NOLH for 17-22 factors'!Q78-1)*(Q$3-Q$2) )/128, Q$4 )","v":27},{"$f":"ROUND(R$2+ (('coded NOLH for 17-22 factors'!R78-1)*(R$3-R$2) )/128, R$4 )","v":29},{"$f":"ROUND(S$2+ (('coded NOLH for 17-22 factors'!S78-1)*(S$3-S$2) )/128, S$4 )","v":4},{"$f":"ROUND(T$2+ (('coded NOLH for 17-22 factors'!T78-1)*(T$3-T$2) )/128, T$4 )","v":87},{"$f":"ROUND(U$2+ (('coded NOLH for 17-22 factors'!U78-1)*(U$3-U$2) )/128, U$4 )","v":126},{"$f":"ROUND(V$2+ (('coded NOLH for 17-22 factors'!V78-1)*(V$3-V$2) )/128, V$4 )","v":51},{"$f":"ROUND(W$2+ (('coded NOLH for 17-22 factors'!W78-1)*(W$3-W$2) )/128, W$4 )","v":3}]
[null,{"$f":"ROUND(B$2+ (('coded NOLH for 17-22 factors'!B79-1)*(B$3-B$2) )/128, B$4 )","v":3},{"$f":"ROUND(C$2+ (('coded NOLH for 17-22 factors'!C79-1)*(C$3-C$2) )/128, C$4 )","v":119},{"$f":"ROUND(D$2+ (('coded NOLH for 17-22 factors'!D79-1)*(D$3-D$2) )/128, D$4 )","v":101},{"$f":"ROUND(E$2+ (('coded NOLH for 17-22 factors'!E79-1)*(E$3-E$2) )/128, E$4 )","v":95},{"$f":"ROUND(F$2+ (('coded NOLH for 17-22 factors'!F79-1)*(F$3-F$2) )/128, F$4 )","v":114},{"$f":"ROUND(G$2+ (('coded NOLH for 17-22 factors'!G79-1)*(G$3-G$2) )/128, G$4 )","v":116},{"$f":"ROUND(H$2+ (('coded NOLH for 17-22 factors'!H79-1)*(H$3-H$2) )/128, H$4 )","v":103},{"$f":"ROUND(I$2+ (('coded NOLH for 17-22 factors'!I79-1)*(I$3-I$2) )/128, I$4 )","v":59},{"$f":"ROUND(J$2+ (('coded NOLH for 17-22 factors'!J79-1)*(J$3-J$2) )/128, J$4 )","v":104},{"$f":"ROUND(K$2+ (('coded NOLH for 17-22 factors'!K79-1)*(K$3-K$2) )/128, K$4 )","v":111},{"$f":"ROUND(L$2+ (('coded NOLH for 17-22 factors'!L79-1)*(L$3-L$2) )/128, L$4 )","v":67},{"$f":"ROUND(M$2+ (('coded NOLH for 17-22 factors'!M79-1)*(M$3-M$2) )/128, M$4 )","v":112},{"$f":"ROUND(N$2+ (('coded NOLH for 17-22 factors'!N79-1)*(N$3-N$2) )/128, N$4 )","v":40},{"$f":"ROUND(O$2+ (('coded NOLH for 17-22 factors'!O79-1)*(O$3-O$2) )/128, O$4 )","v":114},{"$f":"ROUND(P$2+ (('coded NOLH for 17-22 factors'!P79-1)*(P$3-P$2) )/128, P$4 )","v":12},{"$f":"ROUND(Q$2+ (('coded NOLH for 17-22 factors'!Q79-1)*(Q$3-Q$2) )/128, Q$4 )","v":71},{"$f":"ROUND(R$2+ (('coded NOLH for 17-22 factors'!R79-1)*(R$3-R$2) )/128, R$4 )","v":36},{"$f":"ROUND(S$2+ (('coded NOLH for 17-22 factors'!S79-1)*(S$3-S$2) )/128, S$4 )","v":40},{"$f":"ROUND(T$2+ (('coded NOLH for 17-22 factors'!T79-1)*(T$3-T$2) )/128, T$4 )","v":101},{"$f":"ROUND(U$2+ (('coded NOLH for 17-22 factors'!U79-1)*(U$3-U$2) )/128, U$4 )","v":82},{"$f":"ROUND(V$2+ (('coded NOLH for 17-22 factors'!V79-1)*(V$3-V$2) )/128, V$4 )","v":56},{"$f":"ROUND(W$2+ (('coded NOLH for 17-22 factors'!W79-1)*(W$3-W$2) )/128, W$4 )","v":4}]
[null,{"$f":"ROUND(B$2+ (('coded NOLH for 17-22 factors'!B80-1)*(B$3-B$2) )/128, B$4 )","v":123},{"$f":"ROUND(C$2+ (('coded NOLH for 17-22 factors'!C80-1)*(C$3-C$2) )/128, C$4 )","v":4},{"$f":"ROUND(D$2+ (('coded NOLH for 17-22 factors'!D80-1)*(D$3-D$2) )/128, D$4 )","v":68},{"$f":"ROUND(E$2+ (('coded NOLH for 17-22 factors'!E80-1)*(E$3-E$2) )/128, E$4 )","v":93},{"$f":"ROUND(F$2+ (('coded NOLH for 17-22 factors'!F80-1)*(F$3-F$2) )/128, F$4 )","v":89},{"$f":"ROUND(G$2+ (('coded NOLH for 17-22 factors'!G80-1)*(G$3-G$2) )/128, G$4 )","v":120},{"$f":"ROUND(H$2+ (('coded NOLH for 17-22 factors'!H80-1)*(H$3-H$2) )/128, H$4 )","v":30},{"$f":"ROUND(I$2+ (('coded NOLH for 17-22 factors'!I80-1)*(I$3-I$2) )/128, I$4 )","v":101},{"$f":"ROUND(J$2+ (('coded NOLH for 17-22 factors'!J80-1)*(J$3-J$2) )/128, J$4 )","v":50},{"$f":"ROUND(K$2+ (('coded NOLH for 17-22 factors'!K80-1)*(K$3-K$2) )/128, K$4 )","v":23},{"$f":"ROUND(L$2+ (('coded NOLH for 17-22 factors'!L80-1)*(L$3-L$2) )/128, L$4 )","v":108},{"$f":"ROUND(M$2+ (('coded NOLH for 17-22 factors'!M80-1)*(M$3-M$2) )/128, M$4 )","v":60},{"$f":"ROUND(N$2+ (('coded NOLH for 17-22 factors'!N80-1)*(N$3-N$2) )/128, N$4 )","v":94},{"$f":"ROUND(O$2+ (('coded NOLH for 17-22 factors'!O80-1)*(O$3-O$2) )/128, O$4 )","v":100},{"$f":"ROUND(P$2+ (('coded NOLH for 17-22 factors'!P80-1)*(P$3-P$2) )/128, P$4 )","v":33},{"$f":"ROUND(Q$2+ (('coded NOLH for 17-22 factors'!Q80-1)*(Q$3-Q$2) )/128, Q$4 )","v":9},{"$f":"ROUND(R$2+ (('coded NOLH for 17-22 factors'!R80-1)*(R$3-R$2) )/128, R$4 )","v":37},{"$f":"ROUND(S$2+ (('coded NOLH for 17-22 factors'!S80-1)*(S$3-S$2) )/128, S$4 )","v":102},{"$f":"ROUND(T$2+ (('coded NOLH for 17-22 factors'!T80-1)*(T$3-T$2) )/128, T$4 )","v":91},{"$f":"ROUND(U$2+ (('coded NOLH for 17-22 factors'!U80-1)*(U$3-U$2) )/128, U$4 )","v":129},{"$f":"ROUND(V$2+ (('coded NOLH for 17-22 factors'!V80-1)*(V$3-V$2) )/128, V$4 )","v":1},{"$f":"ROUND(W$2+ (('coded NOLH for 17-22 factors'!W80-1)*(W$3-W$2) )/128, W$4 )","v":11}]
[null,{"$f":"ROUND(B$2+ (('coded NOLH for 17-22 factors'!B81-1)*(B$3-B$2) )/128, B$4 )","v":11},{"$f":"ROUND(C$2+ (('coded NOLH for 17-22 factors'!C81-1)*(C$3-C$2) )/128, C$4 )","v":3},{"$f":"ROUND(D$2+ (('coded NOLH for 17-22 factors'!D81-1)*(D$3-D$2) )/128, D$4 )","v":97},{"$f":"ROUND(E$2+ (('coded NOLH for 17-22 factors'!E81-1)*(E$3-E$2) )/128, E$4 )","v":80},{"$f":"ROUND(F$2+ (('coded NOLH for 17-22 factors'!F81-1)*(F$3-F$2) )/128, F$4 )","v":111},{"$f":"ROUND(G$2+ (('coded NOLH for 17-22 factors'!G81-1)*(G$3-G$2) )/128, G$4 )","v":1},{"$f":"ROUND(H$2+ (('coded NOLH for 17-22 factors'!H81-1)*(H$3-H$2) )/128, H$4 )","v":64},{"$f":"ROUND(I$2+ (('coded NOLH for 17-22 factors'!I81-1)*(I$3-I$2) )/128, I$4 )","v":13},{"$f":"ROUND(J$2+ (('coded NOLH for 17-22 factors'!J81-1)*(J$3-J$2) )/128, J$4 )","v":93},{"$f":"ROUND(K$2+ (('coded NOLH for 17-22 factors'!K81-1)*(K$3-K$2) )/128, K$4 )","v":89},{"$f":"ROUND(L$2+ (('coded NOLH for 17-22 factors'!L81-1)*(L$3-L$2) )/128, L$4 )","v":98},{"$f":"ROUND(M$2+ (('coded NOLH for 17-22 factors'!M81-1)*(M$3-M$2) )/128, M$4 )","v":43},{"$f":"ROUND(N$2+ (('coded NOLH for 17-22 factors'!N81-1)*(N$3-N$2) )/128, N$4 )","v":97},{"$f":"ROUND(O$2+ (('coded NOLH for 17-22 factors'!O81-1)*(O$3-O$2) )/128, O$4 )","v":73},{"$f":"ROUND(P$2+ (('coded NOLH for 17-22 factors'!P81-1)*(P$3-P$2) )/128, P$4 )","v":21},{"$f":"ROUND(Q$2+ (('coded NOLH for 17-22 factors'!Q81-1)*(Q$3-Q$2) )/128, Q$4 )","v":60},{"$f":"ROUND(R$2+ (('coded NOLH for 17-22 factors'!R81-1)*(R$3-R$2) )/128, R$4 )","v":54},{"$f":"ROUND(S$2+ (('coded NOLH for 17-22 factors'!S81-1)*(S$3-S$2) )/128, S$4 )","v":104},{"$f":"ROUND(T$2+ (('coded NOLH for 17-22 factors'!T81-1)*(T$3-T$2) )/128, T$4 )","v":104},{"$f":"ROUND(U$2+ (('coded NOLH for 17-22 factors'!U81-1)*(U$3-U$2) )/128, U$4 )","v":121},{"$f":"ROUND(V$2+ (('coded NOLH for 17-22 factors'!V81-1)*(V$3-V$2) )/128, V$4 )","v":39},{"$f":"ROUND(W$2+ (('coded NOLH for 17-22 factors'!W81-1)*(W$3-W$2) )/128, W$4 )","v":7}]
[null,{"$f":"ROUND(B$2+ (('coded NOLH for 17-22 factors'!B82-1)*(B$3-B$2) )/128, B$4 )","v":68},{"$f":"ROUND(C$2+ (('coded NOLH for 17-22 factors'!C82-1)*(C$3-C$2) )/128, C$4 )","v":96},{"$f":"ROUND(D$2+ (('coded NOLH for 17-22 factors'!D82-1)*(D$3-D$2) )/128, D$4 )","v":7},{"$f":"ROUND(E$2+ (('coded NOLH for 17-22 factors'!E82-1)*(E$3-E$2) )/128, E$4 )","v":106},{"$f":"ROUND(F$2+ (('coded NOLH for 17-22 factors'!F82-1)*(F$3-F$2) )/128, F$4 )","v":77},{"$f":"ROUND(G$2+ (('coded NOLH for 17-22 factors'!G82-1)*(G$3-G$2) )/128, G$4 )","v":37},{"$f":"ROUND(H$2+ (('coded NOLH for 17-22 factors'!H82-1)*(H$3-H$2) )/128, H$4 )","v":123},{"$f":"ROUND(I$2+ (('coded NOLH for 17-22 factors'!I82-1)*(I$3-I$2) )/128, I$4 )","v":83},{"$f":"ROUND(J$2+ (('coded NOLH for 17-22 factors'!J82-1)*(J$3-J$2) )/128, J$4 )","v":45},{"$f":"ROUND(K$2+ (('coded NOLH for 17-22 factors'!K82-1)*(K$3-K$2) )/128, K$4 )","v":15},{"$f":"ROUND(L$2+ (('coded NOLH for 17-22 factors'!L82-1)*(L$3-L$2) )/128, L$4 )","v":128},{"$f":"ROUND(M$2+ (('coded NOLH for 17-22 factors'!M82-1)*(M$3-M$2) )/128, M$4 )","v":102},{"$f":"ROUND(N$2+ (('coded NOLH for 17-22 factors'!N82-1)*(N$3-N$2) )/128, N$4 )","v":13},{"$f":"ROUND(O$2+ (('coded NOLH for 17-22 factors'!O82-1)*(O$3-O$2) )/128, O$4 )","v":36},{"$f":"ROUND(P$2+ (('coded NOLH for 17-22 factors'!P82-1)*(P$3-P$2) )/128, P$4 )","v":88},{"$f":"ROUND(Q$2+ (('coded NOLH for 17-22 factors'!Q82-1)*(Q$3-Q$2) )/128, Q$4 )","v":115},{"$f":"ROUND(R$2+ (('coded NOLH for 17-22 factors'!R82-1)*(R$3-R$2) )/128, R$4 )","v":31},{"$f":"ROUND(S$2+ (('coded NOLH for 17-22 factors'!S82-1)*(S$3-S$2) )/128, S$4 )","v":23},{"$f":"ROUND(T$2+ (('coded NOLH for 17-22 factors'!T82-1)*(T$3-T$2) )/128, T$4 )","v":70},{"$f":"ROUND(U$2+ (('coded NOLH for 17-22 factors'!U82-1)*(U$3-U$2) )/128, U$4 )","v":68},{"$f":"ROUND(V$2+ (('coded NOLH for 17-22 factors'!V82-1)*(V$3-V$2) )/128, V$4 )","v":58},{"$f":"ROUND(W$2+ (('coded NOLH for 17-22 factors'!W82-1)*(W$3-W$2) )/128, W$4 )","v":33}]
[null,{"$f":"ROUND(B$2+ (('coded NOLH for 17-22 factors'!B83-1)*(B$3-B$2) )/128, B$4 )","v":33},{"$f":"ROUND(C$2+ (('coded NOLH for 17-22 factors'!C83-1)*(C$3-C$2) )/128, C$4 )","v":101},{"$f":"ROUND(D$2+ (('coded NOLH for 17-22 factors'!D83-1)*(D$3-D$2) )/128, D$4 )","v":11},{"$f":"ROUND(E$2+ (('coded NOLH for 17-22 factors'!E83-1)*(E$3-E$2) )/128, E$4 )","v":84},{"$f":"ROUND(F$2+ (('coded NOLH for 17-22 factors'!F83-1)*(F$3-F$2) )/128, F$4 )","v":118},{"$f":"ROUND(G$2+ (('coded NOLH for 17-22 factors'!G83-1)*(G$3-G$2) )/128, G$4 )","v":99},{"$f":"ROUND(H$2+ (('coded NOLH for 17-22 factors'!H83-1)*(H$3-H$2) )/128, H$4 )","v":12},{"$f":"ROUND(I$2+ (('coded NOLH for 17-22 factors'!I83-1)*(I$3-I$2) )/128, I$4 )","v":60},{"$f":"ROUND(J$2+ (('coded NOLH for 17-22 factors'!J83-1)*(J$3-J$2) )/128, J$4 )","v":103},{"$f":"ROUND(K$2+ (('coded NOLH for 17-22 factors'!K83-1)*(K$3-K$2) )/128, K$4 )","v":79},{"$f":"ROUND(L$2+ (('coded NOLH for 17-22 factors'!L83-1)*(L$3-L$2) )/128, L$4 )","v":127},{"$f":"ROUND(M$2+ (('coded NOLH for 17-22 factors'!M83-1)*(M$3-M$2) )/128, M$4 )","v":88},{"$f":"ROUND(N$2+ (('coded NOLH for 17-22 factors'!N83-1)*(N$3-N$2) )/128, N$4 )","v":21},{"$f":"ROUND(O$2+ (('coded NOLH for 17-22 factors'!O83-1)*(O$3-O$2) )/128, O$4 )","v":9},{"$f":"ROUND(P$2+ (('coded NOLH for 17-22 factors'!P83-1)*(P$3-P$2) )/128, P$4 )","v":83},{"$f":"ROUND(Q$2+ (('coded NOLH for 17-22 factors'!Q83-1)*(Q$3-Q$2) )/128, Q$4 )","v":102},{"$f":"ROUND(R$2+ (('coded NOLH for 17-22 factors'!R83-1)*(R$3-R$2) )/128, R$4 )","v":43},{"$f":"ROUND(S$2+ (('coded NOLH for 17-22 factors'!S83-1)*(S$3-S$2) )/128, S$4 )","v":67},{"$f":"ROUND(T$2+ (('coded NOLH for 17-22 factors'!T83-1)*(T$3-T$2) )/128, T$4 )","v":66},{"$f":"ROUND(U$2+ (('coded NOLH for 17-22 factors'!U83-1)*(U$3-U$2) )/128, U$4 )","v":98},{"$f":"ROUND(V$2+ (('coded NOLH for 17-22 factors'!V83-1)*(V$3-V$2) )/128, V$4 )","v":40},{"$f":"ROUND(W$2+ (('coded NOLH for 17-22 factors'!W83-1)*(W$3-W$2) )/128, W$4 )","v":62}]
[null,{"$f":"ROUND(B$2+ (('coded NOLH for 17-22 factors'!B84-1)*(B$3-B$2) )/128, B$4 )","v":96},{"$f":"ROUND(C$2+ (('coded NOLH for 17-22 factors'!C84-1)*(C$3-C$2) )/128, C$4 )","v":62},{"$f":"ROUND(D$2+ (('coded NOLH for 17-22 factors'!D84-1)*(D$3-D$2) )/128, D$4 )","v":4},{"$f":"ROUND(E$2+ (('coded NOLH for 17-22 factors'!E84-1)*(E$3-E$2) )/128, E$4 )","v":100},{"$f":"ROUND(F$2+ (('coded NOLH for 17-22 factors'!F84-1)*(F$3-F$2) )/128, F$4 )","v":69},{"$f":"ROUND(G$2+ (('coded NOLH for 17-22 factors'!G84-1)*(G$3-G$2) )/128, G$4 )","v":102},{"$f":"ROUND(H$2+ (('coded NOLH for 17-22 factors'!H84-1)*(H$3-H$2) )/128, H$4 )","v":125},{"$f":"ROUND(I$2+ (('coded NOLH for 17-22 factors'!I84-1)*(I$3-I$2) )/128, I$4 )","v":111},{"$f":"ROUND(J$2+ (('coded NOLH for 17-22 factors'!J84-1)*(J$3-J$2) )/128, J$4 )","v":3},{"$f":"ROUND(K$2+ (('coded NOLH for 17-22 factors'!K84-1)*(K$3-K$2) )/128, K$4 )","v":26},{"$f":"ROUND(L$2+ (('coded NOLH for 17-22 factors'!L84-1)*(L$3-L$2) )/128, L$4 )","v":21},{"$f":"ROUND(M$2+ (('coded NOLH for 17-22 factors'!M84-1)*(M$3-M$2) )/128, M$4 )","v":33},{"$f":"ROUND(N$2+ (('coded NOLH for 17-22 factors'!N84-1)*(N$3-N$2) )/128, N$4 )","v":99},{"$f":"ROUND(O$2+ (('coded NOLH for 17-22 factors'!O84-1)*(O$3-O$2) )/128, O$4 )","v":62},{"$f":"ROUND(P$2+ (('coded NOLH for 17-22 factors'!P84-1)*(P$3-P$2) )/128, P$4 )","v":91},{"$f":"ROUND(Q$2+ (('coded NOLH for 17-22 factors'!Q84-1)*(Q$3-Q$2) )/128, Q$4 )","v":120},{"$f":"ROUND(R$2+ (('coded NOLH for 17-22 factors'!R84-1)*(R$3-R$2) )/128, R$4 )","v":49},{"$f":"ROUND(S$2+ (('coded NOLH for 17-22 factors'!S84-1)*(S$3-S$2) )/128, S$4 )","v":115},{"$f":"ROUND(T$2+ (('coded NOLH for 17-22 factors'!T84-1)*(T$3-T$2) )/128, T$4 )","v":111},{"$f":"ROUND(U$2+ (('coded NOLH for 17-22 factors'!U84-1)*(U$3-U$2) )/128, U$4 )","v":70},{"$f":"ROUND(V$2+ (('coded NOLH for 17-22 factors'!V84-1)*(V$3-V$2) )/128, V$4 )","v":32},{"$f":"ROUND(W$2+ (('coded NOLH for 17-22 factors'!W84-1)*(W$3-W$2) )/128, W$4 )","v":29}]
[null,{"$f":"ROUND(B$2+ (('coded NOLH for 17-22 factors'!B85-1)*(B$3-B$2) )/128, B$4 )","v":29},{"$f":"ROUND(C$2+ (('coded NOLH for 17-22 factors'!C85-1)*(C$3-C$2) )/128, C$4 )","v":33},{"$f":"ROUND(D$2+ (('coded NOLH for 17-22 factors'!D85-1)*(D$3-D$2) )/128, D$4 )","v":3},{"$f":"ROUND(E$2+ (('coded NOLH for 17-22 factors'!E85-1)*(E$3-E$2) )/128, E$4 )","v":125},{"$f":"ROUND(F$2+ (('coded NOLH for 17-22 factors'!F85-1)*(F$3-F$2) )/128, F$4 )","v":107},{"$f":"ROUND(G$2+ (('coded NOLH for 17-22 factors'!G85-1)*(G$3-G$2) )/128, G$4 )","v":63},{"$f":"ROUND(H$2+ (('coded NOLH for 17-22 factors'!H85-1)*(H$3-H$2) )/128, H$4 )","v":4},{"$f":"ROUND(I$2+ (('coded NOLH for 17-22 factors'!I85-1)*(I$3-I$2) )/128, I$4 )","v":36},{"$f":"ROUND(J$2+ (('coded NOLH for 17-22 factors'!J85-1)*(J$3-J$2) )/128, J$4 )","v":98},{"$f":"ROUND(K$2+ (('coded NOLH for 17-22 factors'!K85-1)*(K$3-K$2) )/128, K$4 )","v":75},{"$f":"ROUND(L$2+ (('coded NOLH for 17-22 factors'!L85-1)*(L$3-L$2) )/128, L$4 )","v":6},{"$f":"ROUND(M$2+ (('coded NOLH for 17-22 factors'!M85-1)*(M$3-M$2) )/128, M$4 )","v":50},{"$f":"ROUND(N$2+ (('coded NOLH for 17-22 factors'!N85-1)*(N$3-N$2) )/128, N$4 )","v":87},{"$f":"ROUND(O$2+ (('coded NOLH for 17-22 factors'!O85-1)*(O$3-O$2) )/128, O$4 )","v":54},{"$f":"ROUND(P$2+ (('coded NOLH for 17-22 factors'!P85-1)*(P$3-P$2) )/128, P$4 )","v":96},{"$f":"ROUND(Q$2+ (('coded NOLH for 17-22 factors'!Q85-1)*(Q$3-Q$2) )/128, Q$4 )","v":118},{"$f":"ROUND(R$2+ (('coded NOLH for 17-22 factors'!R85-1)*(R$3-R$2) )/128, R$4 )","v":3},{"$f":"ROUND(S$2+ (('coded NOLH for 17-22 factors'!S85-1)*(S$3-S$2) )/128, S$4 )","v":81},{"$f":"ROUND(T$2+ (('coded NOLH for 17-22 factors'!T85-1)*(T$3-T$2) )/128, T$4 )","v":56},{"$f":"ROUND(U$2+ (('coded NOLH for 17-22 factors'!U85-1)*(U$3-U$2) )/128, U$4 )","v":93},{"$f":"ROUND(V$2+ (('coded NOLH for 17-22 factors'!V85-1)*(V$3-V$2) )/128, V$4 )","v":15},{"$f":"ROUND(W$2+ (('coded NOLH for 17-22 factors'!W85-1)*(W$3-W$2) )/128, W$4 )","v":34}]
[null,{"$f":"ROUND(B$2+ (('coded NOLH for 17-22 factors'!B86-1)*(B$3-B$2) )/128, B$4 )","v":100},{"$f":"ROUND(C$2+ (('coded NOLH for 17-22 factors'!C86-1)*(C$3-C$2) )/128, C$4 )","v":106},{"$f":"ROUND(D$2+ (('coded NOLH for 17-22 factors'!D86-1)*(D$3-D$2) )/128, D$4 )","v":103},{"$f":"ROUND(E$2+ (('coded NOLH for 17-22 factors'!E86-1)*(E$3-E$2) )/128, E$4 )","v":34},{"$f":"ROUND(F$2+ (('coded NOLH for 17-22 factors'!F86-1)*(F$3-F$2) )/128, F$4 )","v":124},{"$f":"ROUND(G$2+ (('coded NOLH for 17-22 factors'!G86-1)*(G$3-G$2) )/128, G$4 )","v":40},{"$f":"ROUND(H$2+ (('coded NOLH for 17-22 factors'!H86-1)*(H$3-H$2) )/128, H$4 )","v":41},{"$f":"ROUND(I$2+ (('coded NOLH for 17-22 factors'!I86-1)*(I$3-I$2) )/128, I$4 )","v":66},{"$f":"ROUND(J$2+ (('coded NOLH for 17-22 factors'!J86-1)*(J$3-J$2) )/128, J$4 )","v":102},{"$f":"ROUND(K$2+ (('coded NOLH for 17-22 factors'!K86-1)*(K$3-K$2) )/128, K$4 )","v":53},{"$f":"ROUND(L$2+ (('coded NOLH for 17-22 factors'!L86-1)*(L$3-L$2) )/128, L$4 )","v":49},{"$f":"ROUND(M$2+ (('coded NOLH for 17-22 factors'!M86-1)*(M$3-M$2) )/128, M$4 )","v":52},{"$f":"ROUND(N$2+ (('coded NOLH for 17-22 factors'!N86-1)*(N$3-N$2) )/128, N$4 )","v":103},{"$f":"ROUND(O$2+ (('coded NOLH for 17-22 factors'!O86-1)*(O$3-O$2) )/128, O$4 )","v":2},{"$f":"ROUND(P$2+ (('coded NOLH for 17-22 factors'!P86-1)*(P$3-P$2) )/128, P$4 )","v":124},{"$f":"ROUND(Q$2+ (('coded NOLH for 17-22 factors'!Q86-1)*(Q$3-Q$2) )/128, Q$4 )","v":29},{"$f":"ROUND(R$2+ (('coded NOLH for 17-22 factors'!R86-1)*(R$3-R$2) )/128, R$4 )","v":120},{"$f":"ROUND(S$2+ (('coded NOLH for 17-22 factors'!S86-1)*(S$3-S$2) )/128, S$4 )","v":14},{"$f":"ROUND(T$2+ (('coded NOLH for 17-22 factors'!T86-1)*(T$3-T$2) )/128, T$4 )","v":23},{"$f":"ROUND(U$2+ (('coded NOLH for 17-22 factors'!U86-1)*(U$3-U$2) )/128, U$4 )","v":120},{"$f":"ROUND(V$2+ (('coded NOLH for 17-22 factors'!V86-1)*(V$3-V$2) )/128, V$4 )","v":71},{"$f":"ROUND(W$2+ (('coded NOLH for 17-22 factors'!W86-1)*(W$3-W$2) )/128, W$4 )","v":5}]
[null,{"$f":"ROUND(B$2+ (('coded NOLH for 17-22 factors'!B87-1)*(B$3-B$2) )/128, B$4 )","v":5},{"$f":"ROUND(C$2+ (('coded NOLH for 17-22 factors'!C87-1)*(C$3-C$2) )/128, C$4 )","v":84},{"$f":"ROUND(D$2+ (('coded NOLH for 17-22 factors'!D87-1)*(D$3-D$2) )/128, D$4 )","v":95},{"$f":"ROUND(E$2+ (('coded NOLH for 17-22 factors'!E87-1)*(E$3-E$2) )/128, E$4 )","v":29},{"$f":"ROUND(F$2+ (('coded NOLH for 17-22 factors'!F87-1)*(F$3-F$2) )/128, F$4 )","v":75},{"$f":"ROUND(G$2+ (('coded NOLH for 17-22 factors'!G87-1)*(G$3-G$2) )/128, G$4 )","v":104},{"$f":"ROUND(H$2+ (('coded NOLH for 17-22 factors'!H87-1)*(H$3-H$2) )/128, H$4 )","v":110},{"$f":"ROUND(I$2+ (('coded NOLH for 17-22 factors'!I87-1)*(I$3-I$2) )/128, I$4 )","v":68},{"$f":"ROUND(J$2+ (('coded NOLH for 17-22 factors'!J87-1)*(J$3-J$2) )/128, J$4 )","v":34},{"$f":"ROUND(K$2+ (('coded NOLH for 17-22 factors'!K87-1)*(K$3-K$2) )/128, K$4 )","v":124},{"$f":"ROUND(L$2+ (('coded NOLH for 17-22 factors'!L87-1)*(L$3-L$2) )/128, L$4 )","v":53},{"$f":"ROUND(M$2+ (('coded NOLH for 17-22 factors'!M87-1)*(M$3-M$2) )/128, M$4 )","v":37},{"$f":"ROUND(N$2+ (('coded NOLH for 17-22 factors'!N87-1)*(N$3-N$2) )/128, N$4 )","v":73},{"$f":"ROUND(O$2+ (('coded NOLH for 17-22 factors'!O87-1)*(O$3-O$2) )/128, O$4 )","v":50},{"$f":"ROUND(P$2+ (('coded NOLH for 17-22 factors'!P87-1)*(P$3-P$2) )/128, P$4 )","v":119},{"$f":"ROUND(Q$2+ (('coded NOLH for 17-22 factors'!Q87-1)*(Q$3-Q$2) )/128, Q$4 )","v":42},{"$f":"ROUND(R$2+ (('coded NOLH for 17-22 factors'!R87-1)*(R$3-R$2) )/128, R$4 )","v":68},{"$f":"ROUND(S$2+ (('coded NOLH for 17-22 factors'!S87-1)*(S$3-S$2) )/128, S$4 )","v":30},{"$f":"ROUND(T$2+ (('coded NOLH for 17-22 factors'!T87-1)*(T$3-T$2) )/128, T$4 )","v":7},{"$f":"ROUND(U$2+ (('coded NOLH for 17-22 factors'!U87-1)*(U$3-U$2) )/128, U$4 )","v":91},{"$f":"ROUND(V$2+ (('coded NOLH for 17-22 factors'!V87-1)*(V$3-V$2) )/128, V$4 )","v":70},{"$f":"ROUND(W$2+ (('coded NOLH for 17-22 factors'!W87-1)*(W$3-W$2) )/128, W$4 )","v":30}]
[null,{"$f":"ROUND(B$2+ (('coded NOLH for 17-22 factors'!B88-1)*(B$3-B$2) )/128, B$4 )","v":106},{"$f":"ROUND(C$2+ (('coded NOLH for 17-22 factors'!C88-1)*(C$3-C$2) )/128, C$4 )","v":30},{"$f":"ROUND(D$2+ (('coded NOLH for 17-22 factors'!D88-1)*(D$3-D$2) )/128, D$4 )","v":93},{"$f":"ROUND(E$2+ (('coded NOLH for 17-22 factors'!E88-1)*(E$3-E$2) )/128, E$4 )","v":62},{"$f":"ROUND(F$2+ (('coded NOLH for 17-22 factors'!F88-1)*(F$3-F$2) )/128, F$4 )","v":102},{"$f":"ROUND(G$2+ (('coded NOLH for 17-22 factors'!G88-1)*(G$3-G$2) )/128, G$4 )","v":125},{"$f":"ROUND(H$2+ (('coded NOLH for 17-22 factors'!H88-1)*(H$3-H$2) )/128, H$4 )","v":42},{"$f":"ROUND(I$2+ (('coded NOLH for 17-22 factors'!I88-1)*(I$3-I$2) )/128, I$4 )","v":61},{"$f":"ROUND(J$2+ (('coded NOLH for 17-22 factors'!J88-1)*(J$3-J$2) )/128, J$4 )","v":99},{"$f":"ROUND(K$2+ (('coded NOLH for 17-22 factors'!K88-1)*(K$3-K$2) )/128, K$4 )","v":11},{"$f":"ROUND(L$2+ (('coded NOLH for 17-22 factors'!L88-1)*(L$3-L$2) )/128, L$4 )","v":89},{"$f":"ROUND(M$2+ (('coded NOLH for 17-22 factors'!M88-1)*(M$3-M$2) )/128, M$4 )","v":67},{"$f":"ROUND(N$2+ (('coded NOLH for 17-22 factors'!N88-1)*(N$3-N$2) )/128, N$4 )","v":38},{"$f":"ROUND(O$2+ (('coded NOLH for 17-22 factors'!O88-1)*(O$3-O$2) )/128, O$4 )","v":6},{"$f":"ROUND(P$2+ (('coded NOLH for 17-22 factors'!P88-1)*(P$3-P$2) )/128, P$4 )","v":121},{"$f":"ROUND(Q$2+ (('coded NOLH for 17-22 factors'!Q88-1)*(Q$3-Q$2) )/128, Q$4 )","v":43},{"$f":"ROUND(R$2+ (('coded NOLH for 17-22 factors'!R88-1)*(R$3-R$2) )/128, R$4 )","v":122},{"$f":"ROUND(S$2+ (('coded NOLH for 17-22 factors'!S88-1)*(S$3-S$2) )/128, S$4 )","v":76},{"$f":"ROUND(T$2+ (('coded NOLH for 17-22 factors'!T88-1)*(T$3-T$2) )/128, T$4 )","v":80},{"$f":"ROUND(U$2+ (('coded NOLH for 17-22 factors'!U88-1)*(U$3-U$2) )/128, U$4 )","v":89},{"$f":"ROUND(V$2+ (('coded NOLH for 17-22 factors'!V88-1)*(V$3-V$2) )/128, V$4 )","v":94},{"$f":"ROUND(W$2+ (('coded NOLH for 17-22 factors'!W88-1)*(W$3-W$2) )/128, W$4 )","v":46}]
[null,{"$f":"ROUND(B$2+ (('coded NOLH for 17-22 factors'!B89-1)*(B$3-B$2) )/128, B$4 )","v":46},{"$f":"ROUND(C$2+ (('coded NOLH for 17-22 factors'!C89-1)*(C$3-C$2) )/128, C$4 )","v":5},{"$f":"ROUND(D$2+ (('coded NOLH for 17-22 factors'!D89-1)*(D$3-D$2) )/128, D$4 )","v":80},{"$f":"ROUND(E$2+ (('coded NOLH for 17-22 factors'!E89-1)*(E$3-E$2) )/128, E$4 )","v":33},{"$f":"ROUND(F$2+ (('coded NOLH for 17-22 factors'!F89-1)*(F$3-F$2) )/128, F$4 )","v":113},{"$f":"ROUND(G$2+ (('coded NOLH for 17-22 factors'!G89-1)*(G$3-G$2) )/128, G$4 )","v":27},{"$f":"ROUND(H$2+ (('coded NOLH for 17-22 factors'!H89-1)*(H$3-H$2) )/128, H$4 )","v":85},{"$f":"ROUND(I$2+ (('coded NOLH for 17-22 factors'!I89-1)*(I$3-I$2) )/128, I$4 )","v":109},{"$f":"ROUND(J$2+ (('coded NOLH for 17-22 factors'!J89-1)*(J$3-J$2) )/128, J$4 )","v":60},{"$f":"ROUND(K$2+ (('coded NOLH for 17-22 factors'!K89-1)*(K$3-K$2) )/128, K$4 )","v":98},{"$f":"ROUND(L$2+ (('coded NOLH for 17-22 factors'!L89-1)*(L$3-L$2) )/128, L$4 )","v":122},{"$f":"ROUND(M$2+ (('coded NOLH for 17-22 factors'!M89-1)*(M$3-M$2) )/128, M$4 )","v":69},{"$f":"ROUND(N$2+ (('coded NOLH for 17-22 factors'!N89-1)*(N$3-N$2) )/128, N$4 )","v":45},{"$f":"ROUND(O$2+ (('coded NOLH for 17-22 factors'!O89-1)*(O$3-O$2) )/128, O$4 )","v":51},{"$f":"ROUND(P$2+ (('coded NOLH for 17-22 factors'!P89-1)*(P$3-P$2) )/128, P$4 )","v":127},{"$f":"ROUND(Q$2+ (('coded NOLH for 17-22 factors'!Q89-1)*(Q$3-Q$2) )/128, Q$4 )","v":52},{"$f":"ROUND(R$2+ (('coded NOLH for 17-22 factors'!R89-1)*(R$3-R$2) )/128, R$4 )","v":83},{"$f":"ROUND(S$2+ (('coded NOLH for 17-22 factors'!S89-1)*(S$3-S$2) )/128, S$4 )","v":123},{"$f":"ROUND(T$2+ (('coded NOLH for 17-22 factors'!T89-1)*(T$3-T$2) )/128, T$4 )","v":63},{"$f":"ROUND(U$2+ (('coded NOLH for 17-22 factors'!U89-1)*(U$3-U$2) )/128, U$4 )","v":99},{"$f":"ROUND(V$2+ (('coded NOLH for 17-22 factors'!V89-1)*(V$3-V$2) )/128, V$4 )","v":82},{"$f":"ROUND(W$2+ (('coded NOLH for 17-22 factors'!W89-1)*(W$3-W$2) )/128, W$4 )","v":24}]
[null,{"$f":"ROUND(B$2+ (('coded NOLH for 17-22 factors'!B90-1)*(B$3-B$2) )/128, B$4 )","v":93},{"$f":"ROUND(C$2+ (('coded NOLH for 17-22 factors'!C90-1)*(C$3-C$2) )/128, C$4 )","v":103},{"$f":"ROUND(D$2+ (('coded NOLH for 17-22 factors'!D90-1)*(D$3-D$2) )/128, D$4 )","v":24},{"$f":"ROUND(E$2+ (('coded NOLH for 17-22 factors'!E90-1)*(E$3-E$2) )/128, E$4 )","v":7},{"$f":"ROUND(F$2+ (('coded NOLH for 17-22 factors'!F90-1)*(F$3-F$2) )/128, F$4 )","v":66},{"$f":"ROUND(G$2+ (('coded NOLH for 17-22 factors'!G90-1)*(G$3-G$2) )/128, G$4 )","v":44},{"$f":"ROUND(H$2+ (('coded NOLH for 17-22 factors'!H90-1)*(H$3-H$2) )/128, H$4 )","v":90},{"$f":"ROUND(I$2+ (('coded NOLH for 17-22 factors'!I90-1)*(I$3-I$2) )/128, I$4 )","v":1},{"$f":"ROUND(J$2+ (('coded NOLH for 17-22 factors'!J90-1)*(J$3-J$2) )/128, J$4 )","v":116},{"$f":"ROUND(K$2+ (('coded NOLH for 17-22 factors'!K90-1)*(K$3-K$2) )/128, K$4 )","v":47},{"$f":"ROUND(L$2+ (('coded NOLH for 17-22 factors'!L90-1)*(L$3-L$2) )/128, L$4 )","v":107},{"$f":"ROUND(M$2+ (('coded NOLH for 17-22 factors'!M90-1)*(M$3-M$2) )/128, M$4 )","v":4},{"$f":"ROUND(N$2+ (('coded NOLH for 17-22 factors'!N90-1)*(N$3-N$2) )/128, N$4 )","v":127},{"$f":"ROUND(O$2+ (('coded NOLH for 17-22 factors'!O90-1)*(O$3-O$2) )/128, O$4 )","v":71},{"$f":"ROUND(P$2+ (('coded NOLH for 17-22 factors'!P90-1)*(P$3-P$2) )/128, P$4 )","v":24},{"$f":"ROUND(Q$2+ (('coded NOLH for 17-22 factors'!Q90-1)*(Q$3-Q$2) )/128, Q$4 )","v":119},{"$f":"ROUND(R$2+ (('coded NOLH for 17-22 factors'!R90-1)*(R$3-R$2) )/128, R$4 )","v":115},{"$f":"ROUND(S$2+ (('coded NOLH for 17-22 factors'!S90-1)*(S$3-S$2) )/128, S$4 )","v":44},{"$f":"ROUND(T$2+ (('coded NOLH for 17-22 factors'!T90-1)*(T$3-T$2) )/128, T$4 )","v":2},{"$f":"ROUND(U$2+ (('coded NOLH for 17-22 factors'!U90-1)*(U$3-U$2) )/128, U$4 )","v":80},{"$f":"ROUND(V$2+ (('coded NOLH for 17-22 factors'!V90-1)*(V$3-V$2) )/128, V$4 )","v":99},{"$f":"ROUND(W$2+ (('coded NOLH for 17-22 factors'!W90-1)*(W$3-W$2) )/128, W$4 )","v":50}]
[null,{"$f":"ROUND(B$2+ (('coded NOLH for 17-22 factors'!B91-1)*(B$3-B$2) )/128, B$4 )","v":50},{"$f":"ROUND(C$2+ (('coded NOLH for 17-22 factors'!C91-1)*(C$3-C$2) )/128, C$4 )","v":95},{"$f":"ROUND(D$2+ (('coded NOLH for 17-22 factors'!D91-1)*(D$3-D$2) )/128, D$4 )","v":46},{"$f":"ROUND(E$2+ (('coded NOLH for 17-22 factors'!E91-1)*(E$3-E$2) )/128, E$4 )","v":11},{"$f":"ROUND(F$2+ (('coded NOLH for 17-22 factors'!F91-1)*(F$3-F$2) )/128, F$4 )","v":81},{"$f":"ROUND(G$2+ (('coded NOLH for 17-22 factors'!G91-1)*(G$3-G$2) )/128, G$4 )","v":113},{"$f":"ROUND(H$2+ (('coded NOLH for 17-22 factors'!H91-1)*(H$3-H$2) )/128, H$4 )","v":19},{"$f":"ROUND(I$2+ (('coded NOLH for 17-22 factors'!I91-1)*(I$3-I$2) )/128, I$4 )","v":95},{"$f":"ROUND(J$2+ (('coded NOLH for 17-22 factors'!J91-1)*(J$3-J$2) )/128, J$4 )","v":5},{"$f":"ROUND(K$2+ (('coded NOLH for 17-22 factors'!K91-1)*(K$3-K$2) )/128, K$4 )","v":57},{"$f":"ROUND(L$2+ (('coded NOLH for 17-22 factors'!L91-1)*(L$3-L$2) )/128, L$4 )","v":123},{"$f":"ROUND(M$2+ (('coded NOLH for 17-22 factors'!M91-1)*(M$3-M$2) )/128, M$4 )","v":55},{"$f":"ROUND(N$2+ (('coded NOLH for 17-22 factors'!N91-1)*(N$3-N$2) )/128, N$4 )","v":128},{"$f":"ROUND(O$2+ (('coded NOLH for 17-22 factors'!O91-1)*(O$3-O$2) )/128, O$4 )","v":113},{"$f":"ROUND(P$2+ (('coded NOLH for 17-22 factors'!P91-1)*(P$3-P$2) )/128, P$4 )","v":59},{"$f":"ROUND(Q$2+ (('coded NOLH for 17-22 factors'!Q91-1)*(Q$3-Q$2) )/128, Q$4 )","v":81},{"$f":"ROUND(R$2+ (('coded NOLH for 17-22 factors'!R91-1)*(R$3-R$2) )/128, R$4 )","v":107},{"$f":"ROUND(S$2+ (('coded NOLH for 17-22 factors'!S91-1)*(S$3-S$2) )/128, S$4 )","v":50},{"$f":"ROUND(T$2+ (('coded NOLH for 17-22 factors'!T91-1)*(T$3-T$2) )/128, T$4 )","v":17},{"$f":"ROUND(U$2+ (('coded NOLH for 17-22 factors'!U91-1)*(U$3-U$2) )/128, U$4 )","v":122},{"$f":"ROUND(V$2+ (('coded NOLH for 17-22 factors'!V91-1)*(V$3-V$2) )/128, V$4 )","v":128},{"$f":"ROUND(W$2+ (('coded NOLH for 17-22 factors'!W91-1)*(W$3-W$2) )/128, W$4 )","v":37}]
[null,{"$f":"ROUND(B$2+ (('coded NOLH for 17-22 factors'!B92-1)*(B$3-B$2) )/128, B$4 )","v":103},{"$f":"ROUND(C$2+ (('coded NOLH for 17-22 factors'!C92-1)*(C$3-C$2) )/128, C$4 )","v":37},{"$f":"ROUND(D$2+ (('coded NOLH for 17-22 factors'!D92-1)*(D$3-D$2) )/128, D$4 )","v":30},{"$f":"ROUND(E$2+ (('coded NOLH for 17-22 factors'!E92-1)*(E$3-E$2) )/128, E$4 )","v":4},{"$f":"ROUND(F$2+ (('coded NOLH for 17-22 factors'!F92-1)*(F$3-F$2) )/128, F$4 )","v":87},{"$f":"ROUND(G$2+ (('coded NOLH for 17-22 factors'!G92-1)*(G$3-G$2) )/128, G$4 )","v":85},{"$f":"ROUND(H$2+ (('coded NOLH for 17-22 factors'!H92-1)*(H$3-H$2) )/128, H$4 )","v":122},{"$f":"ROUND(I$2+ (('coded NOLH for 17-22 factors'!I92-1)*(I$3-I$2) )/128, I$4 )","v":8},{"$f":"ROUND(J$2+ (('coded NOLH for 17-22 factors'!J92-1)*(J$3-J$2) )/128, J$4 )","v":123},{"$f":"ROUND(K$2+ (('coded NOLH for 17-22 factors'!K92-1)*(K$3-K$2) )/128, K$4 )","v":17},{"$f":"ROUND(L$2+ (('coded NOLH for 17-22 factors'!L92-1)*(L$3-L$2) )/128, L$4 )","v":26},{"$f":"ROUND(M$2+ (('coded NOLH for 17-22 factors'!M92-1)*(M$3-M$2) )/128, M$4 )","v":124},{"$f":"ROUND(N$2+ (('coded NOLH for 17-22 factors'!N92-1)*(N$3-N$2) )/128, N$4 )","v":14},{"$f":"ROUND(O$2+ (('coded NOLH for 17-22 factors'!O92-1)*(O$3-O$2) )/128, O$4 )","v":78},{"$f":"ROUND(P$2+ (('coded NOLH for 17-22 factors'!P92-1)*(P$3-P$2) )/128, P$4 )","v":27},{"$f":"ROUND(Q$2+ (('coded NOLH for 17-22 factors'!Q92-1)*(Q$3-Q$2) )/128, Q$4 )","v":61},{"$f":"ROUND(R$2+ (('coded NOLH for 17-22 factors'!R92-1)*(R$3-R$2) )/128, R$4 )","v":108},{"$f":"ROUND(S$2+ (('coded NOLH for 17-22 factors'!S92-1)*(S$3-S$2) )/128, S$4 )","v":97},{"$f":"ROUND(T$2+ (('coded NOLH for 17-22 factors'!T92-1)*(T$3-T$2) )/128, T$4 )","v":25},{"$f":"ROUND(U$2+ (('coded NOLH for 17-22 factors'!U92-1)*(U$3-U$2) )/128, U$4 )","v":79},{"$f":"ROUND(V$2+ (('coded NOLH for 17-22 factors'!V92-1)*(V$3-V$2) )/128, V$4 )","v":92},{"$f":"ROUND(W$2+ (('coded NOLH for 17-22 factors'!W92-1)*(W$3-W$2) )/128, W$4 )","v":35}]
[null,{"$f":"ROUND(B$2+ (('coded NOLH for 17-22 factors'!B93-1)*(B$3-B$2) )/128, B$4 )","v":35},{"$f":"ROUND(C$2+ (('coded NOLH for 17-22 factors'!C93-1)*(C$3-C$2) )/128, C$4 )","v":50},{"$f":"ROUND(D$2+ (('coded NOLH for 17-22 factors'!D93-1)*(D$3-D$2) )/128, D$4 )","v":5},{"$f":"ROUND(E$2+ (('coded NOLH for 17-22 factors'!E93-1)*(E$3-E$2) )/128, E$4 )","v":3},{"$f":"ROUND(F$2+ (('coded NOLH for 17-22 factors'!F93-1)*(F$3-F$2) )/128, F$4 )","v":105},{"$f":"ROUND(G$2+ (('coded NOLH for 17-22 factors'!G93-1)*(G$3-G$2) )/128, G$4 )","v":49},{"$f":"ROUND(H$2+ (('coded NOLH for 17-22 factors'!H93-1)*(H$3-H$2) )/128, H$4 )","v":25},{"$f":"ROUND(I$2+ (('coded NOLH for 17-22 factors'!I93-1)*(I$3-I$2) )/128, I$4 )","v":93},{"$f":"ROUND(J$2+ (('coded NOLH for 17-22 factors'!J93-1)*(J$3-J$2) )/128, J$4 )","v":2},{"$f":"ROUND(K$2+ (('coded NOLH for 17-22 factors'!K93-1)*(K$3-K$2) )/128, K$4 )","v":78},{"$f":"ROUND(L$2+ (('coded NOLH for 17-22 factors'!L93-1)*(L$3-L$2) )/128, L$4 )","v":48},{"$f":"ROUND(M$2+ (('coded NOLH for 17-22 factors'!M93-1)*(M$3-M$2) )/128, M$4 )","v":113},{"$f":"ROUND(N$2+ (('coded NOLH for 17-22 factors'!N93-1)*(N$3-N$2) )/128, N$4 )","v":10},{"$f":"ROUND(O$2+ (('coded NOLH for 17-22 factors'!O93-1)*(O$3-O$2) )/128, O$4 )","v":92},{"$f":"ROUND(P$2+ (('coded NOLH for 17-22 factors'!P93-1)*(P$3-P$2) )/128, P$4 )","v":45},{"$f":"ROUND(Q$2+ (('coded NOLH for 17-22 factors'!Q93-1)*(Q$3-Q$2) )/128, Q$4 )","v":98},{"$f":"ROUND(R$2+ (('coded NOLH for 17-22 factors'!R93-1)*(R$3-R$2) )/128, R$4 )","v":126},{"$f":"ROUND(S$2+ (('coded NOLH for 17-22 factors'!S93-1)*(S$3-S$2) )/128, S$4 )","v":72},{"$f":"ROUND(T$2+ (('coded NOLH for 17-22 factors'!T93-1)*(T$3-T$2) )/128, T$4 )","v":47},{"$f":"ROUND(U$2+ (('coded NOLH for 17-22 factors'!U93-1)*(U$3-U$2) )/128, U$4 )","v":102},{"$f":"ROUND(V$2+ (('coded NOLH for 17-22 factors'!V93-1)*(V$3-V$2) )/128, V$4 )","v":121},{"$f":"ROUND(W$2+ (('coded NOLH for 17-22 factors'!W93-1)*(W$3-W$2) )/128, W$4 )","v":27}]
[null,{"$f":"ROUND(B$2+ (('coded NOLH for 17-22 factors'!B94-1)*(B$3-B$2) )/128, B$4 )","v":92},{"$f":"ROUND(C$2+ (('coded NOLH for 17-22 factors'!C94-1)*(C$3-C$2) )/128, C$4 )","v":99},{"$f":"ROUND(D$2+ (('coded NOLH for 17-22 factors'!D94-1)*(D$3-D$2) )/128, D$4 )","v":71},{"$f":"ROUND(E$2+ (('coded NOLH for 17-22 factors'!E94-1)*(E$3-E$2) )/128, E$4 )","v":51},{"$f":"ROUND(F$2+ (('coded NOLH for 17-22 factors'!F94-1)*(F$3-F$2) )/128, F$4 )","v":88},{"$f":"ROUND(G$2+ (('coded NOLH for 17-22 factors'!G94-1)*(G$3-G$2) )/128, G$4 )","v":2},{"$f":"ROUND(H$2+ (('coded NOLH for 17-22 factors'!H94-1)*(H$3-H$2) )/128, H$4 )","v":69},{"$f":"ROUND(I$2+ (('coded NOLH for 17-22 factors'!I94-1)*(I$3-I$2) )/128, I$4 )","v":96},{"$f":"ROUND(J$2+ (('coded NOLH for 17-22 factors'!J94-1)*(J$3-J$2) )/128, J$4 )","v":73},{"$f":"ROUND(K$2+ (('coded NOLH for 17-22 factors'!K94-1)*(K$3-K$2) )/128, K$4 )","v":24},{"$f":"ROUND(L$2+ (('coded NOLH for 17-22 factors'!L94-1)*(L$3-L$2) )/128, L$4 )","v":59},{"$f":"ROUND(M$2+ (('coded NOLH for 17-22 factors'!M94-1)*(M$3-M$2) )/128, M$4 )","v":74},{"$f":"ROUND(N$2+ (('coded NOLH for 17-22 factors'!N94-1)*(N$3-N$2) )/128, N$4 )","v":95},{"$f":"ROUND(O$2+ (('coded NOLH for 17-22 factors'!O94-1)*(O$3-O$2) )/128, O$4 )","v":116},{"$f":"ROUND(P$2+ (('coded NOLH for 17-22 factors'!P94-1)*(P$3-P$2) )/128, P$4 )","v":123},{"$f":"ROUND(Q$2+ (('coded NOLH for 17-22 factors'!Q94-1)*(Q$3-Q$2) )/128, Q$4 )","v":23},{"$f":"ROUND(R$2+ (('coded NOLH for 17-22 factors'!R94-1)*(R$3-R$2) )/128, R$4 )","v":86},{"$f":"ROUND(S$2+ (('coded NOLH for 17-22 factors'!S94-1)*(S$3-S$2) )/128, S$4 )","v":12},{"$f":"ROUND(T$2+ (('coded NOLH for 17-22 factors'!T94-1)*(T$3-T$2) )/128, T$4 )","v":112},{"$f":"ROUND(U$2+ (('coded NOLH for 17-22 factors'!U94-1)*(U$3-U$2) )/128, U$4 )","v":11},{"$f":"ROUND(V$2+ (('coded NOLH for 17-22 factors'!V94-1)*(V$3-V$2) )/128, V$4 )","v":27},{"$f":"ROUND(W$2+ (('coded NOLH for 17-22 factors'!W94-1)*(W$3-W$2) )/128, W$4 )","v":9}]
[null,{"$f":"ROUND(B$2+ (('coded NOLH for 17-22 factors'!B95-1)*(B$3-B$2) )/128, B$4 )","v":9},{"$f":"ROUND(C$2+ (('coded NOLH for 17-22 factors'!C95-1)*(C$3-C$2) )/128, C$4 )","v":128},{"$f":"ROUND(D$2+ (('coded NOLH for 17-22 factors'!D95-1)*(D$3-D$2) )/128, D$4 )","v":70},{"$f":"ROUND(E$2+ (('coded NOLH for 17-22 factors'!E95-1)*(E$3-E$2) )/128, E$4 )","v":56},{"$f":"ROUND(F$2+ (('coded NOLH for 17-22 factors'!F95-1)*(F$3-F$2) )/128, F$4 )","v":110},{"$f":"ROUND(G$2+ (('coded NOLH for 17-22 factors'!G95-1)*(G$3-G$2) )/128, G$4 )","v":92},{"$f":"ROUND(H$2+ (('coded NOLH for 17-22 factors'!H95-1)*(H$3-H$2) )/128, H$4 )","v":80},{"$f":"ROUND(I$2+ (('coded NOLH for 17-22 factors'!I95-1)*(I$3-I$2) )/128, I$4 )","v":25},{"$f":"ROUND(J$2+ (('coded NOLH for 17-22 factors'!J95-1)*(J$3-J$2) )/128, J$4 )","v":49},{"$f":"ROUND(K$2+ (('coded NOLH for 17-22 factors'!K95-1)*(K$3-K$2) )/128, K$4 )","v":92},{"$f":"ROUND(L$2+ (('coded NOLH for 17-22 factors'!L95-1)*(L$3-L$2) )/128, L$4 )","v":45},{"$f":"ROUND(M$2+ (('coded NOLH for 17-22 factors'!M95-1)*(M$3-M$2) )/128, M$4 )","v":86},{"$f":"ROUND(N$2+ (('coded NOLH for 17-22 factors'!N95-1)*(N$3-N$2) )/128, N$4 )","v":126},{"$f":"ROUND(O$2+ (('coded NOLH for 17-22 factors'!O95-1)*(O$3-O$2) )/128, O$4 )","v":104},{"$f":"ROUND(P$2+ (('coded NOLH for 17-22 factors'!P95-1)*(P$3-P$2) )/128, P$4 )","v":81},{"$f":"ROUND(Q$2+ (('coded NOLH for 17-22 factors'!Q95-1)*(Q$3-Q$2) )/128, Q$4 )","v":13},{"$f":"ROUND(R$2+ (('coded NOLH for 17-22 factors'!R95-1)*(R$3-R$2) )/128, R$4 )","v":110},{"$f":"ROUND(S$2+ (('coded NOLH for 17-22 factors'!S95-1)*(S$3-S$2) )/128, S$4 )","v":9},{"$f":"ROUND(T$2+ (('coded NOLH for 17-22 factors'!T95-1)*(T$3-T$2) )/128, T$4 )","v":81},{"$f":"ROUND(U$2+ (('coded NOLH for 17-22 factors'!U95-1)*(U$3-U$2) )/128, U$4 )","v":2},{"$f":"ROUND(V$2+ (('coded NOLH for 17-22 factors'!V95-1)*(V$3-V$2) )/128, V$4 )","v":35},{"$f":"ROUND(W$2+ (('coded NOLH for 17-22 factors'!W95-1)*(W$3-W$2) )/128, W$4 )","v":38}]
[null,{"$f":"ROUND(B$2+ (('coded NOLH for 17-22 factors'!B96-1)*(B$3-B$2) )/128, B$4 )","v":99},{"$f":"ROUND(C$2+ (('coded NOLH for 17-22 factors'!C96-1)*(C$3-C$2) )/128, C$4 )","v":38},{"$f":"ROUND(D$2+ (('coded NOLH for 17-22 factors'!D96-1)*(D$3-D$2) )/128, D$4 )","v":94},{"$f":"ROUND(E$2+ (('coded NOLH for 17-22 factors'!E96-1)*(E$3-E$2) )/128, E$4 )","v":1},{"$f":"ROUND(F$2+ (('coded NOLH for 17-22 factors'!F96-1)*(F$3-F$2) )/128, F$4 )","v":122},{"$f":"ROUND(G$2+ (('coded NOLH for 17-22 factors'!G96-1)*(G$3-G$2) )/128, G$4 )","v":114},{"$f":"ROUND(H$2+ (('coded NOLH for 17-22 factors'!H96-1)*(H$3-H$2) )/128, H$4 )","v":52},{"$f":"ROUND(I$2+ (('coded NOLH for 17-22 factors'!I96-1)*(I$3-I$2) )/128, I$4 )","v":90},{"$f":"ROUND(J$2+ (('coded NOLH for 17-22 factors'!J96-1)*(J$3-J$2) )/128, J$4 )","v":91},{"$f":"ROUND(K$2+ (('coded NOLH for 17-22 factors'!K96-1)*(K$3-K$2) )/128, K$4 )","v":22},{"$f":"ROUND(L$2+ (('coded NOLH for 17-22 factors'!L96-1)*(L$3-L$2) )/128, L$4 )","v":70},{"$f":"ROUND(M$2+ (('coded NOLH for 17-22 factors'!M96-1)*(M$3-M$2) )/128, M$4 )","v":39},{"$f":"ROUND(N$2+ (('coded NOLH for 17-22 factors'!N96-1)*(N$3-N$2) )/128, N$4 )","v":64},{"$f":"ROUND(O$2+ (('coded NOLH for 17-22 factors'!O96-1)*(O$3-O$2) )/128, O$4 )","v":107},{"$f":"ROUND(P$2+ (('coded NOLH for 17-22 factors'!P96-1)*(P$3-P$2) )/128, P$4 )","v":80},{"$f":"ROUND(Q$2+ (('coded NOLH for 17-22 factors'!Q96-1)*(Q$3-Q$2) )/128, Q$4 )","v":55},{"$f":"ROUND(R$2+ (('coded NOLH for 17-22 factors'!R96-1)*(R$3-R$2) )/128, R$4 )","v":66},{"$f":"ROUND(S$2+ (('coded NOLH for 17-22 factors'!S96-1)*(S$3-S$2) )/128, S$4 )","v":112},{"$f":"ROUND(T$2+ (('coded NOLH for 17-22 factors'!T96-1)*(T$3-T$2) )/128, T$4 )","v":100},{"$f":"ROUND(U$2+ (('coded NOLH for 17-22 factors'!U96-1)*(U$3-U$2) )/128, U$4 )","v":18},{"$f":"ROUND(V$2+ (('coded NOLH for 17-22 factors'!V96-1)*(V$3-V$2) )/128, V$4 )","v":37},{"$f":"ROUND(W$2+ (('coded NOLH for 17-22 factors'!W96-1)*(W$3-W$2) )/128, W$4 )","v":2}]
[null,{"$f":"ROUND(B$2+ (('coded NOLH for 17-22 factors'!B97-1)*(B$3-B$2) )/128, B$4 )","v":2},{"$f":"ROUND(C$2+ (('coded NOLH for 17-22 factors'!C97-1)*(C$3-C$2) )/128, C$4 )","v":9},{"$f":"ROUND(D$2+ (('coded NOLH for 17-22 factors'!D97-1)*(D$3-D$2) )/128, D$4 )","v":82},{"$f":"ROUND(E$2+ (('coded NOLH for 17-22 factors'!E97-1)*(E$3-E$2) )/128, E$4 )","v":39},{"$f":"ROUND(F$2+ (('coded NOLH for 17-22 factors'!F97-1)*(F$3-F$2) )/128, F$4 )","v":108},{"$f":"ROUND(G$2+ (('coded NOLH for 17-22 factors'!G97-1)*(G$3-G$2) )/128, G$4 )","v":33},{"$f":"ROUND(H$2+ (('coded NOLH for 17-22 factors'!H97-1)*(H$3-H$2) )/128, H$4 )","v":93},{"$f":"ROUND(I$2+ (('coded NOLH for 17-22 factors'!I97-1)*(I$3-I$2) )/128, I$4 )","v":54},{"$f":"ROUND(J$2+ (('coded NOLH for 17-22 factors'!J97-1)*(J$3-J$2) )/128, J$4 )","v":4},{"$f":"ROUND(K$2+ (('coded NOLH for 17-22 factors'!K97-1)*(K$3-K$2) )/128, K$4 )","v":122},{"$f":"ROUND(L$2+ (('coded NOLH for 17-22 factors'!L97-1)*(L$3-L$2) )/128, L$4 )","v":92},{"$f":"ROUND(M$2+ (('coded NOLH for 17-22 factors'!M97-1)*(M$3-M$2) )/128, M$4 )","v":25},{"$f":"ROUND(N$2+ (('coded NOLH for 17-22 factors'!N97-1)*(N$3-N$2) )/128, N$4 )","v":51},{"$f":"ROUND(O$2+ (('coded NOLH for 17-22 factors'!O97-1)*(O$3-O$2) )/128, O$4 )","v":125},{"$f":"ROUND(P$2+ (('coded NOLH for 17-22 factors'!P97-1)*(P$3-P$2) )/128, P$4 )","v":64},{"$f":"ROUND(Q$2+ (('coded NOLH for 17-22 factors'!Q97-1)*(Q$3-Q$2) )/128, Q$4 )","v":38},{"$f":"ROUND(R$2+ (('coded NOLH for 17-22 factors'!R97-1)*(R$3-R$2) )/128, R$4 )","v":102},{"$f":"ROUND(S$2+ (('coded NOLH for 17-22 factors'!S97-1)*(S$3-S$2) )/128, S$4 )","v":89},{"$f":"ROUND(T$2+ (('coded NOLH for 17-22 factors'!T97-1)*(T$3-T$2) )/128, T$4 )","v":73},{"$f":"ROUND(U$2+ (('coded NOLH for 17-22 factors'!U97-1)*(U$3-U$2) )/128, U$4 )","v":23},{"$f":"ROUND(V$2+ (('coded NOLH for 17-22 factors'!V97-1)*(V$3-V$2) )/128, V$4 )","v":50},{"$f":"ROUND(W$2+ (('coded NOLH for 17-22 factors'!W97-1)*(W$3-W$2) )/128, W$4 )","v":31}]
[null,{"$f":"ROUND(B$2+ (('coded NOLH for 17-22 factors'!B98-1)*(B$3-B$2) )/128, B$4 )","v":94},{"$f":"ROUND(C$2+ (('coded NOLH for 17-22 factors'!C98-1)*(C$3-C$2) )/128, C$4 )","v":71},{"$f":"ROUND(D$2+ (('coded NOLH for 17-22 factors'!D98-1)*(D$3-D$2) )/128, D$4 )","v":31},{"$f":"ROUND(E$2+ (('coded NOLH for 17-22 factors'!E98-1)*(E$3-E$2) )/128, E$4 )","v":58},{"$f":"ROUND(F$2+ (('coded NOLH for 17-22 factors'!F98-1)*(F$3-F$2) )/128, F$4 )","v":83},{"$f":"ROUND(G$2+ (('coded NOLH for 17-22 factors'!G98-1)*(G$3-G$2) )/128, G$4 )","v":60},{"$f":"ROUND(H$2+ (('coded NOLH for 17-22 factors'!H98-1)*(H$3-H$2) )/128, H$4 )","v":129},{"$f":"ROUND(I$2+ (('coded NOLH for 17-22 factors'!I98-1)*(I$3-I$2) )/128, I$4 )","v":81},{"$f":"ROUND(J$2+ (('coded NOLH for 17-22 factors'!J98-1)*(J$3-J$2) )/128, J$4 )","v":89},{"$f":"ROUND(K$2+ (('coded NOLH for 17-22 factors'!K98-1)*(K$3-K$2) )/128, K$4 )","v":69},{"$f":"ROUND(L$2+ (('coded NOLH for 17-22 factors'!L98-1)*(L$3-L$2) )/128, L$4 )","v":125},{"$f":"ROUND(M$2+ (('coded NOLH for 17-22 factors'!M98-1)*(M$3-M$2) )/128, M$4 )","v":120},{"$f":"ROUND(N$2+ (('coded NOLH for 17-22 factors'!N98-1)*(N$3-N$2) )/128, N$4 )","v":125},{"$f":"ROUND(O$2+ (('coded NOLH for 17-22 factors'!O98-1)*(O$3-O$2) )/128, O$4 )","v":43},{"$f":"ROUND(P$2+ (('coded NOLH for 17-22 factors'!P98-1)*(P$3-P$2) )/128, P$4 )","v":31},{"$f":"ROUND(Q$2+ (('coded NOLH for 17-22 factors'!Q98-1)*(Q$3-Q$2) )/128, Q$4 )","v":113},{"$f":"ROUND(R$2+ (('coded NOLH for 17-22 factors'!R98-1)*(R$3-R$2) )/128, R$4 )","v":73},{"$f":"ROUND(S$2+ (('coded NOLH for 17-22 factors'!S98-1)*(S$3-S$2) )/128, S$4 )","v":16},{"$f":"ROUND(T$2+ (('coded NOLH for 17-22 factors'!T98-1)*(T$3-T$2) )/128, T$4 )","v":119},{"$f":"ROUND(U$2+ (('coded NOLH for 17-22 factors'!U98-1)*(U$3-U$2) )/128, U$4 )","v":21},{"$f":"ROUND(V$2+ (('coded NOLH for 17-22 factors'!V98-1)*(V$3-V$2) )/128, V$4 )","v":24},{"$f":"ROUND(W$2+ (('coded NOLH for 17-22 factors'!W98-1)*(W$3-W$2) )/128, W$4 )","v":48}]
[null,{"$f":"ROUND(B$2+ (('coded NOLH for 17-22 factors'!B99-1)*(B$3-B$2) )/128, B$4 )","v":48},{"$f":"ROUND(C$2+ (('coded NOLH for 17-22 factors'!C99-1)*(C$3-C$2) )/128, C$4 )","v":70},{"$f":"ROUND(D$2+ (('coded NOLH for 17-22 factors'!D99-1)*(D$3-D$2) )/128, D$4 )","v":2},{"$f":"ROUND(E$2+ (('coded NOLH for 17-22 factors'!E99-1)*(E$3-E$2) )/128, E$4 )","v":40},{"$f":"ROUND(F$2+ (('coded NOLH for 17-22 factors'!F99-1)*(F$3-F$2) )/128, F$4 )","v":67},{"$f":"ROUND(G$2+ (('coded NOLH for 17-22 factors'!G99-1)*(G$3-G$2) )/128, G$4 )","v":75},{"$f":"ROUND(H$2+ (('coded NOLH for 17-22 factors'!H99-1)*(H$3-H$2) )/128, H$4 )","v":34},{"$f":"ROUND(I$2+ (('coded NOLH for 17-22 factors'!I99-1)*(I$3-I$2) )/128, I$4 )","v":12},{"$f":"ROUND(J$2+ (('coded NOLH for 17-22 factors'!J99-1)*(J$3-J$2) )/128, J$4 )","v":56},{"$f":"ROUND(K$2+ (('coded NOLH for 17-22 factors'!K99-1)*(K$3-K$2) )/128, K$4 )","v":84},{"$f":"ROUND(L$2+ (('coded NOLH for 17-22 factors'!L99-1)*(L$3-L$2) )/128, L$4 )","v":90},{"$f":"ROUND(M$2+ (('coded NOLH for 17-22 factors'!M99-1)*(M$3-M$2) )/128, M$4 )","v":110},{"$f":"ROUND(N$2+ (('coded NOLH for 17-22 factors'!N99-1)*(N$3-N$2) )/128, N$4 )","v":82},{"$f":"ROUND(O$2+ (('coded NOLH for 17-22 factors'!O99-1)*(O$3-O$2) )/128, O$4 )","v":39},{"$f":"ROUND(P$2+ (('coded NOLH for 17-22 factors'!P99-1)*(P$3-P$2) )/128, P$4 )","v":1},{"$f":"ROUND(Q$2+ (('coded NOLH for 17-22 factors'!Q99-1)*(Q$3-Q$2) )/128, Q$4 )","v":124},{"$f":"ROUND(R$2+ (('coded NOLH for 17-22 factors'!R99-1)*(R$3-R$2) )/128, R$4 )","v":84},{"$f":"ROUND(S$2+ (('coded NOLH for 17-22 factors'!S99-1)*(S$3-S$2) )/128, S$4 )","v":22},{"$f":"ROUND(T$2+ (('coded NOLH for 17-22 factors'!T99-1)*(T$3-T$2) )/128, T$4 )","v":89},{"$f":"ROUND(U$2+ (('coded NOLH for 17-22 factors'!U99-1)*(U$3-U$2) )/128, U$4 )","v":59},{"$f":"ROUND(V$2+ (('coded NOLH for 17-22 factors'!V99-1)*(V$3-V$2) )/128, V$4 )","v":46},{"$f":"ROUND(W$2+ (('coded NOLH for 17-22 factors'!W99-1)*(W$3-W$2) )/128, W$4 )","v":36}]
[null,{"$f":"ROUND(B$2+ (('coded NOLH for 17-22 factors'!B100-1)*(B$3-B$2) )/128, B$4 )","v":71},{"$f":"ROUND(C$2+ (('coded NOLH for 17-22 factors'!C100-1)*(C$3-C$2) )/128, C$4 )","v":36},{"$f":"ROUND(D$2+ (('coded NOLH for 17-22 factors'!D100-1)*(D$3-D$2) )/128, D$4 )","v":38},{"$f":"ROUND(E$2+ (('coded NOLH for 17-22 factors'!E100-1)*(E$3-E$2) )/128, E$4 )","v":32},{"$f":"ROUND(F$2+ (('coded NOLH for 17-22 factors'!F100-1)*(F$3-F$2) )/128, F$4 )","v":120},{"$f":"ROUND(G$2+ (('coded NOLH for 17-22 factors'!G100-1)*(G$3-G$2) )/128, G$4 )","v":79},{"$f":"ROUND(H$2+ (('coded NOLH for 17-22 factors'!H100-1)*(H$3-H$2) )/128, H$4 )","v":124},{"$f":"ROUND(I$2+ (('coded NOLH for 17-22 factors'!I100-1)*(I$3-I$2) )/128, I$4 )","v":128},{"$f":"ROUND(J$2+ (('coded NOLH for 17-22 factors'!J100-1)*(J$3-J$2) )/128, J$4 )","v":113},{"$f":"ROUND(K$2+ (('coded NOLH for 17-22 factors'!K100-1)*(K$3-K$2) )/128, K$4 )","v":18},{"$f":"ROUND(L$2+ (('coded NOLH for 17-22 factors'!L100-1)*(L$3-L$2) )/128, L$4 )","v":9},{"$f":"ROUND(M$2+ (('coded NOLH for 17-22 factors'!M100-1)*(M$3-M$2) )/128, M$4 )","v":26},{"$f":"ROUND(N$2+ (('coded NOLH for 17-22 factors'!N100-1)*(N$3-N$2) )/128, N$4 )","v":60},{"$f":"ROUND(O$2+ (('coded NOLH for 17-22 factors'!O100-1)*(O$3-O$2) )/128, O$4 )","v":46},{"$f":"ROUND(P$2+ (('coded NOLH for 17-22 factors'!P100-1)*(P$3-P$2) )/128, P$4 )","v":57},{"$f":"ROUND(Q$2+ (('coded NOLH for 17-22 factors'!Q100-1)*(Q$3-Q$2) )/128, Q$4 )","v":122},{"$f":"ROUND(R$2+ (('coded NOLH for 17-22 factors'!R100-1)*(R$3-R$2) )/128, R$4 )","v":106},{"$f":"ROUND(S$2+ (('coded NOLH for 17-22 factors'!S100-1)*(S$3-S$2) )/128, S$4 )","v":68},{"$f":"ROUND(T$2+ (('coded NOLH for 17-22 factors'!T100-1)*(T$3-T$2) )/128, T$4 )","v":62},{"$f":"ROUND(U$2+ (('coded NOLH for 17-22 factors'!U100-1)*(U$3-U$2) )/128, U$4 )","v":29},{"$f":"ROUND(V$2+ (('coded NOLH for 17-22 factors'!V100-1)*(V$3-V$2) )/128, V$4 )","v":30},{"$f":"ROUND(W$2+ (('coded NOLH for 17-22 factors'!W100-1)*(W$3-W$2) )/128, W$4 )","v":60}]
[null,{"$f":"ROUND(B$2+ (('coded NOLH for 17-22 factors'!B101-1)*(B$3-B$2) )/128, B$4 )","v":60},{"$f":"ROUND(C$2+ (('coded NOLH for 17-22 factors'!C101-1)*(C$3-C$2) )/128, C$4 )","v":48},{"$f":"ROUND(D$2+ (('coded NOLH for 17-22 factors'!D101-1)*(D$3-D$2) )/128, D$4 )","v":9},{"$f":"ROUND(E$2+ (('coded NOLH for 17-22 factors'!E101-1)*(E$3-E$2) )/128, E$4 )","v":15},{"$f":"ROUND(F$2+ (('coded NOLH for 17-22 factors'!F101-1)*(F$3-F$2) )/128, F$4 )","v":112},{"$f":"ROUND(G$2+ (('coded NOLH for 17-22 factors'!G101-1)*(G$3-G$2) )/128, G$4 )","v":35},{"$f":"ROUND(H$2+ (('coded NOLH for 17-22 factors'!H101-1)*(H$3-H$2) )/128, H$4 )","v":44},{"$f":"ROUND(I$2+ (('coded NOLH for 17-22 factors'!I101-1)*(I$3-I$2) )/128, I$4 )","v":31},{"$f":"ROUND(J$2+ (('coded NOLH for 17-22 factors'!J101-1)*(J$3-J$2) )/128, J$4 )","v":29},{"$f":"ROUND(K$2+ (('coded NOLH for 17-22 factors'!K101-1)*(K$3-K$2) )/128, K$4 )","v":126},{"$f":"ROUND(L$2+ (('coded NOLH for 17-22 factors'!L101-1)*(L$3-L$2) )/128, L$4 )","v":35},{"$f":"ROUND(M$2+ (('coded NOLH for 17-22 factors'!M101-1)*(M$3-M$2) )/128, M$4 )","v":40},{"$f":"ROUND(N$2+ (('coded NOLH for 17-22 factors'!N101-1)*(N$3-N$2) )/128, N$4 )","v":42},{"$f":"ROUND(O$2+ (('coded NOLH for 17-22 factors'!O101-1)*(O$3-O$2) )/128, O$4 )","v":41},{"$f":"ROUND(P$2+ (('coded NOLH for 17-22 factors'!P101-1)*(P$3-P$2) )/128, P$4 )","v":35},{"$f":"ROUND(Q$2+ (('coded NOLH for 17-22 factors'!Q101-1)*(Q$3-Q$2) )/128, Q$4 )","v":96},{"$f":"ROUND(R$2+ (('coded NOLH for 17-22 factors'!R101-1)*(R$3-R$2) )/128, R$4 )","v":78},{"$f":"ROUND(S$2+ (('coded NOLH for 17-22 factors'!S101-1)*(S$3-S$2) )/128, S$4 )","v":91},{"$f":"ROUND(T$2+ (('coded NOLH for 17-22 factors'!T101-1)*(T$3-T$2) )/128, T$4 )","v":124},{"$f":"ROUND(U$2+ (('coded NOLH for 17-22 factors'!U101-1)*(U$3-U$2) )/128, U$4 )","v":54},{"$f":"ROUND(V$2+ (('coded NOLH for 17-22 factors'!V101-1)*(V$3-V$2) )/128, V$4 )","v":5},{"$f":"ROUND(W$2+ (('coded NOLH for 17-22 factors'!W101-1)*(W$3-W$2) )/128, W$4 )","v":59}]
[null,{"$f":"ROUND(B$2+ (('coded NOLH for 17-22 factors'!B102-1)*(B$3-B$2) )/128, B$4 )","v":120},{"$f":"ROUND(C$2+ (('coded NOLH for 17-22 factors'!C102-1)*(C$3-C$2) )/128, C$4 )","v":83},{"$f":"ROUND(D$2+ (('coded NOLH for 17-22 factors'!D102-1)*(D$3-D$2) )/128, D$4 )","v":88},{"$f":"ROUND(E$2+ (('coded NOLH for 17-22 factors'!E102-1)*(E$3-E$2) )/128, E$4 )","v":86},{"$f":"ROUND(F$2+ (('coded NOLH for 17-22 factors'!F102-1)*(F$3-F$2) )/128, F$4 )","v":59},{"$f":"ROUND(G$2+ (('coded NOLH for 17-22 factors'!G102-1)*(G$3-G$2) )/128, G$4 )","v":66},{"$f":"ROUND(H$2+ (('coded NOLH for 17-22 factors'!H102-1)*(H$3-H$2) )/128, H$4 )","v":13},{"$f":"ROUND(I$2+ (('coded NOLH for 17-22 factors'!I102-1)*(I$3-I$2) )/128, I$4 )","v":57},{"$f":"ROUND(J$2+ (('coded NOLH for 17-22 factors'!J102-1)*(J$3-J$2) )/128, J$4 )","v":13},{"$f":"ROUND(K$2+ (('coded NOLH for 17-22 factors'!K102-1)*(K$3-K$2) )/128, K$4 )","v":63},{"$f":"ROUND(L$2+ (('coded NOLH for 17-22 factors'!L102-1)*(L$3-L$2) )/128, L$4 )","v":14},{"$f":"ROUND(M$2+ (('coded NOLH for 17-22 factors'!M102-1)*(M$3-M$2) )/128, M$4 )","v":34},{"$f":"ROUND(N$2+ (('coded NOLH for 17-22 factors'!N102-1)*(N$3-N$2) )/128, N$4 )","v":56},{"$f":"ROUND(O$2+ (('coded NOLH for 17-22 factors'!O102-1)*(O$3-O$2) )/128, O$4 )","v":20},{"$f":"ROUND(P$2+ (('coded NOLH for 17-22 factors'!P102-1)*(P$3-P$2) )/128, P$4 )","v":46},{"$f":"ROUND(Q$2+ (('coded NOLH for 17-22 factors'!Q102-1)*(Q$3-Q$2) )/128, Q$4 )","v":116},{"$f":"ROUND(R$2+ (('coded NOLH for 17-22 factors'!R102-1)*(R$3-R$2) )/128, R$4 )","v":124},{"$f":"ROUND(S$2+ (('coded NOLH for 17-22 factors'!S102-1)*(S$3-S$2) )/128, S$4 )","v":78},{"$f":"ROUND(T$2+ (('coded NOLH for 17-22 factors'!T102-1)*(T$3-T$2) )/128, T$4 )","v":129},{"$f":"ROUND(U$2+ (('coded NOLH for 17-22 factors'!U102-1)*(U$3-U$2) )/128, U$4 )","v":15},{"$f":"ROUND(V$2+ (('coded NOLH for 17-22 factors'!V102-1)*(V$3-V$2) )/128, V$4 )","v":124},{"$f":"ROUND(W$2+ (('coded NOLH for 17-22 factors'!W102-1)*(W$3-W$2) )/128, W$4 )","v":18}]
[null,{"$f":"ROUND(B$2+ (('coded NOLH for 17-22 factors'!B103-1)*(B$3-B$2) )/128, B$4 )","v":18},{"$f":"ROUND(C$2+ (('coded NOLH for 17-22 factors'!C103-1)*(C$3-C$2) )/128, C$4 )","v":67},{"$f":"ROUND(D$2+ (('coded NOLH for 17-22 factors'!D103-1)*(D$3-D$2) )/128, D$4 )","v":110},{"$f":"ROUND(E$2+ (('coded NOLH for 17-22 factors'!E103-1)*(E$3-E$2) )/128, E$4 )","v":117},{"$f":"ROUND(F$2+ (('coded NOLH for 17-22 factors'!F103-1)*(F$3-F$2) )/128, F$4 )","v":60},{"$f":"ROUND(G$2+ (('coded NOLH for 17-22 factors'!G103-1)*(G$3-G$2) )/128, G$4 )","v":78},{"$f":"ROUND(H$2+ (('coded NOLH for 17-22 factors'!H103-1)*(H$3-H$2) )/128, H$4 )","v":81},{"$f":"ROUND(I$2+ (('coded NOLH for 17-22 factors'!I103-1)*(I$3-I$2) )/128, I$4 )","v":125},{"$f":"ROUND(J$2+ (('coded NOLH for 17-22 factors'!J103-1)*(J$3-J$2) )/128, J$4 )","v":87},{"$f":"ROUND(K$2+ (('coded NOLH for 17-22 factors'!K103-1)*(K$3-K$2) )/128, K$4 )","v":62},{"$f":"ROUND(L$2+ (('coded NOLH for 17-22 factors'!L103-1)*(L$3-L$2) )/128, L$4 )","v":13},{"$f":"ROUND(M$2+ (('coded NOLH for 17-22 factors'!M103-1)*(M$3-M$2) )/128, M$4 )","v":7},{"$f":"ROUND(N$2+ (('coded NOLH for 17-22 factors'!N103-1)*(N$3-N$2) )/128, N$4 )","v":68},{"$f":"ROUND(O$2+ (('coded NOLH for 17-22 factors'!O103-1)*(O$3-O$2) )/128, O$4 )","v":45},{"$f":"ROUND(P$2+ (('coded NOLH for 17-22 factors'!P103-1)*(P$3-P$2) )/128, P$4 )","v":23},{"$f":"ROUND(Q$2+ (('coded NOLH for 17-22 factors'!Q103-1)*(Q$3-Q$2) )/128, Q$4 )","v":105},{"$f":"ROUND(R$2+ (('coded NOLH for 17-22 factors'!R103-1)*(R$3-R$2) )/128, R$4 )","v":97},{"$f":"ROUND(S$2+ (('coded NOLH for 17-22 factors'!S103-1)*(S$3-S$2) )/128, S$4 )","v":88},{"$f":"ROUND(T$2+ (('coded NOLH for 17-22 factors'!T103-1)*(T$3-T$2) )/128, T$4 )","v":82},{"$f":"ROUND(U$2+ (('coded NOLH for 17-22 factors'!U103-1)*(U$3-U$2) )/128, U$4 )","v":52},{"$f":"ROUND(V$2+ (('coded NOLH for 17-22 factors'!V103-1)*(V$3-V$2) )/128, V$4 )","v":75},{"$f":"ROUND(W$2+ (('coded NOLH for 17-22 factors'!W103-1)*(W$3-W$2) )/128, W$4 )","v":10}]
[null,{"$f":"ROUND(B$2+ (('coded NOLH for 17-22 factors'!B104-1)*(B$3-B$2) )/128, B$4 )","v":83},{"$f":"ROUND(C$2+ (('coded NOLH for 17-22 factors'!C104-1)*(C$3-C$2) )/128, C$4 )","v":10},{"$f":"ROUND(D$2+ (('coded NOLH for 17-22 factors'!D104-1)*(D$3-D$2) )/128, D$4 )","v":122},{"$f":"ROUND(E$2+ (('coded NOLH for 17-22 factors'!E104-1)*(E$3-E$2) )/128, E$4 )","v":76},{"$f":"ROUND(F$2+ (('coded NOLH for 17-22 factors'!F104-1)*(F$3-F$2) )/128, F$4 )","v":36},{"$f":"ROUND(G$2+ (('coded NOLH for 17-22 factors'!G104-1)*(G$3-G$2) )/128, G$4 )","v":110},{"$f":"ROUND(H$2+ (('coded NOLH for 17-22 factors'!H104-1)*(H$3-H$2) )/128, H$4 )","v":9},{"$f":"ROUND(I$2+ (('coded NOLH for 17-22 factors'!I104-1)*(I$3-I$2) )/128, I$4 )","v":24},{"$f":"ROUND(J$2+ (('coded NOLH for 17-22 factors'!J104-1)*(J$3-J$2) )/128, J$4 )","v":61},{"$f":"ROUND(K$2+ (('coded NOLH for 17-22 factors'!K104-1)*(K$3-K$2) )/128, K$4 )","v":76},{"$f":"ROUND(L$2+ (('coded NOLH for 17-22 factors'!L104-1)*(L$3-L$2) )/128, L$4 )","v":99},{"$f":"ROUND(M$2+ (('coded NOLH for 17-22 factors'!M104-1)*(M$3-M$2) )/128, M$4 )","v":85},{"$f":"ROUND(N$2+ (('coded NOLH for 17-22 factors'!N104-1)*(N$3-N$2) )/128, N$4 )","v":111},{"$f":"ROUND(O$2+ (('coded NOLH for 17-22 factors'!O104-1)*(O$3-O$2) )/128, O$4 )","v":48},{"$f":"ROUND(P$2+ (('coded NOLH for 17-22 factors'!P104-1)*(P$3-P$2) )/128, P$4 )","v":54},{"$f":"ROUND(Q$2+ (('coded NOLH for 17-22 factors'!Q104-1)*(Q$3-Q$2) )/128, Q$4 )","v":111},{"$f":"ROUND(R$2+ (('coded NOLH for 17-22 factors'!R104-1)*(R$3-R$2) )/128, R$4 )","v":89},{"$f":"ROUND(S$2+ (('coded NOLH for 17-22 factors'!S104-1)*(S$3-S$2) )/128, S$4 )","v":59},{"$f":"ROUND(T$2+ (('coded NOLH for 17-22 factors'!T104-1)*(T$3-T$2) )/128, T$4 )","v":97},{"$f":"ROUND(U$2+ (('coded NOLH for 17-22 factors'!U104-1)*(U$3-U$2) )/128, U$4 )","v":3},{"$f":"ROUND(V$2+ (('coded NOLH for 17-22 factors'!V104-1)*(V$3-V$2) )/128, V$4 )","v":102},{"$f":"ROUND(W$2+ (('coded NOLH for 17-22 factors'!W104-1)*(W$3-W$2) )/128, W$4 )","v":63}]
[null,{"$f":"ROUND(B$2+ (('coded NOLH for 17-22 factors'!B105-1)*(B$3-B$2) )/128, B$4 )","v":63},{"$f":"ROUND(C$2+ (('coded NOLH for 17-22 factors'!C105-1)*(C$3-C$2) )/128, C$4 )","v":18},{"$f":"ROUND(D$2+ (('coded NOLH for 17-22 factors'!D105-1)*(D$3-D$2) )/128, D$4 )","v":108},{"$f":"ROUND(E$2+ (('coded NOLH for 17-22 factors'!E105-1)*(E$3-E$2) )/128, E$4 )","v":73},{"$f":"ROUND(F$2+ (('coded NOLH for 17-22 factors'!F105-1)*(F$3-F$2) )/128, F$4 )","v":48},{"$f":"ROUND(G$2+ (('coded NOLH for 17-22 factors'!G105-1)*(G$3-G$2) )/128, G$4 )","v":7},{"$f":"ROUND(H$2+ (('coded NOLH for 17-22 factors'!H105-1)*(H$3-H$2) )/128, H$4 )","v":115},{"$f":"ROUND(I$2+ (('coded NOLH for 17-22 factors'!I105-1)*(I$3-I$2) )/128, I$4 )","v":113},{"$f":"ROUND(J$2+ (('coded NOLH for 17-22 factors'!J105-1)*(J$3-J$2) )/128, J$4 )","v":78},{"$f":"ROUND(K$2+ (('coded NOLH for 17-22 factors'!K105-1)*(K$3-K$2) )/128, K$4 )","v":27},{"$f":"ROUND(L$2+ (('coded NOLH for 17-22 factors'!L105-1)*(L$3-L$2) )/128, L$4 )","v":94},{"$f":"ROUND(M$2+ (('coded NOLH for 17-22 factors'!M105-1)*(M$3-M$2) )/128, M$4 )","v":114},{"$f":"ROUND(N$2+ (('coded NOLH for 17-22 factors'!N105-1)*(N$3-N$2) )/128, N$4 )","v":105},{"$f":"ROUND(O$2+ (('coded NOLH for 17-22 factors'!O105-1)*(O$3-O$2) )/128, O$4 )","v":53},{"$f":"ROUND(P$2+ (('coded NOLH for 17-22 factors'!P105-1)*(P$3-P$2) )/128, P$4 )","v":38},{"$f":"ROUND(Q$2+ (('coded NOLH for 17-22 factors'!Q105-1)*(Q$3-Q$2) )/128, Q$4 )","v":86},{"$f":"ROUND(R$2+ (('coded NOLH for 17-22 factors'!R105-1)*(R$3-R$2) )/128, R$4 )","v":75},{"$f":"ROUND(S$2+ (('coded NOLH for 17-22 factors'!S105-1)*(S$3-S$2) )/128, S$4 )","v":53},{"$f":"ROUND(T$2+ (('coded NOLH for 17-22 factors'!T105-1)*(T$3-T$2) )/128, T$4 )","v":115},{"$f":"ROUND(U$2+ (('coded NOLH for 17-22 factors'!U105-1)*(U$3-U$2) )/128, U$4 )","v":49},{"$f":"ROUND(V$2+ (('coded NOLH for 17-22 factors'!V105-1)*(V$3-V$2) )/128, V$4 )","v":113},{"$f":"ROUND(W$2+ (('coded NOLH for 17-22 factors'!W105-1)*(W$3-W$2) )/128, W$4 )","v":47}]
[null,{"$f":"ROUND(B$2+ (('coded NOLH for 17-22 factors'!B106-1)*(B$3-B$2) )/128, B$4 )","v":122},{"$f":"ROUND(C$2+ (('coded NOLH for 17-22 factors'!C106-1)*(C$3-C$2) )/128, C$4 )","v":88},{"$f":"ROUND(D$2+ (('coded NOLH for 17-22 factors'!D106-1)*(D$3-D$2) )/128, D$4 )","v":47},{"$f":"ROUND(E$2+ (('coded NOLH for 17-22 factors'!E106-1)*(E$3-E$2) )/128, E$4 )","v":116},{"$f":"ROUND(F$2+ (('coded NOLH for 17-22 factors'!F106-1)*(F$3-F$2) )/128, F$4 )","v":31},{"$f":"ROUND(G$2+ (('coded NOLH for 17-22 factors'!G106-1)*(G$3-G$2) )/128, G$4 )","v":22},{"$f":"ROUND(H$2+ (('coded NOLH for 17-22 factors'!H106-1)*(H$3-H$2) )/128, H$4 )","v":68},{"$f":"ROUND(I$2+ (('coded NOLH for 17-22 factors'!I106-1)*(I$3-I$2) )/128, I$4 )","v":44},{"$f":"ROUND(J$2+ (('coded NOLH for 17-22 factors'!J106-1)*(J$3-J$2) )/128, J$4 )","v":54},{"$f":"ROUND(K$2+ (('coded NOLH for 17-22 factors'!K106-1)*(K$3-K$2) )/128, K$4 )","v":128},{"$f":"ROUND(L$2+ (('coded NOLH for 17-22 factors'!L106-1)*(L$3-L$2) )/128, L$4 )","v":101},{"$f":"ROUND(M$2+ (('coded NOLH for 17-22 factors'!M106-1)*(M$3-M$2) )/128, M$4 )","v":30},{"$f":"ROUND(N$2+ (('coded NOLH for 17-22 factors'!N106-1)*(N$3-N$2) )/128, N$4 )","v":34},{"$f":"ROUND(O$2+ (('coded NOLH for 17-22 factors'!O106-1)*(O$3-O$2) )/128, O$4 )","v":99},{"$f":"ROUND(P$2+ (('coded NOLH for 17-22 factors'!P106-1)*(P$3-P$2) )/128, P$4 )","v":70},{"$f":"ROUND(Q$2+ (('coded NOLH for 17-22 factors'!Q106-1)*(Q$3-Q$2) )/128, Q$4 )","v":62},{"$f":"ROUND(R$2+ (('coded NOLH for 17-22 factors'!R106-1)*(R$3-R$2) )/128, R$4 )","v":90},{"$f":"ROUND(S$2+ (('coded NOLH for 17-22 factors'!S106-1)*(S$3-S$2) )/128, S$4 )","v":120},{"$f":"ROUND(T$2+ (('coded NOLH for 17-22 factors'!T106-1)*(T$3-T$2) )/128, T$4 )","v":75},{"$f":"ROUND(U$2+ (('coded NOLH for 17-22 factors'!U106-1)*(U$3-U$2) )/128, U$4 )","v":24},{"$f":"ROUND(V$2+ (('coded NOLH for 17-22 factors'!V106-1)*(V$3-V$2) )/128, V$4 )","v":66},{"$f":"ROUND(W$2+ (('coded NOLH for 17-22 factors'!W106-1)*(W$3-W$2) )/128, W$4 )","v":22}]
[null,{"$f":"ROUND(B$2+ (('coded NOLH for 17-22 factors'!B107-1)*(B$3-B$2) )/128, B$4 )","v":22},{"$f":"ROUND(C$2+ (('coded NOLH for 17-22 factors'!C107-1)*(C$3-C$2) )/128, C$4 )","v":110},{"$f":"ROUND(D$2+ (('coded NOLH for 17-22 factors'!D107-1)*(D$3-D$2) )/128, D$4 )","v":63},{"$f":"ROUND(E$2+ (('coded NOLH for 17-22 factors'!E107-1)*(E$3-E$2) )/128, E$4 )","v":78},{"$f":"ROUND(F$2+ (('coded NOLH for 17-22 factors'!F107-1)*(F$3-F$2) )/128, F$4 )","v":2},{"$f":"ROUND(G$2+ (('coded NOLH for 17-22 factors'!G107-1)*(G$3-G$2) )/128, G$4 )","v":91},{"$f":"ROUND(H$2+ (('coded NOLH for 17-22 factors'!H107-1)*(H$3-H$2) )/128, H$4 )","v":53},{"$f":"ROUND(I$2+ (('coded NOLH for 17-22 factors'!I107-1)*(I$3-I$2) )/128, I$4 )","v":51},{"$f":"ROUND(J$2+ (('coded NOLH for 17-22 factors'!J107-1)*(J$3-J$2) )/128, J$4 )","v":119},{"$f":"ROUND(K$2+ (('coded NOLH for 17-22 factors'!K107-1)*(K$3-K$2) )/128, K$4 )","v":29},{"$f":"ROUND(L$2+ (('coded NOLH for 17-22 factors'!L107-1)*(L$3-L$2) )/128, L$4 )","v":111},{"$f":"ROUND(M$2+ (('coded NOLH for 17-22 factors'!M107-1)*(M$3-M$2) )/128, M$4 )","v":35},{"$f":"ROUND(N$2+ (('coded NOLH for 17-22 factors'!N107-1)*(N$3-N$2) )/128, N$4 )","v":17},{"$f":"ROUND(O$2+ (('coded NOLH for 17-22 factors'!O107-1)*(O$3-O$2) )/128, O$4 )","v":101},{"$f":"ROUND(P$2+ (('coded NOLH for 17-22 factors'!P107-1)*(P$3-P$2) )/128, P$4 )","v":82},{"$f":"ROUND(Q$2+ (('coded NOLH for 17-22 factors'!Q107-1)*(Q$3-Q$2) )/128, Q$4 )","v":46},{"$f":"ROUND(R$2+ (('coded NOLH for 17-22 factors'!R107-1)*(R$3-R$2) )/128, R$4 )","v":128},{"$f":"ROUND(S$2+ (('coded NOLH for 17-22 factors'!S107-1)*(S$3-S$2) )/128, S$4 )","v":99},{"$f":"ROUND(T$2+ (('coded NOLH for 17-22 factors'!T107-1)*(T$3-T$2) )/128, T$4 )","v":88},{"$f":"ROUND(U$2+ (('coded NOLH for 17-22 factors'!U107-1)*(U$3-U$2) )/128, U$4 )","v":19},{"$f":"ROUND(V$2+ (('coded NOLH for 17-22 factors'!V107-1)*(V$3-V$2) )/128, V$4 )","v":81},{"$f":"ROUND(W$2+ (('coded NOLH for 17-22 factors'!W107-1)*(W$3-W$2) )/128, W$4 )","v":8}]
[null,{"$f":"ROUND(B$2+ (('coded NOLH for 17-22 factors'!B108-1)*(B$3-B$2) )/128, B$4 )","v":88},{"$f":"ROUND(C$2+ (('coded NOLH for 17-22 factors'!C108-1)*(C$3-C$2) )/128, C$4 )","v":8},{"$f":"ROUND(D$2+ (('coded NOLH for 17-22 factors'!D108-1)*(D$3-D$2) )/128, D$4 )","v":10},{"$f":"ROUND(E$2+ (('coded NOLH for 17-22 factors'!E108-1)*(E$3-E$2) )/128, E$4 )","v":109},{"$f":"ROUND(F$2+ (('coded NOLH for 17-22 factors'!F108-1)*(F$3-F$2) )/128, F$4 )","v":38},{"$f":"ROUND(G$2+ (('coded NOLH for 17-22 factors'!G108-1)*(G$3-G$2) )/128, G$4 )","v":122},{"$f":"ROUND(H$2+ (('coded NOLH for 17-22 factors'!H108-1)*(H$3-H$2) )/128, H$4 )","v":101},{"$f":"ROUND(I$2+ (('coded NOLH for 17-22 factors'!I108-1)*(I$3-I$2) )/128, I$4 )","v":20},{"$f":"ROUND(J$2+ (('coded NOLH for 17-22 factors'!J108-1)*(J$3-J$2) )/128, J$4 )","v":42},{"$f":"ROUND(K$2+ (('coded NOLH for 17-22 factors'!K108-1)*(K$3-K$2) )/128, K$4 )","v":118},{"$f":"ROUND(L$2+ (('coded NOLH for 17-22 factors'!L108-1)*(L$3-L$2) )/128, L$4 )","v":52},{"$f":"ROUND(M$2+ (('coded NOLH for 17-22 factors'!M108-1)*(M$3-M$2) )/128, M$4 )","v":79},{"$f":"ROUND(N$2+ (('coded NOLH for 17-22 factors'!N108-1)*(N$3-N$2) )/128, N$4 )","v":75},{"$f":"ROUND(O$2+ (('coded NOLH for 17-22 factors'!O108-1)*(O$3-O$2) )/128, O$4 )","v":70},{"$f":"ROUND(P$2+ (('coded NOLH for 17-22 factors'!P108-1)*(P$3-P$2) )/128, P$4 )","v":110},{"$f":"ROUND(Q$2+ (('coded NOLH for 17-22 factors'!Q108-1)*(Q$3-Q$2) )/128, Q$4 )","v":54},{"$f":"ROUND(R$2+ (('coded NOLH for 17-22 factors'!R108-1)*(R$3-R$2) )/128, R$4 )","v":71},{"$f":"ROUND(S$2+ (('coded NOLH for 17-22 factors'!S108-1)*(S$3-S$2) )/128, S$4 )","v":5},{"$f":"ROUND(T$2+ (('coded NOLH for 17-22 factors'!T108-1)*(T$3-T$2) )/128, T$4 )","v":96},{"$f":"ROUND(U$2+ (('coded NOLH for 17-22 factors'!U108-1)*(U$3-U$2) )/128, U$4 )","v":12},{"$f":"ROUND(V$2+ (('coded NOLH for 17-22 factors'!V108-1)*(V$3-V$2) )/128, V$4 )","v":87},{"$f":"ROUND(W$2+ (('coded NOLH for 17-22 factors'!W108-1)*(W$3-W$2) )/128, W$4 )","v":20}]
[null,{"$f":"ROUND(B$2+ (('coded NOLH for 17-22 factors'!B109-1)*(B$3-B$2) )/128, B$4 )","v":20},{"$f":"ROUND(C$2+ (('coded NOLH for 17-22 factors'!C109-1)*(C$3-C$2) )/128, C$4 )","v":22},{"$f":"ROUND(D$2+ (('coded NOLH for 17-22 factors'!D109-1)*(D$3-D$2) )/128, D$4 )","v":18},{"$f":"ROUND(E$2+ (('coded NOLH for 17-22 factors'!E109-1)*(E$3-E$2) )/128, E$4 )","v":85},{"$f":"ROUND(F$2+ (('coded NOLH for 17-22 factors'!F109-1)*(F$3-F$2) )/128, F$4 )","v":9},{"$f":"ROUND(G$2+ (('coded NOLH for 17-22 factors'!G109-1)*(G$3-G$2) )/128, G$4 )","v":19},{"$f":"ROUND(H$2+ (('coded NOLH for 17-22 factors'!H109-1)*(H$3-H$2) )/128, H$4 )","v":2},{"$f":"ROUND(I$2+ (('coded NOLH for 17-22 factors'!I109-1)*(I$3-I$2) )/128, I$4 )","v":82},{"$f":"ROUND(J$2+ (('coded NOLH for 17-22 factors'!J109-1)*(J$3-J$2) )/128, J$4 )","v":109},{"$f":"ROUND(K$2+ (('coded NOLH for 17-22 factors'!K109-1)*(K$3-K$2) )/128, K$4 )","v":30},{"$f":"ROUND(L$2+ (('coded NOLH for 17-22 factors'!L109-1)*(L$3-L$2) )/128, L$4 )","v":43},{"$f":"ROUND(M$2+ (('coded NOLH for 17-22 factors'!M109-1)*(M$3-M$2) )/128, M$4 )","v":62},{"$f":"ROUND(N$2+ (('coded NOLH for 17-22 factors'!N109-1)*(N$3-N$2) )/128, N$4 )","v":112},{"$f":"ROUND(O$2+ (('coded NOLH for 17-22 factors'!O109-1)*(O$3-O$2) )/128, O$4 )","v":103},{"$f":"ROUND(P$2+ (('coded NOLH for 17-22 factors'!P109-1)*(P$3-P$2) )/128, P$4 )","v":112},{"$f":"ROUND(Q$2+ (('coded NOLH for 17-22 factors'!Q109-1)*(Q$3-Q$2) )/128, Q$4 )","v":51},{"$f":"ROUND(R$2+ (('coded NOLH for 17-22 factors'!R109-1)*(R$3-R$2) )/128, R$4 )","v":100},{"$f":"ROUND(S$2+ (('coded NOLH for 17-22 factors'!S109-1)*(S$3-S$2) )/128, S$4 )","v":38},{"$f":"ROUND(T$2+ (('coded NOLH for 17-22 factors'!T109-1)*(T$3-T$2) )/128, T$4 )","v":84},{"$f":"ROUND(U$2+ (('coded NOLH for 17-22 factors'!U109-1)*(U$3-U$2) )/128, U$4 )","v":33},{"$f":"ROUND(V$2+ (('coded NOLH for 17-22 factors'!V109-1)*(V$3-V$2) )/128, V$4 )","v":105},{"$f":"ROUND(W$2+ (('coded NOLH for 17-22 factors'!W109-1)*(W$3-W$2) )/128, W$4 )","v":42}]
[null,{"$f":"ROUND(B$2+ (('coded NOLH for 17-22 factors'!B110-1)*(B$3-B$2) )/128, B$4 )","v":87},{"$f":"ROUND(C$2+ (('coded NOLH for 17-22 factors'!C110-1)*(C$3-C$2) )/128, C$4 )","v":66},{"$f":"ROUND(D$2+ (('coded NOLH for 17-22 factors'!D110-1)*(D$3-D$2) )/128, D$4 )","v":124},{"$f":"ROUND(E$2+ (('coded NOLH for 17-22 factors'!E110-1)*(E$3-E$2) )/128, E$4 )","v":104},{"$f":"ROUND(F$2+ (('coded NOLH for 17-22 factors'!F110-1)*(F$3-F$2) )/128, F$4 )","v":27},{"$f":"ROUND(G$2+ (('coded NOLH for 17-22 factors'!G110-1)*(G$3-G$2) )/128, G$4 )","v":42},{"$f":"ROUND(H$2+ (('coded NOLH for 17-22 factors'!H110-1)*(H$3-H$2) )/128, H$4 )","v":58},{"$f":"ROUND(I$2+ (('coded NOLH for 17-22 factors'!I110-1)*(I$3-I$2) )/128, I$4 )","v":116},{"$f":"ROUND(J$2+ (('coded NOLH for 17-22 factors'!J110-1)*(J$3-J$2) )/128, J$4 )","v":20},{"$f":"ROUND(K$2+ (('coded NOLH for 17-22 factors'!K110-1)*(K$3-K$2) )/128, K$4 )","v":99},{"$f":"ROUND(L$2+ (('coded NOLH for 17-22 factors'!L110-1)*(L$3-L$2) )/128, L$4 )","v":18},{"$f":"ROUND(M$2+ (('coded NOLH for 17-22 factors'!M110-1)*(M$3-M$2) )/128, M$4 )","v":121},{"$f":"ROUND(N$2+ (('coded NOLH for 17-22 factors'!N110-1)*(N$3-N$2) )/128, N$4 )","v":9},{"$f":"ROUND(O$2+ (('coded NOLH for 17-22 factors'!O110-1)*(O$3-O$2) )/128, O$4 )","v":102},{"$f":"ROUND(P$2+ (('coded NOLH for 17-22 factors'!P110-1)*(P$3-P$2) )/128, P$4 )","v":25},{"$f":"ROUND(Q$2+ (('coded NOLH for 17-22 factors'!Q110-1)*(Q$3-Q$2) )/128, Q$4 )","v":128},{"$f":"ROUND(R$2+ (('coded NOLH for 17-22 factors'!R110-1)*(R$3-R$2) )/128, R$4 )","v":121},{"$f":"ROUND(S$2+ (('coded NOLH for 17-22 factors'!S110-1)*(S$3-S$2) )/128, S$4 )","v":57},{"$f":"ROUND(T$2+ (('coded NOLH for 17-22 factors'!T110-1)*(T$3-T$2) )/128, T$4 )","v":10},{"$f":"ROUND(U$2+ (('coded NOLH for 17-22 factors'!U110-1)*(U$3-U$2) )/128, U$4 )","v":83},{"$f":"ROUND(V$2+ (('coded NOLH for 17-22 factors'!V110-1)*(V$3-V$2) )/128, V$4 )","v":42},{"$f":"ROUND(W$2+ (('coded NOLH for 17-22 factors'!W110-1)*(W$3-W$2) )/128, W$4 )","v":25}]
[null,{"$f":"ROUND(B$2+ (('coded NOLH for 17-22 factors'!B111-1)*(B$3-B$2) )/128, B$4 )","v":25},{"$f":"ROUND(C$2+ (('coded NOLH for 17-22 factors'!C111-1)*(C$3-C$2) )/128, C$4 )","v":81},{"$f":"ROUND(D$2+ (('coded NOLH for 17-22 factors'!D111-1)*(D$3-D$2) )/128, D$4 )","v":75},{"$f":"ROUND(E$2+ (('coded NOLH for 17-22 factors'!E111-1)*(E$3-E$2) )/128, E$4 )","v":114},{"$f":"ROUND(F$2+ (('coded NOLH for 17-22 factors'!F111-1)*(F$3-F$2) )/128, F$4 )","v":35},{"$f":"ROUND(G$2+ (('coded NOLH for 17-22 factors'!G111-1)*(G$3-G$2) )/128, G$4 )","v":62},{"$f":"ROUND(H$2+ (('coded NOLH for 17-22 factors'!H111-1)*(H$3-H$2) )/128, H$4 )","v":127},{"$f":"ROUND(I$2+ (('coded NOLH for 17-22 factors'!I111-1)*(I$3-I$2) )/128, I$4 )","v":38},{"$f":"ROUND(J$2+ (('coded NOLH for 17-22 factors'!J111-1)*(J$3-J$2) )/128, J$4 )","v":106},{"$f":"ROUND(K$2+ (('coded NOLH for 17-22 factors'!K111-1)*(K$3-K$2) )/128, K$4 )","v":37},{"$f":"ROUND(L$2+ (('coded NOLH for 17-22 factors'!L111-1)*(L$3-L$2) )/128, L$4 )","v":16},{"$f":"ROUND(M$2+ (('coded NOLH for 17-22 factors'!M111-1)*(M$3-M$2) )/128, M$4 )","v":103},{"$f":"ROUND(N$2+ (('coded NOLH for 17-22 factors'!N111-1)*(N$3-N$2) )/128, N$4 )","v":37},{"$f":"ROUND(O$2+ (('coded NOLH for 17-22 factors'!O111-1)*(O$3-O$2) )/128, O$4 )","v":119},{"$f":"ROUND(P$2+ (('coded NOLH for 17-22 factors'!P111-1)*(P$3-P$2) )/128, P$4 )","v":63},{"$f":"ROUND(Q$2+ (('coded NOLH for 17-22 factors'!Q111-1)*(Q$3-Q$2) )/128, Q$4 )","v":109},{"$f":"ROUND(R$2+ (('coded NOLH for 17-22 factors'!R111-1)*(R$3-R$2) )/128, R$4 )","v":116},{"$f":"ROUND(S$2+ (('coded NOLH for 17-22 factors'!S111-1)*(S$3-S$2) )/128, S$4 )","v":93},{"$f":"ROUND(T$2+ (('coded NOLH for 17-22 factors'!T111-1)*(T$3-T$2) )/128, T$4 )","v":20},{"$f":"ROUND(U$2+ (('coded NOLH for 17-22 factors'!U111-1)*(U$3-U$2) )/128, U$4 )","v":96},{"$f":"ROUND(V$2+ (('coded NOLH for 17-22 factors'!V111-1)*(V$3-V$2) )/128, V$4 )","v":20},{"$f":"ROUND(W$2+ (('coded NOLH for 17-22 factors'!W111-1)*(W$3-W$2) )/128, W$4 )","v":43}]
[null,{"$f":"ROUND(B$2+ (('coded NOLH for 17-22 factors'!B112-1)*(B$3-B$2) )/128, B$4 )","v":66},{"$f":"ROUND(C$2+ (('coded NOLH for 17-22 factors'!C112-1)*(C$3-C$2) )/128, C$4 )","v":43},{"$f":"ROUND(D$2+ (('coded NOLH for 17-22 factors'!D112-1)*(D$3-D$2) )/128, D$4 )","v":102},{"$f":"ROUND(E$2+ (('coded NOLH for 17-22 factors'!E112-1)*(E$3-E$2) )/128, E$4 )","v":89},{"$f":"ROUND(F$2+ (('coded NOLH for 17-22 factors'!F112-1)*(F$3-F$2) )/128, F$4 )","v":37},{"$f":"ROUND(G$2+ (('coded NOLH for 17-22 factors'!G112-1)*(G$3-G$2) )/128, G$4 )","v":94},{"$f":"ROUND(H$2+ (('coded NOLH for 17-22 factors'!H112-1)*(H$3-H$2) )/128, H$4 )","v":14},{"$f":"ROUND(I$2+ (('coded NOLH for 17-22 factors'!I112-1)*(I$3-I$2) )/128, I$4 )","v":115},{"$f":"ROUND(J$2+ (('coded NOLH for 17-22 factors'!J112-1)*(J$3-J$2) )/128, J$4 )","v":23},{"$f":"ROUND(K$2+ (('coded NOLH for 17-22 factors'!K112-1)*(K$3-K$2) )/128, K$4 )","v":85},{"$f":"ROUND(L$2+ (('coded NOLH for 17-22 factors'!L112-1)*(L$3-L$2) )/128, L$4 )","v":83},{"$f":"ROUND(M$2+ (('coded NOLH for 17-22 factors'!M112-1)*(M$3-M$2) )/128, M$4 )","v":29},{"$f":"ROUND(N$2+ (('coded NOLH for 17-22 factors'!N112-1)*(N$3-N$2) )/128, N$4 )","v":106},{"$f":"ROUND(O$2+ (('coded NOLH for 17-22 factors'!O112-1)*(O$3-O$2) )/128, O$4 )","v":61},{"$f":"ROUND(P$2+ (('coded NOLH for 17-22 factors'!P112-1)*(P$3-P$2) )/128, P$4 )","v":5},{"$f":"ROUND(Q$2+ (('coded NOLH for 17-22 factors'!Q112-1)*(Q$3-Q$2) )/128, Q$4 )","v":94},{"$f":"ROUND(R$2+ (('coded NOLH for 17-22 factors'!R112-1)*(R$3-R$2) )/128, R$4 )","v":112},{"$f":"ROUND(S$2+ (('coded NOLH for 17-22 factors'!S112-1)*(S$3-S$2) )/128, S$4 )","v":19},{"$f":"ROUND(T$2+ (('coded NOLH for 17-22 factors'!T112-1)*(T$3-T$2) )/128, T$4 )","v":3},{"$f":"ROUND(U$2+ (('coded NOLH for 17-22 factors'!U112-1)*(U$3-U$2) )/128, U$4 )","v":72},{"$f":"ROUND(V$2+ (('coded NOLH for 17-22 factors'!V112-1)*(V$3-V$2) )/128, V$4 )","v":8},{"$f":"ROUND(W$2+ (('coded NOLH for 17-22 factors'!W112-1)*(W$3-W$2) )/128, W$4 )","v":49}]
[null,{"$f":"ROUND(B$2+ (('coded NOLH for 17-22 factors'!B113-1)*(B$3-B$2) )/128, B$4 )","v":49},{"$f":"ROUND(C$2+ (('coded NOLH for 17-22 factors'!C113-1)*(C$3-C$2) )/128, C$4 )","v":25},{"$f":"ROUND(D$2+ (('coded NOLH for 17-22 factors'!D113-1)*(D$3-D$2) )/128, D$4 )","v":113},{"$f":"ROUND(E$2+ (('coded NOLH for 17-22 factors'!E113-1)*(E$3-E$2) )/128, E$4 )","v":111},{"$f":"ROUND(F$2+ (('coded NOLH for 17-22 factors'!F113-1)*(F$3-F$2) )/128, F$4 )","v":50},{"$f":"ROUND(G$2+ (('coded NOLH for 17-22 factors'!G113-1)*(G$3-G$2) )/128, G$4 )","v":34},{"$f":"ROUND(H$2+ (('coded NOLH for 17-22 factors'!H113-1)*(H$3-H$2) )/128, H$4 )","v":99},{"$f":"ROUND(I$2+ (('coded NOLH for 17-22 factors'!I113-1)*(I$3-I$2) )/128, I$4 )","v":11},{"$f":"ROUND(J$2+ (('coded NOLH for 17-22 factors'!J113-1)*(J$3-J$2) )/128, J$4 )","v":92},{"$f":"ROUND(K$2+ (('coded NOLH for 17-22 factors'!K113-1)*(K$3-K$2) )/128, K$4 )","v":44},{"$f":"ROUND(L$2+ (('coded NOLH for 17-22 factors'!L113-1)*(L$3-L$2) )/128, L$4 )","v":118},{"$f":"ROUND(M$2+ (('coded NOLH for 17-22 factors'!M113-1)*(M$3-M$2) )/128, M$4 )","v":23},{"$f":"ROUND(N$2+ (('coded NOLH for 17-22 factors'!N113-1)*(N$3-N$2) )/128, N$4 )","v":98},{"$f":"ROUND(O$2+ (('coded NOLH for 17-22 factors'!O113-1)*(O$3-O$2) )/128, O$4 )","v":66},{"$f":"ROUND(P$2+ (('coded NOLH for 17-22 factors'!P113-1)*(P$3-P$2) )/128, P$4 )","v":53},{"$f":"ROUND(Q$2+ (('coded NOLH for 17-22 factors'!Q113-1)*(Q$3-Q$2) )/128, Q$4 )","v":129},{"$f":"ROUND(R$2+ (('coded NOLH for 17-22 factors'!R113-1)*(R$3-R$2) )/128, R$4 )","v":98},{"$f":"ROUND(S$2+ (('coded NOLH for 17-22 factors'!S113-1)*(S$3-S$2) )/128, S$4 )","v":24},{"$f":"ROUND(T$2+ (('coded NOLH for 17-22 factors'!T113-1)*(T$3-T$2) )/128, T$4 )","v":28},{"$f":"ROUND(U$2+ (('coded NOLH for 17-22 factors'!U113-1)*(U$3-U$2) )/128, U$4 )","v":105},{"$f":"ROUND(V$2+ (('coded NOLH for 17-22 factors'!V113-1)*(V$3-V$2) )/128, V$4 )","v":22},{"$f":"ROUND(W$2+ (('coded NOLH for 17-22 factors'!W113-1)*(W$3-W$2) )/128, W$4 )","v":64}]
[null,{"$f":"ROUND(B$2+ (('coded NOLH for 17-22 factors'!B114-1)*(B$3-B$2) )/128, B$4 )","v":102},{"$f":"ROUND(C$2+ (('coded NOLH for 17-22 factors'!C114-1)*(C$3-C$2) )/128, C$4 )","v":124},{"$f":"ROUND(D$2+ (('coded NOLH for 17-22 factors'!D114-1)*(D$3-D$2) )/128, D$4 )","v":64},{"$f":"ROUND(E$2+ (('coded NOLH for 17-22 factors'!E114-1)*(E$3-E$2) )/128, E$4 )","v":77},{"$f":"ROUND(F$2+ (('coded NOLH for 17-22 factors'!F114-1)*(F$3-F$2) )/128, F$4 )","v":24},{"$f":"ROUND(G$2+ (('coded NOLH for 17-22 factors'!G114-1)*(G$3-G$2) )/128, G$4 )","v":57},{"$f":"ROUND(H$2+ (('coded NOLH for 17-22 factors'!H114-1)*(H$3-H$2) )/128, H$4 )","v":92},{"$f":"ROUND(I$2+ (('coded NOLH for 17-22 factors'!I114-1)*(I$3-I$2) )/128, I$4 )","v":58},{"$f":"ROUND(J$2+ (('coded NOLH for 17-22 factors'!J114-1)*(J$3-J$2) )/128, J$4 )","v":12},{"$f":"ROUND(K$2+ (('coded NOLH for 17-22 factors'!K114-1)*(K$3-K$2) )/128, K$4 )","v":87},{"$f":"ROUND(L$2+ (('coded NOLH for 17-22 factors'!L114-1)*(L$3-L$2) )/128, L$4 )","v":102},{"$f":"ROUND(M$2+ (('coded NOLH for 17-22 factors'!M114-1)*(M$3-M$2) )/128, M$4 )","v":125},{"$f":"ROUND(N$2+ (('coded NOLH for 17-22 factors'!N114-1)*(N$3-N$2) )/128, N$4 )","v":15},{"$f":"ROUND(O$2+ (('coded NOLH for 17-22 factors'!O114-1)*(O$3-O$2) )/128, O$4 )","v":22},{"$f":"ROUND(P$2+ (('coded NOLH for 17-22 factors'!P114-1)*(P$3-P$2) )/128, P$4 )","v":113},{"$f":"ROUND(Q$2+ (('coded NOLH for 17-22 factors'!Q114-1)*(Q$3-Q$2) )/128, Q$4 )","v":53},{"$f":"ROUND(R$2+ (('coded NOLH for 17-22 factors'!R114-1)*(R$3-R$2) )/128, R$4 )","v":104},{"$f":"ROUND(S$2+ (('coded NOLH for 17-22 factors'!S114-1)*(S$3-S$2) )/128, S$4 )","v":124},{"$f":"ROUND(T$2+ (('coded NOLH for 17-22 factors'!T114-1)*(T$3-T$2) )/128, T$4 )","v":61},{"$f":"ROUND(U$2+ (('coded NOLH for 17-22 factors'!U114-1)*(U$3-U$2) )/128, U$4 )","v":69},{"$f":"ROUND(V$2+ (('coded NOLH for 17-22 factors'!V114-1)*(V$3-V$2) )/128, V$4 )","v":47},{"$f":"ROUND(W$2+ (('coded NOLH for 17-22 factors'!W114-1)*(W$3-W$2) )/128, W$4 )","v":17}]
[null,{"$f":"ROUND(B$2+ (('coded NOLH for 17-22 factors'!B115-1)*(B$3-B$2) )/128, B$4 )","v":17},{"$f":"ROUND(C$2+ (('coded NOLH for 17-22 factors'!C115-1)*(C$3-C$2) )/128, C$4 )","v":75},{"$f":"ROUND(D$2+ (('coded NOLH for 17-22 factors'!D115-1)*(D$3-D$2) )/128, D$4 )","v":49},{"$f":"ROUND(E$2+ (('coded NOLH for 17-22 factors'!E115-1)*(E$3-E$2) )/128, E$4 )","v":118},{"$f":"ROUND(F$2+ (('coded NOLH for 17-22 factors'!F115-1)*(F$3-F$2) )/128, F$4 )","v":46},{"$f":"ROUND(G$2+ (('coded NOLH for 17-22 factors'!G115-1)*(G$3-G$2) )/128, G$4 )","v":127},{"$f":"ROUND(H$2+ (('coded NOLH for 17-22 factors'!H115-1)*(H$3-H$2) )/128, H$4 )","v":63},{"$f":"ROUND(I$2+ (('coded NOLH for 17-22 factors'!I115-1)*(I$3-I$2) )/128, I$4 )","v":43},{"$f":"ROUND(J$2+ (('coded NOLH for 17-22 factors'!J115-1)*(J$3-J$2) )/128, J$4 )","v":75},{"$f":"ROUND(K$2+ (('coded NOLH for 17-22 factors'!K115-1)*(K$3-K$2) )/128, K$4 )","v":21},{"$f":"ROUND(L$2+ (('coded NOLH for 17-22 factors'!L115-1)*(L$3-L$2) )/128, L$4 )","v":84},{"$f":"ROUND(M$2+ (('coded NOLH for 17-22 factors'!M115-1)*(M$3-M$2) )/128, M$4 )","v":108},{"$f":"ROUND(N$2+ (('coded NOLH for 17-22 factors'!N115-1)*(N$3-N$2) )/128, N$4 )","v":58},{"$f":"ROUND(O$2+ (('coded NOLH for 17-22 factors'!O115-1)*(O$3-O$2) )/128, O$4 )","v":13},{"$f":"ROUND(P$2+ (('coded NOLH for 17-22 factors'!P115-1)*(P$3-P$2) )/128, P$4 )","v":93},{"$f":"ROUND(Q$2+ (('coded NOLH for 17-22 factors'!Q115-1)*(Q$3-Q$2) )/128, Q$4 )","v":40},{"$f":"ROUND(R$2+ (('coded NOLH for 17-22 factors'!R115-1)*(R$3-R$2) )/128, R$4 )","v":80},{"$f":"ROUND(S$2+ (('coded NOLH for 17-22 factors'!S115-1)*(S$3-S$2) )/128, S$4 )","v":105},{"$f":"ROUND(T$2+ (('coded NOLH for 17-22 factors'!T115-1)*(T$3-T$2) )/128, T$4 )","v":31},{"$f":"ROUND(U$2+ (('coded NOLH for 17-22 factors'!U115-1)*(U$3-U$2) )/128, U$4 )","v":67},{"$f":"ROUND(V$2+ (('coded NOLH for 17-22 factors'!V115-1)*(V$3-V$2) )/128, V$4 )","v":63},{"$f":"ROUND(W$2+ (('coded NOLH for 17-22 factors'!W115-1)*(W$3-W$2) )/128, W$4 )","v":28}]
[null,{"$f":"ROUND(B$2+ (('coded NOLH for 17-22 factors'!B116-1)*(B$3-B$2) )/128, B$4 )","v":124},{"$f":"ROUND(C$2+ (('coded NOLH for 17-22 factors'!C116-1)*(C$3-C$2) )/128, C$4 )","v":28},{"$f":"ROUND(D$2+ (('coded NOLH for 17-22 factors'!D116-1)*(D$3-D$2) )/128, D$4 )","v":43},{"$f":"ROUND(E$2+ (('coded NOLH for 17-22 factors'!E116-1)*(E$3-E$2) )/128, E$4 )","v":69},{"$f":"ROUND(F$2+ (('coded NOLH for 17-22 factors'!F116-1)*(F$3-F$2) )/128, F$4 )","v":30},{"$f":"ROUND(G$2+ (('coded NOLH for 17-22 factors'!G116-1)*(G$3-G$2) )/128, G$4 )","v":112},{"$f":"ROUND(H$2+ (('coded NOLH for 17-22 factors'!H116-1)*(H$3-H$2) )/128, H$4 )","v":107},{"$f":"ROUND(I$2+ (('coded NOLH for 17-22 factors'!I116-1)*(I$3-I$2) )/128, I$4 )","v":108},{"$f":"ROUND(J$2+ (('coded NOLH for 17-22 factors'!J116-1)*(J$3-J$2) )/128, J$4 )","v":22},{"$f":"ROUND(K$2+ (('coded NOLH for 17-22 factors'!K116-1)*(K$3-K$2) )/128, K$4 )","v":127},{"$f":"ROUND(L$2+ (('coded NOLH for 17-22 factors'!L116-1)*(L$3-L$2) )/128, L$4 )","v":50},{"$f":"ROUND(M$2+ (('coded NOLH for 17-22 factors'!M116-1)*(M$3-M$2) )/128, M$4 )","v":71},{"$f":"ROUND(N$2+ (('coded NOLH for 17-22 factors'!N116-1)*(N$3-N$2) )/128, N$4 )","v":119},{"$f":"ROUND(O$2+ (('coded NOLH for 17-22 factors'!O116-1)*(O$3-O$2) )/128, O$4 )","v":7},{"$f":"ROUND(P$2+ (('coded NOLH for 17-22 factors'!P116-1)*(P$3-P$2) )/128, P$4 )","v":104},{"$f":"ROUND(Q$2+ (('coded NOLH for 17-22 factors'!Q116-1)*(Q$3-Q$2) )/128, Q$4 )","v":33},{"$f":"ROUND(R$2+ (('coded NOLH for 17-22 factors'!R116-1)*(R$3-R$2) )/128, R$4 )","v":96},{"$f":"ROUND(S$2+ (('coded NOLH for 17-22 factors'!S116-1)*(S$3-S$2) )/128, S$4 )","v":36},{"$f":"ROUND(T$2+ (('coded NOLH for 17-22 factors'!T116-1)*(T$3-T$2) )/128, T$4 )","v":71},{"$f":"ROUND(U$2+ (('coded NOLH for 17-22 factors'!U116-1)*(U$3-U$2) )/128, U$4 )","v":125},{"$f":"ROUND(V$2+ (('coded NOLH for 17-22 factors'!V116-1)*(V$3-V$2) )/128, V$4 )","v":10},{"$f":"ROUND(W$2+ (('coded NOLH for 17-22 factors'!W116-1)*(W$3-W$2) )/128, W$4 )","v":55}]
[null,{"$f":"ROUND(B$2+ (('coded NOLH for 17-22 factors'!B117-1)*(B$3-B$2) )/128, B$4 )","v":55},{"$f":"ROUND(C$2+ (('coded NOLH for 17-22 factors'!C117-1)*(C$3-C$2) )/128, C$4 )","v":17},{"$f":"ROUND(D$2+ (('coded NOLH for 17-22 factors'!D117-1)*(D$3-D$2) )/128, D$4 )","v":25},{"$f":"ROUND(E$2+ (('coded NOLH for 17-22 factors'!E117-1)*(E$3-E$2) )/128, E$4 )","v":107},{"$f":"ROUND(F$2+ (('coded NOLH for 17-22 factors'!F117-1)*(F$3-F$2) )/128, F$4 )","v":5},{"$f":"ROUND(G$2+ (('coded NOLH for 17-22 factors'!G117-1)*(G$3-G$2) )/128, G$4 )","v":29},{"$f":"ROUND(H$2+ (('coded NOLH for 17-22 factors'!H117-1)*(H$3-H$2) )/128, H$4 )","v":39},{"$f":"ROUND(I$2+ (('coded NOLH for 17-22 factors'!I117-1)*(I$3-I$2) )/128, I$4 )","v":4},{"$f":"ROUND(J$2+ (('coded NOLH for 17-22 factors'!J117-1)*(J$3-J$2) )/128, J$4 )","v":71},{"$f":"ROUND(K$2+ (('coded NOLH for 17-22 factors'!K117-1)*(K$3-K$2) )/128, K$4 )","v":35},{"$f":"ROUND(L$2+ (('coded NOLH for 17-22 factors'!L117-1)*(L$3-L$2) )/128, L$4 )","v":51},{"$f":"ROUND(M$2+ (('coded NOLH for 17-22 factors'!M117-1)*(M$3-M$2) )/128, M$4 )","v":47},{"$f":"ROUND(N$2+ (('coded NOLH for 17-22 factors'!N117-1)*(N$3-N$2) )/128, N$4 )","v":54},{"$f":"ROUND(O$2+ (('coded NOLH for 17-22 factors'!O117-1)*(O$3-O$2) )/128, O$4 )","v":21},{"$f":"ROUND(P$2+ (('coded NOLH for 17-22 factors'!P117-1)*(P$3-P$2) )/128, P$4 )","v":111},{"$f":"ROUND(Q$2+ (('coded NOLH for 17-22 factors'!Q117-1)*(Q$3-Q$2) )/128, Q$4 )","v":31},{"$f":"ROUND(R$2+ (('coded NOLH for 17-22 factors'!R117-1)*(R$3-R$2) )/128, R$4 )","v":91},{"$f":"ROUND(S$2+ (('coded NOLH for 17-22 factors'!S117-1)*(S$3-S$2) )/128, S$4 )","v":29},{"$f":"ROUND(T$2+ (('coded NOLH for 17-22 factors'!T117-1)*(T$3-T$2) )/128, T$4 )","v":44},{"$f":"ROUND(U$2+ (('coded NOLH for 17-22 factors'!U117-1)*(U$3-U$2) )/128, U$4 )","v":90},{"$f":"ROUND(V$2+ (('coded NOLH for 17-22 factors'!V117-1)*(V$3-V$2) )/128, V$4 )","v":18},{"$f":"ROUND(W$2+ (('coded NOLH for 17-22 factors'!W117-1)*(W$3-W$2) )/128, W$4 )","v":6}]
[null,{"$f":"ROUND(B$2+ (('coded NOLH for 17-22 factors'!B118-1)*(B$3-B$2) )/128, B$4 )","v":69},{"$f":"ROUND(C$2+ (('coded NOLH for 17-22 factors'!C118-1)*(C$3-C$2) )/128, C$4 )","v":77},{"$f":"ROUND(D$2+ (('coded NOLH for 17-22 factors'!D118-1)*(D$3-D$2) )/128, D$4 )","v":104},{"$f":"ROUND(E$2+ (('coded NOLH for 17-22 factors'!E118-1)*(E$3-E$2) )/128, E$4 )","v":6},{"$f":"ROUND(F$2+ (('coded NOLH for 17-22 factors'!F118-1)*(F$3-F$2) )/128, F$4 )","v":34},{"$f":"ROUND(G$2+ (('coded NOLH for 17-22 factors'!G118-1)*(G$3-G$2) )/128, G$4 )","v":6},{"$f":"ROUND(H$2+ (('coded NOLH for 17-22 factors'!H118-1)*(H$3-H$2) )/128, H$4 )","v":17},{"$f":"ROUND(I$2+ (('coded NOLH for 17-22 factors'!I118-1)*(I$3-I$2) )/128, I$4 )","v":7},{"$f":"ROUND(J$2+ (('coded NOLH for 17-22 factors'!J118-1)*(J$3-J$2) )/128, J$4 )","v":77},{"$f":"ROUND(K$2+ (('coded NOLH for 17-22 factors'!K118-1)*(K$3-K$2) )/128, K$4 )","v":97},{"$f":"ROUND(L$2+ (('coded NOLH for 17-22 factors'!L118-1)*(L$3-L$2) )/128, L$4 )","v":4},{"$f":"ROUND(M$2+ (('coded NOLH for 17-22 factors'!M118-1)*(M$3-M$2) )/128, M$4 )","v":73},{"$f":"ROUND(N$2+ (('coded NOLH for 17-22 factors'!N118-1)*(N$3-N$2) )/128, N$4 )","v":100},{"$f":"ROUND(O$2+ (('coded NOLH for 17-22 factors'!O118-1)*(O$3-O$2) )/128, O$4 )","v":40},{"$f":"ROUND(P$2+ (('coded NOLH for 17-22 factors'!P118-1)*(P$3-P$2) )/128, P$4 )","v":116},{"$f":"ROUND(Q$2+ (('coded NOLH for 17-22 factors'!Q118-1)*(Q$3-Q$2) )/128, Q$4 )","v":123},{"$f":"ROUND(R$2+ (('coded NOLH for 17-22 factors'!R118-1)*(R$3-R$2) )/128, R$4 )","v":5},{"$f":"ROUND(S$2+ (('coded NOLH for 17-22 factors'!S118-1)*(S$3-S$2) )/128, S$4 )","v":103},{"$f":"ROUND(T$2+ (('coded NOLH for 17-22 factors'!T118-1)*(T$3-T$2) )/128, T$4 )","v":122},{"$f":"ROUND(U$2+ (('coded NOLH for 17-22 factors'!U118-1)*(U$3-U$2) )/128, U$4 )","v":116},{"$f":"ROUND(V$2+ (('coded NOLH for 17-22 factors'!V118-1)*(V$3-V$2) )/128, V$4 )","v":86},{"$f":"ROUND(W$2+ (('coded NOLH for 17-22 factors'!W118-1)*(W$3-W$2) )/128, W$4 )","v":23}]
[null,{"$f":"ROUND(B$2+ (('coded NOLH for 17-22 factors'!B119-1)*(B$3-B$2) )/128, B$4 )","v":23},{"$f":"ROUND(C$2+ (('coded NOLH for 17-22 factors'!C119-1)*(C$3-C$2) )/128, C$4 )","v":118},{"$f":"ROUND(D$2+ (('coded NOLH for 17-22 factors'!D119-1)*(D$3-D$2) )/128, D$4 )","v":114},{"$f":"ROUND(E$2+ (('coded NOLH for 17-22 factors'!E119-1)*(E$3-E$2) )/128, E$4 )","v":55},{"$f":"ROUND(F$2+ (('coded NOLH for 17-22 factors'!F119-1)*(F$3-F$2) )/128, F$4 )","v":29},{"$f":"ROUND(G$2+ (('coded NOLH for 17-22 factors'!G119-1)*(G$3-G$2) )/128, G$4 )","v":77},{"$f":"ROUND(H$2+ (('coded NOLH for 17-22 factors'!H119-1)*(H$3-H$2) )/128, H$4 )","v":109},{"$f":"ROUND(I$2+ (('coded NOLH for 17-22 factors'!I119-1)*(I$3-I$2) )/128, I$4 )","v":78},{"$f":"ROUND(J$2+ (('coded NOLH for 17-22 factors'!J119-1)*(J$3-J$2) )/128, J$4 )","v":8},{"$f":"ROUND(K$2+ (('coded NOLH for 17-22 factors'!K119-1)*(K$3-K$2) )/128, K$4 )","v":25},{"$f":"ROUND(L$2+ (('coded NOLH for 17-22 factors'!L119-1)*(L$3-L$2) )/128, L$4 )","v":56},{"$f":"ROUND(M$2+ (('coded NOLH for 17-22 factors'!M119-1)*(M$3-M$2) )/128, M$4 )","v":54},{"$f":"ROUND(N$2+ (('coded NOLH for 17-22 factors'!N119-1)*(N$3-N$2) )/128, N$4 )","v":123},{"$f":"ROUND(O$2+ (('coded NOLH for 17-22 factors'!O119-1)*(O$3-O$2) )/128, O$4 )","v":24},{"$f":"ROUND(P$2+ (('coded NOLH for 17-22 factors'!P119-1)*(P$3-P$2) )/128, P$4 )","v":101},{"$f":"ROUND(Q$2+ (('coded NOLH for 17-22 factors'!Q119-1)*(Q$3-Q$2) )/128, Q$4 )","v":126},{"$f":"ROUND(R$2+ (('coded NOLH for 17-22 factors'!R119-1)*(R$3-R$2) )/128, R$4 )","v":35},{"$f":"ROUND(S$2+ (('coded NOLH for 17-22 factors'!S119-1)*(S$3-S$2) )/128, S$4 )","v":66},{"$f":"ROUND(T$2+ (('coded NOLH for 17-22 factors'!T119-1)*(T$3-T$2) )/128, T$4 )","v":95},{"$f":"ROUND(U$2+ (('coded NOLH for 17-22 factors'!U119-1)*(U$3-U$2) )/128, U$4 )","v":92},{"$f":"ROUND(V$2+ (('coded NOLH for 17-22 factors'!V119-1)*(V$3-V$2) )/128, V$4 )","v":117},{"$f":"ROUND(W$2+ (('coded NOLH for 17-22 factors'!W119-1)*(W$3-W$2) )/128, W$4 )","v":61}]
[null,{"$f":"ROUND(B$2+ (('coded NOLH for 17-22 factors'!B120-1)*(B$3-B$2) )/128, B$4 )","v":77},{"$f":"ROUND(C$2+ (('coded NOLH for 17-22 factors'!C120-1)*(C$3-C$2) )/128, C$4 )","v":61},{"$f":"ROUND(D$2+ (('coded NOLH for 17-22 factors'!D120-1)*(D$3-D$2) )/128, D$4 )","v":89},{"$f":"ROUND(E$2+ (('coded NOLH for 17-22 factors'!E120-1)*(E$3-E$2) )/128, E$4 )","v":28},{"$f":"ROUND(F$2+ (('coded NOLH for 17-22 factors'!F120-1)*(F$3-F$2) )/128, F$4 )","v":62},{"$f":"ROUND(G$2+ (('coded NOLH for 17-22 factors'!G120-1)*(G$3-G$2) )/128, G$4 )","v":106},{"$f":"ROUND(H$2+ (('coded NOLH for 17-22 factors'!H120-1)*(H$3-H$2) )/128, H$4 )","v":16},{"$f":"ROUND(I$2+ (('coded NOLH for 17-22 factors'!I120-1)*(I$3-I$2) )/128, I$4 )","v":63},{"$f":"ROUND(J$2+ (('coded NOLH for 17-22 factors'!J120-1)*(J$3-J$2) )/128, J$4 )","v":115},{"$f":"ROUND(K$2+ (('coded NOLH for 17-22 factors'!K120-1)*(K$3-K$2) )/128, K$4 )","v":91},{"$f":"ROUND(L$2+ (('coded NOLH for 17-22 factors'!L120-1)*(L$3-L$2) )/128, L$4 )","v":103},{"$f":"ROUND(M$2+ (('coded NOLH for 17-22 factors'!M120-1)*(M$3-M$2) )/128, M$4 )","v":127},{"$f":"ROUND(N$2+ (('coded NOLH for 17-22 factors'!N120-1)*(N$3-N$2) )/128, N$4 )","v":47},{"$f":"ROUND(O$2+ (('coded NOLH for 17-22 factors'!O120-1)*(O$3-O$2) )/128, O$4 )","v":55},{"$f":"ROUND(P$2+ (('coded NOLH for 17-22 factors'!P120-1)*(P$3-P$2) )/128, P$4 )","v":75},{"$f":"ROUND(Q$2+ (('coded NOLH for 17-22 factors'!Q120-1)*(Q$3-Q$2) )/128, Q$4 )","v":110},{"$f":"ROUND(R$2+ (('coded NOLH for 17-22 factors'!R120-1)*(R$3-R$2) )/128, R$4 )","v":48},{"$f":"ROUND(S$2+ (('coded NOLH for 17-22 factors'!S120-1)*(S$3-S$2) )/128, S$4 )","v":35},{"$f":"ROUND(T$2+ (('coded NOLH for 17-22 factors'!T120-1)*(T$3-T$2) )/128, T$4 )","v":106},{"$f":"ROUND(U$2+ (('coded NOLH for 17-22 factors'!U120-1)*(U$3-U$2) )/128, U$4 )","v":57},{"$f":"ROUND(V$2+ (('coded NOLH for 17-22 factors'!V120-1)*(V$3-V$2) )/128, V$4 )","v":76},{"$f":"ROUND(W$2+ (('coded NOLH for 17-22 factors'!W120-1)*(W$3-W$2) )/128, W$4 )","v":12}]
[null,{"$f":"ROUND(B$2+ (('coded NOLH for 17-22 factors'!B121-1)*(B$3-B$2) )/128, B$4 )","v":12},{"$f":"ROUND(C$2+ (('coded NOLH for 17-22 factors'!C121-1)*(C$3-C$2) )/128, C$4 )","v":23},{"$f":"ROUND(D$2+ (('coded NOLH for 17-22 factors'!D121-1)*(D$3-D$2) )/128, D$4 )","v":111},{"$f":"ROUND(E$2+ (('coded NOLH for 17-22 factors'!E121-1)*(E$3-E$2) )/128, E$4 )","v":17},{"$f":"ROUND(F$2+ (('coded NOLH for 17-22 factors'!F121-1)*(F$3-F$2) )/128, F$4 )","v":33},{"$f":"ROUND(G$2+ (('coded NOLH for 17-22 factors'!G121-1)*(G$3-G$2) )/128, G$4 )","v":58},{"$f":"ROUND(H$2+ (('coded NOLH for 17-22 factors'!H121-1)*(H$3-H$2) )/128, H$4 )","v":84},{"$f":"ROUND(I$2+ (('coded NOLH for 17-22 factors'!I121-1)*(I$3-I$2) )/128, I$4 )","v":80},{"$f":"ROUND(J$2+ (('coded NOLH for 17-22 factors'!J121-1)*(J$3-J$2) )/128, J$4 )","v":30},{"$f":"ROUND(K$2+ (('coded NOLH for 17-22 factors'!K121-1)*(K$3-K$2) )/128, K$4 )","v":59},{"$f":"ROUND(L$2+ (('coded NOLH for 17-22 factors'!L121-1)*(L$3-L$2) )/128, L$4 )","v":120},{"$f":"ROUND(M$2+ (('coded NOLH for 17-22 factors'!M121-1)*(M$3-M$2) )/128, M$4 )","v":89},{"$f":"ROUND(N$2+ (('coded NOLH for 17-22 factors'!N121-1)*(N$3-N$2) )/128, N$4 )","v":6},{"$f":"ROUND(O$2+ (('coded NOLH for 17-22 factors'!O121-1)*(O$3-O$2) )/128, O$4 )","v":18},{"$f":"ROUND(P$2+ (('coded NOLH for 17-22 factors'!P121-1)*(P$3-P$2) )/128, P$4 )","v":74},{"$f":"ROUND(Q$2+ (('coded NOLH for 17-22 factors'!Q121-1)*(Q$3-Q$2) )/128, Q$4 )","v":108},{"$f":"ROUND(R$2+ (('coded NOLH for 17-22 factors'!R121-1)*(R$3-R$2) )/128, R$4 )","v":19},{"$f":"ROUND(S$2+ (('coded NOLH for 17-22 factors'!S121-1)*(S$3-S$2) )/128, S$4 )","v":32},{"$f":"ROUND(T$2+ (('coded NOLH for 17-22 factors'!T121-1)*(T$3-T$2) )/128, T$4 )","v":90},{"$f":"ROUND(U$2+ (('coded NOLH for 17-22 factors'!U121-1)*(U$3-U$2) )/128, U$4 )","v":66},{"$f":"ROUND(V$2+ (('coded NOLH for 17-22 factors'!V121-1)*(V$3-V$2) )/128, V$4 )","v":73},{"$f":"ROUND(W$2+ (('coded NOLH for 17-22 factors'!W121-1)*(W$3-W$2) )/128, W$4 )","v":53}]
[null,{"$f":"ROUND(B$2+ (('coded NOLH for 17-22 factors'!B122-1)*(B$3-B$2) )/128, B$4 )","v":89},{"$f":"ROUND(C$2+ (('coded NOLH for 17-22 factors'!C122-1)*(C$3-C$2) )/128, C$4 )","v":104},{"$f":"ROUND(D$2+ (('coded NOLH for 17-22 factors'!D122-1)*(D$3-D$2) )/128, D$4 )","v":53},{"$f":"ROUND(E$2+ (('coded NOLH for 17-22 factors'!E122-1)*(E$3-E$2) )/128, E$4 )","v":64},{"$f":"ROUND(F$2+ (('coded NOLH for 17-22 factors'!F122-1)*(F$3-F$2) )/128, F$4 )","v":7},{"$f":"ROUND(G$2+ (('coded NOLH for 17-22 factors'!G122-1)*(G$3-G$2) )/128, G$4 )","v":23},{"$f":"ROUND(H$2+ (('coded NOLH for 17-22 factors'!H122-1)*(H$3-H$2) )/128, H$4 )","v":119},{"$f":"ROUND(I$2+ (('coded NOLH for 17-22 factors'!I122-1)*(I$3-I$2) )/128, I$4 )","v":41},{"$f":"ROUND(J$2+ (('coded NOLH for 17-22 factors'!J122-1)*(J$3-J$2) )/128, J$4 )","v":82},{"$f":"ROUND(K$2+ (('coded NOLH for 17-22 factors'!K122-1)*(K$3-K$2) )/128, K$4 )","v":117},{"$f":"ROUND(L$2+ (('coded NOLH for 17-22 factors'!L122-1)*(L$3-L$2) )/128, L$4 )","v":86},{"$f":"ROUND(M$2+ (('coded NOLH for 17-22 factors'!M122-1)*(M$3-M$2) )/128, M$4 )","v":46},{"$f":"ROUND(N$2+ (('coded NOLH for 17-22 factors'!N122-1)*(N$3-N$2) )/128, N$4 )","v":107},{"$f":"ROUND(O$2+ (('coded NOLH for 17-22 factors'!O122-1)*(O$3-O$2) )/128, O$4 )","v":58},{"$f":"ROUND(P$2+ (('coded NOLH for 17-22 factors'!P122-1)*(P$3-P$2) )/128, P$4 )","v":22},{"$f":"ROUND(Q$2+ (('coded NOLH for 17-22 factors'!Q122-1)*(Q$3-Q$2) )/128, Q$4 )","v":30},{"$f":"ROUND(R$2+ (('coded NOLH for 17-22 factors'!R122-1)*(R$3-R$2) )/128, R$4 )","v":56},{"$f":"ROUND(S$2+ (('coded NOLH for 17-22 factors'!S122-1)*(S$3-S$2) )/128, S$4 )","v":128},{"$f":"ROUND(T$2+ (('coded NOLH for 17-22 factors'!T122-1)*(T$3-T$2) )/128, T$4 )","v":85},{"$f":"ROUND(U$2+ (('coded NOLH for 17-22 factors'!U122-1)*(U$3-U$2) )/128, U$4 )","v":114},{"$f":"ROUND(V$2+ (('coded NOLH for 17-22 factors'!V122-1)*(V$3-V$2) )/128, V$4 )","v":116},{"$f":"ROUND(W$2+ (('coded NOLH for 17-22 factors'!W122-1)*(W$3-W$2) )/128, W$4 )","v":19}]
[null,{"$f":"ROUND(B$2+ (('coded NOLH for 17-22 factors'!B123-1)*(B$3-B$2) )/128, B$4 )","v":19},{"$f":"ROUND(C$2+ (('coded NOLH for 17-22 factors'!C123-1)*(C$3-C$2) )/128, C$4 )","v":114},{"$f":"ROUND(D$2+ (('coded NOLH for 17-22 factors'!D123-1)*(D$3-D$2) )/128, D$4 )","v":12},{"$f":"ROUND(E$2+ (('coded NOLH for 17-22 factors'!E123-1)*(E$3-E$2) )/128, E$4 )","v":49},{"$f":"ROUND(F$2+ (('coded NOLH for 17-22 factors'!F123-1)*(F$3-F$2) )/128, F$4 )","v":11},{"$f":"ROUND(G$2+ (('coded NOLH for 17-22 factors'!G123-1)*(G$3-G$2) )/128, G$4 )","v":117},{"$f":"ROUND(H$2+ (('coded NOLH for 17-22 factors'!H123-1)*(H$3-H$2) )/128, H$4 )","v":60},{"$f":"ROUND(I$2+ (('coded NOLH for 17-22 factors'!I123-1)*(I$3-I$2) )/128, I$4 )","v":97},{"$f":"ROUND(J$2+ (('coded NOLH for 17-22 factors'!J123-1)*(J$3-J$2) )/128, J$4 )","v":63},{"$f":"ROUND(K$2+ (('coded NOLH for 17-22 factors'!K123-1)*(K$3-K$2) )/128, K$4 )","v":5},{"$f":"ROUND(L$2+ (('coded NOLH for 17-22 factors'!L123-1)*(L$3-L$2) )/128, L$4 )","v":72},{"$f":"ROUND(M$2+ (('coded NOLH for 17-22 factors'!M123-1)*(M$3-M$2) )/128, M$4 )","v":11},{"$f":"ROUND(N$2+ (('coded NOLH for 17-22 factors'!N123-1)*(N$3-N$2) )/128, N$4 )","v":91},{"$f":"ROUND(O$2+ (('coded NOLH for 17-22 factors'!O123-1)*(O$3-O$2) )/128, O$4 )","v":88},{"$f":"ROUND(P$2+ (('coded NOLH for 17-22 factors'!P123-1)*(P$3-P$2) )/128, P$4 )","v":32},{"$f":"ROUND(Q$2+ (('coded NOLH for 17-22 factors'!Q123-1)*(Q$3-Q$2) )/128, Q$4 )","v":66},{"$f":"ROUND(R$2+ (('coded NOLH for 17-22 factors'!R123-1)*(R$3-R$2) )/128, R$4 )","v":45},{"$f":"ROUND(S$2+ (('coded NOLH for 17-22 factors'!S123-1)*(S$3-S$2) )/128, S$4 )","v":129},{"$f":"ROUND(T$2+ (('coded NOLH for 17-22 factors'!T123-1)*(T$3-T$2) )/128, T$4 )","v":117},{"$f":"ROUND(U$2+ (('coded NOLH for 17-22 factors'!U123-1)*(U$3-U$2) )/128, U$4 )","v":117},{"$f":"ROUND(V$2+ (('coded NOLH for 17-22 factors'!V123-1)*(V$3-V$2) )/128, V$4 )","v":78},{"$f":"ROUND(W$2+ (('coded NOLH for 17-22 factors'!W123-1)*(W$3-W$2) )/128, W$4 )","v":41}]
[null,{"$f":"ROUND(B$2+ (('coded NOLH for 17-22 factors'!B124-1)*(B$3-B$2) )/128, B$4 )","v":104},{"$f":"ROUND(C$2+ (('coded NOLH for 17-22 factors'!C124-1)*(C$3-C$2) )/128, C$4 )","v":41},{"$f":"ROUND(D$2+ (('coded NOLH for 17-22 factors'!D124-1)*(D$3-D$2) )/128, D$4 )","v":61},{"$f":"ROUND(E$2+ (('coded NOLH for 17-22 factors'!E124-1)*(E$3-E$2) )/128, E$4 )","v":43},{"$f":"ROUND(F$2+ (('coded NOLH for 17-22 factors'!F124-1)*(F$3-F$2) )/128, F$4 )","v":4},{"$f":"ROUND(G$2+ (('coded NOLH for 17-22 factors'!G124-1)*(G$3-G$2) )/128, G$4 )","v":121},{"$f":"ROUND(H$2+ (('coded NOLH for 17-22 factors'!H124-1)*(H$3-H$2) )/128, H$4 )","v":102},{"$f":"ROUND(I$2+ (('coded NOLH for 17-22 factors'!I124-1)*(I$3-I$2) )/128, I$4 )","v":39},{"$f":"ROUND(J$2+ (('coded NOLH for 17-22 factors'!J124-1)*(J$3-J$2) )/128, J$4 )","v":105},{"$f":"ROUND(K$2+ (('coded NOLH for 17-22 factors'!K124-1)*(K$3-K$2) )/128, K$4 )","v":121},{"$f":"ROUND(L$2+ (('coded NOLH for 17-22 factors'!L124-1)*(L$3-L$2) )/128, L$4 )","v":1},{"$f":"ROUND(M$2+ (('coded NOLH for 17-22 factors'!M124-1)*(M$3-M$2) )/128, M$4 )","v":82},{"$f":"ROUND(N$2+ (('coded NOLH for 17-22 factors'!N124-1)*(N$3-N$2) )/128, N$4 )","v":46},{"$f":"ROUND(O$2+ (('coded NOLH for 17-22 factors'!O124-1)*(O$3-O$2) )/128, O$4 )","v":105},{"$f":"ROUND(P$2+ (('coded NOLH for 17-22 factors'!P124-1)*(P$3-P$2) )/128, P$4 )","v":51},{"$f":"ROUND(Q$2+ (('coded NOLH for 17-22 factors'!Q124-1)*(Q$3-Q$2) )/128, Q$4 )","v":24},{"$f":"ROUND(R$2+ (('coded NOLH for 17-22 factors'!R124-1)*(R$3-R$2) )/128, R$4 )","v":25},{"$f":"ROUND(S$2+ (('coded NOLH for 17-22 factors'!S124-1)*(S$3-S$2) )/128, S$4 )","v":21},{"$f":"ROUND(T$2+ (('coded NOLH for 17-22 factors'!T124-1)*(T$3-T$2) )/128, T$4 )","v":77},{"$f":"ROUND(U$2+ (('coded NOLH for 17-22 factors'!U124-1)*(U$3-U$2) )/128, U$4 )","v":110},{"$f":"ROUND(V$2+ (('coded NOLH for 17-22 factors'!V124-1)*(V$3-V$2) )/128, V$4 )","v":109},{"$f":"ROUND(W$2+ (('coded NOLH for 17-22 factors'!W124-1)*(W$3-W$2) )/128, W$4 )","v":16}]
[null,{"$f":"ROUND(B$2+ (('coded NOLH for 17-22 factors'!B125-1)*(B$3-B$2) )/128, B$4 )","v":16},{"$f":"ROUND(C$2+ (('coded NOLH for 17-22 factors'!C125-1)*(C$3-C$2) )/128, C$4 )","v":19},{"$f":"ROUND(D$2+ (('coded NOLH for 17-22 factors'!D125-1)*(D$3-D$2) )/128, D$4 )","v":23},{"$f":"ROUND(E$2+ (('coded NOLH for 17-22 factors'!E125-1)*(E$3-E$2) )/128, E$4 )","v":25},{"$f":"ROUND(F$2+ (('coded NOLH for 17-22 factors'!F125-1)*(F$3-F$2) )/128, F$4 )","v":3},{"$f":"ROUND(G$2+ (('coded NOLH for 17-22 factors'!G125-1)*(G$3-G$2) )/128, G$4 )","v":50},{"$f":"ROUND(H$2+ (('coded NOLH for 17-22 factors'!H125-1)*(H$3-H$2) )/128, H$4 )","v":56},{"$f":"ROUND(I$2+ (('coded NOLH for 17-22 factors'!I125-1)*(I$3-I$2) )/128, I$4 )","v":102},{"$f":"ROUND(J$2+ (('coded NOLH for 17-22 factors'!J125-1)*(J$3-J$2) )/128, J$4 )","v":44},{"$f":"ROUND(K$2+ (('coded NOLH for 17-22 factors'!K125-1)*(K$3-K$2) )/128, K$4 )","v":1},{"$f":"ROUND(L$2+ (('coded NOLH for 17-22 factors'!L125-1)*(L$3-L$2) )/128, L$4 )","v":62},{"$f":"ROUND(M$2+ (('coded NOLH for 17-22 factors'!M125-1)*(M$3-M$2) )/128, M$4 )","v":117},{"$f":"ROUND(N$2+ (('coded NOLH for 17-22 factors'!N125-1)*(N$3-N$2) )/128, N$4 )","v":71},{"$f":"ROUND(O$2+ (('coded NOLH for 17-22 factors'!O125-1)*(O$3-O$2) )/128, O$4 )","v":81},{"$f":"ROUND(P$2+ (('coded NOLH for 17-22 factors'!P125-1)*(P$3-P$2) )/128, P$4 )","v":28},{"$f":"ROUND(Q$2+ (('coded NOLH for 17-22 factors'!Q125-1)*(Q$3-Q$2) )/128, Q$4 )","v":16},{"$f":"ROUND(R$2+ (('coded NOLH for 17-22 factors'!R125-1)*(R$3-R$2) )/128, R$4 )","v":38},{"$f":"ROUND(S$2+ (('coded NOLH for 17-22 factors'!S125-1)*(S$3-S$2) )/128, S$4 )","v":8},{"$f":"ROUND(T$2+ (('coded NOLH for 17-22 factors'!T125-1)*(T$3-T$2) )/128, T$4 )","v":78},{"$f":"ROUND(U$2+ (('coded NOLH for 17-22 factors'!U125-1)*(U$3-U$2) )/128, U$4 )","v":87},{"$f":"ROUND(V$2+ (('coded NOLH for 17-22 factors'!V125-1)*(V$3-V$2) )/128, V$4 )","v":85},{"$f":"ROUND(W$2+ (('coded NOLH for 17-22 factors'!W125-1)*(W$3-W$2) )/128, W$4 )","v":26}]
[null,{"$f":"ROUND(B$2+ (('coded NOLH for 17-22 factors'!B126-1)*(B$3-B$2) )/128, B$4 )","v":109},{"$f":"ROUND(C$2+ (('coded NOLH for 17-22 factors'!C126-1)*(C$3-C$2) )/128, C$4 )","v":116},{"$f":"ROUND(D$2+ (('coded NOLH for 17-22 factors'!D126-1)*(D$3-D$2) )/128, D$4 )","v":86},{"$f":"ROUND(E$2+ (('coded NOLH for 17-22 factors'!E126-1)*(E$3-E$2) )/128, E$4 )","v":42},{"$f":"ROUND(F$2+ (('coded NOLH for 17-22 factors'!F126-1)*(F$3-F$2) )/128, F$4 )","v":51},{"$f":"ROUND(G$2+ (('coded NOLH for 17-22 factors'!G126-1)*(G$3-G$2) )/128, G$4 )","v":46},{"$f":"ROUND(H$2+ (('coded NOLH for 17-22 factors'!H126-1)*(H$3-H$2) )/128, H$4 )","v":22},{"$f":"ROUND(I$2+ (('coded NOLH for 17-22 factors'!I126-1)*(I$3-I$2) )/128, I$4 )","v":112},{"$f":"ROUND(J$2+ (('coded NOLH for 17-22 factors'!J126-1)*(J$3-J$2) )/128, J$4 )","v":114},{"$f":"ROUND(K$2+ (('coded NOLH for 17-22 factors'!K126-1)*(K$3-K$2) )/128, K$4 )","v":81},{"$f":"ROUND(L$2+ (('coded NOLH for 17-22 factors'!L126-1)*(L$3-L$2) )/128, L$4 )","v":55},{"$f":"ROUND(M$2+ (('coded NOLH for 17-22 factors'!M126-1)*(M$3-M$2) )/128, M$4 )","v":122},{"$f":"ROUND(N$2+ (('coded NOLH for 17-22 factors'!N126-1)*(N$3-N$2) )/128, N$4 )","v":102},{"$f":"ROUND(O$2+ (('coded NOLH for 17-22 factors'!O126-1)*(O$3-O$2) )/128, O$4 )","v":97},{"$f":"ROUND(P$2+ (('coded NOLH for 17-22 factors'!P126-1)*(P$3-P$2) )/128, P$4 )","v":117},{"$f":"ROUND(Q$2+ (('coded NOLH for 17-22 factors'!Q126-1)*(Q$3-Q$2) )/128, Q$4 )","v":112},{"$f":"ROUND(R$2+ (('coded NOLH for 17-22 factors'!R126-1)*(R$3-R$2) )/128, R$4 )","v":7},{"$f":"ROUND(S$2+ (('coded NOLH for 17-22 factors'!S126-1)*(S$3-S$2) )/128, S$4 )","v":84},{"$f":"ROUND(T$2+ (('coded NOLH for 17-22 factors'!T126-1)*(T$3-T$2) )/128, T$4 )","v":4},{"$f":"ROUND(U$2+ (('coded NOLH for 17-22 factors'!U126-1)*(U$3-U$2) )/128, U$4 )","v":17},{"$f":"ROUND(V$2+ (('coded NOLH for 17-22 factors'!V126-1)*(V$3-V$2) )/128, V$4 )","v":26},{"$f":"ROUND(W$2+ (('coded NOLH for 17-22 factors'!W126-1)*(W$3-W$2) )/128, W$4 )","v":45}]
[null,{"$f":"ROUND(B$2+ (('coded NOLH for 17-22 factors'!B127-1)*(B$3-B$2) )/128, B$4 )","v":45},{"$f":"ROUND(C$2+ (('coded NOLH for 17-22 factors'!C127-1)*(C$3-C$2) )/128, C$4 )","v":78},{"$f":"ROUND(D$2+ (('coded NOLH for 17-22 factors'!D127-1)*(D$3-D$2) )/128, D$4 )","v":117},{"$f":"ROUND(E$2+ (('coded NOLH for 17-22 factors'!E127-1)*(E$3-E$2) )/128, E$4 )","v":20},{"$f":"ROUND(F$2+ (('coded NOLH for 17-22 factors'!F127-1)*(F$3-F$2) )/128, F$4 )","v":56},{"$f":"ROUND(G$2+ (('coded NOLH for 17-22 factors'!G127-1)*(G$3-G$2) )/128, G$4 )","v":105},{"$f":"ROUND(H$2+ (('coded NOLH for 17-22 factors'!H127-1)*(H$3-H$2) )/128, H$4 )","v":95},{"$f":"ROUND(I$2+ (('coded NOLH for 17-22 factors'!I127-1)*(I$3-I$2) )/128, I$4 )","v":26},{"$f":"ROUND(J$2+ (('coded NOLH for 17-22 factors'!J127-1)*(J$3-J$2) )/128, J$4 )","v":46},{"$f":"ROUND(K$2+ (('coded NOLH for 17-22 factors'!K127-1)*(K$3-K$2) )/128, K$4 )","v":58},{"$f":"ROUND(L$2+ (('coded NOLH for 17-22 factors'!L127-1)*(L$3-L$2) )/128, L$4 )","v":57},{"$f":"ROUND(M$2+ (('coded NOLH for 17-22 factors'!M127-1)*(M$3-M$2) )/128, M$4 )","v":92},{"$f":"ROUND(N$2+ (('coded NOLH for 17-22 factors'!N127-1)*(N$3-N$2) )/128, N$4 )","v":122},{"$f":"ROUND(O$2+ (('coded NOLH for 17-22 factors'!O127-1)*(O$3-O$2) )/128, O$4 )","v":83},{"$f":"ROUND(P$2+ (('coded NOLH for 17-22 factors'!P127-1)*(P$3-P$2) )/128, P$4 )","v":114},{"$f":"ROUND(Q$2+ (('coded NOLH for 17-22 factors'!Q127-1)*(Q$3-Q$2) )/128, Q$4 )","v":95},{"$f":"ROUND(R$2+ (('coded NOLH for 17-22 factors'!R127-1)*(R$3-R$2) )/128, R$4 )","v":27},{"$f":"ROUND(S$2+ (('coded NOLH for 17-22 factors'!S127-1)*(S$3-S$2) )/128, S$4 )","v":127},{"$f":"ROUND(T$2+ (('coded NOLH for 17-22 factors'!T127-1)*(T$3-T$2) )/128, T$4 )","v":12},{"$f":"ROUND(U$2+ (('coded NOLH for 17-22 factors'!U127-1)*(U$3-U$2) )/128, U$4 )","v":26},{"$f":"ROUND(V$2+ (('coded NOLH for 17-22 factors'!V127-1)*(V$3-V$2) )/128, V$4 )","v":16},{"$f":"ROUND(W$2+ (('coded NOLH for 17-22 factors'!W127-1)*(W$3-W$2) )/128, W$4 )","v":21}]
[null,{"$f":"ROUND(B$2+ (('coded NOLH for 17-22 factors'!B128-1)*(B$3-B$2) )/128, B$4 )","v":116},{"$f":"ROUND(C$2+ (('coded NOLH for 17-22 factors'!C128-1)*(C$3-C$2) )/128, C$4 )","v":21},{"$f":"ROUND(D$2+ (('coded NOLH for 17-22 factors'!D128-1)*(D$3-D$2) )/128, D$4 )","v":76},{"$f":"ROUND(E$2+ (('coded NOLH for 17-22 factors'!E128-1)*(E$3-E$2) )/128, E$4 )","v":8},{"$f":"ROUND(F$2+ (('coded NOLH for 17-22 factors'!F128-1)*(F$3-F$2) )/128, F$4 )","v":1},{"$f":"ROUND(G$2+ (('coded NOLH for 17-22 factors'!G128-1)*(G$3-G$2) )/128, G$4 )","v":83},{"$f":"ROUND(H$2+ (('coded NOLH for 17-22 factors'!H128-1)*(H$3-H$2) )/128, H$4 )","v":59},{"$f":"ROUND(I$2+ (('coded NOLH for 17-22 factors'!I128-1)*(I$3-I$2) )/128, I$4 )","v":107},{"$f":"ROUND(J$2+ (('coded NOLH for 17-22 factors'!J128-1)*(J$3-J$2) )/128, J$4 )","v":112},{"$f":"ROUND(K$2+ (('coded NOLH for 17-22 factors'!K128-1)*(K$3-K$2) )/128, K$4 )","v":88},{"$f":"ROUND(L$2+ (('coded NOLH for 17-22 factors'!L128-1)*(L$3-L$2) )/128, L$4 )","v":105},{"$f":"ROUND(M$2+ (('coded NOLH for 17-22 factors'!M128-1)*(M$3-M$2) )/128, M$4 )","v":24},{"$f":"ROUND(N$2+ (('coded NOLH for 17-22 factors'!N128-1)*(N$3-N$2) )/128, N$4 )","v":16},{"$f":"ROUND(O$2+ (('coded NOLH for 17-22 factors'!O128-1)*(O$3-O$2) )/128, O$4 )","v":120},{"$f":"ROUND(P$2+ (('coded NOLH for 17-22 factors'!P128-1)*(P$3-P$2) )/128, P$4 )","v":62},{"$f":"ROUND(Q$2+ (('coded NOLH for 17-22 factors'!Q128-1)*(Q$3-Q$2) )/128, Q$4 )","v":93},{"$f":"ROUND(R$2+ (('coded NOLH for 17-22 factors'!R128-1)*(R$3-R$2) )/128, R$4 )","v":1},{"$f":"ROUND(S$2+ (('coded NOLH for 17-22 factors'!S128-1)*(S$3-S$2) )/128, S$4 )","v":56},{"$f":"ROUND(T$2+ (('coded NOLH for 17-22 factors'!T128-1)*(T$3-T$2) )/128, T$4 )","v":37},{"$f":"ROUND(U$2+ (('coded NOLH for 17-22 factors'!U128-1)*(U$3-U$2) )/128, U$4 )","v":44},{"$f":"ROUND(V$2+ (('coded NOLH for 17-22 factors'!V128-1)*(V$3-V$2) )/128, V$4 )","v":41},{"$f":"ROUND(W$2+ (('coded NOLH for 17-22 factors'!W128-1)*(W$3-W$2) )/128, W$4 )","v":52}]
[null,{"$f":"ROUND(B$2+ (('coded NOLH for 17-22 factors'!B129-1)*(B$3-B$2) )/128, B$4 )","v":52},{"$f":"ROUND(C$2+ (('coded NOLH for 17-22 factors'!C129-1)*(C$3-C$2) )/128, C$4 )","v":45},{"$f":"ROUND(D$2+ (('coded NOLH for 17-22 factors'!D129-1)*(D$3-D$2) )/128, D$4 )","v":73},{"$f":"ROUND(E$2+ (('coded NOLH for 17-22 factors'!E129-1)*(E$3-E$2) )/128, E$4 )","v":22},{"$f":"ROUND(F$2+ (('coded NOLH for 17-22 factors'!F129-1)*(F$3-F$2) )/128, F$4 )","v":39},{"$f":"ROUND(G$2+ (('coded NOLH for 17-22 factors'!G129-1)*(G$3-G$2) )/128, G$4 )","v":12},{"$f":"ROUND(H$2+ (('coded NOLH for 17-22 factors'!H129-1)*(H$3-H$2) )/128, H$4 )","v":79},{"$f":"ROUND(I$2+ (('coded NOLH for 17-22 factors'!I129-1)*(I$3-I$2) )/128, I$4 )","v":42},{"$f":"ROUND(J$2+ (('coded NOLH for 17-22 factors'!J129-1)*(J$3-J$2) )/128, J$4 )","v":9},{"$f":"ROUND(K$2+ (('coded NOLH for 17-22 factors'!K129-1)*(K$3-K$2) )/128, K$4 )","v":7},{"$f":"ROUND(L$2+ (('coded NOLH for 17-22 factors'!L129-1)*(L$3-L$2) )/128, L$4 )","v":97},{"$f":"ROUND(M$2+ (('coded NOLH for 17-22 factors'!M129-1)*(M$3-M$2) )/128, M$4 )","v":31},{"$f":"ROUND(N$2+ (('coded NOLH for 17-22 factors'!N129-1)*(N$3-N$2) )/128, N$4 )","v":41},{"$f":"ROUND(O$2+ (('coded NOLH for 17-22 factors'!O129-1)*(O$3-O$2) )/128, O$4 )","v":74},{"$f":"ROUND(P$2+ (('coded NOLH for 17-22 factors'!P129-1)*(P$3-P$2) )/128, P$4 )","v":90},{"$f":"ROUND(Q$2+ (('coded NOLH for 17-22 factors'!Q129-1)*(Q$3-Q$2) )/128, Q$4 )","v":72},{"$f":"ROUND(R$2+ (('coded NOLH for 17-22 factors'!R129-1)*(R$3-R$2) )/128, R$4 )","v":16},{"$f":"ROUND(S$2+ (('coded NOLH for 17-22 factors'!S129-1)*(S$3-S$2) )/128, S$4 )","v":51},{"$f":"ROUND(T$2+ (('coded NOLH for 17-22 factors'!T129-1)*(T$3-T$2) )/128, T$4 )","v":16},{"$f":"ROUND(U$2+ (('coded NOLH for 17-22 factors'!U129-1)*(U$3-U$2) )/128, U$4 )","v":56},{"$f":"ROUND(V$2+ (('coded NOLH for 17-22 factors'!V129-1)*(V$3-V$2) )/128, V$4 )","v":19},{"$f":"ROUND(W$2+ (('coded NOLH for 17-22 factors'!W129-1)*(W$3-W$2) )/128, W$4 )","v":14}]
[null,{"$f":"ROUND(B$2+ (('coded NOLH for 17-22 factors'!B130-1)*(B$3-B$2) )/128, B$4 )","v":76},{"$f":"ROUND(C$2+ (('coded NOLH for 17-22 factors'!C130-1)*(C$3-C$2) )/128, C$4 )","v":86},{"$f":"ROUND(D$2+ (('coded NOLH for 17-22 factors'!D130-1)*(D$3-D$2) )/128, D$4 )","v":14},{"$f":"ROUND(E$2+ (('coded NOLH for 17-22 factors'!E130-1)*(E$3-E$2) )/128, E$4 )","v":47},{"$f":"ROUND(F$2+ (('coded NOLH for 17-22 factors'!F130-1)*(F$3-F$2) )/128, F$4 )","v":58},{"$f":"ROUND(G$2+ (('coded NOLH for 17-22 factors'!G130-1)*(G$3-G$2) )/128, G$4 )","v":15},{"$f":"ROUND(H$2+ (('coded NOLH for 17-22 factors'!H130-1)*(H$3-H$2) )/128, H$4 )","v":82},{"$f":"ROUND(I$2+ (('coded NOLH for 17-22 factors'!I130-1)*(I$3-I$2) )/128, I$4 )","v":114},{"$f":"ROUND(J$2+ (('coded NOLH for 17-22 factors'!J130-1)*(J$3-J$2) )/128, J$4 )","v":64},{"$f":"ROUND(K$2+ (('coded NOLH for 17-22 factors'!K130-1)*(K$3-K$2) )/128, K$4 )","v":90},{"$f":"ROUND(L$2+ (('coded NOLH for 17-22 factors'!L130-1)*(L$3-L$2) )/128, L$4 )","v":93},{"$f":"ROUND(M$2+ (('coded NOLH for 17-22 factors'!M130-1)*(M$3-M$2) )/128, M$4 )","v":111},{"$f":"ROUND(N$2+ (('coded NOLH for 17-22 factors'!N130-1)*(N$3-N$2) )/128, N$4 )","v":118},{"$f":"ROUND(O$2+ (('coded NOLH for 17-22 factors'!O130-1)*(O$3-O$2) )/128, O$4 )","v":12},{"$f":"ROUND(P$2+ (('coded NOLH for 17-22 factors'!P130-1)*(P$3-P$2) )/128, P$4 )","v":30},{"$f":"ROUND(Q$2+ (('coded NOLH for 17-22 factors'!Q130-1)*(Q$3-Q$2) )/128, Q$4 )","v":39},{"$f":"ROUND(R$2+ (('coded NOLH for 17-22 factors'!R130-1)*(R$3-R$2) )/128, R$4 )","v":67},{"$f":"ROUND(S$2+ (('coded NOLH for 17-22 factors'!S130-1)*(S$3-S$2) )/128, S$4 )","v":119},{"$f":"ROUND(T$2+ (('coded NOLH for 17-22 factors'!T130-1)*(T$3-T$2) )/128, T$4 )","v":27},{"$f":"ROUND(U$2+ (('coded NOLH for 17-22 factors'!U130-1)*(U$3-U$2) )/128, U$4 )","v":27},{"$f":"ROUND(V$2+ (('coded NOLH for 17-22 factors'!V130-1)*(V$3-V$2) )/128, V$4 )","v":53},{"$f":"ROUND(W$2+ (('coded NOLH for 17-22 factors'!W130-1)*(W$3-W$2) )/128, W$4 )","v":57}]
[null,{"$f":"ROUND(B$2+ (('coded NOLH for 17-22 factors'!B131-1)*(B$3-B$2) )/128, B$4 )","v":57},{"$f":"ROUND(C$2+ (('coded NOLH for 17-22 factors'!C131-1)*(C$3-C$2) )/128, C$4 )","v":117},{"$f":"ROUND(D$2+ (('coded NOLH for 17-22 factors'!D131-1)*(D$3-D$2) )/128, D$4 )","v":52},{"$f":"ROUND(E$2+ (('coded NOLH for 17-22 factors'!E131-1)*(E$3-E$2) )/128, E$4 )","v":63},{"$f":"ROUND(F$2+ (('coded NOLH for 17-22 factors'!F131-1)*(F$3-F$2) )/128, F$4 )","v":40},{"$f":"ROUND(G$2+ (('coded NOLH for 17-22 factors'!G131-1)*(G$3-G$2) )/128, G$4 )","v":82},{"$f":"ROUND(H$2+ (('coded NOLH for 17-22 factors'!H131-1)*(H$3-H$2) )/128, H$4 )","v":24},{"$f":"ROUND(I$2+ (('coded NOLH for 17-22 factors'!I131-1)*(I$3-I$2) )/128, I$4 )","v":45},{"$f":"ROUND(J$2+ (('coded NOLH for 17-22 factors'!J131-1)*(J$3-J$2) )/128, J$4 )","v":47},{"$f":"ROUND(K$2+ (('coded NOLH for 17-22 factors'!K131-1)*(K$3-K$2) )/128, K$4 )","v":66},{"$f":"ROUND(L$2+ (('coded NOLH for 17-22 factors'!L131-1)*(L$3-L$2) )/128, L$4 )","v":113},{"$f":"ROUND(M$2+ (('coded NOLH for 17-22 factors'!M131-1)*(M$3-M$2) )/128, M$4 )","v":72},{"$f":"ROUND(N$2+ (('coded NOLH for 17-22 factors'!N131-1)*(N$3-N$2) )/128, N$4 )","v":104},{"$f":"ROUND(O$2+ (('coded NOLH for 17-22 factors'!O131-1)*(O$3-O$2) )/128, O$4 )","v":44},{"$f":"ROUND(P$2+ (('coded NOLH for 17-22 factors'!P131-1)*(P$3-P$2) )/128, P$4 )","v":4},{"$f":"ROUND(Q$2+ (('coded NOLH for 17-22 factors'!Q131-1)*(Q$3-Q$2) )/128, Q$4 )","v":3},{"$f":"ROUND(R$2+ (('coded NOLH for 17-22 factors'!R131-1)*(R$3-R$2) )/128, R$4 )","v":42},{"$f":"ROUND(S$2+ (('coded NOLH for 17-22 factors'!S131-1)*(S$3-S$2) )/128, S$4 )","v":96},{"$f":"ROUND(T$2+ (('coded NOLH for 17-22 factors'!T131-1)*(T$3-T$2) )/128, T$4 )","v":58},{"$f":"ROUND(U$2+ (('coded NOLH for 17-22 factors'!U131-1)*(U$3-U$2) )/128, U$4 )","v":22},{"$f":"ROUND(V$2+ (('coded NOLH for 17-22 factors'!V131-1)*(V$3-V$2) )/128, V$4 )","v":12},{"$f":"ROUND(W$2+ (('coded NOLH for 17-22 factors'!W131-1)*(W$3-W$2) )/128, W$4 )","v":54}]
[null,{"$f":"ROUND(B$2+ (('coded NOLH for 17-22 factors'!B132-1)*(B$3-B$2) )/128, B$4 )","v":86},{"$f":"ROUND(C$2+ (('coded NOLH for 17-22 factors'!C132-1)*(C$3-C$2) )/128, C$4 )","v":54},{"$f":"ROUND(D$2+ (('coded NOLH for 17-22 factors'!D132-1)*(D$3-D$2) )/128, D$4 )","v":21},{"$f":"ROUND(E$2+ (('coded NOLH for 17-22 factors'!E132-1)*(E$3-E$2) )/128, E$4 )","v":10},{"$f":"ROUND(F$2+ (('coded NOLH for 17-22 factors'!F132-1)*(F$3-F$2) )/128, F$4 )","v":32},{"$f":"ROUND(G$2+ (('coded NOLH for 17-22 factors'!G132-1)*(G$3-G$2) )/128, G$4 )","v":76},{"$f":"ROUND(H$2+ (('coded NOLH for 17-22 factors'!H132-1)*(H$3-H$2) )/128, H$4 )","v":87},{"$f":"ROUND(I$2+ (('coded NOLH for 17-22 factors'!I132-1)*(I$3-I$2) )/128, I$4 )","v":100},{"$f":"ROUND(J$2+ (('coded NOLH for 17-22 factors'!J132-1)*(J$3-J$2) )/128, J$4 )","v":111},{"$f":"ROUND(K$2+ (('coded NOLH for 17-22 factors'!K132-1)*(K$3-K$2) )/128, K$4 )","v":116},{"$f":"ROUND(L$2+ (('coded NOLH for 17-22 factors'!L132-1)*(L$3-L$2) )/128, L$4 )","v":42},{"$f":"ROUND(M$2+ (('coded NOLH for 17-22 factors'!M132-1)*(M$3-M$2) )/128, M$4 )","v":15},{"$f":"ROUND(N$2+ (('coded NOLH for 17-22 factors'!N132-1)*(N$3-N$2) )/128, N$4 )","v":61},{"$f":"ROUND(O$2+ (('coded NOLH for 17-22 factors'!O132-1)*(O$3-O$2) )/128, O$4 )","v":4},{"$f":"ROUND(P$2+ (('coded NOLH for 17-22 factors'!P132-1)*(P$3-P$2) )/128, P$4 )","v":15},{"$f":"ROUND(Q$2+ (('coded NOLH for 17-22 factors'!Q132-1)*(Q$3-Q$2) )/128, Q$4 )","v":63},{"$f":"ROUND(R$2+ (('coded NOLH for 17-22 factors'!R132-1)*(R$3-R$2) )/128, R$4 )","v":53},{"$f":"ROUND(S$2+ (('coded NOLH for 17-22 factors'!S132-1)*(S$3-S$2) )/128, S$4 )","v":48},{"$f":"ROUND(T$2+ (('coded NOLH for 17-22 factors'!T132-1)*(T$3-T$2) )/128, T$4 )","v":21},{"$f":"ROUND(U$2+ (('coded NOLH for 17-22 factors'!U132-1)*(U$3-U$2) )/128, U$4 )","v":53},{"$f":"ROUND(V$2+ (('coded NOLH for 17-22 factors'!V132-1)*(V$3-V$2) )/128, V$4 )","v":61},{"$f":"ROUND(W$2+ (('coded NOLH for 17-22 factors'!W132-1)*(W$3-W$2) )/128, W$4 )","v":13}]
[null,{"$f":"ROUND(B$2+ (('coded NOLH for 17-22 factors'!B133-1)*(B$3-B$2) )/128, B$4 )","v":13},{"$f":"ROUND(C$2+ (('coded NOLH for 17-22 factors'!C133-1)*(C$3-C$2) )/128, C$4 )","v":57},{"$f":"ROUND(D$2+ (('coded NOLH for 17-22 factors'!D133-1)*(D$3-D$2) )/128, D$4 )","v":45},{"$f":"ROUND(E$2+ (('coded NOLH for 17-22 factors'!E133-1)*(E$3-E$2) )/128, E$4 )","v":18},{"$f":"ROUND(F$2+ (('coded NOLH for 17-22 factors'!F133-1)*(F$3-F$2) )/128, F$4 )","v":15},{"$f":"ROUND(G$2+ (('coded NOLH for 17-22 factors'!G133-1)*(G$3-G$2) )/128, G$4 )","v":56},{"$f":"ROUND(H$2+ (('coded NOLH for 17-22 factors'!H133-1)*(H$3-H$2) )/128, H$4 )","v":26},{"$f":"ROUND(I$2+ (('coded NOLH for 17-22 factors'!I133-1)*(I$3-I$2) )/128, I$4 )","v":55},{"$f":"ROUND(J$2+ (('coded NOLH for 17-22 factors'!J133-1)*(J$3-J$2) )/128, J$4 )","v":10},{"$f":"ROUND(K$2+ (('coded NOLH for 17-22 factors'!K133-1)*(K$3-K$2) )/128, K$4 )","v":34},{"$f":"ROUND(L$2+ (('coded NOLH for 17-22 factors'!L133-1)*(L$3-L$2) )/128, L$4 )","v":20},{"$f":"ROUND(M$2+ (('coded NOLH for 17-22 factors'!M133-1)*(M$3-M$2) )/128, M$4 )","v":64},{"$f":"ROUND(N$2+ (('coded NOLH for 17-22 factors'!N133-1)*(N$3-N$2) )/128, N$4 )","v":29},{"$f":"ROUND(O$2+ (('coded NOLH for 17-22 factors'!O133-1)*(O$3-O$2) )/128, O$4 )","v":32},{"$f":"ROUND(P$2+ (('coded NOLH for 17-22 factors'!P133-1)*(P$3-P$2) )/128, P$4 )","v":52},{"$f":"ROUND(Q$2+ (('coded NOLH for 17-22 factors'!Q133-1)*(Q$3-Q$2) )/128, Q$4 )","v":47},{"$f":"ROUND(R$2+ (('coded NOLH for 17-22 factors'!R133-1)*(R$3-R$2) )/128, R$4 )","v":60},{"$f":"ROUND(S$2+ (('coded NOLH for 17-22 factors'!S133-1)*(S$3-S$2) )/128, S$4 )","v":61},{"$f":"ROUND(T$2+ (('coded NOLH for 17-22 factors'!T133-1)*(T$3-T$2) )/128, T$4 )","v":38},{"$f":"ROUND(U$2+ (('coded NOLH for 17-22 factors'!U133-1)*(U$3-U$2) )/128, U$4 )","v":7},{"$f":"ROUND(V$2+ (('coded NOLH for 17-22 factors'!V133-1)*(V$3-V$2) )/128, V$4 )","v":23},{"$f":"ROUND(W$2+ (('coded NOLH for 17-22 factors'!W133-1)*(W$3-W$2) )/128, W$4 )","v":44}]

{"sheet":"coded NOLH for 23-29 factors","index":11,"n_rows":2821,"n_cols":30,"rows_kept":2821,"cut":false,"hidden":true,"merged":[]}
[null,"f1","f2","f3","f4","f5","f6","f7","f8","f9","f10","f11","f12","f13","f14","f15","f16","f17","f18","f19","f20","f21","f22","f23","f24","f25","f26","f27","f28","f29"]
[]
[]
[]
[null,103,227,153,158,162,231,257,225,49,18,62,100,17,48,88,102,115,16,10,45,72,63,76,97,50,14,77,62,8]
[null,31,103,216,246,185,137,250,217,140,157,161,191,257,228,132,7,17,36,2,91,149,62,107,134,65,102,64,65,102]
[null,42,153,31,144,247,209,242,229,166,94,53,64,34,38,241,214,146,239,217,63,22,40,10,80,5,111,76,114,49]
[null,105,42,103,163,188,192,226,244,40,141,241,201,248,245,166,150,203,257,200,5,37,55,115,61,102,104,53,50,62]
[null,95,144,158,105,239,204,194,177,18,210,23,15,83,21,130,42,39,30,72,239,169,217,221,76,88,61,72,150,16]
[null,114,95,246,42,222,233,189,245,186,118,216,196,216,182,235,110,99,114,96,229,224,233,252,147,9,103,45,90,36]
[null,12,158,114,31,133,134,197,151,173,151,2,70,80,83,38,234,235,170,252,205,126,247,210,79,104,110,71,38,66]
[null,100,12,95,103,238,191,180,175,125,19,120,137,208,168,110,233,188,214,158,175,218,246,237,59,70,31,110,20,33]
[null,20,133,239,162,100,202,190,252,46,99,243,60,118,111,48,169,105,77,88,159,49,19,59,223,231,152,44,94,21]
[null,125,20,222,185,12,157,146,142,246,193,104,176,195,244,35,144,114,29,66,212,128,71,108,133,199,125,61,75,15]
[null,36,239,125,247,114,130,251,154,232,74,166,55,55,104,167,27,198,134,136,224,111,4,135,252,190,232,13,27,109]
[null,19,36,20,188,95,172,198,160,127,254,113,127,252,164,185,112,154,206,215,158,68,81,73,202,191,169,60,2,115]
[null,70,247,162,19,105,205,166,171,96,241,197,54,12,122,209,172,67,21,53,113,181,216,170,175,226,207,41,10,84]
[null,11,70,185,36,42,206,254,132,184,47,91,200,173,170,155,223,109,89,80,114,133,249,158,222,243,245,14,89,30]
[null,73,162,11,125,31,136,196,145,190,250,146,69,13,39,29,79,216,246,140,32,216,140,146,116,233,199,33,48,9]
[null,96,73,70,20,103,186,241,220,28,130,4,136,199,149,46,95,182,188,144,122,202,168,234,212,257,251,92,105,113]
[null,72,136,205,202,231,96,165,170,41,95,131,168,32,85,86,87,213,40,29,82,220,32,105,165,144,29,230,249,131]
[null,122,72,206,157,137,73,219,174,199,202,233,63,157,162,123,45,228,48,40,125,153,78,81,247,81,6,176,158,154]
[null,52,205,122,130,209,11,224,203,174,60,63,186,41,26,178,136,100,197,190,4,243,27,47,241,56,122,241,145,31]
[null,53,52,72,172,192,70,200,236,120,112,207,6,220,208,199,218,74,183,146,49,247,28,8,171,34,67,178,172,117]
[null,86,130,202,53,204,19,253,248,97,191,8,205,29,44,238,77,236,24,106,202,39,178,240,162,94,116,167,186,151]
[null,128,86,157,52,233,36,223,212,197,31,191,12,244,253,125,71,108,63,64,187,21,253,192,151,97,64,209,213,44]
[null,101,202,128,122,134,125,201,187,177,190,57,230,45,92,77,253,27,226,220,118,71,210,187,238,73,1,130,142,116]
[null,56,101,86,72,191,20,210,169,123,100,125,130,189,191,66,175,1,250,241,207,90,174,166,138,119,11,184,257,72]
[null,67,134,204,231,56,100,138,256,19,126,160,214,76,15,106,197,197,83,121,206,131,111,31,40,250,176,218,146,55]
[null,124,67,233,137,101,12,176,228,195,232,56,66,125,247,78,132,133,102,34,112,225,120,11,139,194,172,188,154,119]
[null,25,204,124,209,128,114,156,208,185,63,173,142,75,118,143,109,34,194,237,182,245,74,117,47,220,221,183,236,82]
[null,54,25,67,192,86,95,179,140,122,207,135,109,146,207,252,63,79,145,234,204,150,39,44,14,240,253,256,143,10]
[null,66,209,231,54,53,105,215,199,126,251,193,199,60,98,218,207,138,136,20,68,115,182,174,69,196,209,219,235,13]
[null,49,66,137,25,52,42,193,148,231,54,41,111,205,190,165,100,229,86,14,120,134,163,189,13,209,239,215,250,136]
[null,121,231,49,124,122,31,173,234,183,171,177,153,106,16,32,48,40,193,164,92,59,175,236,54,215,164,239,209,108]
[null,27,121,66,67,72,103,139,240,55,122,109,37,164,231,57,18,110,235,206,36,102,145,241,82,165,189,249,228,69]
[null,119,173,215,138,165,257,27,182,86,103,37,8,150,110,37,47,49,180,5,40,55,183,53,30,223,108,114,36,236]
[null,85,119,193,176,219,250,121,149,233,150,158,248,43,193,98,59,15,245,111,13,60,127,113,71,126,75,203,102,239]
[null,65,215,85,156,224,242,49,147,149,82,55,46,210,24,142,217,255,92,141,64,69,214,95,16,218,17,199,52,148]
[null,43,65,119,179,200,226,66,249,111,154,219,244,56,152,140,192,254,71,197,12,18,181,80,110,221,121,165,76,200]
[null,79,156,138,43,253,194,54,214,108,188,13,80,243,117,121,16,51,185,62,186,230,36,222,48,176,90,123,13,124]
[null,102,79,176,65,223,189,25,150,148,46,249,218,61,217,145,39,63,184,113,196,235,37,180,19,123,34,107,34,175]
[null,82,138,102,85,201,197,124,178,194,139,34,81,204,84,50,221,176,9,135,247,251,104,122,106,149,85,246,55,234]
[null,120,82,79,119,210,180,67,184,121,79,194,222,128,189,30,248,201,81,233,173,229,13,202,52,205,92,154,46,235]
[null,48,201,253,165,120,190,56,183,43,52,180,91,161,91,28,164,94,182,102,128,3,194,134,207,113,181,240,44,162]
[null,57,48,223,219,82,146,101,159,251,183,128,166,58,177,44,183,11,140,4,142,44,144,114,227,124,139,131,3,212]
[null,35,253,57,224,102,251,128,243,234,73,169,49,179,108,206,81,189,120,142,198,45,192,12,229,20,130,226,88,216]
[null,5,35,48,200,79,198,86,161,67,237,108,251,135,251,204,138,178,91,160,233,47,173,120,185,45,213,257,92,246]
[null,58,224,165,5,43,166,53,131,51,245,182,13,214,10,184,121,2,179,124,79,227,96,149,226,69,230,190,64,223]
[null,34,58,219,35,65,254,52,232,206,34,19,173,65,124,231,157,91,162,109,96,233,117,244,257,51,145,206,37,206]
[null,39,165,34,57,85,196,122,152,221,216,119,33,192,121,13,54,240,50,239,110,183,98,140,225,101,127,171,12,188]
[null,93,39,58,48,119,241,72,141,54,62,68,227,134,163,12,26,160,69,132,139,162,18,176,243,41,217,160,139,157]
[null,17,196,166,190,257,93,96,135,3,98,20,224,185,28,69,21,226,152,93,77,196,211,29,145,187,52,54,165,233]
[null,62,17,254,146,250,39,73,237,155,168,257,74,89,127,3,13,210,255,65,39,194,158,42,213,242,115,96,161,185]
[null,4,166,62,251,242,34,11,221,228,24,44,211,174,103,162,235,72,53,240,35,215,227,72,230,203,80,31,254,146]
[null,92,4,17,198,226,58,70,167,42,217,253,43,4,229,163,257,77,107,151,97,212,257,127,216,147,74,120,127,163]
[null,60,251,190,92,194,5,19,143,105,238,73,237,219,80,253,46,205,225,57,183,61,59,165,188,158,36,46,124,194]
[null,7,60,146,4,189,35,36,168,189,71,186,29,7,138,175,33,211,133,49,250,16,21,231,166,138,57,85,247,197]
[null,112,190,7,62,197,57,125,255,205,214,59,234,228,54,31,162,12,20,168,243,50,57,208,143,239,27,81,149,147]
[null,68,112,60,17,180,48,20,218,10,32,187,89,114,257,89,143,14,35,181,252,35,123,119,126,174,96,56,188,240]
[null,78,197,194,257,68,120,100,195,65,10,157,143,239,40,36,186,234,161,15,251,145,152,25,91,57,248,78,177,155]
[null,61,78,189,250,112,82,12,211,187,256,87,103,98,184,18,256,156,137,36,185,138,243,96,74,121,225,145,163,170]
[null,69,194,61,242,7,102,114,213,182,38,206,170,148,22,256,113,135,17,211,255,244,215,41,67,29,193,42,141,218]
[null,64,69,78,226,60,79,95,230,50,246,11,83,104,205,257,78,136,100,179,163,180,149,39,18,11,141,115,199,166]
[null,32,242,257,64,92,43,105,181,8,186,255,182,212,34,191,227,127,164,31,27,83,115,256,55,91,165,29,244,253]
[null,16,32,250,69,4,65,42,207,254,81,88,27,100,153,224,166,192,243,108,1,92,136,223,86,3,233,5,147,257]
[null,8,257,16,61,62,85,31,164,237,173,234,174,142,20,68,3,75,45,242,109,144,8,207,10,36,235,102,126,201]
[null,1,8,32,78,17,119,103,235,22,58,47,96,23,158,105,88,64,119,187,104,81,97,173,101,116,158,34,181,210]
[null,23,164,181,195,135,182,225,1,39,55,36,86,47,255,10,117,19,2,221,30,26,94,167,90,44,223,21,190,153]
[null,94,23,207,211,237,149,217,8,164,197,148,165,233,4,24,58,44,4,212,20,86,101,203,95,125,174,30,240,252]
[null,51,181,94,213,221,147,229,16,220,14,103,4,22,241,164,252,172,200,8,101,121,29,195,25,103,240,105,198,220]
[null,77,51,23,230,167,249,244,32,93,215,229,139,242,37,174,173,126,232,1,155,94,61,206,114,96,140,111,191,126]
[null,28,213,195,77,143,214,177,64,48,219,90,107,28,188,219,60,68,68,188,152,239,244,26,77,92,171,136,187,152]
[null,45,28,211,51,168,150,245,69,196,89,134,207,186,66,177,4,20,116,174,220,160,220,16,21,99,256,63,200,137]
[null,47,195,45,94,255,178,151,61,235,228,33,98,95,197,15,184,130,230,73,237,161,213,1,68,85,109,20,175,251]
[null,63,47,28,23,218,184,175,78,45,84,244,213,155,77,64,135,171,199,69,169,193,205,20,53,12,226,16,155,123]
[null,40,255,143,135,63,183,252,68,89,36,213,79,119,145,70,236,119,108,199,248,136,49,251,153,186,60,84,197,219]
[null,3,40,168,237,47,159,142,112,134,149,75,157,253,63,56,230,5,95,203,165,103,107,183,170,168,43,101,202,130]
[null,90,143,3,221,45,243,154,7,222,110,242,102,109,206,215,69,170,178,99,230,84,126,255,135,225,48,47,185,202]
[null,115,90,40,167,28,161,160,60,6,235,50,249,151,6,168,99,163,244,32,227,139,50,155,200,198,68,48,205,229]
[null,91,221,135,115,77,131,171,92,15,167,212,17,122,250,195,239,118,49,245,22,142,190,67,232,245,12,36,195,177]
[null,37,91,237,90,51,232,132,4,139,142,77,126,188,82,250,165,89,110,169,41,246,150,4,154,228,8,66,233,254]
[null,21,135,37,3,94,152,145,62,179,218,220,141,35,249,79,50,220,165,28,43,195,155,132,108,182,3,51,211,190]
[null,123,21,91,40,23,141,220,17,34,6,94,163,141,60,139,67,121,173,74,105,191,241,58,177,244,50,103,179,133]
[null,117,152,131,183,182,123,170,93,13,97,117,236,87,223,111,12,180,27,214,67,192,82,224,221,24,161,235,39,179]
[null,106,117,232,159,149,21,174,39,112,170,200,108,165,78,7,119,199,25,236,84,249,91,225,140,21,177,139,91,158]
[null,26,131,106,243,147,37,203,34,116,83,32,152,11,202,171,168,33,141,26,107,151,60,215,209,105,204,137,5,199]
[null,127,26,117,161,249,91,236,58,83,225,153,30,207,43,154,205,56,131,54,80,141,20,249,160,61,202,201,106,213]
[null,97,243,183,127,214,115,248,5,77,229,115,159,49,225,120,107,208,67,231,241,79,242,70,193,112,146,193,78,195]
[null,15,97,159,26,150,90,212,35,180,125,210,123,249,2,144,56,212,54,202,156,73,202,40,215,42,175,163,35,161]
[null,99,183,15,106,178,3,187,57,130,115,80,242,77,216,41,140,96,207,42,126,27,171,30,180,10,188,150,123,164]
[null,75,99,97,117,184,40,169,48,5,86,189,11,176,55,107,209,103,215,7,221,118,193,86,195,23,159,255,80,181]
[null,74,178,214,182,75,63,256,120,91,113,162,180,26,165,16,185,245,132,195,134,234,26,175,23,171,44,161,69,180]
[null,80,74,150,149,99,47,228,82,198,178,83,42,250,115,122,241,174,18,125,160,170,33,152,3,172,39,158,66,144]
[null,108,214,80,147,15,45,208,102,168,5,159,226,105,172,183,91,85,247,85,197,254,119,197,99,192,62,233,29,193]
[null,44,108,74,249,97,28,140,79,44,131,40,35,196,101,193,70,62,217,97,135,184,70,181,121,252,22,196,28,184]
[null,9,147,182,44,127,77,199,43,104,147,232,208,111,185,186,134,221,34,155,88,17,148,110,72,230,58,250,24,205]
[null,111,9,149,108,26,51,148,65,171,49,132,68,187,31,205,131,147,6,157,33,41,228,87,50,212,55,247,31,232]
[null,109,182,111,80,106,94,234,85,244,189,136,239,18,139,124,43,31,157,76,70,95,234,97,4,136,9,185,6,138]
[null,76,109,9,74,117,23,240,119,98,57,102,114,225,89,62,103,54,192,23,86,104,255,98,109,169,123,236,17,224]
[null,18,234,199,256,170,225,76,27,115,45,107,25,159,142,71,20,35,227,180,69,91,191,184,34,150,180,232,160,98]
[null,24,18,148,228,174,217,109,121,211,257,174,219,90,36,47,111,8,146,191,78,112,166,157,112,151,95,189,232,89]
[null,110,199,24,208,203,229,111,49,242,123,27,26,256,211,198,160,232,82,87,44,36,137,198,122,206,186,208,226,90]
[null,59,110,18,140,236,244,9,66,31,199,209,257,126,72,244,193,215,84,30,42,57,172,235,75,131,211,223,133,14]
[null,118,208,256,59,248,177,44,54,35,144,43,20,166,233,197,68,73,159,210,211,207,10,45,100,163,170,243,148,71]
[null,50,118,228,110,212,245,108,25,256,76,251,181,64,62,203,97,106,196,148,193,252,99,89,128,232,124,200,136,91]
[null,30,256,50,24,187,151,80,124,141,236,74,120,190,201,101,194,237,105,33,164,238,102,104,85,130,138,191,237,86]
[null,2,30,118,18,169,175,74,67,57,16,179,183,86,128,45,244,165,57,75,203,182,69,38,2,200,238,231,157,87]
[null,89,187,248,170,2,252,75,56,58,124,240,94,170,144,4,142,116,186,167,240,30,153,209,155,106,38,234,218,20]
[null,71,89,212,174,30,142,99,101,249,194,6,235,78,46,100,243,113,236,119,232,110,133,137,156,74,101,254,107,75]
[null,46,248,71,203,50,154,15,128,176,25,147,110,156,171,156,9,206,115,115,131,158,236,194,251,98,40,132,217,28]
[null,10,46,89,236,118,160,97,86,66,205,66,145,20,132,173,38,252,60,45,242,52,116,196,169,48,42,172,239,17]
[null,22,203,170,10,59,171,127,53,99,231,142,133,237,199,159,228,7,155,175,87,159,112,79,219,4,30,175,171,51]
[null,55,22,174,46,110,132,26,52,178,9,54,197,131,49,207,222,117,135,138,50,123,6,125,253,117,79,220,251,47]
[null,84,170,55,71,24,145,106,122,247,180,230,52,137,183,22,104,134,46,60,23,200,128,102,201,75,105,221,176,43]
[null,88,84,22,89,18,220,117,72,70,93,12,171,113,125,21,62,187,128,35,24,253,54,28,214,78,46,133,159,76]
[null,38,145,171,252,225,88,123,96,113,106,60,161,234,187,109,8,242,149,176,57,152,212,239,246,241,185,109,96,41]
[null,113,38,132,142,217,84,21,73,158,243,237,104,120,99,82,32,166,219,255,117,176,256,159,231,148,242,134,118,85]
[null,126,171,113,154,229,55,37,11,202,77,31,253,167,194,146,201,97,5,81,2,205,169,212,131,179,237,7,85,11]
[null,87,126,38,160,244,22,91,70,88,121,248,73,27,12,232,247,90,87,127,121,248,165,253,198,175,167,146,42,80]
[null,98,154,252,87,177,10,115,19,95,120,22,220,162,213,247,55,151,203,246,192,1,88,65,141,227,195,117,84,93]
[null,104,98,142,126,245,46,90,36,238,66,188,18,115,18,108,105,177,220,154,249,70,52,15,234,219,151,10,120,27]
[null,116,252,104,113,151,71,3,125,151,208,93,193,218,239,131,224,36,90,39,168,85,23,54,220,195,234,116,74,118]
[null,6,116,98,38,175,89,40,20,102,102,152,112,3,123,58,178,9,98,51,244,54,134,94,236,204,160,99,51,67]
[null,83,151,177,225,6,2,63,100,1,37,163,217,191,226,42,130,175,251,172,184,226,251,168,94,47,76,88,54,50]
[null,107,83,245,217,116,30,47,12,144,223,35,2,57,79,9,176,217,154,153,150,210,185,226,62,7,114,89,130,99]
[null,13,177,107,229,104,50,45,114,152,3,176,134,222,156,233,84,58,47,9,111,171,224,201,64,77,66,79,33,54]
[null,81,13,83,244,98,118,28,95,101,230,121,48,37,112,225,29,10,37,95,200,178,186,130,9,118,4,90,43,37]
[null,14,229,225,81,87,59,77,105,32,247,140,140,206,200,182,206,233,248,166,59,101,35,111,8,80,53,6,16,32]
[null,29,14,217,13,126,110,51,42,229,92,86,71,81,97,141,133,230,147,247,115,8,51,116,66,22,15,94,57,60]
[null,41,225,29,107,113,24,94,31,225,153,228,255,227,151,19,106,101,56,50,81,93,58,13,41,2,71,106,121,3]
[null,33,41,14,83,38,18,23,103,17,96,114,56,74,23,97,76,65,42,128,48,2,79,68,84,143,126,118,15,2]
[null,129,129,129,129,129,129,129,129,129,129,129,129,129,129,129,129,129,129,129,129,129,129,129,129,129,129,129,129,129]
[null,155,31,105,100,96,27,1,33,209,240,196,158,241,210,170,156,143,242,248,213,186,195,182,161,208,244,181,196,250]
[null,227,155,42,12,73,121,8,41,118,101,97,67,1,30,126,251,241,222,256,167,109,196,151,124,193,156,194,193,156]
[null,216,105,227,114,11,49,16,29,92,164,205,194,224,220,17,44,112,19,41,195,236,218,248,178,253,147,182,144,209]
[null,153,216,155,95,70,66,32,14,218,117,17,57,10,13,92,108,55,1,58,253,221,203,143,197,156,154,205,208,196]
[null,163,114,100,153,19,54,64,81,240,48,235,243,175,237,128,216,219,228,186,19,89,41,37,182,170,197,186,108,242]
[null,144,163,12,216,36,25,69,13,72,140,42,62,42,76,23,148,159,144,162,29,34,25,6,111,249,155,213,168,222]
[null,246,100,144,227,125,124,61,107,85,107,256,188,178,175,220,24,23,88,6,53,132,11,48,179,154,148,187,220,192]
[null,158,246,163,155,20,67,78,83,133,239,138,121,50,90,148,25,70,44,100,83,40,12,21,199,188,227,148,238,225]
[null,238,125,19,96,158,56,68,6,212,159,15,198,140,147,210,89,153,181,170,99,209,239,199,35,27,106,214,164,237]
[null,133,238,36,73,246,101,112,116,12,65,154,82,63,14,223,114,144,229,192,46,130,187,150,125,59,133,197,183,243]
[null,222,19,133,11,144,128,7,104,26,184,92,203,203,154,91,231,60,124,122,34,147,254,123,6,68,26,245,231,149]
[null,239,222,238,70,163,86,60,98,131,4,145,131,6,94,73,146,104,52,43,100,190,177,185,56,67,89,198,256,143]
[null,188,11,96,239,153,53,92,87,162,17,61,204,246,136,49,86,191,237,205,145,77,42,88,83,32,51,217,248,174]
[null,247,188,73,222,216,52,4,126,74,211,167,58,85,88,103,35,149,169,178,144,125,9,100,36,15,13,244,169,228]
[null,185,96,247,133,227,122,62,113,68,8,112,189,245,219,229,179,42,12,118,226,42,118,112,142,25,59,225,210,249]
[null,162,185,188,238,155,72,17,38,230,128,254,122,59,109,212,163,76,70,114,136,56,90,24,46,1,7,166,153,145]
[null,186,122,53,56,27,162,93,88,217,163,127,90,226,173,172,171,45,218,229,176,38,226,153,93,114,229,28,9,127]
[null,136,186,52,101,121,185,39,84,59,56,25,195,101,96,135,213,30,210,218,133,105,180,177,11,177,252,82,100,104]
[null,206,53,136,128,49,247,34,55,84,198,195,72,217,232,80,122,158,61,68,254,15,231,211,17,202,136,17,113,227]
[null,205,206,186,86,66,188,58,22,138,146,51,252,38,50,59,40,184,75,112,209,11,230,250,87,224,191,80,86,141]
[null,172,128,56,205,54,239,5,10,161,67,250,53,229,214,20,181,22,234,152,56,219,80,18,96,164,142,91,72,107]
[null,130,172,101,206,25,222,35,46,61,227,67,246,14,5,133,187,150,195,194,71,237,5,66,107,161,194,49,45,214]
[null,157,56,130,136,124,133,57,71,81,68,201,28,213,166,181,5,231,32,38,140,187,48,71,20,185,257,128,116,142]
[null,202,157,172,186,67,238,48,89,135,158,133,128,69,67,192,83,257,8,17,51,168,84,92,120,139,247,74,1,186]
[null,191,124,54,27,202,158,120,2,239,132,98,44,182,243,152,61,61,175,137,52,127,147,227,218,8,82,40,112,203]
[null,134,191,25,121,157,246,82,30,63,26,202,192,133,11,180,126,125,156,224,146,33,138,247,119,64,86,70,104,139]
[null,233,54,134,49,130,144,102,50,73,195,85,116,183,140,115,149,224,64,21,76,13,184,141,211,38,37,75,22,176]
[null,204,233,191,66,172,163,79,118,136,51,123,149,112,51,6,195,179,113,24,54,108,219,214,244,18,5,2,115,248]
[null,192,49,27,204,205,153,43,59,132,7,65,59,198,160,40,51,120,122,238,190,143,76,84,189,62,49,39,23,245]
[null,209,192,121,233,206,216,65,110,27,204,217,147,53,68,93,158,29,172,244,138,124,95,69,245,49,19,43,8,122]
[null,137,27,209,134,136,227,85,24,75,87,81,105,152,242,226,210,218,65,94,166,199,83,22,204,43,94,19,49,150]
[null,231,137,192,191,186,155,119,18,203,136,149,221,94,27,201,240,148,23,52,222,156,113,17,176,93,69,9,30,189]
[null,139,85,43,120,93,1,231,76,172,155,221,250,108,148,221,211,209,78,253,218,203,75,205,228,35,150,144,222,22]
[null,173,139,65,82,39,8,137,109,25,108,100,10,215,65,160,199,243,13,147,245,198,131,145,187,132,183,55,156,19]
[null,193,43,173,102,34,16,209,111,109,176,203,212,48,234,116,41,3,166,117,194,189,44,163,242,40,241,59,206,110]
[null,215,193,139,79,58,32,192,9,147,104,39,14,202,106,118,66,4,187,61,246,240,77,178,148,37,137,93,182,58]
[null,179,102,120,215,5,64,204,44,150,70,245,178,15,141,137,242,207,73,196,72,28,222,36,210,82,168,135,245,134]
[null,156,179,82,193,35,69,233,108,110,212,9,40,197,41,113,219,195,74,145,62,23,221,78,239,135,224,151,224,83]
[null,176,120,156,173,57,61,134,80,64,119,224,177,54,174,208,37,82,249,123,11,7,154,136,152,109,173,12,203,24]
[null,138,176,179,139,48,78,191,74,137,179,64,36,130,69,228,10,57,177,25,85,29,245,56,206,53,166,104,212,23]
[null,210,57,5,93,138,68,202,75,215,206,78,167,97,167,230,94,164,76,156,130,255,64,124,51,145,77,18,214,96]
[null,201,210,35,39,176,112,157,99,7,75,130,92,200,81,214,75,247,118,254,116,214,114,144,31,134,119,127,255,46]
[null,223,5,201,34,156,7,130,15,24,185,89,209,79,150,52,177,69,138,116,60,213,66,246,29,238,128,32,170,42]
[null,253,223,210,58,179,60,172,97,191,21,150,7,123,7,54,120,80,167,98,25,211,85,138,73,213,45,1,166,12]
[null,200,34,93,253,215,92,205,127,207,13,76,245,44,248,74,137,256,79,134,179,31,162,109,32,189,28,68,194,35]
[null,224,200,39,223,193,4,206,26,52,224,239,85,193,134,27,101,167,96,149,162,25,141,14,1,207,113,52,221,52]
[null,219,93,224,201,173,62,136,106,37,42,139,225,66,137,245,204,18,208,19,148,75,160,118,33,157,131,87,246,70]
[null,165,219,200,210,139,17,186,117,204,196,190,31,124,95,246,232,98,189,126,119,96,240,82,15,217,41,98,119,101]
[null,241,62,92,68,1,165,162,123,255,160,238,34,73,230,189,237,32,106,165,181,62,47,229,113,71,206,204,93,25]
[null,196,241,4,112,8,219,185,21,103,90,1,184,169,131,255,245,48,3,193,219,64,100,216,45,16,143,162,97,73]
[null,254,92,196,7,16,224,247,37,30,234,214,47,84,155,96,23,186,205,18,223,43,31,186,28,55,178,227,4,112]
[null,166,254,241,60,32,200,188,91,216,41,5,215,254,29,95,1,181,151,107,161,46,1,131,42,111,184,138,131,95]
[null,198,7,68,166,64,253,239,115,153,20,185,21,39,178,5,212,53,33,201,75,197,199,93,70,100,222,212,134,64]
[null,251,198,112,254,69,223,222,90,69,187,72,229,251,120,83,225,47,125,209,8,242,237,27,92,120,201,173,11,61]
[null,146,68,251,196,61,201,133,3,53,44,199,24,30,204,227,96,246,238,90,15,208,201,50,115,19,231,177,109,111]
[null,190,146,198,241,78,210,238,40,248,226,71,169,144,1,169,115,244,223,77,6,223,135,139,132,84,162,202,70,18]
[null,180,61,64,1,190,138,158,63,193,248,101,115,19,218,222,72,24,97,243,7,113,106,233,167,201,10,180,81,103]
[null,197,180,69,8,146,176,246,47,71,2,171,155,160,74,240,2,102,121,222,73,120,15,162,184,137,33,113,95,88]
[null,189,64,197,16,251,156,144,45,76,220,52,88,110,236,2,145,123,241,47,3,14,43,217,191,229,65,216,117,40]
[null,194,189,180,32,198,179,163,28,208,12,247,175,154,53,1,180,122,158,79,95,78,109,219,240,247,117,143,59,92]
[null,226,16,1,194,166,215,153,77,250,72,3,76,46,224,67,31,131,94,227,231,175,143,2,203,167,93,229,14,5]
[null,242,226,8,189,254,193,216,51,4,177,170,231,158,105,34,92,66,15,150,257,166,122,35,172,255,25,253,111,1]
[null,250,1,242,197,196,173,227,94,21,85,24,84,116,238,190,255,183,213,16,149,114,250,51,248,222,23,156,132,57]
[null,257,250,226,180,241,139,155,23,236,200,211,162,235,100,153,170,194,139,71,154,177,161,85,157,142,100,224,77,48]
[null,235,94,77,63,123,76,33,257,219,203,222,172,211,3,248,141,239,256,37,228,232,164,91,168,214,35,237,68,105]
[null,164,235,51,47,21,109,41,250,94,61,110,93,25,254,234,200,214,254,46,238,172,157,55,163,133,84,228,18,6]
[null,207,77,164,45,37,111,29,242,38,244,155,254,236,17,94,6,86,58,250,157,137,229,63,233,155,18,153,60,38]
[null,181,207,235,28,91,9,14,226,165,43,29,119,16,221,84,85,132,26,257,103,164,197,52,144,162,118,147,67,132]
[null,230,45,63,181,115,44,81,194,210,39,168,151,230,70,39,198,190,190,70,106,19,14,232,181,166,87,122,71,106]
[null,213,230,47,207,90,108,13,189,62,169,124,51,72,192,81,254,238,142,84,38,98,38,242,237,159,2,195,58,121]
[null,211,63,213,164,3,80,107,197,23,30,225,160,163,61,243,74,128,28,185,21,97,45,257,190,173,149,238,83,7]
[null,195,211,230,235,40,74,83,180,213,174,14,45,103,181,194,123,87,59,189,89,65,53,238,205,246,32,242,103,135]
[null,218,3,115,123,195,75,6,190,169,222,45,179,139,113,188,22,139,150,59,10,122,209,7,105,72,198,174,61,39]
[null,255,218,90,21,211,99,116,146,124,109,183,101,5,195,202,28,253,163,55,93,155,151,75,88,90,215,157,56,128]
[null,168,115,255,37,213,15,104,251,36,148,16,156,149,52,43,189,88,80,159,28,174,132,3,123,33,210,211,73,56]
[null,143,168,218,91,230,97,98,198,252,23,208,9,107,252,90,159,95,14,226,31,119,208,103,58,60,190,210,53,29]
[null,167,37,123,143,181,127,87,166,243,91,46,241,136,8,63,19,140,209,13,236,116,68,191,26,13,246,222,63,81]
[null,221,167,21,168,207,26,126,254,119,116,181,132,70,176,8,93,169,148,89,217,12,108,254,104,30,250,192,25,4]
[null,237,123,221,255,164,106,113,196,79,40,38,117,223,9,179,208,38,93,230,215,63,103,126,150,76,255,207,47,68]
[null,135,237,167,218,235,117,38,241,224,252,164,95,117,198,119,191,137,85,184,153,67,17,200,81,14,208,155,79,125]
[null,141,106,127,75,76,135,88,165,245,161,141,22,171,35,147,246,78,231,44,191,66,176,34,37,234,97,23,219,79]
[null,152,141,26,99,109,237,84,219,146,88,58,150,93,180,251,139,59,233,22,174,9,167,33,118,237,81,119,167,100]
[null,232,127,152,15,111,221,55,224,142,175,226,106,247,56,87,90,225,117,232,151,107,198,43,49,153,54,121,253,59]
[null,131,232,141,97,9,167,22,200,175,33,105,228,51,215,104,53,202,127,204,178,117,238,9,98,197,56,57,152,45]
[null,161,15,75,131,44,143,10,253,181,29,143,99,209,33,138,151,50,191,27,17,179,16,188,65,146,112,65,180,63]
[null,243,161,99,232,108,168,46,223,78,133,48,135,9,256,114,202,46,204,56,102,185,56,218,43,216,83,95,223,97]
[null,159,75,243,152,80,255,71,201,128,143,178,16,181,42,217,118,162,51,216,132,231,87,228,78,248,70,108,135,94]
[null,183,159,161,141,74,218,89,210,253,172,69,247,82,203,151,49,155,43,251,37,140,65,172,63,235,99,3,178,77]
[null,184,80,44,76,183,195,2,138,167,145,96,78,232,93,242,73,13,126,63,124,24,232,83,235,87,214,97,189,78]
[null,178,184,108,109,159,211,30,176,60,80,175,216,8,143,136,17,84,240,133,98,88,225,106,255,86,219,100,192,114]
[null,150,44,178,111,243,213,50,156,90,253,99,32,153,86,75,167,173,11,173,61,4,139,61,159,66,196,25,229,65]
[null,214,150,184,9,161,230,118,179,214,127,218,223,62,157,65,188,196,41,161,123,74,188,77,137,6,236,62,230,74]
[null,249,111,76,214,131,181,59,215,154,111,26,50,147,73,72,124,37,224,103,170,241,110,148,186,28,200,8,234,53]
[null,147,249,109,150,232,207,110,193,87,209,126,190,71,227,53,127,111,252,101,225,217,30,171,208,46,203,11,227,26]
[null,149,76,147,178,152,164,24,173,14,69,122,19,240,119,134,215,227,101,182,188,163,24,161,254,122,249,73,252,120]
[null,182,149,249,184,141,235,18,139,160,201,156,144,33,169,196,155,204,66,235,172,154,3,160,149,89,135,22,241,34]
[null,240,24,59,2,88,33,182,231,143,213,151,233,99,116,187,238,223,31,78,189,167,67,74,224,108,78,26,98,160]
[null,234,240,110,30,84,41,149,137,47,1,84,39,168,222,211,147,250,112,67,180,146,92,101,146,107,163,69,26,169]
[null,148,59,234,50,55,29,147,209,16,135,231,232,2,47,60,98,26,176,171,214,222,121,60,136,52,72,50,32,168]
[null,199,148,240,118,22,14,249,192,227,59,49,1,132,186,14,65,43,174,228,216,201,86,23,183,127,47,35,125,244]
[null,140,50,2,199,10,81,214,204,223,114,215,238,92,25,61,190,185,99,48,47,51,248,213,158,95,88,15,110,187]
[null,208,140,30,148,46,13,150,233,2,182,7,77,194,196,55,161,152,62,110,65,6,159,169,130,26,134,58,122,167]
[null,228,2,208,234,71,107,178,134,117,22,184,138,68,57,157,64,21,153,225,94,20,156,154,173,128,120,67,21,172]
[null,256,228,140,240,89,83,184,191,201,242,79,75,172,130,213,14,93,201,183,55,76,189,220,256,58,20,27,101,171]
[null,169,71,10,88,256,6,183,202,200,134,18,164,88,114,254,116,142,72,91,18,228,105,49,103,152,220,24,40,238]
[null,187,169,46,84,228,116,159,157,9,64,252,23,180,212,158,15,145,22,139,26,148,125,121,102,184,157,4,151,183]
[null,212,10,187,55,208,104,243,130,82,233,111,148,102,87,102,249,52,143,143,127,100,22,64,7,160,218,126,41,230]
[null,248,212,169,22,140,98,161,172,192,53,192,113,238,126,85,220,6,198,213,16,206,142,62,89,210,216,86,19,241]
[null,236,55,88,248,199,87,131,205,159,27,116,125,21,59,99,30,251,103,83,171,99,146,179,39,254,228,83,87,207]
[null,203,236,84,212,148,126,232,206,80,249,204,61,127,209,51,36,141,123,120,208,135,252,133,5,141,179,38,7,211]
[null,174,88,203,187,234,113,152,136,11,78,28,206,121,75,236,154,124,212,198,235,58,130,156,57,183,153,37,82,215]
[null,170,174,236,169,240,38,141,186,188,165,246,87,145,133,237,196,71,130,223,234,5,204,230,44,180,212,125,99,182]
[null,220,113,87,6,33,170,135,162,145,152,198,97,24,71,149,250,16,109,82,201,106,46,19,12,17,73,149,162,217]
[null,145,220,126,116,41,174,237,185,100,15,21,154,138,159,176,226,92,39,3,141,82,2,99,27,110,16,124,140,173]
[null,132,87,145,104,29,203,221,247,56,181,227,5,91,64,112,57,161,253,177,256,53,89,46,127,79,21,251,173,247]
[null,171,132,220,98,14,236,167,188,170,137,10,185,231,246,26,11,168,171,131,137,10,93,5,60,83,91,112,216,178]
[null,160,104,6,171,81,248,143,239,163,138,236,38,96,45,11,203,107,55,12,66,257,170,193,117,31,63,141,174,165]
[null,154,160,116,132,13,212,168,222,20,192,70,240,143,240,150,153,81,38,104,9,188,206,243,24,39,107,248,138,231]
[null,142,6,154,145,107,187,255,133,107,50,165,65,40,19,127,34,222,168,219,90,173,235,204,38,63,24,142,184,140]
[null,252,142,160,220,83,169,218,238,156,156,106,146,255,135,200,80,249,160,207,14,204,124,164,22,54,98,159,207,191]
[null,175,107,81,33,252,256,195,158,257,221,95,41,67,32,216,128,83,7,86,74,32,7,90,164,211,182,170,204,208]
[null,151,175,13,41,142,228,211,246,114,35,223,256,201,179,249,82,41,104,105,108,48,73,32,196,251,144,169,128,159]
[null,245,81,151,29,154,208,213,144,106,255,82,124,36,102,25,174,200,211,249,147,87,34,57,194,181,192,179,225,204]
[null,177,245,175,14,160,140,230,163,157,28,137,210,221,146,33,229,248,221,163,58,80,72,128,249,140,254,168,215,221]
[null,244,29,33,177,171,199,181,153,226,11,118,118,52,58,76,52,25,10,92,199,157,223,147,250,178,205,252,242,226]
[null,229,244,41,245,132,148,207,216,29,166,172,187,177,161,117,125,28,111,11,143,250,207,142,192,236,243,164,201,198]
[null,217,33,229,151,145,234,164,227,33,105,30,3,31,107,239,152,157,202,208,177,165,200,245,217,256,187,152,137,255]
[null,225,217,244,175,220,240,235,155,241,162,144,202,184,235,161,182,193,216,130,210,256,179,190,174,115,132,140,243,256]
[null,62,231,8,17,103,158,18,227,162,88,153,49,45,225,72,16,257,102,63,48,76,100,62,77,50,97,115,14,10]
[null,161,137,102,257,31,246,157,103,185,132,216,140,91,217,149,36,250,7,62,228,107,191,65,64,65,134,17,102,2]
[null,53,209,49,34,42,144,94,153,247,241,31,166,63,229,22,239,242,214,40,38,10,64,114,76,5,80,146,111,217]
[null,241,192,62,248,105,163,141,42,188,166,103,40,5,244,37,257,226,150,55,245,115,201,50,53,102,61,203,104,200]
[null,23,204,16,83,95,105,210,144,239,130,158,18,239,177,169,30,194,42,217,21,221,15,150,72,88,76,39,61,72]
[null,216,233,36,216,114,42,118,95,222,235,246,186,229,245,224,114,189,110,233,182,252,196,90,45,9,147,99,103,96]
[null,2,134,66,80,12,31,151,158,133,38,114,173,205,151,126,170,197,234,247,83,210,70,38,71,104,79,235,110,252]
[null,120,191,33,208,100,103,19,12,238,110,95,125,175,175,218,214,180,233,246,168,237,137,20,110,70,59,188,31,158]
[null,243,202,21,118,20,162,99,133,100,48,239,46,159,252,49,77,190,169,19,111,59,60,94,44,231,223,105,152,88]
[null,104,157,15,195,125,185,193,20,12,35,222,246,212,142,128,29,146,144,71,244,108,176,75,61,199,133,114,125,66]
[null,166,130,109,55,36,247,74,239,114,167,125,232,224,154,111,134,251,27,4,104,135,55,27,13,190,252,198,232,136]
[null,113,172,115,252,19,188,254,36,95,185,20,127,158,160,68,206,198,112,81,164,73,127,2,60,191,202,154,169,215]
[null,197,205,84,12,70,19,241,247,105,209,162,96,113,171,181,21,166,172,216,122,170,54,10,41,226,175,67,207,53]
[null,91,206,30,173,11,36,47,70,42,155,185,184,114,132,133,89,254,223,249,170,158,200,89,14,243,222,109,245,80]
[null,146,136,9,13,73,125,250,162,31,29,11,190,32,145,216,246,196,79,140,39,146,69,48,33,233,116,216,199,140]
[null,4,186,113,199,96,20,130,73,103,46,70,28,122,220,202,188,241,95,168,149,234,136,105,92,257,212,182,251,144]
[null,131,96,131,32,72,202,95,136,231,86,205,41,82,170,220,40,165,87,32,85,105,168,249,230,144,165,213,29,29]
[null,233,73,154,157,122,157,202,72,137,123,206,199,125,174,153,48,219,45,78,162,81,63,158,176,81,247,228,6,40]
[null,63,11,31,41,52,130,60,205,209,178,122,174,4,203,243,197,224,136,27,26,47,186,145,241,56,241,100,122,190]
[null,207,70,117,220,53,172,112,52,192,199,72,120,49,236,247,183,200,218,28,208,8,6,172,178,34,171,74,67,146]
[null,8,19,151,29,86,53,191,130,204,238,202,97,202,248,39,24,253,77,178,44,240,205,186,167,94,162,236,116,106]
[null,191,36,44,244,128,52,31,86,233,125,157,197,187,212,21,63,223,71,253,253,192,12,213,209,97,151,108,64,64]
[null,57,125,116,45,101,122,190,202,134,77,128,177,118,187,71,226,201,253,210,92,187,230,142,130,73,238,27,1,220]
[null,125,20,72,189,56,72,100,101,191,66,86,123,207,169,90,250,210,175,174,191,166,130,257,184,119,138,1,11,241]
[null,160,100,55,76,67,231,126,134,56,106,204,19,206,256,131,83,138,197,111,15,31,214,146,218,250,40,197,176,121]
[null,56,12,119,125,124,137,232,67,101,78,233,195,112,228,225,102,176,132,120,247,11,66,154,188,194,139,133,172,34]
[null,173,114,82,75,25,209,63,204,128,143,124,185,182,208,245,194,156,109,74,118,117,142,236,183,220,47,34,221,237]
[null,135,95,10,146,54,192,207,25,86,252,67,122,204,140,150,145,179,63,39,207,44,109,143,256,240,14,79,253,234]
[null,193,105,13,60,66,54,251,209,53,218,231,126,68,199,115,136,215,207,182,98,174,199,235,219,196,69,138,209,20]
[null,41,42,136,205,49,25,54,66,52,165,137,231,120,148,134,86,193,100,163,190,189,111,250,215,209,13,229,239,14]
[null,177,31,108,106,121,124,171,231,122,32,49,183,92,234,59,193,173,48,175,16,236,153,209,239,215,54,40,164,164]
[null,109,103,69,164,27,67,122,121,72,57,66,55,36,240,102,235,139,18,145,231,241,37,228,249,165,82,110,189,206]
[null,37,257,236,150,119,138,103,173,165,37,215,86,40,182,55,180,27,47,183,110,53,8,36,114,223,30,49,108,5]
[null,158,250,239,43,85,176,150,119,219,98,193,233,13,149,60,245,121,59,127,193,113,248,102,203,126,71,15,75,111]
[null,55,242,148,210,65,156,82,215,224,142,85,149,64,147,69,92,49,217,214,24,95,46,52,199,218,16,255,17,141]
[null,219,226,200,56,43,179,154,65,200,140,119,111,12,249,18,71,66,192,181,152,80,244,76,165,221,110,254,121,197]
[null,13,194,124,243,79,43,188,156,253,121,138,108,186,214,230,185,54,16,36,117,222,80,13,123,176,48,51,90,62]
[null,249,189,175,61,102,65,46,79,223,145,176,148,196,150,235,184,25,39,37,217,180,218,34,107,123,19,63,34,113]
[null,34,197,234,204,82,85,139,138,201,50,102,194,247,178,251,9,124,221,104,84,122,81,55,246,149,106,176,85,135]
[null,194,180,235,128,120,119,79,82,210,30,79,121,173,184,229,81,67,248,13,189,202,222,46,154,205,52,201,92,233]
[null,180,190,162,161,48,165,52,201,120,28,253,43,128,183,3,182,56,164,194,91,134,91,44,240,113,207,94,181,102]
[null,128,146,212,58,57,219,183,48,82,44,223,251,142,159,44,140,101,183,144,177,114,166,3,131,124,227,11,139,4]
[null,169,251,216,179,35,224,73,253,102,206,57,234,198,243,45,120,128,81,192,108,12,49,88,226,20,229,189,130,142]
[null,108,198,246,135,5,200,237,35,79,204,48,67,233,161,47,91,86,138,173,251,120,251,92,257,45,185,178,213,160]
[null,182,166,223,214,58,5,245,224,43,184,165,51,79,131,227,179,53,121,96,10,149,13,64,190,69,226,2,230,124]
[null,19,254,206,65,34,35,34,58,65,231,219,206,96,232,233,162,52,157,117,124,244,173,37,206,51,257,91,145,109]
[null,119,196,188,192,39,57,216,165,85,13,34,221,110,152,183,50,122,54,98,121,140,33,12,171,101,225,240,127,239]
[null,68,241,157,134,93,48,62,39,119,12,58,54,139,141,162,69,72,26,18,163,176,227,139,160,41,243,160,217,132]
[null,20,93,233,185,17,190,98,196,257,69,166,3,77,135,196,152,96,21,211,28,29,224,165,54,187,145,226,52,93]
[null,257,39,185,89,62,146,168,17,250,3,254,155,39,237,194,255,73,13,158,127,42,74,161,96,242,213,210,115,65]
[null,44,34,146,174,4,251,24,166,242,162,62,228,35,221,215,53,11,235,227,103,72,211,254,31,203,230,72,80,240]
[null,253,58,163,4,92,198,217,4,226,163,17,42,97,167,212,107,70,257,257,229,127,43,127,120,147,216,77,74,151]
[null,73,5,194,219,60,92,238,251,194,253,190,105,183,143,61,225,19,46,59,80,165,237,124,46,158,188,205,36,57]
[null,186,35,197,7,7,4,71,60,189,175,146,189,250,168,16,133,36,33,21,138,231,29,247,85,138,166,211,57,49]
[null,59,57,147,228,112,62,214,190,197,31,7,205,243,255,50,20,125,162,57,54,208,234,149,81,239,143,12,27,168]
[null,187,48,240,114,68,17,32,112,180,89,60,10,252,218,35,35,20,143,123,257,119,89,188,56,174,126,14,96,181]
[null,157,120,155,239,78,257,10,197,68,36,194,65,251,195,145,161,100,186,152,40,25,143,177,78,57,91,234,248,15]
[null,87,82,170,98,61,250,256,78,112,18,189,187,185,211,138,137,12,256,243,184,96,103,163,145,121,74,156,225,36]
[null,206,102,218,148,69,242,38,194,7,256,61,182,255,213,244,17,114,113,215,22,41,170,141,42,29,67,135,193,211]
[null,11,79,166,104,64,226,246,69,60,257,78,50,163,230,180,100,95,78,149,205,39,83,199,115,11,18,136,141,179]
[null,255,43,253,212,32,64,186,242,92,191,257,8,27,181,83,164,105,227,115,34,256,182,244,29,91,55,127,165,31]
[null,88,65,257,100,16,69,81,32,4,224,250,254,1,207,92,243,42,166,136,153,223,27,147,5,3,86,192,233,108]
[null,234,85,201,142,8,61,173,257,62,68,16,237,109,164,144,45,31,3,8,20,207,174,126,102,36,10,75,235,242]
[null,47,119,210,23,1,78,58,8,17,105,32,22,104,235,81,119,103,88,97,158,173,96,181,34,116,101,64,158,187]
[null,36,182,153,47,23,195,55,164,135,10,181,39,30,1,26,2,225,117,94,255,167,86,190,21,44,90,19,223,221]
[null,148,149,252,233,94,211,197,23,237,24,207,164,20,8,86,4,217,58,101,4,203,165,240,30,125,95,44,174,212]
[null,103,147,220,22,51,213,14,181,221,164,94,220,101,16,121,200,229,252,29,241,195,4,198,105,103,25,172,240,8]
[null,229,249,126,242,77,230,215,51,167,174,23,93,155,32,94,232,244,173,61,37,206,139,191,111,96,114,126,140,1]
[null,90,214,152,28,28,77,219,213,143,219,195,48,152,64,239,68,177,60,244,188,26,107,187,136,92,77,68,171,188]
[null,134,150,137,186,45,51,89,28,168,177,211,196,220,69,160,116,245,4,220,66,16,207,200,63,99,21,20,256,174]
[null,33,178,251,95,47,94,228,195,255,15,45,235,237,61,161,230,151,184,213,197,1,98,175,20,85,68,130,109,73]
[null,244,184,123,155,63,23,84,47,218,64,28,45,169,78,193,199,175,135,205,77,20,213,155,16,12,53,171,226,69]
[null,213,183,219,119,40,135,36,255,63,70,143,89,248,68,136,108,252,236,49,145,251,79,197,84,186,153,119,60,199]
[null,75,159,130,253,3,237,149,40,47,56,168,134,165,112,103,95,142,230,107,63,183,157,202,101,168,170,5,43,203]
[null,242,243,202,109,90,221,110,143,45,215,3,222,230,7,84,178,154,69,126,206,255,102,185,47,225,135,170,48,99]
[null,50,161,229,151,115,167,235,90,28,168,40,6,227,60,139,244,160,99,50,6,155,249,205,48,198,200,163,68,32]
[null,212,131,177,122,91,115,167,221,77,195,135,15,22,92,142,49,171,239,190,250,67,17,195,36,245,232,118,12,245]
[null,77,232,254,188,37,90,142,91,51,250,237,139,41,4,246,110,132,165,150,82,4,126,233,66,228,154,89,8,169]
[null,220,152,190,35,21,3,218,135,94,79,37,179,43,62,195,165,145,50,155,249,132,141,211,51,182,108,220,3,28]
[null,94,141,133,141,123,40,6,21,23,139,91,34,105,17,191,173,220,67,241,60,58,163,179,103,244,177,121,50,74]
[null,117,123,179,87,117,183,97,152,182,111,131,13,67,93,192,27,170,12,82,223,224,236,39,235,24,221,180,161,214]
[null,200,21,158,165,106,159,170,117,149,7,232,112,84,39,249,25,174,119,91,78,225,108,91,139,21,140,199,177,236]
[null,32,37,199,11,26,243,83,131,147,171,106,116,107,34,151,141,203,168,60,202,215,152,5,137,105,209,33,204,26]
[null,153,91,213,207,127,161,225,26,249,154,117,83,80,58,141,131,236,205,20,43,249,30,106,201,61,160,56,202,54]
[null,115,115,195,49,97,127,229,243,214,120,183,77,241,5,79,67,248,107,242,225,70,159,78,193,112,193,208,146,231]
[null,210,90,161,249,15,26,125,97,150,144,159,180,156,35,73,54,212,56,202,2,40,123,35,163,42,215,212,175,202]
[null,80,3,164,77,99,106,115,183,178,41,15,130,126,57,27,207,187,140,171,216,30,242,123,150,10,180,96,188,42]
[null,189,40,181,176,75,117,86,99,184,107,97,5,221,48,118,215,169,209,193,55,86,11,80,255,23,195,103,159,7]
[null,162,63,180,26,74,182,113,178,75,16,214,91,134,120,234,132,256,185,26,165,175,180,69,161,171,23,245,44,195]
[null,83,47,144,250,80,149,178,74,99,122,150,198,160,82,170,18,228,241,33,115,152,42,66,158,172,3,174,39,125]
[null,159,45,193,105,108,147,5,214,15,183,80,168,197,102,254,247,208,91,119,172,197,226,29,233,192,99,85,62,85]
[null,40,28,184,196,44,249,131,108,97,193,74,44,135,79,184,217,140,70,70,101,181,35,28,196,252,121,62,22,97]
[null,232,77,205,111,9,44,147,147,127,186,182,104,88,43,17,34,199,134,148,185,110,208,24,250,230,72,221,58,155]
[null,132,51,232,187,111,108,49,9,26,205,149,171,33,65,41,6,148,131,228,31,87,68,31,247,212,50,147,55,157]
[null,136,94,138,18,109,80,189,182,106,124,111,244,70,85,95,157,234,43,234,139,97,239,6,185,136,4,31,9,76]
[null,102,23,224,225,76,74,57,109,117,62,9,98,86,119,104,192,240,103,255,89,98,114,17,236,169,109,54,123,23]
[null,107,225,98,159,18,256,45,234,170,71,199,115,69,27,91,227,76,20,191,142,184,25,160,232,150,34,35,180,180]
[null,174,217,89,90,24,228,257,18,174,47,148,211,78,121,112,146,109,111,166,36,157,219,232,189,151,112,8,95,191]
[null,27,229,90,256,110,208,123,199,203,198,24,242,44,49,36,82,111,160,137,211,198,26,226,208,206,122,232,186,87]
[null,209,244,14,126,59,140,199,110,236,244,18,31,42,66,57,84,9,193,172,72,235,257,133,223,131,75,215,211,30]
[null,43,177,71,166,118,59,144,208,248,197,256,35,211,54,207,159,44,68,10,233,45,20,148,243,163,100,73,170,210]
[null,251,245,91,64,50,110,76,118,212,203,228,256,193,25,252,196,108,97,99,62,89,181,136,200,232,128,106,124,148]
[null,74,151,86,190,30,24,236,256,187,101,50,141,164,124,238,105,80,194,102,201,104,120,237,191,130,85,237,138,33]
[null,179,175,87,86,2,18,16,30,169,45,118,57,203,67,182,57,74,244,69,128,38,183,157,231,200,2,165,238,75]
[null,240,252,20,170,89,170,124,187,2,4,248,58,240,56,30,186,75,142,153,144,209,94,218,234,106,155,116,38,167]
[null,6,142,75,78,71,174,194,89,30,100,212,249,232,101,110,236,99,243,133,46,137,235,107,254,74,156,113,101,119]
[null,147,154,28,156,46,203,25,248,50,156,71,176,131,128,158,115,15,9,236,171,194,110,217,132,98,251,206,40,115]
[null,66,160,17,20,10,236,205,46,118,173,89,66,242,86,52,60,97,38,116,132,196,145,239,172,48,169,252,42,45]
[null,142,171,51,237,22,10,231,203,59,159,170,99,87,53,159,155,127,228,112,199,79,133,171,175,4,219,7,30,175]
[null,54,132,47,131,55,46,9,22,110,207,174,178,50,52,123,135,26,222,6,49,125,197,251,220,117,253,117,79,138]
[null,230,145,43,137,84,71,180,170,24,22,55,247,23,122,200,46,106,104,128,183,102,52,176,221,75,201,134,105,60]
[null,12,220,76,113,88,89,93,84,18,21,22,70,24,72,253,128,117,62,54,125,28,171,159,133,78,214,187,46,35]
[null,60,88,41,234,38,252,106,145,225,109,171,113,57,96,152,149,123,8,212,187,239,161,96,109,241,246,242,185,176]
[null,237,84,85,120,113,142,243,38,217,82,132,158,117,73,176,219,21,32,256,99,159,104,118,134,148,231,166,242,255]
[null,31,55,11,167,126,154,77,171,229,146,113,202,2,11,205,5,37,201,169,194,212,253,85,7,179,131,97,237,81]
[null,248,22,80,27,87,160,121,126,244,232,38,88,121,70,248,87,91,247,165,12,253,73,42,146,175,198,90,167,127]
[null,22,10,93,162,98,87,120,154,177,247,252,95,192,19,1,203,115,55,88,213,65,220,84,117,227,141,151,195,246]
[null,188,46,27,115,104,126,66,98,245,108,142,238,249,36,70,220,90,105,52,18,15,18,120,10,219,234,177,151,154]
[null,93,71,118,218,116,113,208,252,151,131,104,151,168,125,85,90,3,224,23,239,54,193,74,116,195,220,36,234,39]
[null,152,89,67,3,6,38,102,116,175,58,98,102,244,20,54,98,40,178,134,123,94,112,51,99,204,236,9,160,51]
[null,163,2,50,191,83,225,37,151,6,42,177,1,184,100,226,251,63,130,251,226,168,217,54,88,47,94,175,76,172]
[null,35,30,99,57,107,217,223,83,116,9,245,144,150,12,210,154,47,176,185,79,226,2,130,89,7,62,217,114,153]
[null,176,50,54,222,13,229,3,177,104,233,107,152,111,114,171,47,45,84,224,156,201,134,33,79,77,64,58,66,9]
[null,121,118,37,37,81,244,230,13,98,225,83,101,200,95,178,37,28,29,186,112,130,48,43,90,118,9,10,4,95]
[null,140,59,32,206,14,81,247,229,87,182,225,32,59,105,101,248,77,206,35,200,111,140,16,6,80,8,233,53,166]
[null,86,110,60,81,29,13,92,14,126,141,217,229,115,42,8,147,51,133,51,97,116,71,57,94,22,66,230,15,247]
[null,228,24,3,227,41,107,153,225,113,19,29,225,81,31,93,56,94,106,58,151,13,255,121,106,2,41,101,71,50]
[null,114,18,2,74,33,83,96,41,38,97,14,17,48,103,2,42,23,76,79,23,68,56,15,118,143,84,65,126,128]
[null,196,27,250,241,155,100,240,31,96,170,105,209,213,33,186,242,1,156,195,210,182,158,196,181,208,161,143,244,248]
[null,97,121,156,1,227,12,101,155,73,126,42,118,167,41,109,222,8,251,196,30,151,67,193,194,193,124,241,156,256]
[null,205,49,209,224,216,114,164,105,11,17,227,92,195,29,236,19,16,44,218,220,248,194,144,182,253,178,112,147,41]
[null,17,66,196,10,153,95,117,216,70,92,155,218,253,14,221,1,32,108,203,13,143,57,208,205,156,197,55,154,58]
[null,235,54,242,175,163,153,48,114,19,128,100,240,19,81,89,228,64,216,41,237,37,243,108,186,170,182,219,197,186]
[null,42,25,222,42,144,216,140,163,36,23,12,72,29,13,34,144,69,148,25,76,6,62,168,213,249,111,159,155,162]
[null,256,124,192,178,246,227,107,100,125,220,144,85,53,107,132,88,61,24,11,175,48,188,220,187,154,179,23,148,6]
[null,138,67,225,50,158,155,239,246,20,148,163,133,83,83,40,44,78,25,12,90,21,121,238,148,188,199,70,227,100]
[null,15,56,237,140,238,96,159,125,158,210,19,212,99,6,209,181,68,89,239,147,199,198,164,214,27,35,153,106,170]
[null,154,101,243,63,133,73,65,238,246,223,36,12,46,116,130,229,112,114,187,14,150,82,183,197,59,125,144,133,192]
[null,92,128,149,203,222,11,184,19,144,91,133,26,34,104,147,124,7,231,254,154,123,203,231,245,68,6,60,26,122]
[null,145,86,143,6,239,70,4,222,163,73,238,131,100,98,190,52,60,146,177,94,185,131,256,198,67,56,104,89,43]
[null,61,53,174,246,188,239,17,11,153,49,96,162,145,87,77,237,92,86,42,136,88,204,248,217,32,83,191,51,205]
[null,167,52,228,85,247,222,211,188,216,103,73,74,144,126,125,169,4,35,9,88,100,58,169,244,15,36,149,13,178]
[null,112,122,249,245,185,133,8,96,227,229,247,68,226,113,42,12,62,179,118,219,112,189,210,225,25,142,42,59,118]
[null,254,72,145,59,162,238,128,185,155,212,188,230,136,38,56,70,17,163,90,109,24,122,153,166,1,46,76,7,114]
[null,127,162,127,226,186,56,163,122,27,172,53,217,176,88,38,218,93,171,226,173,153,90,9,28,114,93,45,229,229]
[null,25,185,104,101,136,101,56,186,121,135,52,59,133,84,105,210,39,213,180,96,177,195,100,82,177,11,30,252,218]
[null,195,247,227,217,206,128,198,53,49,80,136,84,254,55,15,61,34,122,231,232,211,72,113,17,202,17,158,136,68]
[null,51,188,141,38,205,86,146,206,66,59,186,138,209,22,11,75,58,40,230,50,250,252,86,80,224,87,184,191,112]
[null,250,239,107,229,172,205,67,128,54,20,56,161,56,10,219,234,5,181,80,214,18,53,72,91,164,96,22,142,152]
[null,67,222,214,14,130,206,227,172,25,133,101,61,71,46,237,195,35,187,5,5,66,246,45,49,161,107,150,194,194]
[null,201,133,142,213,157,136,68,56,124,181,130,81,140,71,187,32,57,5,48,166,71,28,116,128,185,20,231,257,38]
[null,133,238,186,69,202,186,158,157,67,192,172,135,51,89,168,8,48,83,84,67,92,128,1,74,139,120,257,247,17]
[null,98,158,203,182,191,27,132,124,202,152,54,239,52,2,127,175,120,61,147,243,227,44,112,40,8,218,61,82,137]
[null,202,246,139,133,134,121,26,191,157,180,25,63,146,30,33,156,82,126,138,11,247,192,104,70,64,119,125,86,224]
[null,85,144,176,183,233,49,195,54,130,115,134,73,76,50,13,64,102,149,184,140,141,116,22,75,38,211,224,37,21]
[null,123,163,248,112,204,66,51,233,172,6,191,136,54,118,108,113,79,195,219,51,214,149,115,2,18,244,179,5,24]
[null,65,153,245,198,192,204,7,49,205,40,27,132,190,59,143,122,43,51,76,160,84,59,23,39,62,189,120,49,238]
[null,217,216,122,53,209,233,204,192,206,93,121,27,138,110,124,172,65,158,95,68,69,147,8,43,49,245,29,19,244]
[null,81,227,150,152,137,134,87,27,136,226,209,75,166,24,199,65,85,210,83,242,22,105,49,19,43,204,218,94,94]
[null,149,155,189,94,231,191,136,137,186,201,192,203,222,18,156,23,119,240,113,27,17,221,30,9,93,176,148,69,52]
[null,221,1,22,108,139,120,155,85,93,221,43,172,218,76,203,78,231,211,75,148,205,250,222,144,35,228,209,150,253]
[null,100,8,19,215,173,82,108,139,39,160,65,25,245,109,198,13,137,199,131,65,145,10,156,55,132,187,243,183,147]
[null,203,16,110,48,193,102,176,43,34,116,173,109,194,111,189,166,209,41,44,234,163,212,206,59,40,242,3,241,117]
[null,39,32,58,202,215,79,104,193,58,118,139,147,246,9,240,187,192,66,77,106,178,14,182,93,37,148,4,137,61]
[null,245,64,134,15,179,215,70,102,5,137,120,150,72,44,28,73,204,242,222,141,36,178,245,135,82,210,207,168,196]
[null,9,69,83,197,156,193,212,179,35,113,82,110,62,108,23,74,233,219,221,41,78,40,224,151,135,239,195,224,145]
[null,224,61,24,54,176,173,119,120,57,208,156,64,11,80,7,249,134,37,154,174,136,177,203,12,109,152,82,173,123]
[null,64,78,23,130,138,139,179,176,48,228,179,137,85,74,29,177,191,10,245,69,56,36,212,104,53,206,57,166,25]
[null,78,68,96,97,210,93,206,57,138,230,5,215,130,75,255,76,202,94,64,167,124,167,214,18,145,51,164,77,156]
[null,130,112,46,200,201,39,75,210,176,214,35,7,116,99,214,118,157,75,114,81,144,92,255,127,134,31,247,119,254]
[null,89,7,42,79,223,34,185,5,156,52,201,24,60,15,213,138,130,177,66,150,246,209,170,32,238,29,69,128,116]
[null,150,60,12,123,253,58,21,223,179,54,210,191,25,97,211,167,172,120,85,7,138,7,166,1,213,73,80,45,98]
[null,76,92,35,44,200,253,13,34,215,74,93,207,179,127,31,79,205,137,162,248,109,245,194,68,189,32,256,28,134]
[null,239,4,52,193,224,223,224,200,193,27,39,52,162,26,25,96,206,101,141,134,14,85,221,52,207,1,167,113,149]
[null,139,62,70,66,219,201,42,93,173,245,224,37,148,106,75,208,136,204,160,137,118,225,246,87,157,33,18,131,19]
[null,190,17,101,124,165,210,196,219,139,246,200,204,119,117,96,189,186,232,240,95,82,31,119,98,217,15,98,41,126]
[null,238,165,25,73,241,68,160,62,1,189,92,255,181,123,62,106,162,237,47,230,229,34,93,204,71,113,32,206,165]
[null,1,219,73,169,196,112,90,241,8,255,4,103,219,21,64,3,185,245,100,131,216,184,97,162,16,45,48,143,193]
[null,214,224,112,84,254,7,234,92,16,96,196,30,223,37,43,205,247,23,31,155,186,47,4,227,55,28,186,178,18]
[null,5,200,95,254,166,60,41,254,32,95,241,216,161,91,46,151,188,1,1,29,131,215,131,138,111,42,181,184,107]
[null,185,253,64,39,198,166,20,7,64,5,68,153,75,115,197,33,239,212,199,178,93,21,134,212,100,70,53,222,201]
[null,72,223,61,251,251,254,187,198,69,83,112,69,8,90,242,125,222,225,237,120,27,229,11,173,120,92,47,201,209]
[null,199,201,111,30,146,196,44,68,61,227,251,53,15,3,208,238,133,96,201,204,50,24,109,177,19,115,246,231,90]
[null,71,210,18,144,190,241,226,146,78,169,198,248,6,40,223,223,238,115,135,1,139,169,70,202,84,132,244,162,77]
[null,101,138,103,19,180,1,248,61,190,222,64,193,7,63,113,97,158,72,106,218,233,115,81,180,201,167,24,10,243]
[null,171,176,88,160,197,8,2,180,146,240,69,71,73,47,120,121,246,2,15,74,162,155,95,113,137,184,102,33,222]
[null,52,156,40,110,189,16,220,64,251,2,197,76,3,45,14,241,144,145,43,236,217,88,117,216,229,191,123,65,47]
[null,247,179,92,154,194,32,12,189,198,1,180,208,95,28,78,158,163,180,109,53,219,175,59,143,247,240,122,117,79]
[null,3,215,5,46,226,194,72,16,166,67,1,250,231,77,175,94,153,31,143,224,2,76,14,229,167,203,131,93,227]
[null,170,193,1,158,242,189,177,226,254,34,8,4,257,51,166,15,216,92,122,105,35,231,111,253,255,172,66,25,150]
[null,24,173,57,116,250,197,85,1,196,190,242,21,149,94,114,213,227,255,250,238,51,84,132,156,222,248,183,23,16]
[null,211,139,48,235,257,180,200,250,241,153,226,236,154,23,177,139,155,170,161,100,85,162,77,224,142,157,194,100,71]
[null,222,76,105,211,235,63,203,94,123,248,77,219,228,257,232,256,33,141,164,3,91,172,68,237,214,168,239,35,37]
[null,110,109,6,25,164,47,61,235,21,234,51,94,238,250,172,254,41,200,157,254,55,93,18,228,133,163,214,84,46]
[null,155,111,38,236,207,45,244,77,37,94,164,38,157,242,137,58,29,6,229,17,63,254,60,153,155,233,86,18,250]
[null,29,9,132,16,181,28,43,207,91,84,235,165,103,226,164,26,14,85,197,221,52,119,67,147,162,144,132,118,257]
[null,168,44,106,230,230,181,39,45,115,39,63,210,106,194,19,190,81,198,14,70,232,151,71,122,166,181,190,87,70]
[null,124,108,121,72,213,207,169,230,90,81,47,62,38,189,98,142,13,254,38,192,242,51,58,195,159,237,238,2,84]
[null,225,80,7,163,211,164,30,63,3,243,213,23,21,197,97,28,107,74,45,61,257,160,83,238,173,190,128,149,185]
[null,14,74,135,103,195,235,174,211,40,194,230,213,89,180,65,59,83,123,53,181,238,45,103,242,246,205,87,32,189]
[null,45,75,39,139,218,123,222,3,195,188,115,169,10,190,122,150,6,22,209,113,7,179,61,174,72,105,139,198,59]
[null,183,99,128,5,255,21,109,218,211,202,90,124,93,146,155,163,116,28,151,195,75,101,56,157,90,88,253,215,55]
[null,16,15,56,149,168,37,148,115,213,43,255,36,28,251,174,80,104,189,132,52,3,156,73,211,33,123,88,210,159]
[null,208,97,29,107,143,91,23,168,230,90,218,252,31,198,119,14,98,159,208,252,103,9,53,210,60,58,95,190,226]
[null,46,127,81,136,167,143,91,37,181,63,123,243,236,166,116,209,87,19,68,8,191,241,63,222,13,26,140,246,13]
[null,181,26,4,70,221,168,116,167,207,8,21,119,217,254,12,148,126,93,108,176,254,132,25,192,30,104,169,250,89]
[null,38,106,68,223,237,255,40,123,164,179,221,79,215,196,63,93,113,208,103,9,126,117,47,207,76,150,38,255,230]
[null,164,117,125,117,135,218,252,237,235,119,167,224,153,241,67,85,38,191,17,198,200,95,79,155,14,81,137,208,184]
[null,141,135,79,171,141,75,161,106,76,147,127,245,191,165,66,231,88,246,176,35,34,22,219,23,234,37,78,97,44]
[null,58,237,100,93,152,99,88,141,109,251,26,146,174,219,9,233,84,139,167,180,33,150,167,119,237,118,59,81,22]
[null,226,221,59,247,232,15,175,127,111,87,152,142,151,224,107,117,55,90,198,56,43,106,253,121,153,49,225,54,232]
[null,105,167,45,51,131,97,33,232,9,104,141,175,178,200,117,127,22,53,238,215,9,228,152,57,197,98,202,56,204]
[null,143,143,63,209,161,131,29,15,44,138,75,181,17,253,179,191,10,151,16,33,188,99,180,65,146,65,50,112,27]
[null,48,168,97,9,243,232,133,161,108,114,99,78,102,223,185,204,46,202,56,256,218,135,223,95,216,43,46,83,56]
[null,178,255,94,181,159,152,143,75,80,217,243,128,132,201,231,51,71,118,87,42,228,16,135,108,248,78,162,70,216]
[null,69,218,77,82,183,141,172,159,74,151,161,253,37,210,140,43,89,49,65,203,172,247,178,3,235,63,155,99,251]
[null,96,195,78,232,184,76,145,80,183,242,44,167,124,138,24,126,2,73,232,93,83,78,189,97,87,235,13,214,63]
[null,175,211,114,8,178,109,80,184,159,136,108,60,98,176,88,240,30,17,225,143,106,216,192,100,86,255,84,219,133]
[null,99,213,65,153,150,111,253,44,243,75,178,90,61,156,4,11,50,167,139,86,61,32,229,25,66,159,173,196,173]
[null,218,230,74,62,214,9,127,150,161,65,184,214,123,179,74,41,118,188,188,157,77,223,230,62,6,137,196,236,161]
[null,26,181,53,147,249,214,111,111,131,72,76,154,170,215,241,224,59,124,110,73,148,50,234,8,28,186,37,200,103]
[null,126,207,26,71,147,150,209,249,232,53,109,87,225,193,217,252,110,127,30,227,171,190,227,11,46,208,111,203,101]
[null,122,164,120,240,149,178,69,76,152,134,147,14,188,173,163,101,24,215,24,119,161,19,252,73,122,254,227,249,182]
[null,156,235,34,33,182,184,201,149,141,196,249,160,172,139,154,66,18,155,3,169,160,144,241,22,89,149,204,135,235]
[null,151,33,160,99,240,2,213,24,88,187,59,143,189,231,167,31,182,238,67,116,74,233,98,26,108,224,223,78,78]
[null,84,41,169,168,234,30,1,240,84,211,110,47,180,137,146,112,149,147,92,222,101,39,26,69,107,146,250,163,67]
[null,231,29,168,2,148,50,135,59,55,60,234,16,214,209,222,176,147,98,121,47,60,232,32,50,52,136,26,72,171]
[null,49,14,244,132,199,118,59,148,22,14,240,227,216,192,201,174,249,65,86,186,23,1,125,35,127,183,43,47,228]
[null,215,81,187,92,140,199,114,50,10,61,2,223,47,204,51,99,214,190,248,25,213,238,110,15,95,158,185,88,48]
[null,7,13,167,194,208,148,182,140,46,55,30,2,65,233,6,62,150,161,159,196,169,77,122,58,26,130,152,134,110]
[null,184,107,172,68,228,234,22,2,71,157,208,117,94,134,20,153,178,64,156,57,154,138,21,67,128,173,21,120,225]
[null,79,83,171,172,256,240,242,228,89,213,140,201,55,191,76,201,184,14,189,130,220,75,101,27,58,256,93,20,183]
[null,18,6,238,88,169,88,134,71,256,254,10,200,18,202,228,72,183,116,105,114,49,164,40,24,152,103,142,220,91]
[null,252,116,183,180,187,84,64,169,228,158,46,9,26,157,148,22,159,15,125,212,121,23,151,4,184,102,145,157,139]
[null,111,104,230,102,212,55,233,10,208,102,187,82,127,130,100,143,243,249,22,87,64,148,41,126,160,7,52,218,143]
[null,192,98,241,238,248,22,53,212,140,85,169,192,16,172,206,198,161,220,142,126,62,113,19,86,210,89,6,216,213]
[null,116,87,207,21,236,248,27,55,199,99,88,159,171,205,99,103,131,30,146,59,179,125,87,83,254,39,251,228,83]
[null,204,126,211,127,203,212,249,236,148,51,84,80,208,206,135,123,232,36,252,209,133,61,7,38,141,5,141,179,120]
[null,28,113,215,121,174,187,78,88,234,236,203,11,235,136,58,212,152,154,130,75,156,206,82,37,183,57,124,153,198]
[null,246,38,182,145,170,169,165,174,240,237,236,188,234,186,5,130,141,196,204,133,230,87,99,125,180,44,71,212,223]
[null,198,170,217,24,220,6,152,113,33,149,87,145,201,162,106,109,135,250,46,71,19,97,162,149,17,12,16,73,82]
[null,21,174,173,138,145,116,15,220,41,176,126,100,141,185,82,39,237,226,2,159,99,154,140,124,110,27,92,16,3]
[null,227,203,247,91,132,104,181,87,29,112,145,56,256,247,53,253,221,57,89,64,46,5,173,251,79,127,161,21,177]
[null,10,236,178,231,171,98,137,132,14,26,220,170,137,188,10,171,167,11,93,246,5,185,216,112,83,60,168,91,131]
[null,236,248,165,96,160,171,138,104,81,11,6,163,66,239,257,55,143,203,170,45,193,38,174,141,31,117,107,63,12]
[null,70,212,231,143,154,132,192,160,13,150,116,20,9,222,188,38,168,153,206,240,243,240,138,248,39,24,81,107,104]
[null,165,187,140,40,142,145,50,6,107,127,154,107,90,133,173,168,255,34,235,19,204,65,184,142,63,38,222,24,219]
[null,106,169,191,255,252,220,156,142,83,200,160,156,14,238,204,160,218,80,124,135,164,146,207,159,54,22,249,98,207]
[null,95,256,208,67,175,33,221,107,252,216,81,257,74,158,32,7,195,128,7,32,90,41,204,170,211,164,83,182,86]
[null,223,228,159,201,151,41,35,175,142,249,13,114,108,246,48,104,211,82,73,179,32,256,128,169,251,196,41,144,105]
[null,82,208,204,36,245,29,255,81,154,25,151,106,147,144,87,211,213,174,34,102,57,124,225,179,181,194,200,192,249]
[null,137,140,221,221,177,14,28,245,160,33,175,157,58,163,80,221,230,229,72,146,128,210,215,168,140,249,248,254,163]
[null,118,199,226,52,244,177,11,29,171,76,33,226,199,153,157,10,181,52,223,58,147,118,242,252,178,250,25,205,92]
[null,172,148,198,177,229,245,166,244,132,117,41,29,143,216,250,111,207,125,207,161,142,187,201,164,236,192,28,243,11]
[null,30,234,255,31,217,151,105,33,145,239,229,33,177,227,165,202,164,152,200,107,245,3,137,152,256,217,157,187,208]
[null,144,240,256,184,225,175,162,217,220,161,244,241,210,155,256,216,235,182,179,235,190,202,243,140,115,174,193,132,130]
[null,48,231,162,97,103,100,88,257,158,14,62,227,16,225,153,49,102,115,76,63,62,72,17,10,50,77,45,18,8]
[null,228,137,185,134,31,191,132,250,246,102,65,103,36,217,216,140,7,17,107,62,161,149,257,2,65,64,91,157,102]
[null,38,209,247,80,42,64,241,242,144,111,114,153,239,229,31,166,214,146,10,40,53,22,34,217,5,76,63,94,49]
[null,245,192,188,61,105,201,166,226,163,104,50,42,257,244,103,40,150,203,115,55,241,37,248,200,102,53,5,141,62]
[null,21,204,239,76,95,15,130,194,105,61,150,144,30,177,158,18,42,39,221,217,23,169,83,72,88,72,239,210,16]
[null,182,233,222,147,114,196,235,189,42,103,90,95,114,245,246,186,110,99,252,233,216,224,216,96,9,45,229,118,36]
[null,83,134,133,79,12,70,38,197,31,110,38,158,170,151,114,173,234,235,210,247,2,126,80,252,104,71,205,151,66]
[null,168,191,238,59,100,137,110,180,103,31,20,12,214,175,95,125,233,188,237,246,120,218,208,158,70,110,175,19,33]
[null,111,202,100,223,20,60,48,190,162,152,94,133,77,252,239,46,169,105,59,19,243,49,118,88,231,44,159,99,21]
[null,244,157,12,133,125,176,35,146,185,125,75,20,29,142,222,246,144,114,108,71,104,128,195,66,199,61,212,193,15]
[null,104,130,114,252,36,55,167,251,247,232,27,239,134,154,125,232,27,198,135,4,166,111,55,136,190,13,224,74,109]
[null,164,172,95,202,19,127,185,198,188,169,2,36,206,160,20,127,112,154,73,81,113,68,252,215,191,60,158,254,115]
[null,122,205,105,175,70,54,209,166,19,207,10,247,21,171,162,96,172,67,170,216,197,181,12,53,226,41,113,241,84]
[null,170,206,42,222,11,200,155,254,36,245,89,70,89,132,185,184,223,109,158,249,91,133,173,80,243,14,114,47,30]
[null,39,136,31,116,73,69,29,196,125,199,48,162,246,145,11,190,79,216,146,140,146,216,13,140,233,33,32,250,9]
[null,149,186,103,212,96,136,46,241,20,251,105,73,188,220,70,28,95,182,234,168,4,202,199,144,257,92,122,130,113]
[null,85,96,231,165,72,168,86,165,202,29,249,136,40,170,205,41,87,213,105,32,131,220,32,29,144,230,82,95,131]
[null,162,73,137,247,122,63,123,219,157,6,158,72,48,174,206,199,45,228,81,78,233,153,157,40,81,176,125,202,154]
[null,26,11,209,241,52,186,178,224,130,122,145,205,197,203,122,174,136,100,47,27,63,243,41,190,56,241,4,60,31]
[null,208,70,192,171,53,6,199,200,172,67,172,52,183,236,72,120,218,74,8,28,207,247,220,146,34,178,49,112,117]
[null,44,19,204,162,86,205,238,253,53,116,186,130,24,248,202,97,77,236,240,178,8,39,29,106,94,167,202,191,151]
[null,253,36,233,151,128,12,125,223,52,64,213,86,63,212,157,197,71,108,192,253,191,21,244,64,97,209,187,31,44]
[null,92,125,134,238,101,230,77,201,122,1,142,202,226,187,128,177,253,27,187,210,57,71,45,220,73,130,118,190,116]
[null,191,20,191,138,56,130,66,210,72,11,257,101,250,169,86,123,175,1,166,174,125,90,189,241,119,184,207,100,72]
[null,15,100,56,40,67,214,106,138,231,176,146,134,83,256,204,19,197,197,31,111,160,131,76,121,250,218,206,126,55]
[null,247,12,101,139,124,66,78,176,137,172,154,67,102,228,233,195,132,133,11,120,56,225,125,34,194,188,112,232,119]
[null,118,114,128,47,25,142,143,156,209,221,236,204,194,208,124,185,109,34,117,74,173,245,75,237,220,183,182,63,82]
[null,207,95,86,14,54,109,252,179,192,253,143,25,145,140,67,122,63,79,44,39,135,150,146,234,240,256,204,207,10]
[null,98,105,53,69,66,199,218,215,54,209,235,209,136,199,231,126,207,138,174,182,193,115,60,20,196,219,68,251,13]
[null,190,42,52,13,49,111,165,193,25,239,250,66,86,148,137,231,100,229,189,163,41,134,205,14,209,215,120,54,136]
[null,16,31,122,54,121,153,32,173,124,164,209,231,193,234,49,183,48,40,236,175,177,59,106,164,215,239,92,171,108]
[null,231,103,72,82,27,37,57,139,67,189,228,121,235,240,66,55,18,110,241,145,109,102,164,206,165,249,36,122,69]
[null,110,257,165,30,119,8,37,27,138,108,36,173,180,182,215,86,47,49,53,183,37,55,150,5,223,114,40,103,236]
[null,193,250,219,71,85,248,98,121,176,75,102,119,245,149,193,233,59,15,113,127,158,60,43,111,126,203,13,150,239]
[null,24,242,224,16,65,46,142,49,156,17,52,215,92,147,85,149,217,255,95,214,55,69,210,141,218,199,64,82,148]
[null,152,226,200,110,43,244,140,66,179,121,76,65,71,249,119,111,192,254,80,181,219,18,56,197,221,165,12,154,200]
[null,117,194,253,48,79,80,121,54,43,90,13,156,185,214,138,108,16,51,222,36,13,230,243,62,176,123,186,188,124]
[null,217,189,223,19,102,218,145,25,65,34,34,79,184,150,176,148,39,63,180,37,249,235,61,113,123,107,196,46,175]
[null,84,197,201,106,82,81,50,124,85,85,55,138,9,178,102,194,221,176,122,104,34,251,204,135,149,246,247,139,234]
[null,189,180,210,52,120,222,30,67,119,92,46,82,81,184,79,121,248,201,202,13,194,229,128,233,205,154,173,79,235]
[null,91,190,120,207,48,91,28,56,165,181,44,201,182,183,253,43,164,94,134,194,180,3,161,102,113,240,128,52,162]
[null,177,146,82,227,57,166,44,101,219,139,3,48,140,159,223,251,183,11,114,144,128,44,58,4,124,131,142,183,212]
[null,108,251,102,229,35,49,206,128,224,130,88,253,120,243,57,234,81,189,12,192,169,45,179,142,20,226,198,73,216]
[null,251,198,79,185,5,251,204,86,200,213,92,35,91,161,48,67,138,178,120,173,108,47,135,160,45,257,233,237,246]
[null,10,166,43,226,58,13,184,53,5,230,64,224,179,131,165,51,121,2,149,96,182,227,214,124,69,190,79,245,223]
[null,124,254,65,257,34,173,231,52,35,145,37,58,162,232,219,206,157,91,244,117,19,233,65,109,51,206,96,34,206]
[null,121,196,85,225,39,33,13,122,57,127,12,165,50,152,34,221,54,240,140,98,119,183,192,239,101,171,110,216,188]
[null,163,241,119,243,93,227,12,72,48,217,139,39,69,141,58,54,26,160,176,18,68,162,134,132,41,160,139,62,157]
[null,28,93,257,145,17,224,69,96,190,52,165,196,152,135,166,3,21,226,29,211,20,196,185,93,187,54,77,98,233]
[null,127,39,250,213,62,74,3,73,146,115,161,17,255,237,254,155,13,210,42,158,257,194,89,65,242,96,39,168,185]
[null,103,34,242,230,4,211,162,11,251,80,254,166,53,221,62,228,235,72,72,227,44,215,174,240,203,31,35,24,146]
[null,229,58,226,216,92,43,163,70,198,74,127,4,107,167,17,42,257,77,127,257,253,212,4,151,147,120,97,217,163]
[null,80,5,194,188,60,237,253,19,92,36,124,251,225,143,190,105,46,205,165,59,73,61,219,57,158,46,183,238,194]
[null,138,35,189,166,7,29,175,36,4,57,247,60,133,168,146,189,33,211,231,21,186,16,7,49,138,85,250,71,197]
[null,54,57,197,143,112,234,31,125,62,27,149,190,20,255,7,205,162,12,208,57,59,50,228,168,239,81,243,214,147]
[null,257,48,180,126,68,89,89,20,17,96,188,112,35,218,60,10,143,14,119,123,187,35,114,181,174,56,252,32,240]
[null,40,120,68,91,78,143,36,100,257,248,177,197,161,195,194,65,186,234,25,152,157,145,239,15,57,78,251,10,155]
[null,184,82,112,74,61,103,18,12,250,225,163,78,137,211,189,187,256,156,96,243,87,138,98,36,121,145,185,256,170]
[null,22,102,7,67,69,170,256,114,242,193,141,194,17,213,61,182,113,135,41,215,206,244,148,211,29,42,255,38,218]
[null,205,79,60,18,64,83,257,95,226,141,199,69,100,230,78,50,78,136,39,149,11,180,104,179,11,115,163,246,166]
[null,34,43,92,55,32,182,191,105,64,165,244,242,164,181,257,8,227,127,256,115,255,83,212,31,91,29,27,186,253]
[null,153,65,4,86,16,27,224,42,69,233,147,32,243,207,250,254,166,192,223,136,88,92,100,108,3,5,1,81,257]
[null,20,85,62,10,8,174,68,31,61,235,126,257,45,164,16,237,3,75,207,8,234,144,142,242,36,102,109,173,201]
[null,158,119,17,101,1,96,105,103,78,158,181,8,119,235,32,22,88,64,173,97,47,81,23,187,116,34,104,58,210]
[null,255,182,135,90,23,86,10,225,195,223,190,164,2,1,181,39,117,19,167,94,36,26,47,221,44,21,30,55,153]
[null,4,149,237,95,94,165,24,217,211,174,240,23,4,8,207,164,58,44,203,101,148,86,233,212,125,30,20,197,252]
[null,241,147,221,25,51,4,164,229,213,240,198,181,200,16,94,220,252,172,195,29,103,121,22,8,103,105,101,14,220]
[null,37,249,167,114,77,139,174,244,230,140,191,51,232,32,23,93,173,126,206,61,229,94,242,1,96,111,155,215,126]
[null,188,214,143,77,28,107,219,177,77,171,187,213,68,64,195,48,60,68,26,244,90,239,28,188,92,136,152,219,152]
[null,66,150,168,21,45,207,177,245,51,256,200,28,116,69,211,196,4,20,16,220,134,160,186,174,99,63,220,89,137]
[null,197,178,255,68,47,98,15,151,94,109,175,195,230,61,45,235,184,130,1,213,33,161,95,73,85,20,237,228,251]
[null,77,184,218,53,63,213,64,175,23,226,155,47,199,78,28,45,135,171,20,205,244,193,155,69,12,16,169,84,123]
[null,145,183,63,153,40,79,70,252,135,60,197,255,108,68,143,89,236,119,251,49,213,136,119,199,186,84,248,36,219]
[null,63,159,47,170,3,157,56,142,237,43,202,40,95,112,168,134,230,5,183,107,75,103,253,203,168,101,165,149,130]
[null,206,243,45,135,90,102,215,154,221,48,185,143,178,7,3,222,69,170,255,126,242,84,109,99,225,47,230,110,202]
[null,6,161,28,200,115,249,168,160,167,68,205,90,244,60,40,6,99,163,155,50,50,139,151,32,198,48,227,235,229]
[null,250,131,77,232,91,17,195,171,115,12,195,221,49,92,135,15,239,118,67,190,212,142,122,245,245,36,22,167,177]
[null,82,232,51,154,37,126,250,132,90,8,233,91,110,4,237,139,165,89,4,150,77,246,188,169,228,66,41,142,254]
[null,249,152,94,108,21,141,79,145,3,3,211,135,165,62,37,179,50,220,132,155,220,195,35,28,182,51,43,218,190]
[null,60,141,23,177,123,163,139,220,40,50,179,21,173,17,91,34,67,121,58,241,94,191,141,74,244,103,105,6,133]
[null,223,123,182,221,117,236,111,170,183,161,39,152,27,93,131,13,12,180,224,82,117,192,87,214,24,235,67,97,179]
[null,78,21,149,140,106,108,7,174,159,177,91,117,25,39,232,112,119,199,225,91,200,249,165,236,21,139,84,170,158]
[null,202,37,147,209,26,152,171,203,243,204,5,131,141,34,106,116,168,33,215,60,32,151,11,26,105,137,107,83,199]
[null,43,91,249,160,127,30,154,236,161,202,106,26,131,58,117,83,205,56,249,20,153,141,207,54,61,201,80,225,213]
[null,225,115,214,193,97,159,120,248,127,146,78,243,67,5,183,77,107,208,70,242,115,79,49,231,112,193,241,229,195]
[null,2,90,150,215,15,123,144,212,26,175,35,97,54,35,159,180,56,212,40,202,210,73,249,202,42,163,156,125,161]
[null,216,3,178,180,99,242,41,187,106,188,123,183,207,57,15,130,140,96,30,171,80,27,77,42,10,150,126,115,164]
[null,55,40,184,195,75,11,107,169,117,159,80,99,215,48,97,5,209,103,86,193,189,118,176,7,23,255,221,86,181]
[null,165,63,75,23,74,180,16,256,182,44,69,178,132,120,214,91,185,245,175,26,162,234,26,195,171,161,134,113,180]
[null,115,47,99,3,80,42,122,228,149,39,66,74,18,82,150,198,241,174,152,33,83,170,250,125,172,158,160,178,144]
[null,172,45,15,99,108,226,183,208,147,62,29,214,247,102,80,168,91,85,197,119,159,254,105,85,192,233,197,5,193]
[null,101,28,97,121,44,35,193,140,249,22,28,108,217,79,74,44,70,62,181,70,40,184,196,97,252,196,135,131,184]
[null,185,77,127,72,9,208,186,199,44,58,24,147,34,43,182,104,134,221,110,148,232,17,111,155,230,250,88,147,205]
[null,31,51,26,50,111,68,205,148,108,55,31,9,6,65,149,171,131,147,87,228,132,41,187,157,212,247,33,49,232]
[null,139,94,106,4,109,239,124,234,80,9,6,182,157,85,111,244,43,31,97,234,136,95,18,76,136,185,70,189,138]
[null,89,23,117,109,76,114,62,240,74,123,17,109,192,119,9,98,103,54,98,255,102,104,225,23,169,236,86,57,224]
[null,142,225,170,34,18,25,71,76,256,180,160,234,227,27,199,115,20,35,184,191,107,91,159,180,150,232,69,45,98]
[null,36,217,174,112,24,219,47,109,228,95,232,18,146,121,148,211,111,8,157,166,174,112,90,191,151,189,78,257,89]
[null,211,229,203,122,110,26,198,111,208,186,226,199,82,49,24,242,160,232,198,137,27,36,256,87,206,208,44,123,90]
[null,72,244,236,75,59,257,244,9,140,211,133,110,84,66,18,31,193,215,235,172,209,57,126,30,131,223,42,199,14]
[null,233,177,248,100,118,20,197,44,59,170,148,208,159,54,256,35,68,73,45,10,43,207,166,210,163,243,211,144,71]
[null,62,245,212,128,50,181,203,108,110,124,136,118,196,25,228,256,97,106,89,99,251,252,64,148,232,200,193,76,91]
[null,201,151,187,85,30,120,101,80,24,138,237,256,105,124,50,141,194,237,104,102,74,238,190,33,130,191,164,236,86]
[null,128,175,169,2,2,183,45,74,18,238,157,30,57,67,118,57,244,165,38,69,179,182,86,75,200,231,203,16,87]
[null,144,252,2,155,89,94,4,75,170,38,218,187,186,56,248,58,142,116,209,153,240,30,170,167,106,234,240,124,20]
[null,46,142,30,156,71,235,100,99,174,101,107,89,236,101,212,249,243,113,137,133,6,110,78,119,74,254,232,194,75]
[null,171,154,50,251,46,110,156,15,203,40,217,248,115,128,71,176,9,206,194,236,147,158,156,115,98,132,131,25,28]
[null,132,160,118,169,10,145,173,97,236,42,239,46,60,86,89,66,38,252,196,116,66,52,20,45,48,172,242,205,17]
[null,199,171,59,219,22,133,159,127,10,30,171,203,155,53,170,99,228,7,79,112,142,159,237,175,4,175,87,231,51]
[null,49,132,110,253,55,197,207,26,46,79,251,22,135,52,174,178,222,117,125,6,54,123,131,138,117,220,50,9,47]
[null,183,145,24,201,84,52,22,106,71,105,176,170,46,122,55,247,104,134,102,128,230,200,137,60,75,221,23,180,43]
[null,125,220,18,214,88,171,21,117,89,46,159,84,128,72,22,70,62,187,28,54,12,253,113,35,78,133,24,93,76]
[null,187,88,225,246,38,161,109,123,252,185,96,145,149,96,171,113,8,242,239,212,60,152,234,176,241,109,57,106,41]
[null,99,84,217,231,113,104,82,21,142,242,118,38,219,73,132,158,32,166,159,256,237,176,120,255,148,134,117,243,85]
[null,194,55,229,131,126,253,146,37,154,237,85,171,5,11,113,202,201,97,212,169,31,205,167,81,179,7,2,77,11]
[null,12,22,244,198,87,73,232,91,160,167,42,126,87,70,38,88,247,90,253,165,248,248,27,127,175,146,121,121,80]
[null,213,10,177,141,98,220,247,115,87,195,84,154,203,19,252,95,55,151,65,88,22,1,162,246,227,117,192,120,93]
[null,18,46,245,234,104,18,108,90,126,151,120,98,220,36,142,238,105,177,15,52,188,70,115,154,219,10,249,66,27]
[null,239,71,151,220,116,193,131,3,113,234,74,252,90,125,104,151,224,36,54,23,93,85,218,39,195,116,168,208,118]
[null,123,89,175,236,6,112,58,40,38,160,51,116,98,20,98,102,178,9,94,134,152,54,3,51,204,99,244,102,67]
[null,226,2,6,94,83,217,42,63,225,76,54,151,251,100,177,1,130,175,168,251,163,226,191,172,47,88,184,37,50]
[null,79,30,116,62,107,2,9,47,217,114,130,83,154,12,245,144,176,217,226,185,35,210,57,153,7,89,150,223,99]
[null,156,50,104,64,13,134,233,45,229,66,33,177,47,114,107,152,84,58,201,224,176,171,222,9,77,79,111,3,54]
[null,112,118,98,9,81,48,225,28,244,4,43,13,37,95,83,101,29,10,130,186,121,178,37,95,118,90,200,230,37]
[null,200,59,87,8,14,140,182,77,81,53,16,229,248,105,225,32,206,233,111,35,140,101,206,166,80,6,59,247,32]
[null,97,110,126,66,29,71,141,51,13,15,57,14,147,42,217,229,133,230,116,51,86,8,81,247,22,94,115,92,60]
[null,151,24,113,41,41,255,19,94,107,71,121,225,56,31,29,225,106,101,13,58,228,93,227,50,2,106,81,153,3]
[null,23,18,38,84,33,56,97,23,83,126,15,41,42,103,14,17,76,65,68,79,114,2,74,128,143,118,48,96,2]
[null,210,27,96,161,155,158,170,1,100,244,196,31,242,33,105,209,156,143,182,195,196,186,241,248,208,181,213,240,250]
[null,30,121,73,124,227,67,126,8,12,156,193,155,222,41,42,118,251,241,151,196,97,109,1,256,193,194,167,101,156]
[null,220,49,11,178,216,194,17,16,114,147,144,105,19,29,227,92,44,112,248,218,205,236,224,41,253,182,195,164,209]
[null,13,66,70,197,153,57,92,32,95,154,208,216,1,14,155,218,108,55,143,203,17,221,10,58,156,205,253,117,196]
[null,237,54,19,182,163,243,128,64,153,197,108,114,228,81,100,240,216,219,37,41,235,89,175,186,170,186,19,48,242]
[null,76,25,36,111,144,62,23,69,216,155,168,163,144,13,12,72,148,159,6,25,42,34,42,162,249,213,29,140,222]
[null,175,124,125,179,246,188,220,61,227,148,220,100,88,107,144,85,24,23,48,11,256,132,178,6,154,187,53,107,192]
[null,90,67,20,199,158,121,148,78,155,227,238,246,44,83,163,133,25,70,21,12,138,40,50,100,188,148,83,239,225]
[null,147,56,158,35,238,198,210,68,96,106,164,125,181,6,19,212,89,153,199,239,15,209,140,170,27,214,99,159,237]
[null,14,101,246,125,133,82,223,112,73,133,183,238,229,116,36,12,114,144,150,187,154,130,63,192,59,197,46,65,243]
[null,154,128,144,6,222,203,91,7,11,26,231,19,124,104,133,26,231,60,123,254,92,147,203,122,68,245,34,184,149]
[null,94,86,163,56,239,131,73,60,70,89,256,222,52,98,238,131,146,104,185,177,145,190,6,43,67,198,100,4,143]
[null,136,53,153,83,188,204,49,92,239,51,248,11,237,87,96,162,86,191,88,42,61,77,246,205,32,217,145,17,174]
[null,88,52,216,36,247,58,103,4,222,13,169,188,169,126,73,74,35,149,100,9,167,125,85,178,15,244,144,211,228]
[null,219,122,227,142,185,189,229,62,133,59,210,96,12,113,247,68,179,42,112,118,112,42,245,118,25,225,226,8,249]
[null,109,72,155,46,162,122,212,17,238,7,153,185,70,38,188,230,163,76,24,90,254,56,59,114,1,166,136,128,145]
[null,173,162,27,93,186,90,172,93,56,229,9,122,218,88,53,217,171,45,153,226,127,38,226,229,114,28,176,163,127]
[null,96,185,121,11,136,195,135,39,101,252,100,186,210,84,52,59,213,30,177,180,25,105,101,218,177,82,133,56,104]
[null,232,247,49,17,206,72,80,34,128,136,113,53,61,55,136,84,122,158,211,231,195,15,217,68,202,17,254,198,227]
[null,50,188,66,87,205,252,59,58,86,191,86,206,75,22,186,138,40,184,250,230,51,11,38,112,224,80,209,146,141]
[null,214,239,54,96,172,53,20,5,205,142,72,128,234,10,56,161,181,22,18,80,250,219,229,152,164,91,56,67,107]
[null,5,222,25,107,130,246,133,35,206,194,45,172,195,46,101,61,187,150,66,5,67,237,14,194,161,49,71,227,214]
[null,166,133,124,20,157,28,181,57,136,257,116,56,32,71,130,81,5,231,71,48,201,187,213,38,185,128,140,68,142]
[null,67,238,67,120,202,128,192,48,186,247,1,157,8,89,172,135,83,257,92,84,133,168,69,17,139,74,51,158,186]
[null,243,158,202,218,191,44,152,120,27,82,112,124,175,2,54,239,61,61,227,147,98,127,182,137,8,40,52,132,203]
[null,11,246,157,119,134,192,180,82,121,86,104,191,156,30,25,63,126,125,247,138,202,33,133,224,64,70,146,26,139]
[null,140,144,130,211,233,116,115,102,49,37,22,54,64,50,134,73,149,224,141,184,85,13,183,21,38,75,76,195,176]
[null,51,163,172,244,204,149,6,79,66,5,115,233,113,118,191,136,195,179,214,219,123,108,112,24,18,2,54,51,248]
[null,160,153,205,189,192,59,40,43,204,49,23,49,122,59,27,132,51,120,84,76,65,143,198,238,62,39,190,7,245]
[null,68,216,206,245,209,147,93,65,233,19,8,192,172,110,121,27,158,29,69,95,217,124,53,244,49,43,138,204,122]
[null,242,227,136,204,137,105,226,85,134,94,49,27,65,24,209,75,210,218,22,83,81,199,152,94,43,19,166,87,150]
[null,27,155,186,176,231,221,201,119,191,69,30,137,23,18,192,203,240,148,17,113,149,156,94,52,93,9,222,136,189]
[null,148,1,93,228,139,250,221,231,120,150,222,85,78,76,43,172,211,209,205,75,221,203,108,253,35,144,218,155,22]
[null,65,8,39,187,173,10,160,137,82,183,156,139,13,109,65,25,199,243,145,131,100,198,215,147,132,55,245,108,19]
[null,234,16,34,242,193,212,116,209,102,241,206,43,166,111,173,109,41,3,163,44,203,189,48,117,40,59,194,176,110]
[null,106,32,58,148,215,14,118,192,79,137,182,193,187,9,139,147,66,4,178,77,39,240,202,61,37,93,246,104,58]
[null,141,64,5,210,179,178,137,204,215,168,245,102,73,44,120,150,242,207,36,222,245,28,15,196,82,135,72,70,134]
[null,41,69,35,239,156,40,113,233,193,224,224,179,74,108,82,110,219,195,78,221,9,23,197,145,135,151,62,212,83]
[null,174,61,57,152,176,177,208,134,173,173,203,120,249,80,156,64,37,82,136,154,224,7,54,123,109,12,11,119,24]
[null,69,78,48,206,138,36,228,191,139,166,212,176,177,74,179,137,10,57,56,245,64,29,130,25,53,104,85,179,23]
[null,167,68,138,51,210,167,230,202,93,77,214,57,76,75,5,215,94,164,124,64,78,255,97,156,145,18,130,206,96]
[null,81,112,176,31,201,92,214,157,39,119,255,210,118,99,35,7,75,247,144,114,130,214,200,254,134,127,116,75,46]
[null,150,7,156,29,223,209,52,130,34,128,170,5,138,15,201,24,177,69,246,66,89,213,79,116,238,32,60,185,42]
[null,7,60,179,73,253,7,54,172,58,45,166,223,167,97,210,191,120,80,138,85,150,211,123,98,213,1,25,21,12]
[null,248,92,215,32,200,245,74,205,253,28,194,34,79,127,93,207,137,256,109,162,76,31,44,134,189,68,179,13,35]
[null,134,4,193,1,224,85,27,206,223,113,221,200,96,26,39,52,101,167,14,141,239,25,193,149,207,52,162,224,52]
[null,137,62,173,33,219,225,245,136,201,131,246,93,208,106,224,37,204,18,118,160,139,75,66,19,157,87,148,42,70]
[null,95,17,139,15,165,31,246,186,210,41,119,219,189,117,200,204,232,98,82,240,190,96,124,126,217,98,119,196,101]
[null,230,165,1,113,241,34,189,162,68,206,93,62,106,123,92,255,237,32,229,47,238,62,73,165,71,204,181,160,25]
[null,131,219,8,45,196,184,255,185,112,143,97,241,3,21,4,103,245,48,216,100,1,64,169,193,16,162,219,90,73]
[null,155,224,16,28,254,47,96,247,7,178,4,92,205,37,196,30,23,186,186,31,214,43,84,18,55,227,223,234,112]
[null,29,200,32,42,166,215,95,188,60,184,131,254,151,91,241,216,1,181,131,1,5,46,254,107,111,138,161,41,95]
[null,178,253,64,70,198,21,5,239,166,222,134,7,33,115,68,153,212,53,93,199,185,197,39,201,100,212,75,20,64]
[null,120,223,69,92,251,229,83,222,254,201,11,198,125,90,112,69,225,47,27,237,72,242,251,209,120,173,8,187,61]
[null,204,201,61,115,146,24,227,133,196,231,109,68,238,3,251,53,96,246,50,201,199,208,30,90,19,177,15,44,111]
[null,1,210,78,132,190,169,169,238,241,162,70,146,223,40,198,248,115,244,139,135,71,223,144,77,84,202,6,226,18]
[null,218,138,190,167,180,115,222,158,1,10,81,61,97,63,64,193,72,24,233,106,101,113,19,243,201,180,7,248,103]
[null,74,176,146,184,197,155,240,246,8,33,95,180,121,47,69,71,2,102,162,15,171,120,160,222,137,113,73,2,88]
[null,236,156,251,191,189,88,2,144,16,65,117,64,241,45,197,76,145,123,217,43,52,14,110,47,229,216,3,220,40]
[null,53,179,198,240,194,175,1,163,32,117,59,189,158,28,180,208,180,122,219,109,247,78,154,79,247,143,95,12,92]
[null,224,215,166,203,226,76,67,153,194,93,14,16,94,77,1,250,31,131,2,143,3,175,46,227,167,229,231,72,5]
[null,105,193,254,172,242,231,34,216,189,25,111,226,15,51,8,4,92,66,35,122,170,166,158,150,255,253,257,177,1]
[null,238,173,196,248,250,84,190,227,197,23,132,1,213,94,242,21,255,183,51,250,24,114,116,16,222,156,149,85,57]
[null,100,139,241,157,257,162,153,155,180,100,77,250,139,23,226,236,170,194,85,161,211,177,235,71,142,224,154,200,48]
[null,3,76,123,168,235,172,248,33,63,35,68,94,256,257,77,219,141,239,91,164,222,232,211,37,214,237,228,203,105]
[null,254,109,21,163,164,93,234,41,47,84,18,235,254,250,51,94,200,214,55,157,110,172,25,46,133,228,238,61,6]
[null,17,111,37,233,207,254,94,29,45,18,60,77,58,242,164,38,6,86,63,229,155,137,236,250,155,153,157,244,38]
[null,221,9,91,144,181,119,84,14,28,118,67,207,26,226,235,165,85,132,52,197,29,164,16,257,162,147,103,43,132]
[null,70,44,115,181,230,151,39,81,181,87,71,45,190,194,63,210,198,190,232,14,168,19,230,70,166,122,106,39,106]
[null,192,108,90,237,213,51,81,13,207,2,58,230,142,189,47,62,254,238,242,38,124,98,72,84,159,195,38,169,121]
[null,61,80,3,190,211,160,243,107,164,149,83,63,28,197,213,23,74,128,257,45,225,97,163,185,173,238,21,30,7]
[null,181,74,40,205,195,45,194,83,235,32,103,211,59,180,230,213,123,87,238,53,14,65,103,189,246,242,89,174,135]
[null,113,75,195,105,218,179,188,6,123,198,61,3,150,190,115,169,22,139,7,209,45,122,139,59,72,174,10,222,39]
[null,195,99,211,88,255,101,202,116,21,215,56,218,163,146,90,124,28,253,75,151,183,155,5,55,90,157,93,109,128]
[null,52,15,213,123,168,156,43,104,37,210,73,115,80,251,255,36,189,88,3,132,16,174,149,159,33,211,28,148,56]
[null,252,97,230,58,143,9,90,98,91,190,53,168,14,198,218,252,159,95,103,208,208,119,107,226,60,210,31,23,29]
[null,8,127,181,26,167,241,63,87,143,246,63,37,209,166,123,243,19,140,191,68,46,116,136,13,13,222,236,91,81]
[null,176,26,207,104,221,132,8,126,168,250,25,167,148,254,21,119,93,169,254,108,181,12,70,89,30,192,217,116,4]
[null,9,106,164,150,237,117,179,113,255,255,47,123,93,196,221,79,208,38,126,103,38,63,223,230,76,207,215,40,68]
[null,198,117,235,81,135,95,119,38,218,208,79,237,85,241,167,224,191,137,200,17,164,67,117,184,14,155,153,252,125]
[null,35,135,76,37,141,22,147,88,75,97,219,106,231,165,127,245,246,78,34,176,141,66,171,44,234,23,191,161,79]
[null,180,237,109,118,152,150,251,84,99,81,167,141,233,219,26,146,139,59,33,167,58,9,93,22,237,119,174,88,100]
[null,56,221,111,49,232,106,87,55,15,54,253,127,117,224,152,142,90,225,43,198,226,107,247,232,153,121,151,175,59]
[null,215,167,9,98,131,228,104,22,97,56,152,232,127,200,141,175,53,202,9,238,105,117,51,204,197,57,178,33,45]
[null,33,143,44,65,161,99,138,10,131,112,180,15,191,253,75,181,151,50,188,16,143,179,209,27,146,65,17,29,63]
[null,256,168,108,43,243,135,114,46,232,83,223,161,204,223,99,78,202,46,218,56,48,185,9,56,216,95,102,133,97]
[null,42,255,80,78,159,16,217,71,152,70,135,75,51,201,243,128,118,162,228,87,178,231,181,216,248,108,132,143,94]
[null,203,218,74,63,183,247,151,89,141,99,178,159,43,210,161,253,49,155,172,65,69,140,82,251,235,3,37,172,77]
[null,93,195,183,235,184,78,242,2,76,214,189,80,126,138,44,167,73,13,83,232,96,24,232,63,87,97,124,145,78]
[null,143,211,159,255,178,216,136,30,109,219,192,184,240,176,108,60,17,84,106,225,175,88,8,133,86,100,98,80,114]
[null,86,213,243,159,150,32,75,50,111,196,229,44,11,156,178,90,167,173,61,139,99,4,153,173,66,25,61,253,65]
[null,157,230,161,137,214,223,65,118,9,236,230,150,41,179,184,214,188,196,77,188,218,74,62,161,6,62,123,127,74]
[null,73,181,131,186,249,50,72,59,214,200,234,111,224,215,76,154,124,37,148,110,26,241,147,103,28,8,170,111,53]
[null,227,207,232,208,147,190,53,110,150,203,227,249,252,193,109,87,127,111,171,30,126,217,71,101,46,11,225,209,26]
[null,119,164,152,254,149,19,134,24,178,249,252,76,101,173,147,14,215,227,161,24,122,163,240,182,122,73,188,69,120]
[null,169,235,141,149,182,144,196,18,184,135,241,149,66,139,249,160,155,204,160,3,156,154,33,235,89,22,172,201,34]
[null,116,33,88,224,240,233,187,182,2,78,98,24,31,231,59,143,238,223,74,67,151,167,99,78,108,26,189,213,160]
[null,222,41,84,146,234,39,211,149,30,163,26,240,112,137,110,47,147,250,101,92,84,146,168,67,107,69,180,1,169]
[null,47,29,55,136,148,232,60,147,50,72,32,59,176,209,234,16,98,26,60,121,231,222,2,171,52,50,214,135,168]
[null,186,14,22,183,199,1,14,249,118,47,125,148,174,192,240,227,65,43,23,86,49,201,132,228,127,35,216,59,244]
[null,25,81,10,158,140,238,61,214,199,88,110,50,99,204,2,223,190,185,213,248,215,51,92,48,95,15,47,114,187]
[null,196,13,46,130,208,77,55,150,148,134,122,140,62,233,30,2,161,152,169,159,7,6,194,110,26,58,65,182,167]
[null,57,107,71,173,228,138,157,178,234,120,21,2,153,134,208,117,64,21,154,156,184,20,68,225,128,67,94,22,172]
[null,130,83,89,256,256,75,213,184,240,20,101,228,201,191,140,201,14,93,220,189,79,76,172,183,58,27,55,242,171]
[null,114,6,256,103,169,164,254,183,88,220,40,71,72,202,10,200,116,142,49,105,18,228,88,91,152,24,18,134,238]
[null,212,116,228,102,187,23,158,159,84,157,151,169,22,157,46,9,15,145,121,125,252,148,180,139,184,4,26,64,183]
[null,87,104,208,7,212,148,102,243,55,218,41,10,143,130,187,82,249,52,64,22,111,100,102,143,160,126,127,233,230]
[null,126,98,140,89,248,113,85,161,22,216,19,212,198,172,169,192,220,6,62,142,192,206,238,213,210,86,16,53,241]
[null,59,87,199,39,236,125,99,131,248,228,87,55,103,205,88,159,30,251,179,146,116,99,21,83,254,83,171,27,207]
[null,209,126,148,5,203,61,51,232,212,179,7,236,123,206,84,80,36,141,133,252,204,135,127,120,141,38,208,249,211]
[null,75,113,234,57,174,206,236,152,187,153,82,88,212,136,203,11,154,124,156,130,28,58,121,198,183,37,235,78,215]
[null,133,38,240,44,170,87,237,141,169,212,99,174,130,186,236,188,196,71,230,204,246,5,145,223,180,125,234,165,182]
[null,71,170,33,12,220,97,149,135,6,73,162,113,109,162,87,145,250,16,19,46,198,106,24,82,17,149,201,152,217]
[null,159,174,41,27,145,154,176,237,116,16,140,220,39,185,126,100,226,92,99,2,21,82,138,3,110,124,141,15,173]
[null,64,203,29,127,132,5,112,221,104,21,173,87,253,247,145,56,57,161,46,89,227,53,91,177,79,251,256,181,247]
[null,246,236,14,60,171,185,26,167,98,91,216,132,171,188,220,170,11,168,5,93,10,10,231,131,83,112,137,137,178]
[null,45,248,81,117,160,38,11,143,171,63,174,104,55,239,6,163,203,107,193,170,236,257,96,12,31,141,66,138,165]
[null,240,212,13,24,154,240,150,168,132,107,138,160,38,222,116,20,153,81,243,206,70,188,143,104,39,248,9,192,231]
[null,19,187,107,38,142,65,127,255,145,24,184,6,168,133,154,107,34,222,204,235,165,173,40,219,63,142,90,50,140]
[null,135,169,83,22,252,146,200,218,220,98,207,142,160,238,160,156,80,249,164,124,106,204,255,207,54,159,14,156,191]
[null,32,256,252,164,175,41,216,195,33,182,204,107,7,158,81,257,128,83,90,7,95,32,67,86,211,170,74,221,208]
[null,179,228,142,196,151,256,249,211,41,144,128,175,104,246,13,114,82,41,32,73,223,48,201,105,251,169,108,35,159]
[null,102,208,154,194,245,124,25,213,29,192,225,81,211,144,151,106,174,200,57,34,82,87,36,249,181,179,147,255,204]
[null,146,140,160,249,177,210,33,230,14,254,215,245,221,163,175,157,229,248,128,72,137,80,221,163,140,168,58,28,221]
[null,58,199,171,250,244,118,76,181,177,205,242,29,10,153,33,226,52,25,147,223,118,157,52,92,178,252,199,11,226]
[null,161,148,132,192,229,187,117,207,245,243,201,244,111,216,41,29,125,28,142,207,172,250,177,11,236,164,143,166,198]
[null,107,234,145,217,217,3,239,164,151,187,137,33,202,227,229,33,152,157,245,200,30,165,31,208,256,152,177,105,255]
[null,235,240,220,174,225,202,161,235,175,132,243,217,216,155,244,241,182,193,190,179,144,256,184,130,115,140,210,162,256]
[null,48,72,50,17,153,16,162,227,158,257,10,49,88,18,225,115,62,100,8,63,76,77,45,103,14,62,231,102,97]
[null,228,149,65,257,216,36,185,103,246,250,2,140,132,157,217,17,161,191,102,62,107,64,91,31,102,65,137,7,134]
[null,38,22,5,34,31,239,247,153,144,242,217,166,241,94,229,146,53,64,49,40,10,76,63,42,111,114,209,214,80]
[null,245,37,102,248,103,257,188,42,163,226,200,40,166,141,244,203,241,201,62,55,115,53,5,105,104,50,192,150,61]
[null,21,169,88,83,158,30,239,144,105,194,72,18,130,210,177,39,23,15,16,217,221,72,239,95,61,150,204,42,76]
[null,182,224,9,216,246,114,222,95,42,189,96,186,235,118,245,99,216,196,36,233,252,45,229,114,103,90,233,110,147]
[null,83,126,104,80,114,170,133,158,31,197,252,173,38,151,151,235,2,70,66,247,210,71,205,12,110,38,134,234,79]
[null,168,218,70,208,95,214,238,12,103,180,158,125,110,19,175,188,120,137,33,246,237,110,175,100,31,20,191,233,59]
[null,111,49,231,118,239,77,100,133,162,190,88,46,48,99,252,105,243,60,21,19,59,44,159,20,152,94,202,169,223]
[null,244,128,199,195,222,29,12,20,185,146,66,246,35,193,142,114,104,176,15,71,108,61,212,125,125,75,157,144,133]
[null,104,111,190,55,125,134,114,239,247,251,136,232,167,74,154,198,166,55,109,4,135,13,224,36,232,27,130,27,252]
[null,164,68,191,252,20,206,95,36,188,198,215,127,185,254,160,154,113,127,115,81,73,60,158,19,169,2,172,112,202]
[null,122,181,226,12,162,21,105,247,19,166,53,96,209,241,171,67,197,54,84,216,170,41,113,70,207,10,205,172,175]
[null,170,133,243,173,185,89,42,70,36,254,80,184,155,47,132,109,91,200,30,249,158,14,114,11,245,89,206,223,222]
[null,39,216,233,13,11,246,31,162,125,196,140,190,29,250,145,216,146,69,9,140,146,33,32,73,199,48,136,79,116]
[null,149,202,257,199,70,188,103,73,20,241,144,28,46,130,220,182,4,136,113,168,234,92,122,96,251,105,186,95,212]
[null,85,220,144,32,205,40,231,136,202,165,29,41,86,95,170,213,131,168,131,32,105,230,82,72,29,249,96,87,165]
[null,162,153,81,157,206,48,137,72,157,219,40,199,123,202,174,228,233,63,154,78,81,176,125,122,6,158,73,45,247]
[null,26,243,56,41,122,197,209,205,130,224,190,174,178,60,203,100,63,186,31,27,47,241,4,52,122,145,11,136,241]
[null,208,247,34,220,72,183,192,52,172,200,146,120,199,112,236,74,207,6,117,28,8,178,49,53,67,172,70,218,171]
[null,44,39,94,29,202,24,204,130,53,253,106,97,238,191,248,236,8,205,151,178,240,167,202,86,116,186,19,77,162]
[null,253,21,97,244,157,63,233,86,52,223,64,197,125,31,212,108,191,12,44,253,192,209,187,128,64,213,36,71,151]
[null,92,71,73,45,128,226,134,202,122,201,220,177,77,190,187,27,57,230,116,210,187,130,118,101,1,142,125,253,238]
[null,191,90,119,189,86,250,191,101,72,210,241,123,66,100,169,1,125,130,72,174,166,184,207,56,11,257,20,175,138]
[null,15,131,250,76,204,83,56,134,231,138,121,19,106,126,256,197,160,214,55,111,31,218,206,67,176,146,100,197,40]
[null,247,225,194,125,233,102,101,67,137,176,34,195,78,232,228,133,56,66,119,120,11,188,112,124,172,154,12,132,139]
[null,118,245,220,75,124,194,128,204,209,156,237,185,143,63,208,34,173,142,82,74,117,183,182,25,221,236,114,109,47]
[null,207,150,240,146,67,145,86,25,192,179,234,122,252,207,140,79,135,109,10,39,44,256,204,54,253,143,95,63,14]
[null,98,115,196,60,231,136,53,209,54,215,20,126,218,251,199,138,193,199,13,182,174,219,68,66,209,235,105,207,69]
[null,190,134,209,205,137,86,52,66,25,193,14,231,165,54,148,229,41,111,136,163,189,215,120,49,239,250,42,100,13]
[null,16,59,215,106,49,193,122,231,124,173,164,183,32,171,234,40,177,153,108,175,236,239,92,121,164,209,31,48,54]
[null,231,102,165,164,66,235,72,121,67,139,206,55,57,122,240,110,109,37,69,145,241,249,36,27,189,228,103,18,82]
[null,110,55,223,150,215,180,165,173,138,27,5,86,37,103,182,49,37,8,236,183,53,114,40,119,108,36,257,47,30]
[null,193,60,126,43,193,245,219,119,176,121,111,233,98,150,149,15,158,248,239,127,113,203,13,85,75,102,250,59,71]
[null,24,69,218,210,85,92,224,215,156,49,141,149,142,82,147,255,55,46,148,214,95,199,64,65,17,52,242,217,16]
[null,152,18,221,56,119,71,200,65,179,66,197,111,140,154,249,254,219,244,200,181,80,165,12,43,121,76,226,192,110]
[null,117,230,176,243,138,185,253,156,43,54,62,108,121,188,214,51,13,80,124,36,222,123,186,79,90,13,194,16,48]
[null,217,235,123,61,176,184,223,79,65,25,113,148,145,46,150,63,249,218,175,37,180,107,196,102,34,34,189,39,19]
[null,84,251,149,204,102,9,201,138,85,124,135,194,50,139,178,176,34,81,234,104,122,246,247,82,85,55,197,221,106]
[null,189,229,205,128,79,81,210,82,119,67,233,121,30,79,184,201,194,222,235,13,202,154,173,120,92,46,180,248,52]
[null,91,3,113,161,253,182,120,201,165,56,102,43,28,52,183,94,180,91,162,194,134,240,128,48,181,44,190,164,207]
[null,177,44,124,58,223,140,82,48,219,101,4,251,44,183,159,11,128,166,212,144,114,131,142,57,139,3,146,183,227]
[null,108,45,20,179,57,120,102,253,224,128,142,234,206,73,243,189,169,49,216,192,12,226,198,35,130,88,251,81,229]
[null,251,47,45,135,48,91,79,35,200,86,160,67,204,237,161,178,108,251,246,173,120,257,233,5,213,92,198,138,185]
[null,10,227,69,214,165,179,43,224,5,53,124,51,184,245,131,2,182,13,223,96,149,190,79,58,230,64,166,121,226]
[null,124,233,51,65,219,162,65,58,35,52,109,206,231,34,232,91,19,173,206,117,244,206,96,34,145,37,254,157,257]
[null,121,183,101,192,34,50,85,165,57,122,239,221,13,216,152,240,119,33,188,98,140,171,110,39,127,12,196,54,225]
[null,163,162,41,134,58,69,119,39,48,72,132,54,12,62,141,160,68,227,157,18,176,160,139,93,217,139,241,26,243]
[null,28,196,187,185,166,152,257,196,190,96,93,3,69,98,135,226,20,224,233,211,29,54,77,17,52,165,93,21,145]
[null,127,194,242,89,254,255,250,17,146,73,65,155,3,168,237,210,257,74,185,158,42,96,39,62,115,161,39,13,213]
[null,103,215,203,174,62,53,242,166,251,11,240,228,162,24,221,72,44,211,146,227,72,31,35,4,80,254,34,235,230]
[null,229,212,147,4,17,107,226,4,198,70,151,42,163,217,167,77,253,43,163,257,127,120,97,92,74,127,58,257,216]
[null,80,61,158,219,190,225,194,251,92,19,57,105,253,238,143,205,73,237,194,59,165,46,183,60,36,124,5,46,188]
[null,138,16,138,7,146,133,189,60,4,36,49,189,175,71,168,211,186,29,197,21,231,85,250,7,57,247,35,33,166]
[null,54,50,239,228,7,20,197,190,62,125,168,205,31,214,255,12,59,234,147,57,208,81,243,112,27,149,57,162,143]
[null,257,35,174,114,60,35,180,112,17,20,181,10,89,32,218,14,187,89,240,123,119,56,252,68,96,188,48,143,126]
[null,40,145,57,239,194,161,68,197,257,100,15,65,36,10,195,234,157,143,155,152,25,78,251,78,248,177,120,186,91]
[null,184,138,121,98,189,137,112,78,250,12,36,187,18,256,211,156,87,103,170,243,96,145,185,61,225,163,82,256,74]
[null,22,244,29,148,61,17,7,194,242,114,211,182,256,38,213,135,206,170,218,215,41,42,255,69,193,141,102,113,67]
[null,205,180,11,104,78,100,60,69,226,95,179,50,257,246,230,136,11,83,166,149,39,115,163,64,141,199,79,78,18]
[null,34,83,91,212,257,164,92,242,64,105,31,8,191,186,181,127,255,182,253,115,256,29,27,32,165,244,43,227,55]
[null,153,92,3,100,250,243,4,32,69,42,108,254,224,81,207,192,88,27,257,136,223,5,1,16,233,147,65,166,86]
[null,20,144,36,142,16,45,62,257,61,31,242,237,68,173,164,75,234,174,201,8,207,102,109,8,235,126,85,3,10]
[null,158,81,116,23,32,119,17,8,78,103,187,22,105,58,235,64,47,96,210,97,173,34,104,1,158,181,119,88,101]
[null,255,26,44,47,181,2,135,164,195,225,221,39,10,55,1,19,36,86,153,94,167,21,30,23,223,190,182,117,90]
[null,4,86,125,233,207,4,237,23,211,217,212,164,24,197,8,44,148,165,252,101,203,30,20,94,174,240,149,58,95]
[null,241,121,103,22,94,200,221,181,213,229,8,220,164,14,16,172,103,4,220,29,195,105,101,51,240,198,147,252,25]
[null,37,94,96,242,23,232,167,51,230,244,1,93,174,215,32,126,229,139,126,61,206,111,155,77,140,191,249,173,114]
[null,188,239,92,28,195,68,143,213,77,177,188,48,219,219,64,68,90,107,152,244,26,136,152,28,171,187,214,60,77]
[null,66,160,99,186,211,116,168,28,51,245,174,196,177,89,69,20,134,207,137,220,16,63,220,45,256,200,150,4,21]
[null,197,161,85,95,45,230,255,195,94,151,73,235,15,228,61,130,33,98,251,213,1,20,237,47,109,175,178,184,68]
[null,77,193,12,155,28,199,218,47,23,175,69,45,64,84,78,171,244,213,123,205,20,16,169,63,226,155,184,135,53]
[null,145,136,186,119,143,108,63,255,135,252,199,89,70,36,68,119,213,79,219,49,251,84,248,40,60,197,183,236,153]
[null,63,103,168,253,168,95,47,40,237,142,203,134,56,149,112,5,75,157,130,107,183,101,165,3,43,202,159,230,170]
[null,206,84,225,109,3,178,45,143,221,154,99,222,215,110,7,170,242,102,202,126,255,47,230,90,48,185,243,69,135]
[null,6,139,198,151,40,244,28,90,167,160,32,6,168,235,60,163,50,249,229,50,155,48,227,115,68,205,161,99,200]
[null,250,142,245,122,135,49,77,221,115,171,245,15,195,167,92,118,212,17,177,190,67,36,22,91,12,195,131,239,232]
[null,82,246,228,188,237,110,51,91,90,132,169,139,250,142,4,89,77,126,254,150,4,66,41,37,8,233,232,165,154]
[null,249,195,182,35,37,165,94,135,3,145,28,179,79,218,62,220,220,141,190,155,132,51,43,21,3,211,152,50,108]
[null,60,191,244,141,91,173,23,21,40,220,74,34,139,6,17,121,94,163,133,241,58,103,105,123,50,179,141,67,177]
[null,223,192,24,87,131,27,182,152,183,170,214,13,111,97,93,180,117,236,179,82,224,235,67,117,161,39,123,12,221]
[null,78,249,21,165,232,25,149,117,159,174,236,112,7,170,39,199,200,108,158,91,225,139,84,106,177,91,21,119,140]
[null,202,151,105,11,106,141,147,131,243,203,26,116,171,83,34,33,32,152,199,60,215,137,107,26,204,5,37,168,209]
[null,43,141,61,207,117,131,249,26,161,236,54,83,154,225,58,56,153,30,213,20,249,201,80,127,202,106,91,205,160]
[null,225,79,112,49,183,67,214,243,127,248,231,77,120,229,5,208,115,159,195,242,70,193,241,97,146,78,115,107,193]
[null,2,73,42,249,159,54,150,97,26,212,202,180,144,125,35,212,210,123,161,202,40,163,156,15,175,35,90,56,215]
[null,216,27,10,77,15,207,178,183,106,187,42,130,41,115,57,96,80,242,164,171,30,150,126,99,188,123,3,140,180]
[null,55,118,23,176,97,215,184,99,117,169,7,5,107,86,48,103,189,11,181,193,86,255,221,75,159,80,40,209,195]
[null,165,234,171,26,214,132,75,178,182,256,195,91,16,113,120,245,162,180,180,26,175,161,134,74,44,69,63,185,23]
[null,115,170,172,250,150,18,99,74,149,228,125,198,122,178,82,174,83,42,144,33,152,158,160,80,39,66,47,241,3]
[null,172,254,192,105,80,247,15,214,147,208,85,168,183,5,102,85,159,226,193,119,197,233,197,108,62,29,45,91,99]
[null,101,184,252,196,74,217,97,108,249,140,97,44,193,131,79,62,40,35,184,70,181,196,135,44,22,28,28,70,121]
[null,185,17,230,111,182,34,127,147,44,199,155,104,186,147,43,221,232,208,205,148,110,250,88,9,58,24,77,134,72]
[null,31,41,212,187,149,6,26,9,108,148,157,171,205,49,65,147,132,68,232,228,87,247,33,111,55,31,51,131,50]
[null,139,95,136,18,111,157,106,182,80,234,76,244,124,189,85,31,136,239,138,234,97,185,70,109,9,6,94,43,4]
[null,89,104,169,225,9,192,117,109,74,240,23,98,62,57,119,54,102,114,224,255,98,236,86,76,123,17,23,103,109]
[null,142,91,150,159,199,227,170,234,256,76,180,115,71,45,27,35,107,25,98,191,184,232,69,18,180,160,225,20,34]
[null,36,112,151,90,148,146,174,18,228,109,191,211,47,257,121,8,174,219,89,166,157,189,78,24,95,232,217,111,112]
[null,211,36,206,256,24,82,203,199,208,111,87,242,198,123,49,232,27,26,90,137,198,208,44,110,186,226,229,160,122]
[null,72,57,131,126,18,84,236,110,140,9,30,31,244,199,66,215,209,257,14,172,235,223,42,59,211,133,244,193,75]
[null,233,207,163,166,256,159,248,208,59,44,210,35,197,144,54,73,43,20,71,10,45,243,211,118,170,148,177,68,100]
[null,62,252,232,64,228,196,212,118,110,108,148,256,203,76,25,106,251,181,91,99,89,200,193,50,124,136,245,97,128]
[null,201,238,130,190,50,105,187,256,24,80,33,141,101,236,124,237,74,120,86,102,104,191,164,30,138,237,151,194,85]
[null,128,182,200,86,118,57,169,30,18,74,75,57,45,16,67,165,179,183,87,69,38,231,203,2,238,157,175,244,2]
[null,144,30,106,170,248,186,2,187,170,75,167,58,4,124,56,116,240,94,20,153,209,234,240,89,38,218,252,142,155]
[null,46,110,74,78,212,236,30,89,174,99,119,249,100,194,101,113,6,235,75,133,137,254,232,71,101,107,142,243,156]
[null,171,158,98,156,71,115,50,248,203,15,115,176,156,25,128,206,147,110,28,236,194,132,131,46,40,217,154,9,251]
[null,132,52,48,20,89,60,118,46,236,97,45,66,173,205,86,252,66,145,17,116,196,172,242,10,42,239,160,38,169]
[null,199,159,4,237,170,155,59,203,10,127,175,99,159,231,53,7,142,133,51,112,79,175,87,22,30,171,171,228,219]
[null,49,123,117,131,174,135,110,22,46,26,138,178,207,9,52,117,54,197,47,6,125,220,50,55,79,251,132,222,253]
[null,183,200,75,137,55,46,24,170,71,106,60,247,22,180,122,134,230,52,43,128,102,221,23,84,105,176,145,104,201]
[null,125,253,78,113,22,128,18,84,89,117,35,70,21,93,72,187,12,171,76,54,28,133,24,88,46,159,220,62,214]
[null,187,152,241,234,171,149,225,145,252,123,176,113,109,106,96,242,60,161,41,212,239,109,57,38,185,96,88,8,246]
[null,99,176,148,120,132,219,217,38,142,21,255,158,82,243,73,166,237,104,85,256,159,134,117,113,242,118,84,32,231]
[null,194,205,179,167,113,5,229,171,154,37,81,202,146,77,11,97,31,253,11,169,212,7,2,126,237,85,55,201,131]
[null,12,248,175,27,38,87,244,126,160,91,127,88,232,121,70,90,248,73,80,165,253,146,121,87,167,42,22,247,198]
[null,213,1,227,162,252,203,177,154,87,115,246,95,247,120,19,151,22,220,93,88,65,117,192,98,195,84,10,55,141]
[null,18,70,219,115,142,220,245,98,126,90,154,238,108,66,36,177,188,18,27,52,15,10,249,104,151,120,46,105,234]
[null,239,85,195,218,104,90,151,252,113,3,39,151,131,208,125,36,93,193,118,23,54,116,168,116,234,74,71,224,220]
[null,123,54,204,3,98,98,175,116,38,40,51,102,58,102,20,9,152,112,67,134,94,99,244,6,160,51,89,178,236]
[null,226,226,47,191,177,251,6,151,225,63,172,1,42,37,100,175,163,217,50,251,168,88,184,83,76,54,2,130,94]
[null,79,210,7,57,245,154,116,83,217,47,153,144,9,223,12,217,35,2,99,185,226,89,150,107,114,130,30,176,62]
[null,156,171,77,222,107,47,104,177,229,45,9,152,233,3,114,58,176,134,54,224,201,79,111,13,66,33,50,84,64]
[null,112,178,118,37,83,37,98,13,244,28,95,101,225,230,95,10,121,48,37,186,130,90,200,81,4,43,118,29,9]
[null,200,101,80,206,225,248,87,229,81,77,166,32,182,247,105,233,140,140,32,35,111,6,59,14,53,16,59,206,8]
[null,97,8,22,81,217,147,126,14,13,51,247,229,141,92,42,230,86,71,60,51,116,94,115,29,15,57,110,133,66]
[null,151,93,2,227,29,56,113,225,107,94,50,225,19,153,31,101,228,255,3,58,13,106,81,41,71,121,24,106,41]
[null,23,2,143,74,14,42,38,41,83,23,128,17,97,96,103,65,114,56,2,79,68,118,48,33,126,15,18,76,84]
[null,210,186,208,241,105,242,96,31,100,1,248,209,170,240,33,143,196,158,250,195,182,181,213,155,244,196,27,156,161]
[null,30,109,193,1,42,222,73,155,12,8,256,118,126,101,41,241,97,67,156,196,151,194,167,227,156,193,121,251,124]
[null,220,236,253,224,227,19,11,105,114,16,41,92,17,164,29,112,205,194,209,218,248,182,195,216,147,144,49,44,178]
[null,13,221,156,10,155,1,70,216,95,32,58,218,92,117,14,55,17,57,196,203,143,205,253,153,154,208,66,108,197]
[null,237,89,170,175,100,228,19,114,153,64,186,240,128,48,81,219,235,243,242,41,37,186,19,163,197,108,54,216,182]
[null,76,34,249,42,12,144,36,163,216,69,162,72,23,140,13,159,42,62,222,25,6,213,29,144,155,168,25,148,111]
[null,175,132,154,178,144,88,125,100,227,61,6,85,220,107,107,23,256,188,192,11,48,187,53,246,148,220,124,24,179]
[null,90,40,188,50,163,44,20,246,155,78,100,133,148,239,83,70,138,121,225,12,21,148,83,158,227,238,67,25,199]
[null,147,209,27,140,19,181,158,125,96,68,170,212,210,159,6,153,15,198,237,239,199,214,99,238,106,164,56,89,35]
[null,14,130,59,63,36,229,246,238,73,112,192,12,223,65,116,144,154,82,243,187,150,197,46,133,133,183,101,114,125]
[null,154,147,68,203,133,124,144,19,11,7,122,26,91,184,104,60,92,203,149,254,123,245,34,222,26,231,128,231,6]
[null,94,190,67,6,238,52,163,222,70,60,43,131,73,4,98,104,145,131,143,177,185,198,100,239,89,256,86,146,56]
[null,136,77,32,246,96,237,153,11,239,92,205,162,49,17,87,191,61,204,174,42,88,217,145,188,51,248,53,86,83]
[null,88,125,15,85,73,169,216,188,222,4,178,74,103,211,126,149,167,58,228,9,100,244,144,247,13,169,52,35,36]
[null,219,42,25,245,247,12,227,96,133,62,118,68,229,8,113,42,112,189,249,118,112,225,226,185,59,210,122,179,142]
[null,109,56,1,59,188,70,155,185,238,17,114,230,212,128,38,76,254,122,145,90,24,166,136,162,7,153,72,163,46]
[null,173,38,114,226,53,218,27,122,56,93,229,217,172,163,88,45,127,90,127,226,153,28,176,186,229,9,162,171,93]
[null,96,105,177,101,52,210,121,186,101,39,218,59,135,56,84,30,25,195,104,180,177,82,133,136,252,100,185,213,11]
[null,232,15,202,217,136,61,49,53,128,34,68,84,80,198,55,158,195,72,227,231,211,17,254,206,136,113,247,122,17]
[null,50,11,224,38,186,75,66,206,86,58,112,138,59,146,22,184,51,252,141,230,250,80,209,205,191,86,188,40,87]
[null,214,219,164,229,56,234,54,128,205,5,152,161,20,67,10,22,250,53,107,80,18,91,56,172,142,72,239,181,96]
[null,5,237,161,14,101,195,25,172,206,35,194,61,133,227,46,150,67,246,214,5,66,49,71,130,194,45,222,187,107]
[null,166,187,185,213,130,32,124,56,136,57,38,81,181,68,71,231,201,28,142,48,71,128,140,157,257,116,133,5,20]
[null,67,168,139,69,172,8,67,157,186,48,17,135,192,158,89,257,133,128,186,84,92,74,51,202,247,1,238,83,120]
[null,243,127,8,182,54,175,202,124,27,120,137,239,152,132,2,61,98,44,203,147,227,40,52,191,82,112,158,61,218]
[null,11,33,64,133,25,156,157,191,121,82,224,63,180,26,30,125,202,192,139,138,247,70,146,134,86,104,246,126,119]
[null,140,13,38,183,134,64,130,54,49,102,21,73,115,195,50,224,85,116,176,184,141,75,76,233,37,22,144,149,211]
[null,51,108,18,112,191,113,172,233,66,79,24,136,6,51,118,179,123,149,248,219,214,2,54,204,5,115,163,195,244]
[null,160,143,62,198,27,122,205,49,204,43,238,132,40,7,59,120,65,59,245,76,84,39,190,192,49,23,153,51,189]
[null,68,124,49,53,121,172,206,192,233,65,244,27,93,204,110,29,217,147,122,95,69,43,138,209,19,8,216,158,245]
[null,242,199,43,152,209,65,136,27,134,85,94,75,226,87,24,218,81,105,150,83,22,19,166,137,94,49,227,210,204]
[null,27,156,93,94,192,23,186,137,191,119,52,203,201,136,18,148,149,221,189,113,17,9,222,231,69,30,155,240,176]
[null,148,203,35,108,43,78,93,85,120,231,253,172,221,155,76,209,221,250,22,75,205,144,218,139,150,222,1,211,228]
[null,65,198,132,215,65,13,39,139,82,137,147,25,160,108,109,243,100,10,19,131,145,55,245,173,183,156,8,199,187]
[null,234,189,40,48,173,166,34,43,102,209,117,109,116,176,111,3,203,212,110,44,163,59,194,193,241,206,16,41,242]
[null,106,240,37,202,139,187,58,193,79,192,61,147,118,104,9,4,39,14,58,77,178,93,246,215,137,182,32,66,148]
[null,141,28,82,15,120,73,5,102,215,204,196,150,137,70,44,207,245,178,134,222,36,135,72,179,168,245,64,242,210]
[null,41,23,135,197,82,74,35,179,193,233,145,110,113,212,108,195,9,40,83,221,78,151,62,156,224,224,69,219,239]
[null,174,7,109,54,156,249,57,120,173,134,123,64,208,119,80,82,224,177,24,154,136,12,11,176,173,203,61,37,152]
[null,69,29,53,130,179,177,48,176,139,191,25,137,228,179,74,57,64,36,23,245,56,104,85,138,166,212,78,10,206]
[null,167,255,145,97,5,76,138,57,93,202,156,215,230,206,75,164,78,167,96,64,124,18,130,210,77,214,68,94,51]
[null,81,214,134,200,35,118,176,210,39,157,254,7,214,75,99,247,130,92,46,114,144,127,116,201,119,255,112,75,31]
[null,150,213,238,79,201,138,156,5,34,130,116,24,52,185,15,69,89,209,42,66,246,32,60,223,128,170,7,177,29]
[null,7,211,213,123,210,167,179,223,58,172,98,191,54,21,97,80,150,7,12,85,138,1,25,253,45,166,60,120,73]
[null,248,31,189,44,93,79,215,34,253,205,134,207,74,13,127,256,76,245,35,162,109,68,179,200,28,194,92,137,32]
[null,134,25,207,193,39,96,193,200,223,206,149,52,27,224,26,167,239,85,52,141,14,52,162,224,113,221,4,101,1]
[null,137,75,157,66,224,208,173,93,201,136,19,37,245,42,106,18,139,225,70,160,118,87,148,219,131,246,62,204,33]
[null,95,96,217,124,200,189,139,219,210,186,126,204,246,196,117,98,190,31,101,240,82,98,119,165,41,119,17,232,15]
[null,230,62,71,73,92,106,1,62,68,162,165,255,189,160,123,32,238,34,25,47,229,204,181,241,206,93,165,237,113]
[null,131,64,16,169,4,3,8,241,112,185,193,103,255,90,21,48,1,184,73,100,216,162,219,196,143,97,219,245,45]
[null,155,43,55,84,196,205,16,92,7,247,18,30,96,234,37,186,214,47,112,31,186,227,223,254,178,4,224,23,28]
[null,29,46,111,254,241,151,32,254,60,188,107,216,95,41,91,181,5,215,95,1,131,138,161,166,184,131,200,1,42]
[null,178,197,100,39,68,33,64,7,166,239,201,153,5,20,115,53,185,21,64,199,93,212,75,198,222,134,253,212,70]
[null,120,242,120,251,112,125,69,198,254,222,209,69,83,187,90,47,72,229,61,237,27,173,8,251,201,11,223,225,92]
[null,204,208,19,30,251,238,61,68,196,133,90,53,227,44,3,246,199,24,111,201,50,177,15,146,231,109,201,96,115]
[null,1,223,84,144,198,223,78,146,241,238,77,248,169,226,40,244,71,169,18,135,139,202,6,190,162,70,210,115,132]
[null,218,113,201,19,64,97,190,61,1,158,243,193,222,248,63,24,101,115,103,106,233,180,7,180,10,81,138,72,167]
[null,74,120,137,160,69,121,146,180,8,246,222,71,240,2,47,102,171,155,88,15,162,113,73,197,33,95,176,2,184]
[null,236,14,229,110,197,241,251,64,16,144,47,76,2,220,45,123,52,88,40,43,217,216,3,189,65,117,156,145,191]
[null,53,78,247,154,180,158,198,189,32,163,79,208,1,12,28,122,247,175,92,109,219,143,95,194,117,59,179,180,240]
[null,224,175,167,46,1,94,166,16,194,153,227,250,67,72,77,131,3,76,5,143,2,229,231,226,93,14,215,31,203]
[null,105,166,255,158,8,15,254,226,189,216,150,4,34,177,51,66,170,231,1,122,35,253,257,242,25,111,193,92,172]
[null,238,114,222,116,242,213,196,1,197,227,16,21,190,85,94,183,24,84,57,250,51,156,149,250,23,132,173,255,248]
[null,100,177,142,235,226,139,241,250,180,155,71,236,153,200,23,194,211,162,48,161,85,224,154,257,100,77,139,170,157]
[null,3,232,214,211,77,256,123,94,63,33,37,219,248,203,257,239,222,172,105,164,91,237,228,235,35,68,76,141,168]
[null,254,172,133,25,51,254,21,235,47,41,46,94,234,61,250,214,110,93,6,157,55,228,238,164,84,18,109,200,163]
[null,17,137,155,236,164,58,37,77,45,29,250,38,94,244,242,86,155,254,38,229,63,153,157,207,18,60,111,6,233]
[null,221,164,162,16,235,26,91,207,28,14,257,165,84,43,226,132,29,119,132,197,52,147,103,181,118,67,9,85,144]
[null,70,19,166,230,63,190,115,45,181,81,70,210,39,39,194,190,168,151,106,14,232,122,106,230,87,71,44,198,181]
[null,192,98,159,72,47,142,90,230,207,13,84,62,81,169,189,238,124,51,121,38,242,195,38,213,2,58,108,254,237]
[null,61,97,173,163,213,28,3,63,164,107,185,23,243,30,197,128,225,160,7,45,257,238,21,211,149,83,80,74,190]
[null,181,65,246,103,230,59,40,211,235,83,189,213,194,174,180,87,14,45,135,53,238,242,89,195,32,103,74,123,205]
[null,113,122,72,139,115,150,195,3,123,6,59,169,188,222,190,139,45,179,39,209,7,174,10,218,198,61,75,22,105]
[null,195,155,90,5,90,163,211,218,21,116,55,124,202,109,146,253,183,101,128,151,75,157,93,255,215,56,99,28,88]
[null,52,174,33,149,255,80,213,115,37,104,159,36,43,148,251,88,16,156,56,132,3,211,28,168,210,73,15,189,123]
[null,252,119,60,107,218,14,230,168,91,98,226,252,90,23,198,95,208,9,29,208,103,210,31,143,190,53,97,159,58]
[null,8,116,13,136,123,209,181,37,143,87,13,243,63,91,166,140,46,241,81,68,191,222,236,167,246,63,127,19,26]
[null,176,12,30,70,21,148,207,167,168,126,89,119,8,116,254,169,181,132,4,108,254,192,217,221,250,25,26,93,104]
[null,9,63,76,223,221,93,164,123,255,113,230,79,179,40,196,38,38,117,68,103,126,207,215,237,255,47,106,208,150]
[null,198,67,14,117,167,85,235,237,218,38,184,224,119,252,241,137,164,95,125,17,200,155,153,135,208,79,117,191,81]
[null,35,66,234,171,127,231,76,106,75,88,44,245,147,161,165,78,141,22,79,176,34,23,191,141,97,219,135,246,37]
[null,180,9,237,93,26,233,109,141,99,84,22,146,251,88,219,59,58,150,100,167,33,119,174,152,81,167,237,139,118]
[null,56,107,153,247,152,117,111,127,15,55,232,142,87,175,224,225,226,106,59,198,43,121,151,232,54,253,221,90,49]
[null,215,117,197,51,141,127,9,232,97,22,204,175,104,33,200,202,105,228,45,238,9,57,178,131,56,152,167,53,98]
[null,33,179,146,209,75,191,44,15,131,10,27,181,138,29,253,50,143,99,63,16,188,65,17,161,112,180,143,151,65]
[null,256,185,216,9,99,204,108,161,232,46,56,78,114,133,223,46,48,135,97,56,218,95,102,243,83,223,168,202,43]
[null,42,231,248,181,243,51,80,75,152,71,216,128,217,143,201,162,178,16,94,87,228,108,132,159,70,135,255,118,78]
[null,203,140,235,82,161,43,74,159,141,89,251,253,151,172,210,155,69,247,77,65,172,3,37,183,99,178,218,49,63]
[null,93,24,87,232,44,126,183,80,76,2,63,167,242,145,138,13,96,78,78,232,83,97,124,184,214,189,195,73,235]
[null,143,88,86,8,108,240,159,184,109,30,133,60,136,80,176,84,175,216,114,225,106,100,98,178,219,192,211,17,255]
[null,86,4,66,153,178,11,243,44,111,50,173,90,75,253,156,173,99,32,65,139,61,25,61,150,196,229,213,167,159]
[null,157,74,6,62,184,41,161,150,9,118,161,214,65,127,179,196,218,223,74,188,77,62,123,214,236,230,230,188,137]
[null,73,241,28,147,76,224,131,111,214,59,103,154,72,111,215,37,26,50,53,110,148,8,170,249,200,234,181,124,186]
[null,227,217,46,71,109,252,232,249,150,110,101,87,53,209,193,111,126,190,26,30,171,11,225,147,203,227,207,127,208]
[null,119,163,122,240,147,101,152,76,178,24,182,14,134,69,173,227,122,19,120,24,161,73,188,149,249,252,164,215,254]
[null,169,154,89,33,249,66,141,149,184,18,235,160,196,201,139,204,156,144,34,3,160,22,172,182,135,241,235,155,149]
[null,116,167,108,99,59,31,88,24,2,182,78,143,187,213,231,223,151,233,160,67,74,26,189,240,78,98,33,238,224]
[null,222,146,107,168,110,112,84,240,30,149,67,47,211,1,137,250,84,39,169,92,101,69,180,234,163,26,41,147,146]
[null,47,222,52,2,234,176,55,59,50,147,171,16,60,135,209,26,231,232,168,121,60,50,214,148,72,32,29,98,136]
[null,186,201,127,132,240,174,22,148,118,249,228,227,14,59,192,43,49,1,244,86,23,35,216,199,47,125,14,65,183]
[null,25,51,95,92,2,99,10,50,199,214,48,223,61,114,204,185,215,238,187,248,213,15,47,140,88,110,81,190,158]
[null,196,6,26,194,30,62,46,140,148,150,110,2,55,182,233,152,7,77,167,159,169,58,65,208,134,122,13,161,130]
[null,57,20,128,68,208,153,71,2,234,178,225,117,157,22,134,21,184,138,172,156,154,67,94,228,120,21,107,64,173]
[null,130,76,58,172,140,201,89,228,240,184,183,201,213,242,191,93,79,75,171,189,220,27,55,256,20,101,83,14,256]
[null,114,228,152,88,10,72,256,71,88,183,91,200,254,134,202,142,18,164,238,105,49,24,18,169,220,40,6,116,103]
[null,212,148,184,180,46,22,228,169,84,159,139,9,158,64,157,145,252,23,183,125,121,4,26,187,157,151,116,15,102]
[null,87,100,160,102,187,143,208,10,55,243,143,82,102,233,130,52,111,148,230,22,64,126,127,212,218,41,104,249,7]
[null,126,206,210,238,169,198,140,212,22,161,213,192,85,53,172,6,192,113,241,142,62,86,16,248,216,19,98,220,89]
[null,59,99,254,21,88,103,199,55,248,131,83,159,99,27,205,251,116,125,207,146,179,83,171,236,228,87,87,30,39]
[null,209,135,141,127,84,123,148,236,212,232,120,80,51,249,206,141,204,61,211,252,133,38,208,203,179,7,126,36,5]
[null,75,58,183,121,203,212,234,88,187,152,198,11,236,78,136,124,28,206,215,130,156,37,235,174,153,82,113,154,57]
[null,133,5,180,145,236,130,240,174,169,141,223,188,237,165,186,71,246,87,182,204,230,125,234,170,212,99,38,196,44]
[null,71,106,17,24,87,109,33,113,6,135,82,145,149,152,162,16,198,97,217,46,19,149,201,220,73,162,170,250,12]
[null,159,82,110,138,126,39,41,220,116,237,3,100,176,15,185,92,21,154,173,2,99,124,141,145,16,140,174,226,27]
[null,64,53,79,91,145,253,29,87,104,221,177,56,112,181,247,161,227,5,247,89,46,251,256,132,21,173,203,57,127]
[null,246,10,83,231,220,171,14,132,98,167,131,170,26,137,188,168,10,185,178,93,5,112,137,171,91,216,236,11,60]
[null,45,257,31,96,6,55,81,104,171,143,12,163,11,138,239,107,236,38,165,170,193,141,66,160,63,174,248,203,117]
[null,240,188,39,143,116,38,13,160,132,168,104,20,150,192,222,81,70,240,231,206,243,248,9,154,107,138,212,153,24]
[null,19,173,63,40,154,168,107,6,145,255,219,107,127,50,133,222,165,65,140,235,204,142,90,142,24,184,187,34,38]
[null,135,204,54,255,160,160,83,142,220,218,207,156,200,156,238,249,106,146,191,124,164,159,14,252,98,207,169,80,22]
[null,32,32,211,67,81,7,252,107,33,195,86,257,216,221,158,83,95,41,208,7,90,170,74,175,182,204,256,128,164]
[null,179,48,251,201,13,104,142,175,41,211,105,114,249,35,246,41,223,256,159,73,32,169,108,151,144,128,228,82,196]
[null,102,87,181,36,151,211,154,81,29,213,249,106,25,255,144,200,82,124,204,34,57,179,147,245,192,225,208,174,194]
[null,146,80,140,221,175,221,160,245,14,230,163,157,33,28,163,248,137,210,221,72,128,168,58,177,254,215,140,229,249]
[null,58,157,178,52,33,10,171,29,177,181,92,226,76,11,153,25,118,118,226,223,147,252,199,244,205,242,199,52,250]
[null,161,250,236,177,41,111,132,244,245,207,11,29,117,166,216,28,172,187,198,207,142,164,143,229,243,201,148,125,192]
[null,107,165,256,31,229,202,145,33,151,164,208,33,239,105,227,157,30,3,255,200,245,152,177,217,187,137,234,152,217]
[null,235,256,115,184,244,216,220,217,175,235,130,241,161,162,155,193,144,202,256,179,190,140,210,225,132,243,240,182,174]
[null,62,97,18,10,103,162,231,17,45,257,153,8,102,115,72,48,88,227,63,77,76,49,225,158,14,100,16,50,62]
[null,161,134,157,2,31,185,137,257,91,250,216,102,7,17,149,228,132,103,62,64,107,140,217,246,102,191,36,65,65]
[null,53,80,94,217,42,247,209,34,63,242,31,49,214,146,22,38,241,153,40,76,10,166,229,144,111,64,239,5,114]
[null,241,61,141,200,105,188,192,248,5,226,103,62,150,203,37,245,166,42,55,53,115,40,244,163,104,201,257,102,50]
[null,23,76,210,72,95,239,204,83,239,194,158,16,42,39,169,21,130,144,217,72,221,18,177,105,61,15,30,88,150]
[null,216,147,118,96,114,222,233,216,229,189,246,36,110,99,224,182,235,95,233,45,252,186,245,42,103,196,114,9,90]
[null,2,79,151,252,12,133,134,80,205,197,114,66,234,235,126,83,38,158,247,71,210,173,151,31,110,70,170,104,38]
[null,120,59,19,158,100,238,191,208,175,180,95,33,233,188,218,168,110,12,246,110,237,125,175,103,31,137,214,70,20]
[null,243,223,99,88,20,100,202,118,159,190,239,21,169,105,49,111,48,133,19,44,59,46,252,162,152,60,77,231,94]
[null,104,133,193,66,125,12,157,195,212,146,222,15,144,114,128,244,35,20,71,61,108,246,142,185,125,176,29,199,75]
[null,166,252,74,136,36,114,130,55,224,251,125,109,27,198,111,104,167,239,4,13,135,232,154,247,232,55,134,190,27]
[null,113,202,254,215,19,95,172,252,158,198,20,115,112,154,68,164,185,36,81,60,73,127,160,188,169,127,206,191,2]
[null,197,175,241,53,70,105,205,12,113,166,162,84,172,67,181,122,209,247,216,41,170,96,171,19,207,54,21,226,10]
[null,91,222,47,80,11,42,206,173,114,254,185,30,223,109,133,170,155,70,249,14,158,184,132,36,245,200,89,243,89]
[null,146,116,250,140,73,31,136,13,32,196,11,9,79,216,216,39,29,162,140,33,146,190,145,125,199,69,246,233,48]
[null,4,212,130,144,96,103,186,199,122,241,70,113,95,182,202,149,46,73,168,92,234,28,220,20,251,136,188,257,105]
[null,131,165,95,29,72,231,96,32,82,165,205,131,87,213,220,85,86,136,32,230,105,41,170,202,29,168,40,144,249]
[null,233,247,202,40,122,137,73,157,125,219,206,154,45,228,153,162,123,72,78,176,81,199,174,157,6,63,48,81,158]
[null,63,241,60,190,52,209,11,41,4,224,122,31,136,100,243,26,178,205,27,241,47,174,203,130,122,186,197,56,145]
[null,207,171,112,146,53,192,70,220,49,200,72,117,218,74,247,208,199,52,28,178,8,120,236,172,67,6,183,34,172]
[null,8,162,191,106,86,204,19,29,202,253,202,151,77,236,39,44,238,130,178,167,240,97,248,53,116,205,24,94,186]
[null,191,151,31,64,128,233,36,244,187,223,157,44,71,108,21,253,125,86,253,209,192,197,212,52,64,12,63,97,213]
[null,57,238,190,220,101,134,125,45,118,201,128,116,253,27,71,92,77,202,210,130,187,177,187,122,1,230,226,73,142]
[null,125,138,100,241,56,191,20,189,207,210,86,72,175,1,90,191,66,101,174,184,166,123,169,72,11,130,250,119,257]
[null,160,40,126,121,67,56,100,76,206,138,204,55,197,197,131,15,106,134,111,218,31,19,256,231,176,214,83,250,146]
[null,56,139,232,34,124,101,12,125,112,176,233,119,132,133,225,247,78,67,120,188,11,195,228,137,172,66,102,194,154]
[null,173,47,63,237,25,128,114,75,182,156,124,82,109,34,245,118,143,204,74,183,117,185,208,209,221,142,194,220,236]
[null,135,14,207,234,54,86,95,146,204,179,67,10,63,79,150,207,252,25,39,256,44,122,140,192,253,109,145,240,143]
[null,193,69,251,20,66,53,105,60,68,215,231,13,207,138,115,98,218,209,182,219,174,126,199,54,209,199,136,196,235]
[null,41,13,54,14,49,52,42,205,120,193,137,136,100,229,134,190,165,66,163,215,189,231,148,25,239,111,86,209,250]
[null,177,54,171,164,121,122,31,106,92,173,49,108,48,40,59,16,32,231,175,239,236,183,234,124,164,153,193,215,209]
[null,109,82,122,206,27,72,103,164,36,139,66,69,18,110,102,231,57,121,145,249,241,55,240,67,189,37,235,165,228]
[null,37,30,103,5,119,165,257,150,40,27,215,236,47,49,55,110,37,173,183,114,53,86,182,138,108,8,180,223,36]
[null,158,71,150,111,85,219,250,43,13,121,193,239,59,15,60,193,98,119,127,203,113,233,149,176,75,248,245,126,102]
[null,55,16,82,141,65,224,242,210,64,49,85,148,217,255,69,24,142,215,214,199,95,149,147,156,17,46,92,218,52]
[null,219,110,154,197,43,200,226,56,12,66,119,200,192,254,18,152,140,65,181,165,80,111,249,179,121,244,71,221,76]
[null,13,48,188,62,79,253,194,243,186,54,138,124,16,51,230,117,121,156,36,123,222,108,214,43,90,80,185,176,13]
[null,249,19,46,113,102,223,189,61,196,25,176,175,39,63,235,217,145,79,37,107,180,148,150,65,34,218,184,123,34]
[null,34,106,139,135,82,201,197,204,247,124,102,234,221,176,251,84,50,138,104,246,122,194,178,85,85,81,9,149,55]
[null,194,52,79,233,120,210,180,128,173,67,79,235,248,201,229,189,30,82,13,154,202,121,184,119,92,222,81,205,46]
[null,180,207,52,102,48,120,190,161,128,56,253,162,164,94,3,91,28,201,194,240,134,43,183,165,181,91,182,113,44]
[null,128,227,183,4,57,82,146,58,142,101,223,212,183,11,44,177,44,48,144,131,114,251,159,219,139,166,140,124,3]
[null,169,229,73,142,35,102,251,179,198,128,57,216,81,189,45,108,206,253,192,226,12,234,243,224,130,49,120,20,88]
[null,108,185,237,160,5,79,198,135,233,86,48,246,138,178,47,251,204,35,173,257,120,67,161,200,213,251,91,45,92]
[null,182,226,245,124,58,43,166,214,79,53,165,223,121,2,227,10,184,224,96,190,149,51,131,5,230,13,179,69,64]
[null,19,257,34,109,34,65,254,65,96,52,219,206,157,91,233,124,231,58,117,206,244,206,232,35,145,173,162,51,37]
[null,119,225,216,239,39,85,196,192,110,122,34,188,54,240,183,121,13,165,98,171,140,221,152,57,127,33,50,101,12]
[null,68,243,62,132,93,119,241,134,139,72,58,157,26,160,162,163,12,39,18,160,176,54,141,48,217,227,69,41,139]
[null,20,145,98,93,17,257,93,185,77,96,166,233,21,226,196,28,69,196,211,54,29,3,135,190,52,224,152,187,165]
[null,257,213,168,65,62,250,39,89,39,73,254,185,13,210,194,127,3,17,158,96,42,155,237,146,115,74,255,242,161]
[null,44,230,24,240,4,242,34,174,35,11,62,146,235,72,215,103,162,166,227,31,72,228,221,251,80,211,53,203,254]
[null,253,216,217,151,92,226,58,4,97,70,17,163,257,77,212,229,163,4,257,120,127,42,167,198,74,43,107,147,127]
[null,73,188,238,57,60,194,5,219,183,19,190,194,46,205,61,80,253,251,59,46,165,105,143,92,36,237,225,158,124]
[null,186,166,71,49,7,189,35,7,250,36,146,197,33,211,16,138,175,60,21,85,231,189,168,4,57,29,133,138,247]
[null,59,143,214,168,112,197,57,228,243,125,7,147,162,12,50,54,31,190,57,81,208,205,255,62,27,234,20,239,149]
[null,187,126,32,181,68,180,48,114,252,20,60,240,143,14,35,257,89,112,123,56,119,10,218,17,96,89,35,174,188]
[null,157,91,10,15,78,68,120,239,251,100,194,155,186,234,145,40,36,197,152,78,25,65,195,257,248,143,161,57,177]
[null,87,74,256,36,61,112,82,98,185,12,189,170,256,156,138,184,18,78,243,145,96,187,211,250,225,103,137,121,163]
[null,206,67,38,211,69,7,102,148,255,114,61,218,113,135,244,22,256,194,215,42,41,182,213,242,193,170,17,29,141]
[null,11,18,246,179,64,60,79,104,163,95,78,166,78,136,180,205,257,69,149,115,39,50,230,226,141,83,100,11,199]
[null,255,55,186,31,32,92,43,212,27,105,257,253,227,127,83,34,191,242,115,29,256,8,181,64,165,182,164,91,244]
[null,88,86,81,108,16,4,65,100,1,42,250,257,166,192,92,153,224,32,136,5,223,254,207,69,233,27,243,3,147]
[null,234,10,173,242,8,62,85,142,109,31,16,201,3,75,144,20,68,257,8,102,207,237,164,61,235,174,45,36,126]
[null,47,101,58,187,1,17,119,23,104,103,32,210,88,64,81,158,105,8,97,34,173,22,235,78,158,96,119,116,181]
[null,36,90,55,221,23,135,182,47,30,225,181,153,117,19,26,255,10,164,94,21,167,39,1,195,223,86,2,44,190]
[null,148,95,197,212,94,237,149,233,20,217,207,252,58,44,86,4,24,23,101,30,203,164,8,211,174,165,4,125,240]
[null,103,25,14,8,51,221,147,22,101,229,94,220,252,172,121,241,164,181,29,105,195,220,16,213,240,4,200,103,198]
[null,229,114,215,1,77,167,249,242,155,244,23,126,173,126,94,37,174,51,61,111,206,93,32,230,140,139,232,96,191]
[null,90,77,219,188,28,143,214,28,152,177,195,152,60,68,239,188,219,213,244,136,26,48,64,77,171,107,68,92,187]
[null,134,21,89,174,45,168,150,186,220,245,211,137,4,20,160,66,177,28,220,63,16,196,69,51,256,207,116,99,200]
[null,33,68,228,73,47,255,178,95,237,151,45,251,184,130,161,197,15,195,213,20,1,235,61,94,109,98,230,85,175]
[null,244,53,84,69,63,218,184,155,169,175,28,123,135,171,193,77,64,47,205,16,20,45,78,23,226,213,199,12,155]
[null,213,153,36,199,40,63,183,119,248,252,143,219,236,119,136,145,70,255,49,84,251,89,68,135,60,79,108,186,197]
[null,75,170,149,203,3,47,159,253,165,142,168,130,230,5,103,63,56,40,107,101,183,134,112,237,43,157,95,168,202]
[null,242,135,110,99,90,45,243,109,230,154,3,202,69,170,84,206,215,143,126,47,255,222,7,221,48,102,178,225,185]
[null,50,200,235,32,115,28,161,151,227,160,40,229,99,163,139,6,168,90,50,48,155,6,60,167,68,249,244,198,205]
[null,212,232,167,245,91,77,131,122,22,171,135,177,239,118,142,250,195,221,190,36,67,15,92,115,12,17,49,245,195]
[null,77,154,142,169,37,51,232,188,41,132,237,254,165,89,246,82,250,91,150,66,4,139,4,90,8,126,110,228,233]
[null,220,108,218,28,21,94,152,35,43,145,37,190,50,220,195,249,79,135,155,51,132,179,62,3,3,141,165,182,211]
[null,94,177,6,74,123,23,141,141,105,220,91,133,67,121,191,60,139,21,241,103,58,34,17,40,50,163,173,244,179]
[null,117,221,97,214,117,182,123,87,67,170,131,179,12,180,192,223,111,152,82,235,224,13,93,183,161,236,27,24,39]
[null,200,140,170,236,106,149,21,165,84,174,232,158,119,199,249,78,7,117,91,139,225,112,39,159,177,108,25,21,91]
[null,32,209,83,26,26,147,37,11,107,203,106,199,168,33,151,202,171,131,60,137,215,116,34,243,204,152,141,105,5]
[null,153,160,225,54,127,249,91,207,80,236,117,213,205,56,141,43,154,26,20,201,249,83,58,161,202,30,131,61,106]
[null,115,193,229,231,97,214,115,49,241,248,183,195,107,208,79,225,120,243,242,193,70,77,5,127,146,159,67,112,78]
[null,210,215,125,202,15,150,90,249,156,212,159,161,56,212,73,2,144,97,202,163,40,180,35,26,175,123,54,42,35]
[null,80,180,115,42,99,178,3,77,126,187,15,164,140,96,27,216,41,183,171,150,30,130,57,106,188,242,207,10,123]
[null,189,195,86,7,75,184,40,176,221,169,97,181,209,103,118,55,107,99,193,255,86,5,48,117,159,11,215,23,80]
[null,162,23,113,195,74,75,63,26,134,256,214,180,185,245,234,165,16,178,26,161,175,91,120,182,44,180,132,171,69]
[null,83,3,178,125,80,99,47,250,160,228,150,144,241,174,170,115,122,74,33,158,152,198,82,149,39,42,18,172,66]
[null,159,99,5,85,108,15,45,105,197,208,80,193,91,85,254,172,183,214,119,233,197,168,102,147,62,226,247,192,29]
[null,40,121,131,97,44,97,28,196,135,140,74,184,70,62,184,101,193,108,70,196,181,44,79,249,22,35,217,252,28]
[null,232,72,147,155,9,127,77,111,88,199,182,205,134,221,17,185,186,147,148,250,110,104,43,44,58,208,34,230,24]
[null,132,50,49,157,111,26,51,187,33,148,149,232,131,147,41,31,205,9,228,247,87,171,65,108,55,68,6,212,31]
[null,136,4,189,76,109,106,94,18,70,234,111,138,43,31,95,139,124,182,234,185,97,244,85,80,9,239,157,136,6]
[null,102,109,57,23,76,117,23,225,86,240,9,224,103,54,104,89,62,109,255,236,98,98,119,74,123,114,192,169,17]
[null,107,34,45,180,18,170,225,159,69,76,199,98,20,35,91,142,71,234,191,232,184,115,27,256,180,25,227,150,160]
[null,174,112,257,191,24,174,217,90,78,109,148,89,111,8,112,36,47,18,166,189,157,211,121,228,95,219,146,151,232]
[null,27,122,123,87,110,203,229,256,44,111,24,90,160,232,36,211,198,199,137,208,198,242,49,208,186,26,82,206,226]
[null,209,75,199,30,59,236,244,126,42,9,18,14,193,215,57,72,244,110,172,223,235,31,66,140,211,257,84,131,133]
[null,43,100,144,210,118,248,177,166,211,44,256,71,68,73,207,233,197,208,10,243,45,35,54,59,170,20,159,163,148]
[null,251,128,76,148,50,212,245,64,193,108,228,91,97,106,252,62,203,118,99,200,89,256,25,110,124,181,196,232,136]
[null,74,85,236,33,30,187,151,190,164,80,50,86,194,237,238,201,101,256,102,191,104,141,124,24,138,120,105,130,237]
[null,179,2,16,75,2,169,175,86,203,74,118,87,244,165,182,128,45,30,69,231,38,57,67,18,238,183,57,200,157]
[null,240,155,124,167,89,2,252,170,240,75,248,20,142,116,30,144,4,187,153,234,209,58,56,170,38,94,186,106,218]
[null,6,156,194,119,71,30,142,78,232,99,212,75,243,113,110,46,100,89,133,254,137,249,101,174,101,235,236,74,107]
[null,147,251,25,115,46,50,154,156,131,15,71,28,9,206,158,171,156,248,236,132,194,176,128,203,40,110,115,98,217]
[null,66,169,205,45,10,118,160,20,242,97,89,17,38,252,52,132,173,46,116,172,196,66,86,236,42,145,60,48,239]
[null,142,219,231,175,22,59,171,237,87,127,170,51,228,7,159,199,159,203,112,175,79,99,53,10,30,133,155,4,171]
[null,54,253,9,138,55,110,132,131,50,26,174,47,222,117,123,49,207,22,6,220,125,178,52,46,79,197,135,117,251]
[null,230,201,180,60,84,24,145,137,23,106,55,43,104,134,200,183,22,170,128,221,102,247,122,71,105,52,46,75,176]
[null,12,214,93,35,88,18,220,113,24,117,22,76,62,187,253,125,21,84,54,133,28,70,72,89,46,171,128,78,159]
[null,60,246,106,176,38,225,88,234,57,123,171,41,8,242,152,187,109,145,212,109,239,113,96,252,185,161,149,241,96]
[null,237,231,243,255,113,217,84,120,117,21,132,85,32,166,176,99,82,38,256,134,159,158,73,142,242,104,219,148,118]
[null,31,131,77,81,126,229,55,167,2,37,113,11,201,97,205,194,146,171,169,7,212,202,11,154,237,253,5,179,85]
[null,248,198,121,127,87,244,22,27,121,91,38,80,247,90,248,12,232,126,165,146,253,88,70,160,167,73,87,175,42]
[null,22,141,120,246,98,177,10,162,192,115,252,93,55,151,1,213,247,154,88,117,65,95,19,87,195,220,203,227,84]
[null,188,234,66,154,104,245,46,115,249,90,142,27,105,177,70,18,108,98,52,10,15,238,36,126,151,18,220,219,120]
[null,93,220,208,39,116,151,71,218,168,3,104,118,224,36,85,239,131,252,23,116,54,151,125,113,234,193,90,195,74]
[null,152,236,102,51,6,175,89,3,244,40,98,67,178,9,54,123,58,116,134,99,94,102,20,38,160,112,98,204,51]
[null,163,94,37,172,83,6,2,191,184,63,177,50,130,175,226,226,42,151,251,88,168,1,100,225,76,217,251,47,54]
[null,35,62,223,153,107,116,30,57,150,47,245,99,176,217,210,79,9,83,185,89,226,144,12,217,114,2,154,7,130]
[null,176,64,3,9,13,104,50,222,111,45,107,54,84,58,171,156,233,177,224,79,201,152,114,229,66,134,47,77,33]
[null,121,9,230,95,81,98,118,37,200,28,83,37,29,10,178,112,225,13,186,90,130,101,95,244,4,48,37,118,43]
[null,140,8,247,166,14,87,59,206,59,77,225,32,206,233,101,200,182,229,35,6,111,32,105,81,53,140,248,80,16]
[null,86,66,92,247,29,126,110,81,115,51,217,60,133,230,8,97,141,14,51,94,116,229,42,13,15,71,147,22,57]
[null,228,41,153,50,41,113,24,227,81,94,29,3,106,101,93,151,19,225,58,106,13,225,31,107,71,255,56,2,121]
[null,114,84,96,128,33,38,18,74,48,23,14,2,76,65,2,23,97,41,79,118,68,17,103,83,126,56,42,143,15]
[null,196,161,240,248,155,96,27,241,213,1,105,250,156,143,186,210,170,31,195,181,182,209,33,100,244,158,242,208,196]
[null,97,124,101,256,227,73,121,1,167,8,42,156,251,241,109,30,126,155,196,194,151,118,41,12,156,67,222,193,193]
[null,205,178,164,41,216,11,49,224,195,16,227,209,44,112,236,220,17,105,218,182,248,92,29,114,147,194,19,253,144]
[null,17,197,117,58,153,70,66,10,253,32,155,196,108,55,221,13,92,216,203,205,143,218,14,95,154,57,1,156,208]
[null,235,182,48,186,163,19,54,175,19,64,100,242,216,219,89,237,128,114,41,186,37,240,81,153,197,243,228,170,108]
[null,42,111,140,162,144,36,25,42,29,69,12,222,148,159,34,76,23,163,25,213,6,72,13,216,155,62,144,249,168]
[null,256,179,107,6,246,125,124,178,53,61,144,192,24,23,132,175,220,100,11,187,48,85,107,227,148,188,88,154,220]
[null,138,199,239,100,158,20,67,50,83,78,163,225,25,70,40,90,148,246,12,148,21,133,83,155,227,121,44,188,238]
[null,15,35,159,170,238,158,56,140,99,68,19,237,89,153,209,147,210,125,239,214,199,212,6,96,106,198,181,27,164]
[null,154,125,65,192,133,246,101,63,46,112,36,243,114,144,130,14,223,238,187,197,150,12,116,73,133,82,229,59,183]
[null,92,6,184,122,222,144,128,203,34,7,133,149,231,60,147,154,91,19,254,245,123,26,104,11,26,203,124,68,231]
[null,145,56,4,43,239,163,86,6,100,60,238,143,146,104,190,94,73,222,177,198,185,131,98,70,89,131,52,67,256]
[null,61,83,17,205,188,153,53,246,145,92,96,174,86,191,77,136,49,11,42,217,88,162,87,239,51,204,237,32,248]
[null,167,36,211,178,247,216,52,85,144,4,73,228,35,149,125,88,103,188,9,244,100,74,126,222,13,58,169,15,169]
[null,112,142,8,118,185,227,122,245,226,62,247,249,179,42,42,219,229,96,118,225,112,68,113,133,59,189,12,25,210]
[null,254,46,128,114,162,155,72,59,136,17,188,145,163,76,56,109,212,185,90,166,24,230,38,238,7,122,70,1,153]
[null,127,93,163,229,186,27,162,226,176,93,53,127,171,45,38,173,172,122,226,28,153,217,88,56,229,90,218,114,9]
[null,25,11,56,218,136,121,185,101,133,39,52,104,213,30,105,96,135,186,180,82,177,59,84,101,252,195,210,177,100]
[null,195,17,198,68,206,49,247,217,254,34,136,227,122,158,15,232,80,53,231,17,211,84,55,128,136,72,61,202,113]
[null,51,87,146,112,205,66,188,38,209,58,186,141,40,184,11,50,59,206,230,80,250,138,22,86,191,252,75,224,86]
[null,250,96,67,152,172,54,239,229,56,5,56,107,181,22,219,214,20,128,80,91,18,161,10,205,142,53,234,164,72]
[null,67,107,227,194,130,25,222,14,71,35,101,214,187,150,237,5,133,172,5,49,66,61,46,206,194,246,195,161,45]
[null,201,20,68,38,157,124,133,213,140,57,130,142,5,231,187,166,181,56,48,128,71,81,71,136,257,28,32,185,116]
[null,133,120,158,17,202,67,238,69,51,48,172,186,83,257,168,67,192,157,84,74,92,135,89,186,247,128,8,139,1]
[null,98,218,132,137,191,202,158,182,52,120,54,203,61,61,127,243,152,124,147,40,227,239,2,27,82,44,175,8,112]
[null,202,119,26,224,134,157,246,133,146,82,25,139,126,125,33,11,180,191,138,70,247,63,30,121,86,192,156,64,104]
[null,85,211,195,21,233,130,144,183,76,102,134,176,149,224,13,140,115,54,184,75,141,73,50,49,37,116,64,38,22]
[null,123,244,51,24,204,172,163,112,54,79,191,248,195,179,108,51,6,233,219,2,214,136,118,66,5,149,113,18,115]
[null,65,189,7,238,192,205,153,198,190,43,27,245,51,120,143,160,40,49,76,39,84,132,59,204,49,59,122,62,23]
[null,217,245,204,244,209,206,216,53,138,65,121,122,158,29,124,68,93,192,95,43,69,27,110,233,19,147,172,49,8]
[null,81,204,87,94,137,136,227,152,166,85,209,150,210,218,199,242,226,27,83,19,22,75,24,134,94,105,65,43,49]
[null,149,176,136,52,231,186,155,94,222,119,192,189,240,148,156,27,201,137,113,9,17,203,18,191,69,221,23,93,30]
[null,221,228,155,253,139,93,1,108,218,231,43,22,211,209,203,148,221,85,75,144,205,172,76,120,150,250,78,35,222]
[null,100,187,108,147,173,39,8,215,245,137,65,19,199,243,198,65,160,139,131,55,145,25,109,82,183,10,13,132,156]
[null,203,242,176,117,193,34,16,48,194,209,173,110,41,3,189,234,116,43,44,59,163,109,111,102,241,212,166,40,206]
[null,39,148,104,61,215,58,32,202,246,192,139,58,66,4,240,106,118,193,77,93,178,147,9,79,137,14,187,37,182]
[null,245,210,70,196,179,5,64,15,72,204,120,134,242,207,28,141,137,102,222,135,36,150,44,215,168,178,73,82,245]
[null,9,239,212,145,156,35,69,197,62,233,82,83,219,195,23,41,113,179,221,151,78,110,108,193,224,40,74,135,224]
[null,224,152,119,123,176,57,61,54,11,134,156,24,37,82,7,174,208,120,154,12,136,64,80,173,173,177,249,109,203]
[null,64,206,179,25,138,48,78,130,85,191,179,23,10,57,29,69,228,176,245,104,56,137,74,139,166,36,177,53,212]
[null,78,51,206,156,210,138,68,97,130,202,5,96,94,164,255,167,230,57,64,18,124,215,75,93,77,167,76,145,214]
[null,130,31,75,254,201,176,112,200,116,157,35,46,75,247,214,81,214,210,114,127,144,7,99,39,119,92,118,134,255]
[null,89,29,185,116,223,156,7,79,60,130,201,42,177,69,213,150,52,5,66,32,246,24,15,34,128,209,138,238,170]
[null,150,73,21,98,253,179,60,123,25,172,210,12,120,80,211,7,54,223,85,1,138,191,97,58,45,7,167,213,166]
[null,76,32,13,134,200,215,92,44,179,205,93,35,137,256,31,248,74,34,162,68,109,207,127,253,28,245,79,189,194]
[null,239,1,224,149,224,193,4,193,162,206,39,52,101,167,25,134,27,200,141,52,14,52,26,223,113,85,96,207,221]
[null,139,33,42,19,219,173,62,66,148,136,224,70,204,18,75,137,245,93,160,87,118,37,106,201,131,225,208,157,246]
[null,190,15,196,126,165,139,17,124,119,186,200,101,232,98,96,95,246,219,240,98,82,204,117,210,41,31,189,217,119]
[null,238,113,160,165,241,1,165,73,181,162,92,25,237,32,62,230,189,62,47,204,229,255,123,68,206,34,106,71,93]
[null,1,45,90,193,196,8,219,169,219,185,4,73,245,48,64,131,255,241,100,162,216,103,21,112,143,184,3,16,97]
[null,214,28,234,18,254,16,224,84,223,247,196,112,23,186,43,155,96,92,31,227,186,30,37,7,178,47,205,55,4]
[null,5,42,41,107,166,32,200,254,161,188,241,95,1,181,46,29,95,254,1,138,131,216,91,60,184,215,151,111,131]
[null,185,70,20,201,198,64,253,39,75,239,68,64,212,53,197,178,5,7,199,212,93,153,115,166,222,21,33,100,134]
[null,72,92,187,209,251,69,223,251,8,222,112,61,225,47,242,120,83,198,237,173,27,69,90,254,201,229,125,120,11]
[null,199,115,44,90,146,61,201,30,15,133,251,111,96,246,208,204,227,68,201,177,50,53,3,196,231,24,238,19,109]
[null,71,132,226,77,190,78,210,144,6,238,198,18,115,244,223,1,169,146,135,202,139,248,40,241,162,169,223,84,70]
[null,101,167,248,243,180,190,138,19,7,158,64,103,72,24,113,218,222,61,106,180,233,193,63,1,10,115,97,201,81]
[null,171,184,2,222,197,146,176,160,73,246,69,88,2,102,120,74,240,180,15,113,162,71,47,8,33,155,121,137,95]
[null,52,191,220,47,189,251,156,110,3,144,197,40,145,123,14,236,2,64,43,216,217,76,45,16,65,88,241,229,117]
[null,247,240,12,79,194,198,179,154,95,163,180,92,180,122,78,53,1,189,109,143,219,208,28,32,117,175,158,247,59]
[null,3,203,72,227,226,166,215,46,231,153,1,5,31,131,175,224,67,16,143,229,2,250,77,194,93,76,94,167,14]
[null,170,172,177,150,242,254,193,158,257,216,8,1,92,66,166,105,34,226,122,253,35,4,51,189,25,231,15,255,111]
[null,24,248,85,16,250,196,173,116,149,227,242,57,255,183,114,238,190,1,250,156,51,21,94,197,23,84,213,222,132]
[null,211,157,200,71,257,241,139,235,154,155,226,48,170,194,177,100,153,250,161,224,85,236,23,180,100,162,139,142,77]
[null,222,168,203,37,235,123,76,211,228,33,77,105,141,239,232,3,248,94,164,237,91,219,257,63,35,172,256,214,68]
[null,110,163,61,46,164,21,109,25,238,41,51,6,200,214,172,254,234,235,157,228,55,94,250,47,84,93,254,133,18]
[null,155,233,244,250,207,37,111,236,157,29,164,38,6,86,137,17,94,77,229,153,63,38,242,45,18,254,58,155,60]
[null,29,144,43,257,181,91,9,16,103,14,235,132,85,132,164,221,84,207,197,147,52,165,226,28,118,119,26,162,67]
[null,168,181,39,70,230,115,44,230,106,81,63,106,198,190,19,70,39,45,14,122,232,210,194,181,87,151,190,166,71]
[null,124,237,169,84,213,90,108,72,38,13,47,121,254,238,98,192,81,230,38,195,242,62,189,207,2,51,142,159,58]
[null,225,190,30,185,211,3,80,163,21,107,213,7,74,128,97,61,243,63,45,238,257,23,197,164,149,160,28,173,83]
[null,14,205,174,189,195,40,74,103,89,83,230,135,123,87,65,181,194,211,53,242,238,213,180,235,32,45,59,246,103]
[null,45,105,222,59,218,195,75,139,10,6,115,39,22,139,122,113,188,3,209,174,7,169,190,123,198,179,150,72,61]
[null,183,88,109,55,255,211,99,5,93,116,90,128,28,253,155,195,202,218,151,157,75,124,146,21,215,101,163,90,56]
[null,16,123,148,159,168,213,15,149,28,104,255,56,189,88,174,52,43,115,132,211,3,36,251,37,210,156,80,33,73]
[null,208,58,23,226,143,230,97,107,31,98,218,29,159,95,119,252,90,168,208,210,103,252,198,91,190,9,14,60,53]
[null,46,26,91,13,167,181,127,136,236,87,123,81,19,140,116,8,63,37,68,222,191,243,166,143,246,241,209,13,63]
[null,181,104,116,89,221,207,26,70,217,126,21,4,93,169,12,176,8,167,108,192,254,119,254,168,250,132,148,30,25]
[null,38,150,40,230,237,164,106,223,215,113,221,68,208,38,63,9,179,123,103,207,126,79,196,255,255,117,93,76,47]
[null,164,81,252,184,135,235,117,117,153,38,167,125,191,137,67,198,119,237,17,155,200,224,241,218,208,95,85,14,79]
[null,141,37,161,44,141,76,135,171,191,88,127,79,246,78,66,35,147,106,176,23,34,245,165,75,97,22,231,234,219]
[null,58,118,88,22,152,109,237,93,174,84,26,100,139,59,9,180,251,141,167,119,33,146,219,99,81,150,233,237,167]
[null,226,49,175,232,232,111,221,247,151,55,152,59,90,225,107,56,87,127,198,121,43,142,224,15,54,106,117,153,253]
[null,105,98,33,204,131,9,167,51,178,22,141,45,53,202,117,215,104,232,238,57,9,175,200,97,56,228,127,197,152]
[null,143,65,29,27,161,44,143,209,17,10,75,63,151,50,179,33,138,15,16,65,188,181,253,131,112,99,191,146,180]
[null,48,43,133,56,243,108,168,9,102,46,99,97,202,46,185,256,114,161,56,95,218,78,223,232,83,135,204,216,223]
[null,178,78,143,216,159,80,255,181,132,71,243,94,118,162,231,42,217,75,87,108,228,128,201,152,70,16,51,248,135]
[null,69,63,172,251,183,74,218,82,37,89,161,77,49,155,140,203,151,159,65,3,172,253,210,141,99,247,43,235,178]
[null,96,235,145,63,184,183,195,232,124,2,44,78,73,13,24,93,242,80,232,97,83,167,138,76,214,78,126,87,189]
[null,175,255,80,133,178,159,211,8,98,30,108,114,17,84,88,143,136,184,225,100,106,60,176,109,219,216,240,86,192]
[null,99,159,253,173,150,243,213,153,61,50,178,65,167,173,4,86,75,44,139,25,61,90,156,111,196,32,11,66,229]
[null,218,137,127,161,214,161,230,62,123,118,184,74,188,196,74,157,65,150,188,62,77,214,179,9,236,223,41,6,230]
[null,26,186,111,103,249,131,181,147,170,59,76,53,124,37,241,73,72,111,110,8,148,154,215,214,200,50,224,28,234]
[null,126,208,209,101,147,232,207,71,225,110,109,26,127,111,217,227,53,249,30,11,171,87,193,150,203,190,252,46,227]
[null,122,254,69,182,149,152,164,240,188,24,147,120,215,227,163,119,134,76,24,73,161,14,173,178,249,19,101,122,252]
[null,156,149,201,235,182,141,235,33,172,18,249,34,155,204,154,169,196,149,3,22,160,160,139,184,135,144,66,89,241]
[null,151,224,213,78,240,88,33,99,189,182,59,160,238,223,167,116,187,24,67,26,74,143,231,2,78,233,31,108,98]
[null,84,146,1,67,234,84,41,168,180,149,110,169,147,250,146,222,211,240,92,69,101,47,137,30,163,39,112,107,26]
[null,231,136,135,171,148,55,29,2,214,147,234,168,98,26,222,47,60,59,121,50,60,16,209,50,72,232,176,52,32]
[null,49,183,59,228,199,22,14,132,216,249,240,244,65,43,201,186,14,148,86,35,23,227,192,118,47,1,174,127,125]
[null,215,158,114,48,140,10,81,92,47,214,2,187,190,185,51,25,61,50,248,15,213,223,204,199,88,238,99,95,110]
[null,7,130,182,110,208,46,13,194,65,150,30,167,161,152,6,196,55,140,159,58,169,2,233,148,134,77,62,26,122]
[null,184,173,22,225,228,71,107,68,94,178,208,172,64,21,20,57,157,2,156,67,154,117,134,234,120,138,153,128,21]
[null,79,256,242,183,256,89,83,172,55,184,140,171,14,93,76,130,213,228,189,27,220,201,191,240,20,75,201,58,101]
[null,18,103,134,91,169,256,6,88,18,183,10,238,116,142,228,114,254,71,105,24,49,200,202,88,220,164,72,152,40]
[null,252,102,64,139,187,228,116,180,26,159,46,183,15,145,148,212,158,169,125,4,121,9,157,84,157,23,22,184,151]
[null,111,7,233,143,212,208,104,102,127,243,187,230,249,52,100,87,102,10,22,126,64,82,130,55,218,148,143,160,41]
[null,192,89,53,213,248,140,98,238,16,161,169,241,220,6,206,126,85,212,142,86,62,192,172,22,216,113,198,210,19]
[null,116,39,27,83,236,199,87,21,171,131,88,207,30,251,99,59,99,55,146,83,179,159,205,248,228,125,103,254,87]
[null,204,5,249,120,203,148,126,127,208,232,84,211,36,141,135,209,51,236,252,38,133,80,206,212,179,61,123,141,7]
[null,28,57,78,198,174,234,113,121,235,152,203,215,154,124,58,75,236,88,130,37,156,11,136,187,153,206,212,183,82]
[null,246,44,165,223,170,240,38,145,234,141,236,182,196,71,5,133,237,174,204,125,230,188,186,169,212,87,130,180,99]
[null,198,12,152,82,220,33,170,24,201,135,87,217,250,16,106,71,149,113,46,149,19,145,162,6,73,97,109,17,162]
[null,21,27,15,3,145,41,174,138,141,237,126,173,226,92,82,159,176,220,2,124,99,100,185,116,16,154,39,110,140]
[null,227,127,181,177,132,29,203,91,256,221,145,247,57,161,53,64,112,87,89,251,46,56,247,104,21,5,253,79,173]
[null,10,60,137,131,171,14,236,231,137,167,220,178,11,168,10,246,26,132,93,112,5,170,188,98,91,185,171,83,216]
[null,236,117,138,12,160,81,248,96,66,143,6,165,203,107,257,45,11,104,170,141,193,163,239,171,63,38,55,31,174]
[null,70,24,192,104,154,13,212,143,9,168,116,231,153,81,188,240,150,160,206,248,243,20,222,132,107,240,38,39,138]
[null,165,38,50,219,142,107,187,40,90,255,154,140,34,222,173,19,127,6,235,142,204,107,133,145,24,65,168,63,184]
[null,106,22,156,207,252,83,169,255,14,218,160,191,80,249,204,135,200,142,124,159,164,156,238,220,98,146,160,54,207]
[null,95,164,221,86,175,252,256,67,74,195,81,208,128,83,32,32,216,107,7,170,90,257,158,33,182,41,7,211,204]
[null,223,196,35,105,151,142,228,201,108,211,13,159,82,41,48,179,249,175,73,169,32,114,246,41,144,256,104,251,128]
[null,82,194,255,249,245,154,208,36,147,213,151,204,174,200,87,102,25,81,34,179,57,106,144,29,192,124,211,181,225]
[null,137,249,28,163,177,160,140,221,58,230,175,221,229,248,80,146,33,245,72,168,128,157,163,14,254,210,221,140,215]
[null,118,250,11,92,244,171,199,52,199,181,33,226,52,25,157,58,76,29,223,252,147,226,153,177,205,118,10,178,242]
[null,172,192,166,11,229,132,148,177,143,207,41,198,125,28,250,161,117,244,207,164,142,29,216,245,243,187,111,236,201]
[null,30,217,105,208,217,145,234,31,177,164,229,255,152,157,165,107,239,33,200,152,245,33,227,151,187,3,202,256,137]
[null,144,174,162,130,225,220,240,184,210,235,244,256,182,193,256,235,161,217,179,140,190,241,155,175,132,202,216,115,243]
[null,17,225,153,45,231,162,48,158,72,18,227,10,14,257,8,102,88,62,62,97,63,103,100,77,76,115,49,50,16]
[null,257,217,216,91,137,185,228,246,149,157,103,2,102,250,102,7,132,161,65,134,62,31,191,64,107,17,140,65,36]
[null,34,229,31,63,209,247,38,144,22,94,153,217,111,242,49,214,241,53,114,80,40,42,64,76,10,146,166,5,239]
[null,248,244,103,5,192,188,245,163,37,141,42,200,104,226,62,150,166,241,50,61,55,105,201,53,115,203,40,102,257]
[null,83,177,158,239,204,239,21,105,169,210,144,72,61,194,16,42,130,23,150,76,217,95,15,72,221,39,18,88,30]
[null,216,245,246,229,233,222,182,42,224,118,95,96,103,189,36,110,235,216,90,147,233,114,196,45,252,99,186,9,114]
[null,80,151,114,205,134,133,83,31,126,151,158,252,110,197,66,234,38,2,38,79,247,12,70,71,210,235,173,104,170]
[null,208,175,95,175,191,238,168,103,218,19,12,158,31,180,33,233,110,120,20,59,246,100,137,110,237,188,125,70,214]
[null,118,252,239,159,202,100,111,162,49,99,133,88,152,190,21,169,48,243,94,223,19,20,60,44,59,105,46,231,77]
[null,195,142,222,212,157,12,244,185,128,193,20,66,125,146,15,144,35,104,75,133,71,125,176,61,108,114,246,199,29]
[null,55,154,125,224,130,114,104,247,111,74,239,136,232,251,109,27,167,166,27,252,4,36,55,13,135,198,232,190,134]
[null,252,160,20,158,172,95,164,188,68,254,36,215,169,198,115,112,185,113,2,202,81,19,127,60,73,154,127,191,206]
[null,12,171,162,113,205,105,122,19,181,241,247,53,207,166,84,172,209,197,10,175,216,70,54,41,170,67,96,226,21]
[null,173,132,185,114,206,42,170,36,133,47,70,80,245,254,30,223,155,91,89,222,249,11,200,14,158,109,184,243,89]
[null,13,145,11,32,136,31,39,125,216,250,162,140,199,196,9,79,29,146,48,116,140,73,69,33,146,216,190,233,246]
[null,199,220,70,122,186,103,149,20,202,130,73,144,251,241,113,95,46,4,105,212,168,96,136,92,234,182,28,257,188]
[null,32,170,205,82,96,231,85,202,220,95,136,29,29,165,131,87,86,131,249,165,32,72,168,230,105,213,41,144,40]
[null,157,174,206,125,73,137,162,157,153,202,72,40,6,219,154,45,123,233,158,247,78,122,63,176,81,228,199,81,48]
[null,41,203,122,4,11,209,26,130,243,60,205,190,122,224,31,136,178,63,145,241,27,52,186,241,47,100,174,56,197]
[null,220,236,72,49,70,192,208,172,247,112,52,146,67,200,117,218,199,207,172,171,28,53,6,178,8,74,120,34,183]
[null,29,248,202,202,19,204,44,53,39,191,130,106,116,253,151,77,238,8,186,162,178,86,205,167,240,236,97,94,24]
[null,244,212,157,187,36,233,253,52,21,31,86,64,64,223,44,71,125,191,213,151,253,128,12,209,192,108,197,97,63]
[null,45,187,128,118,125,134,92,122,71,190,202,220,1,201,116,253,77,57,142,238,210,101,230,130,187,27,177,73,226]
[null,189,169,86,207,20,191,191,72,90,100,101,241,11,210,72,175,66,125,257,138,174,56,130,184,166,1,123,119,250]
[null,76,256,204,206,100,56,15,231,131,126,134,121,176,138,55,197,106,160,146,40,111,67,214,218,31,197,19,250,83]
[null,125,228,233,112,12,101,247,137,225,232,67,34,172,176,119,132,78,56,154,139,120,124,66,188,11,133,195,194,102]
[null,75,208,124,182,114,128,118,209,245,63,204,237,221,156,82,109,143,173,236,47,74,25,142,183,117,34,185,220,194]
[null,146,140,67,204,95,86,207,192,150,207,25,234,253,179,10,63,252,135,143,14,39,54,109,256,44,79,122,240,145]
[null,60,199,231,68,105,53,98,54,115,251,209,20,209,215,13,207,218,193,235,69,182,66,199,219,174,138,126,196,136]
[null,205,148,137,120,42,52,190,25,134,54,66,14,239,193,136,100,165,41,250,13,163,49,111,215,189,229,231,209,86]
[null,106,234,49,92,31,122,16,124,59,171,231,164,164,173,108,48,32,177,209,54,175,121,153,239,236,40,183,215,193]
[null,164,240,66,36,103,72,231,67,102,122,121,206,189,139,69,18,57,109,228,82,145,27,37,249,241,110,55,165,235]
[null,150,182,215,40,257,165,110,138,55,103,173,5,108,27,236,47,37,37,36,30,183,119,8,114,53,49,86,223,180]
[null,43,149,193,13,250,219,193,176,60,150,119,111,75,121,239,59,98,158,102,71,127,85,248,203,113,15,233,126,245]
[null,210,147,85,64,242,224,24,156,69,82,215,141,17,49,148,217,142,55,52,16,214,65,46,199,95,255,149,218,92]
[null,56,249,119,12,226,200,152,179,18,154,65,197,121,66,200,192,140,219,76,110,181,43,244,165,80,254,111,221,71]
[null,243,214,138,186,194,253,117,43,230,188,156,62,90,54,124,16,121,13,13,48,36,79,80,123,222,51,108,176,185]
[null,61,150,176,196,189,223,217,65,235,46,79,113,34,25,175,39,145,249,34,19,37,102,218,107,180,63,148,123,184]
[null,204,178,102,247,197,201,84,85,251,139,138,135,85,124,234,221,50,34,55,106,104,82,81,246,122,176,194,149,9]
[null,128,184,79,173,180,210,189,119,229,79,82,233,92,67,235,248,30,194,46,52,13,120,222,154,202,201,121,205,81]
[null,161,183,253,128,190,120,91,165,3,52,201,102,181,56,162,164,28,180,44,207,194,48,91,240,134,94,43,113,182]
[null,58,159,223,142,146,82,177,219,44,183,48,4,139,101,212,183,44,128,3,227,144,57,166,131,114,11,251,124,140]
[null,179,243,57,198,251,102,108,224,45,73,253,142,130,128,216,81,206,169,88,229,192,35,49,226,12,189,234,20,120]
[null,135,161,48,233,198,79,251,200,47,237,35,160,213,86,246,138,204,108,92,185,173,5,251,257,120,178,67,45,91]
[null,214,131,165,79,166,43,10,5,227,245,224,124,230,53,223,121,184,182,64,226,96,58,13,190,149,2,51,69,179]
[null,65,232,219,96,254,65,124,35,233,34,58,109,145,52,206,157,231,19,37,257,117,34,173,206,244,91,206,51,162]
[null,192,152,34,110,196,85,121,57,183,216,165,239,127,122,188,54,13,119,12,225,98,39,33,171,140,240,221,101,50]
[null,134,141,58,139,241,119,163,48,162,62,39,132,217,72,157,26,12,68,139,243,18,93,227,160,176,160,54,41,69]
[null,185,135,166,77,93,257,28,190,196,98,196,93,52,96,233,21,69,20,165,145,211,17,224,54,29,226,3,187,152]
[null,89,237,254,39,39,250,127,146,194,168,17,65,115,73,185,13,3,257,161,213,158,62,74,96,42,210,155,242,255]
[null,174,221,62,35,34,242,103,251,215,24,166,240,80,11,146,235,162,44,254,230,227,4,211,31,72,72,228,203,53]
[null,4,167,17,97,58,226,229,198,212,217,4,151,74,70,163,257,163,253,127,216,257,92,43,120,127,77,42,147,107]
[null,219,143,190,183,5,194,80,92,61,238,251,57,36,19,194,46,253,73,124,188,59,60,237,46,165,205,105,158,225]
[null,7,168,146,250,35,189,138,4,16,71,60,49,57,36,197,33,175,186,247,166,21,7,29,85,231,211,189,138,133]
[null,228,255,7,243,57,197,54,62,50,214,190,168,27,125,147,162,31,59,149,143,57,112,234,81,208,12,205,239,20]
[null,114,218,60,252,48,180,257,17,35,32,112,181,96,20,240,143,89,187,188,126,123,68,89,56,119,14,10,174,35]
[null,239,195,194,251,120,68,40,257,145,10,197,15,248,100,155,186,36,157,177,91,152,78,143,78,25,234,65,57,161]
[null,98,211,189,185,82,112,184,250,138,256,78,36,225,12,170,256,18,87,163,74,243,61,103,145,96,156,187,121,137]
[null,148,213,61,255,102,7,22,242,244,38,194,211,193,114,218,113,256,206,141,67,215,69,170,42,41,135,182,29,17]
[null,104,230,78,163,79,60,205,226,180,246,69,179,141,95,166,78,257,11,199,18,149,64,83,115,39,136,50,11,100]
[null,212,181,257,27,43,92,34,64,83,186,242,31,165,105,253,227,191,255,244,55,115,32,182,29,256,127,8,91,164]
[null,100,207,250,1,65,4,153,69,92,81,32,108,233,42,257,166,224,88,147,86,136,16,27,5,223,192,254,3,243]
[null,142,164,16,109,85,62,20,61,144,173,257,242,235,31,201,3,68,234,126,10,8,8,174,102,207,75,237,36,45]
[null,23,235,32,104,119,17,158,78,81,58,8,187,158,103,210,88,105,47,181,101,97,1,96,34,173,64,22,116,119]
[null,47,1,181,30,182,135,255,195,26,55,164,221,223,225,153,117,10,36,190,90,94,23,86,21,167,19,39,44,2]
[null,233,8,207,20,149,237,4,211,86,197,23,212,174,217,252,58,24,148,240,95,101,94,165,30,203,44,164,125,4]
[null,22,16,94,101,147,221,241,213,121,14,181,8,240,229,220,252,164,103,198,25,29,51,4,105,195,172,220,103,200]
[null,242,32,23,155,249,167,37,230,94,215,51,1,140,244,126,173,174,229,191,114,61,77,139,111,206,126,93,96,232]
[null,28,64,195,152,214,143,188,77,239,219,213,188,171,177,152,60,219,90,187,77,244,28,107,136,26,68,48,92,68]
[null,186,69,211,220,150,168,66,51,160,89,28,174,256,245,137,4,177,134,200,21,220,45,207,63,16,20,196,99,116]
[null,95,61,45,237,178,255,197,94,161,228,195,73,109,151,251,184,15,33,175,68,213,47,98,20,1,130,235,85,230]
[null,155,78,28,169,184,218,77,23,193,84,47,69,226,175,123,135,64,244,155,53,205,63,213,16,20,171,45,12,199]
[null,119,68,143,248,183,63,145,135,136,36,255,199,60,252,219,236,70,213,197,153,49,40,79,84,251,119,89,186,108]
[null,253,112,168,165,159,47,63,237,103,149,40,203,43,142,130,230,56,75,202,170,107,3,157,101,183,5,134,168,95]
[null,109,7,3,230,243,45,206,221,84,110,143,99,48,154,202,69,215,242,185,135,126,90,102,47,255,170,222,225,178]
[null,151,60,40,227,161,28,6,167,139,235,90,32,68,160,229,99,168,50,205,200,50,115,249,48,155,163,6,198,244]
[null,122,92,135,22,131,77,250,115,142,167,221,245,12,171,177,239,195,212,195,232,190,91,17,36,67,118,15,245,49]
[null,188,4,237,41,232,51,82,90,246,142,91,169,8,132,254,165,250,77,233,154,150,37,126,66,4,89,139,228,110]
[null,35,62,37,43,152,94,249,3,195,218,135,28,3,145,190,50,79,220,211,108,155,21,141,51,132,220,179,182,165]
[null,141,17,91,105,141,23,60,40,191,6,21,74,50,220,133,67,139,94,179,177,241,123,163,103,58,121,34,244,173]
[null,87,93,131,67,123,182,223,183,192,97,152,214,161,170,179,12,111,117,39,221,82,117,236,235,224,180,13,24,27]
[null,165,39,232,84,21,149,78,159,249,170,117,236,177,174,158,119,7,200,91,140,91,106,108,139,225,199,112,21,25]
[null,11,34,106,107,37,147,202,243,151,83,131,26,204,203,199,168,171,32,5,209,60,26,152,137,215,33,116,105,141]
[null,207,58,117,80,91,249,43,161,141,225,26,54,202,236,213,205,154,153,106,160,20,127,30,201,249,56,83,61,131]
[null,49,5,183,241,115,214,225,127,79,229,243,231,146,248,195,107,120,115,78,193,242,97,159,193,70,208,77,112,67]
[null,249,35,159,156,90,150,2,26,73,125,97,202,175,212,161,56,144,210,35,215,202,15,123,163,40,212,180,42,54]
[null,77,57,15,126,3,178,216,106,27,115,183,42,188,187,164,140,41,80,123,180,171,99,242,150,30,96,130,10,207]
[null,176,48,97,221,40,184,55,117,118,86,99,7,159,169,181,209,107,189,80,195,193,75,11,255,86,103,5,23,215]
[null,26,120,214,134,63,75,165,182,234,113,178,195,44,256,180,185,16,162,69,23,26,74,180,161,175,245,91,171,132]
[null,250,82,150,160,47,99,115,149,170,178,74,125,39,228,144,241,122,83,66,3,33,80,42,158,152,174,198,172,18]
[null,105,102,80,197,45,15,172,147,254,5,214,85,62,208,193,91,183,159,29,99,119,108,226,233,197,85,168,192,247]
[null,196,79,74,135,28,97,101,249,184,131,108,97,22,140,184,70,193,40,28,121,70,44,35,196,181,62,44,252,217]
[null,111,43,182,88,77,127,185,44,17,147,147,155,58,199,205,134,186,232,24,72,148,9,208,250,110,221,104,230,34]
[null,187,65,149,33,51,26,31,108,41,49,9,157,55,148,232,131,205,132,31,50,228,111,68,247,87,147,171,212,6]
[null,18,85,111,70,94,106,139,80,95,189,182,76,9,234,138,43,124,136,6,4,234,109,239,185,97,31,244,136,157]
[null,225,119,9,86,23,117,89,74,104,57,109,23,123,240,224,103,62,102,17,109,255,76,114,236,98,54,98,169,192]
[null,159,27,199,69,225,170,142,256,91,45,234,180,180,76,98,20,71,107,160,34,191,18,25,232,184,35,115,150,227]
[null,90,121,148,78,217,174,36,228,112,257,18,191,95,109,89,111,47,174,232,112,166,24,219,189,157,8,211,151,146]
[null,256,49,24,44,229,203,211,208,36,123,199,87,186,111,90,160,198,27,226,122,137,110,26,208,198,232,242,206,82]
[null,126,66,18,42,244,236,72,140,57,199,110,30,211,9,14,193,244,209,133,75,172,59,257,223,235,215,31,131,84]
[null,166,54,256,211,177,248,233,59,207,144,208,210,170,44,71,68,197,43,148,100,10,118,20,243,45,73,35,163,159]
[null,64,25,228,193,245,212,62,110,252,76,118,148,124,108,91,97,203,251,136,128,99,50,181,200,89,106,256,232,196]
[null,190,124,50,164,151,187,201,24,238,236,256,33,138,80,86,194,101,74,237,85,102,30,120,191,104,237,141,130,105]
[null,86,67,118,203,175,169,128,18,182,16,30,75,238,74,87,244,45,179,157,2,69,2,183,231,38,165,57,200,57]
[null,170,56,248,240,252,2,144,170,30,124,187,167,38,75,20,142,4,240,218,155,153,89,94,234,209,116,58,106,186]
[null,78,101,212,232,142,30,46,174,110,194,89,119,101,99,75,243,100,6,107,156,133,71,235,254,137,113,249,74,236]
[null,156,128,71,131,154,50,171,203,158,25,248,115,40,15,28,9,156,147,217,251,236,46,110,132,194,206,176,98,115]
[null,20,86,89,242,160,118,132,236,52,205,46,45,42,97,17,38,173,66,239,169,116,10,145,172,196,252,66,48,60]
[null,237,53,170,87,171,59,199,10,159,231,203,175,30,127,51,228,159,142,171,219,112,22,133,175,79,7,99,4,155]
[null,131,52,174,50,132,110,49,46,123,9,22,138,79,26,47,222,207,54,251,253,6,55,197,220,125,117,178,117,135]
[null,137,122,55,23,145,24,183,71,200,180,170,60,105,106,43,104,22,230,176,201,128,84,52,221,102,134,247,75,46]
[null,113,72,22,24,220,18,125,89,253,93,84,35,46,117,76,62,21,12,159,214,54,88,171,133,28,187,70,78,128]
[null,234,96,171,57,88,225,187,252,152,106,145,176,185,123,41,8,109,60,96,246,212,38,161,109,239,242,113,241,149]
[null,120,73,132,117,84,217,99,142,176,243,38,255,242,21,85,32,82,237,118,231,256,113,104,134,159,166,158,148,219]
[null,167,11,113,2,55,229,194,154,205,77,171,81,237,37,11,201,146,31,85,131,169,126,253,7,212,97,202,179,5]
[null,27,70,38,121,22,244,12,160,248,121,126,127,167,91,80,247,232,248,42,198,165,87,73,146,253,90,88,175,87]
[null,162,19,252,192,10,177,213,87,1,120,154,246,195,115,93,55,247,22,84,141,88,98,220,117,65,151,95,227,203]
[null,115,36,142,249,46,245,18,126,70,66,98,154,151,90,27,105,108,188,120,234,52,104,18,10,15,177,238,219,220]
[null,218,125,104,168,71,151,239,113,85,208,252,39,234,3,118,224,131,93,74,220,23,116,193,116,54,36,151,195,90]
[null,3,20,98,244,89,175,123,38,54,102,116,51,160,40,67,178,58,152,51,236,134,6,112,99,94,9,102,204,98]
[null,191,100,177,184,2,6,226,225,226,37,151,172,76,63,50,130,42,163,54,94,251,83,217,88,168,175,1,47,251]
[null,57,12,245,150,30,116,79,217,210,223,83,153,114,47,99,176,9,35,130,62,185,107,2,89,226,217,144,7,154]
[null,222,114,107,111,50,104,156,229,171,3,177,9,66,45,54,84,233,176,33,64,224,13,134,79,201,58,152,77,47]
[null,37,95,83,200,118,98,112,244,178,230,13,95,4,28,37,29,225,121,43,9,186,81,48,90,130,10,101,118,37]
[null,206,105,225,59,59,87,200,81,101,247,229,166,53,77,32,206,182,140,16,8,35,14,140,6,111,233,32,80,248]
[null,81,42,217,115,110,126,97,13,8,92,14,247,15,51,60,133,141,86,57,66,51,29,71,94,116,230,229,22,147]
[null,227,31,29,81,24,113,151,107,93,153,225,50,71,94,3,106,19,228,121,41,58,41,255,106,13,101,225,2,56]
[null,74,103,14,48,18,38,23,83,2,96,41,128,126,23,2,76,97,114,15,84,79,33,56,118,68,65,17,143,42]
[null,241,33,105,213,27,96,210,100,186,240,31,248,244,1,250,156,170,196,196,161,195,155,158,181,182,143,209,208,242]
[null,1,41,42,167,121,73,30,12,109,101,155,256,156,8,156,251,126,97,193,124,196,227,67,194,151,241,118,193,222]
[null,224,29,227,195,49,11,220,114,236,164,105,41,147,16,209,44,17,205,144,178,218,216,194,182,248,112,92,253,19]
[null,10,14,155,253,66,70,13,95,221,117,216,58,154,32,196,108,92,17,208,197,203,153,57,205,143,55,218,156,1]
[null,175,81,100,19,54,19,237,153,89,48,114,186,197,64,242,216,128,235,108,182,41,163,243,186,37,219,240,170,228]
[null,42,13,12,29,25,36,76,216,34,140,163,162,155,69,222,148,23,42,168,111,25,144,62,213,6,159,72,249,144]
[null,178,107,144,53,124,125,175,227,132,107,100,6,148,61,192,24,220,256,220,179,11,246,188,187,48,23,85,154,88]
[null,50,83,163,83,67,20,90,155,40,239,246,100,227,78,225,25,148,138,238,199,12,158,121,148,21,70,133,188,44]
[null,140,6,19,99,56,158,147,96,209,159,125,170,106,68,237,89,210,15,164,35,239,238,198,214,199,153,212,27,181]
[null,63,116,36,46,101,246,14,73,130,65,238,192,133,112,243,114,223,154,183,125,187,133,82,197,150,144,12,59,229]
[null,203,104,133,34,128,144,154,11,147,184,19,122,26,7,149,231,91,92,231,6,254,222,203,245,123,60,26,68,124]
[null,6,98,238,100,86,163,94,70,190,4,222,43,89,60,143,146,73,145,256,56,177,239,131,198,185,104,131,67,52]
[null,246,87,96,145,53,153,136,239,77,17,11,205,51,92,174,86,49,61,248,83,42,188,204,217,88,191,162,32,237]
[null,85,126,73,144,52,216,88,222,125,211,188,178,13,4,228,35,103,167,169,36,9,247,58,244,100,149,74,15,169]
[null,245,113,247,226,122,227,219,133,42,8,96,118,59,62,249,179,229,112,210,142,118,185,189,225,112,42,68,25,12]
[null,59,38,188,136,72,155,109,238,56,128,185,114,7,17,145,163,212,254,153,46,90,162,122,166,24,76,230,1,70]
[null,226,88,53,176,162,27,173,56,38,163,122,229,229,93,127,171,172,127,9,93,226,186,90,28,153,45,217,114,218]
[null,101,84,52,133,185,121,96,101,105,56,186,218,252,39,104,213,135,25,100,11,180,136,195,82,177,30,59,177,210]
[null,217,55,136,254,247,49,232,128,15,198,53,68,136,34,227,122,80,195,113,17,231,206,72,17,211,158,84,202,61]
[null,38,22,186,209,188,66,50,86,11,146,206,112,191,58,141,40,59,51,86,87,230,205,252,80,250,184,138,224,75]
[null,229,10,56,56,239,54,214,205,219,67,128,152,142,5,107,181,20,250,72,96,80,172,53,91,18,22,161,164,234]
[null,14,46,101,71,222,25,5,206,237,227,172,194,194,35,214,187,133,67,45,107,5,130,246,49,66,150,61,161,195]
[null,213,71,130,140,133,124,166,136,187,68,56,38,257,57,142,5,181,201,116,20,48,157,28,128,71,231,81,185,32]
[null,69,89,172,51,238,67,67,186,168,158,157,17,247,48,186,83,192,133,1,120,84,202,128,74,92,257,135,139,8]
[null,182,2,54,52,158,202,243,27,127,132,124,137,82,120,203,61,152,98,112,218,147,191,44,40,227,61,239,8,175]
[null,133,30,25,146,246,157,11,121,33,26,191,224,86,82,139,126,180,202,104,119,138,134,192,70,247,125,63,64,156]
[null,183,50,134,76,144,130,140,49,13,195,54,21,37,102,176,149,115,85,22,211,184,233,116,75,141,224,73,38,64]
[null,112,118,191,54,163,172,51,66,108,51,233,24,5,79,248,195,6,123,115,244,219,204,149,2,214,179,136,18,113]
[null,198,59,27,190,153,205,160,204,143,7,49,238,49,43,245,51,40,65,23,189,76,192,59,39,84,120,132,62,122]
[null,53,110,121,138,216,206,68,233,124,204,192,244,19,65,122,158,93,217,8,245,95,209,147,43,69,29,27,49,172]
[null,152,24,209,166,227,136,242,134,199,87,27,94,94,85,150,210,226,81,49,204,83,137,105,19,22,218,75,43,65]
[null,94,18,192,222,155,186,27,191,156,136,137,52,69,119,189,240,201,149,30,176,113,231,221,9,17,148,203,93,23]
[null,108,76,43,218,1,93,148,120,203,155,85,253,150,231,22,211,221,221,222,228,75,139,250,144,205,209,172,35,78]
[null,215,109,65,245,8,39,65,82,198,108,139,147,183,137,19,199,160,100,156,187,131,173,10,55,145,243,25,132,13]
[null,48,111,173,194,16,34,234,102,189,176,43,117,241,209,110,41,116,203,206,242,44,193,212,59,163,3,109,40,166]
[null,202,9,139,246,32,58,106,79,240,104,193,61,137,192,58,66,118,39,182,148,77,215,14,93,178,4,147,37,187]
[null,15,44,120,72,64,5,141,215,28,70,102,196,168,204,134,242,137,245,245,210,222,179,178,135,36,207,150,82,73]
[null,197,108,82,62,69,35,41,193,23,212,179,145,224,233,83,219,113,9,224,239,221,156,40,151,78,195,110,135,74]
[null,54,80,156,11,61,57,174,173,7,119,120,123,173,134,24,37,208,224,203,152,154,176,177,12,136,82,64,109,249]
[null,130,74,179,85,78,48,69,139,29,179,176,25,166,191,23,10,228,64,212,206,245,138,36,104,56,57,137,53,177]
[null,97,75,5,130,68,138,167,93,255,206,57,156,77,202,96,94,230,78,214,51,64,210,167,18,124,164,215,145,76]
[null,200,99,35,116,112,176,81,39,214,75,210,254,119,157,46,75,214,130,255,31,114,201,92,127,144,247,7,134,118]
[null,79,15,201,60,7,156,150,34,213,185,5,116,128,130,42,177,52,89,170,29,66,223,209,32,246,69,24,238,138]
[null,123,97,210,25,60,179,7,58,211,21,223,98,45,172,12,120,54,150,166,73,85,253,7,1,138,80,191,213,167]
[null,44,127,93,179,92,215,248,253,31,13,34,134,28,205,35,137,74,76,194,32,162,200,245,68,109,256,207,189,79]
[null,193,26,39,162,4,193,134,223,25,224,200,149,113,206,52,101,27,239,221,1,141,224,85,52,14,167,52,207,96]
[null,66,106,224,148,62,173,137,201,75,42,93,19,131,136,70,204,245,139,246,33,160,219,225,87,118,18,37,157,208]
[null,124,117,200,119,17,139,95,210,96,196,219,126,41,186,101,232,246,190,119,15,240,165,31,98,82,98,204,217,189]
[null,73,123,92,181,165,1,230,68,62,160,62,165,206,162,25,237,189,238,93,113,47,241,34,204,229,32,255,71,106]
[null,169,21,4,219,219,8,131,112,64,90,241,193,143,185,73,245,255,1,97,45,100,196,184,162,216,48,103,16,3]
[null,84,37,196,223,224,16,155,7,43,234,92,18,178,247,112,23,96,214,4,28,31,254,47,227,186,186,30,55,205]
[null,254,91,241,161,200,32,29,60,46,41,254,107,184,188,95,1,95,5,131,42,1,166,215,138,131,181,216,111,151]
[null,39,115,68,75,253,64,178,166,197,20,7,201,222,239,64,212,5,185,134,70,199,198,21,212,93,53,153,100,33]
[null,251,90,112,8,223,69,120,254,242,187,198,209,201,222,61,225,83,72,11,92,237,251,229,173,27,47,69,120,125]
[null,30,3,251,15,201,61,204,196,208,44,68,90,231,133,111,96,227,199,109,115,201,146,24,177,50,246,53,19,238]
[null,144,40,198,6,210,78,1,241,223,226,146,77,162,238,18,115,169,71,70,132,135,190,169,202,139,244,248,84,223]
[null,19,63,64,7,138,190,218,1,113,248,61,243,10,158,103,72,222,101,81,167,106,180,115,180,233,24,193,201,97]
[null,160,47,69,73,176,146,74,8,120,2,180,222,33,246,88,2,240,171,95,184,15,197,155,113,162,102,71,137,121]
[null,110,45,197,3,156,251,236,16,14,220,64,47,65,144,40,145,2,52,117,191,43,189,88,216,217,123,76,229,241]
[null,154,28,180,95,179,198,53,32,78,12,189,79,117,163,92,180,1,247,59,240,109,194,175,143,219,122,208,247,158]
[null,46,77,1,231,215,166,224,194,175,72,16,227,93,153,5,31,67,3,14,203,143,226,76,229,2,131,250,167,94]
[null,158,51,8,257,193,254,105,189,166,177,226,150,25,216,1,92,34,170,111,172,122,242,231,253,35,66,4,255,15]
[null,116,94,242,149,173,196,238,197,114,85,1,16,23,227,57,255,190,24,132,248,250,250,84,156,51,183,21,222,213]
[null,235,23,226,154,139,241,100,180,177,200,250,71,100,155,48,170,153,211,77,157,161,257,162,224,85,194,236,142,139]
[null,211,257,77,228,76,123,3,63,232,203,94,37,35,33,105,141,248,222,68,168,164,235,172,237,91,239,219,214,256]
[null,25,250,51,238,109,21,254,47,172,61,235,46,84,41,6,200,234,110,18,163,157,164,93,228,55,214,94,133,254]
[null,236,242,164,157,111,37,17,45,137,244,77,250,18,29,38,6,94,155,60,233,229,207,254,153,63,86,38,155,58]
[null,16,226,235,103,9,91,221,28,164,43,207,257,118,14,132,85,84,29,67,144,197,181,119,147,52,132,165,162,26]
[null,230,194,63,106,44,115,70,181,19,39,45,70,87,81,106,198,39,168,71,181,14,230,151,122,232,190,210,166,190]
[null,72,189,47,38,108,90,192,207,98,169,230,84,2,13,121,254,81,124,58,237,38,213,51,195,242,238,62,159,142]
[null,163,197,213,21,80,3,61,164,97,30,63,185,149,107,7,74,243,225,83,190,45,211,160,238,257,128,23,173,28]
[null,103,180,230,89,74,40,181,235,65,174,211,189,32,83,135,123,194,14,103,205,53,195,45,242,238,87,213,246,59]
[null,139,190,115,10,75,195,113,123,122,222,3,59,198,6,39,22,188,45,61,105,209,218,179,174,7,139,169,72,150]
[null,5,146,90,93,99,211,195,21,155,109,218,55,215,116,128,28,202,183,56,88,151,255,101,157,75,253,124,90,163]
[null,149,251,255,28,15,213,52,37,174,148,115,159,210,104,56,189,43,16,73,123,132,168,156,211,3,88,36,33,80]
[null,107,198,218,31,97,230,252,91,119,23,168,226,190,98,29,159,90,208,53,58,208,143,9,210,103,95,252,60,14]
[null,136,166,123,236,127,181,8,143,116,91,37,13,246,87,81,19,63,46,63,26,68,167,241,222,191,140,243,13,209]
[null,70,254,21,217,26,207,176,168,12,116,167,89,250,126,4,93,8,181,25,104,108,221,132,192,254,169,119,30,148]
[null,223,196,221,215,106,164,9,255,63,40,123,230,255,113,68,208,179,38,47,150,103,237,117,207,126,38,79,76,93]
[null,117,241,167,153,117,235,198,218,67,252,237,184,208,38,125,191,119,164,79,81,17,135,95,155,200,137,224,14,85]
[null,171,165,127,191,135,76,35,75,66,161,106,44,97,88,79,246,147,141,219,37,176,141,22,23,34,78,245,234,231]
[null,93,219,26,174,237,109,180,99,9,88,141,22,81,84,100,139,251,58,167,118,167,152,150,119,33,59,146,237,233]
[null,247,224,152,151,221,111,56,15,107,175,127,232,54,55,59,90,87,226,253,49,198,232,106,121,43,225,142,153,117]
[null,51,200,141,178,167,9,215,97,117,33,232,204,56,22,45,53,104,105,152,98,238,131,228,57,9,202,175,197,127]
[null,209,253,75,17,143,44,33,131,179,29,15,27,112,10,63,151,138,143,180,65,16,161,99,65,188,50,181,146,191]
[null,9,223,99,102,168,108,256,232,185,133,161,56,83,46,97,202,114,48,223,43,56,243,135,95,218,46,78,216,204]
[null,181,201,243,132,255,80,42,152,231,143,75,216,70,71,94,118,217,178,135,78,87,159,16,108,228,162,128,248,51]
[null,82,210,161,37,218,74,203,141,140,172,159,251,99,89,77,49,151,69,178,63,65,183,247,3,172,155,253,235,43]
[null,232,138,44,124,195,183,93,76,24,145,80,63,214,2,78,73,242,96,189,235,232,184,78,97,83,13,167,87,126]
[null,8,176,108,98,211,159,143,109,88,80,184,133,219,30,114,17,136,175,192,255,225,178,216,100,106,84,60,86,240]
[null,153,156,178,61,213,243,86,111,4,253,44,173,196,50,65,167,75,99,229,159,139,150,32,25,61,173,90,66,11]
[null,62,179,184,123,230,161,157,9,74,127,150,161,236,118,74,188,65,218,230,137,188,214,223,62,77,196,214,6,41]
[null,147,215,76,170,181,131,73,214,241,111,111,103,200,59,53,124,72,26,234,186,110,249,50,8,148,37,154,28,224]
[null,71,193,109,225,207,232,227,150,217,209,249,101,203,110,26,127,53,126,227,208,30,147,190,11,171,111,87,46,252]
[null,240,173,147,188,164,152,119,178,163,69,76,182,249,24,120,215,134,122,252,254,24,149,19,73,161,227,14,122,101]
[null,33,139,249,172,235,141,169,184,154,201,149,235,135,18,34,155,196,156,241,149,3,182,144,22,160,204,160,89,66]
[null,99,231,59,189,33,88,116,2,167,213,24,78,78,182,160,238,187,151,98,224,67,240,233,26,74,223,143,108,31]
[null,168,137,110,180,41,84,222,30,146,1,240,67,163,149,169,147,211,84,26,146,92,234,39,69,101,250,47,107,112]
[null,2,209,234,214,29,55,47,50,222,135,59,171,72,147,168,98,60,231,32,136,121,148,232,50,60,26,16,52,176]
[null,132,192,240,216,14,22,186,118,201,59,148,228,47,249,244,65,14,49,125,183,86,199,1,35,23,43,227,127,174]
[null,92,204,2,47,81,10,25,199,51,114,50,48,88,214,187,190,61,215,110,158,248,140,238,15,213,185,223,95,99]
[null,194,233,30,65,13,46,196,148,6,182,140,110,134,150,167,161,55,7,122,130,159,208,77,58,169,152,2,26,62]
[null,68,134,208,94,107,71,57,234,20,22,2,225,120,178,172,64,157,184,21,173,156,228,138,67,154,21,117,128,153]
[null,172,191,140,55,83,89,130,240,76,242,228,183,20,184,171,14,213,79,101,256,189,256,75,27,220,93,201,58,201]
[null,88,202,10,18,6,256,114,88,228,134,71,91,220,183,238,116,254,18,40,103,105,169,164,24,49,142,200,152,72]
[null,180,157,46,26,116,228,212,84,148,64,169,139,157,159,183,15,158,252,151,102,125,187,23,4,121,145,9,184,22]
[null,102,130,187,127,104,208,87,55,100,233,10,143,218,243,230,249,102,111,41,7,22,212,148,126,64,52,82,160,143]
[null,238,172,169,16,98,140,126,22,206,53,212,213,216,161,241,220,85,192,19,89,142,248,113,86,62,6,192,210,198]
[null,21,205,88,171,87,199,59,248,99,27,55,83,228,131,207,30,99,116,87,39,146,236,125,83,179,251,159,254,103]
[null,127,206,84,208,126,148,209,212,135,249,236,120,179,232,211,36,51,204,7,5,252,203,61,38,133,141,80,141,123]
[null,121,136,203,235,113,234,75,187,58,78,88,198,153,152,215,154,236,28,82,57,130,174,206,37,156,124,11,183,212]
[null,145,186,236,234,38,240,133,169,5,165,174,223,212,141,182,196,237,246,99,44,204,170,87,125,230,71,188,180,130]
[null,24,162,87,201,170,33,71,6,106,152,113,82,73,135,217,250,149,198,162,12,46,220,97,149,19,16,145,17,109]
[null,138,185,126,141,174,41,159,116,82,15,220,3,16,237,173,226,176,21,140,27,2,145,154,124,99,92,100,110,39]
[null,91,247,145,256,203,29,64,104,53,181,87,177,21,221,247,57,112,227,173,127,89,132,5,251,46,161,56,79,253]
[null,231,188,220,137,236,14,246,98,10,137,132,131,91,167,178,11,26,10,216,60,93,171,185,112,5,168,170,83,171]
[null,96,239,6,66,248,81,45,171,257,138,104,12,63,143,165,203,11,236,174,117,170,160,38,141,193,107,163,31,55]
[null,143,222,116,9,212,13,240,132,188,192,160,104,107,168,231,153,150,70,138,24,206,154,240,248,243,81,20,39,38]
[null,40,133,154,90,187,107,19,145,173,50,6,219,24,255,140,34,127,165,184,38,235,142,65,142,204,222,107,63,168]
[null,255,238,160,14,169,83,135,220,204,156,142,207,98,218,191,80,200,106,207,22,124,252,146,159,164,249,156,54,160]
[null,67,158,81,74,256,252,32,33,32,221,107,86,182,195,208,128,216,95,204,164,7,175,41,170,90,83,257,211,7]
[null,201,246,13,108,228,142,179,41,48,35,175,105,144,211,159,82,249,223,128,196,73,151,256,169,32,41,114,251,104]
[null,36,144,151,147,208,154,102,29,87,255,81,249,192,213,204,174,25,82,225,194,34,245,124,179,57,200,106,181,211]
[null,221,163,175,58,140,160,146,14,80,28,245,163,254,230,221,229,33,137,215,249,72,177,210,168,128,248,157,140,221]
[null,52,153,33,199,199,171,58,177,157,11,29,92,205,181,226,52,76,118,242,250,223,244,118,252,147,25,226,178,10]
[null,177,216,41,143,148,132,161,245,250,166,244,11,243,207,198,125,117,172,201,192,207,229,187,164,142,28,29,236,111]
[null,31,227,229,177,234,145,107,151,165,105,33,208,187,164,255,152,239,30,137,217,200,217,3,152,245,157,33,256,202]
[null,184,155,244,210,240,220,235,175,256,162,217,130,132,235,256,182,161,144,243,174,179,225,202,140,190,193,241,115,216]
[null,62,62,231,17,103,48,100,227,162,49,16,225,257,10,14,76,88,158,63,18,153,50,115,77,102,97,8,72,45]
[null,161,65,137,257,31,228,191,103,185,140,36,217,250,2,102,107,132,246,62,157,216,65,17,64,7,134,102,149,91]
[null,53,114,209,34,42,38,64,153,247,166,239,229,242,217,111,10,241,144,40,94,31,5,146,76,214,80,49,22,63]
[null,241,50,192,248,105,245,201,42,188,40,257,244,226,200,104,115,166,163,55,141,103,102,203,53,150,61,62,37,5]
[null,23,150,204,83,95,21,15,144,239,18,30,177,194,72,61,221,130,105,217,210,158,88,39,72,42,76,16,169,239]
[null,216,90,233,216,114,182,196,95,222,186,114,245,189,96,103,252,235,42,233,118,246,9,99,45,110,147,36,224,229]
[null,2,38,134,80,12,83,70,158,133,173,170,151,197,252,110,210,38,31,247,151,114,104,235,71,234,79,66,126,205]
[null,120,20,191,208,100,168,137,12,238,125,214,175,180,158,31,237,110,103,246,19,95,70,188,110,233,59,33,218,175]
[null,243,94,202,118,20,111,60,133,100,46,77,252,190,88,152,59,48,162,19,99,239,231,105,44,169,223,21,49,159]
[null,104,75,157,195,125,244,176,20,12,246,29,142,146,66,125,108,35,185,71,193,222,199,114,61,144,133,15,128,212]
[null,166,27,130,55,36,104,55,239,114,232,134,154,251,136,232,135,167,247,4,74,125,190,198,13,27,252,109,111,224]
[null,113,2,172,252,19,164,127,36,95,127,206,160,198,215,169,73,185,188,81,254,20,191,154,60,112,202,115,68,158]
[null,197,10,205,12,70,122,54,247,105,96,21,171,166,53,207,170,209,19,216,241,162,226,67,41,172,175,84,181,113]
[null,91,89,206,173,11,170,200,70,42,184,89,132,254,80,245,158,155,36,249,47,185,243,109,14,223,222,30,133,114]
[null,146,48,136,13,73,39,69,162,31,190,246,145,196,140,199,146,29,125,140,250,11,233,216,33,79,116,9,216,32]
[null,4,105,186,199,96,149,136,73,103,28,188,220,241,144,251,234,46,20,168,130,70,257,182,92,95,212,113,202,122]
[null,131,249,96,32,72,85,168,136,231,41,40,170,165,29,29,105,86,202,32,95,205,144,213,230,87,165,131,220,82]
[null,233,158,73,157,122,162,63,72,137,199,48,174,219,40,6,81,123,157,78,202,206,81,228,176,45,247,154,153,125]
[null,63,145,11,41,52,26,186,205,209,174,197,203,224,190,122,47,178,130,27,60,122,56,100,241,136,241,31,243,4]
[null,207,172,70,220,53,208,6,52,192,120,183,236,200,146,67,8,199,172,28,112,72,34,74,178,218,171,117,247,49]
[null,8,186,19,29,86,44,205,130,204,97,24,248,253,106,116,240,238,53,178,191,202,94,236,167,77,162,151,39,202]
[null,191,213,36,244,128,253,12,86,233,197,63,212,223,64,64,192,125,52,253,31,157,97,108,209,71,151,44,21,187]
[null,57,142,125,45,101,92,230,202,134,177,226,187,201,220,1,187,77,122,210,190,128,73,27,130,253,238,116,71,118]
[null,125,257,20,189,56,191,130,101,191,123,250,169,210,241,11,166,66,72,174,100,86,119,1,184,175,138,72,90,207]
[null,160,146,100,76,67,15,214,134,56,19,83,256,138,121,176,31,106,231,111,126,204,250,197,218,197,40,55,131,206]
[null,56,154,12,125,124,247,66,67,101,195,102,228,176,34,172,11,78,137,120,232,233,194,133,188,132,139,119,225,112]
[null,173,236,114,75,25,118,142,204,128,185,194,208,156,237,221,117,143,209,74,63,124,220,34,183,109,47,82,245,182]
[null,135,143,95,146,54,207,109,25,86,122,145,140,179,234,253,44,252,192,39,207,67,240,79,256,63,14,10,150,204]
[null,193,235,105,60,66,98,199,209,53,126,136,199,215,20,209,174,218,54,182,251,231,196,138,219,207,69,13,115,68]
[null,41,250,42,205,49,190,111,66,52,231,86,148,193,14,239,189,165,25,163,54,137,209,229,215,100,13,136,134,120]
[null,177,209,31,106,121,16,153,231,122,183,193,234,173,164,164,236,32,124,175,171,49,215,40,239,48,54,108,59,92]
[null,109,228,103,164,27,231,37,121,72,55,235,240,139,206,189,241,57,67,145,122,66,165,110,249,18,82,69,102,36]
[null,37,36,257,150,119,110,8,173,165,86,180,182,27,5,108,53,37,138,183,103,215,223,49,114,47,30,236,55,40]
[null,158,102,250,43,85,193,248,119,219,233,245,149,121,111,75,113,98,176,127,150,193,126,15,203,59,71,239,60,13]
[null,55,52,242,210,65,24,46,215,224,149,92,147,49,141,17,95,142,156,214,82,85,218,255,199,217,16,148,69,64]
[null,219,76,226,56,43,152,244,65,200,111,71,249,66,197,121,80,140,179,181,154,119,221,254,165,192,110,200,18,12]
[null,13,13,194,243,79,117,80,156,253,108,185,214,54,62,90,222,121,43,36,188,138,176,51,123,16,48,124,230,186]
[null,249,34,189,61,102,217,218,79,223,148,184,150,25,113,34,180,145,65,37,46,176,123,63,107,39,19,175,235,196]
[null,34,55,197,204,82,84,81,138,201,194,9,178,124,135,85,122,50,85,104,139,102,149,176,246,221,106,234,251,247]
[null,194,46,180,128,120,189,222,82,210,121,81,184,67,233,92,202,30,119,13,79,79,205,201,154,248,52,235,229,173]
[null,180,44,190,161,48,91,91,201,120,43,182,183,56,102,181,134,28,165,194,52,253,113,94,240,164,207,162,3,128]
[null,128,3,146,58,57,177,166,48,82,251,140,159,101,4,139,114,44,219,144,183,223,124,11,131,183,227,212,44,142]
[null,169,88,251,179,35,108,49,253,102,234,120,243,128,142,130,12,206,224,192,73,57,20,189,226,81,229,216,45,198]
[null,108,92,198,135,5,251,251,35,79,67,91,161,86,160,213,120,204,200,173,237,48,45,178,257,138,185,246,47,233]
[null,182,64,166,214,58,10,13,224,43,51,179,131,53,124,230,149,184,5,96,245,165,69,2,190,121,226,223,227,79]
[null,19,37,254,65,34,124,173,58,65,206,162,232,52,109,145,244,231,35,117,34,219,51,91,206,157,257,206,233,96]
[null,119,12,196,192,39,121,33,165,85,221,50,152,122,239,127,140,13,57,98,216,34,101,240,171,54,225,188,183,110]
[null,68,139,241,134,93,163,227,39,119,54,69,141,72,132,217,176,12,48,18,62,58,41,160,160,26,243,157,162,139]
[null,20,165,93,185,17,28,224,196,257,3,152,135,96,93,52,29,69,190,211,98,166,187,226,54,21,145,233,196,77]
[null,257,161,39,89,62,127,74,17,250,155,255,237,73,65,115,42,3,146,158,168,254,242,210,96,13,213,185,194,39]
[null,44,254,34,174,4,103,211,166,242,228,53,221,11,240,80,72,162,251,227,24,62,203,72,31,235,230,146,215,35]
[null,253,127,58,4,92,229,43,4,226,42,107,167,70,151,74,127,163,198,257,217,17,147,77,120,257,216,163,212,97]
[null,73,124,5,219,60,80,237,251,194,105,225,143,19,57,36,165,253,92,59,238,190,158,205,46,46,188,194,61,183]
[null,186,247,35,7,7,138,29,60,189,189,133,168,36,49,57,231,175,4,21,71,146,138,211,85,33,166,197,16,250]
[null,59,149,57,228,112,54,234,190,197,205,20,255,125,168,27,208,31,62,57,214,7,239,12,81,162,143,147,50,243]
[null,187,188,48,114,68,257,89,112,180,10,35,218,20,181,96,119,89,17,123,32,60,174,14,56,143,126,240,35,252]
[null,157,177,120,239,78,40,143,197,68,65,161,195,100,15,248,25,36,257,152,10,194,57,234,78,186,91,155,145,251]
[null,87,163,82,98,61,184,103,78,112,187,137,211,12,36,225,96,18,250,243,256,189,121,156,145,256,74,170,138,185]
[null,206,141,102,148,69,22,170,194,7,182,17,213,114,211,193,41,256,242,215,38,61,29,135,42,113,67,218,244,255]
[null,11,199,79,104,64,205,83,69,60,50,100,230,95,179,141,39,257,226,149,246,78,11,136,115,78,18,166,180,163]
[null,255,244,43,212,32,34,182,242,92,8,164,181,105,31,165,256,191,64,115,186,257,91,127,29,227,55,253,83,27]
[null,88,147,65,100,16,153,27,32,4,254,243,207,42,108,233,223,224,69,136,81,250,3,192,5,166,86,257,92,1]
[null,234,126,85,142,8,20,174,257,62,237,45,164,31,242,235,207,68,61,8,173,16,36,75,102,3,10,201,144,109]
[null,47,181,119,23,1,158,96,8,17,22,119,235,103,187,158,173,105,78,97,58,32,116,64,34,88,101,210,81,104]
[null,36,190,182,47,23,255,86,164,135,39,2,1,225,221,223,167,10,195,94,55,181,44,19,21,117,90,153,26,30]
[null,148,240,149,233,94,4,165,23,237,164,4,8,217,212,174,203,24,211,101,197,207,125,44,30,58,95,252,86,20]
[null,103,198,147,22,51,241,4,181,221,220,200,16,229,8,240,195,164,213,29,14,94,103,172,105,252,25,220,121,101]
[null,229,191,249,242,77,37,139,51,167,93,232,32,244,1,140,206,174,230,61,215,23,96,126,111,173,114,126,94,155]
[null,90,187,214,28,28,188,107,213,143,48,68,64,177,188,171,26,219,77,244,219,195,92,68,136,60,77,152,239,152]
[null,134,200,150,186,45,66,207,28,168,196,116,69,245,174,256,16,177,51,220,89,211,99,20,63,4,21,137,160,220]
[null,33,175,178,95,47,197,98,195,255,235,230,61,151,73,109,1,15,94,213,228,45,85,130,20,184,68,251,161,237]
[null,244,155,184,155,63,77,213,47,218,45,199,78,175,69,226,20,64,23,205,84,28,12,171,16,135,53,123,193,169]
[null,213,197,183,119,40,145,79,255,63,89,108,68,252,199,60,251,70,135,49,36,143,186,119,84,236,153,219,136,248]
[null,75,202,159,253,3,63,157,40,47,134,95,112,142,203,43,183,56,237,107,149,168,168,5,101,230,170,130,103,165]
[null,242,185,243,109,90,206,102,143,45,222,178,7,154,99,48,255,215,221,126,110,3,225,170,47,69,135,202,84,230]
[null,50,205,161,151,115,6,249,90,28,6,244,60,160,32,68,155,168,167,50,235,40,198,163,48,99,200,229,139,227]
[null,212,195,131,122,91,250,17,221,77,15,49,92,171,245,12,67,195,115,190,167,135,245,118,36,239,232,177,142,22]
[null,77,233,232,188,37,82,126,91,51,139,110,4,132,169,8,4,250,90,150,142,237,228,89,66,165,154,254,246,41]
[null,220,211,152,35,21,249,141,135,94,179,165,62,145,28,3,132,79,3,155,218,37,182,220,51,50,108,190,195,43]
[null,94,179,141,141,123,60,163,21,23,34,173,17,220,74,50,58,139,40,241,6,91,244,121,103,67,177,133,191,105]
[null,117,39,123,87,117,223,236,152,182,13,27,93,170,214,161,224,111,183,82,97,131,24,180,235,12,221,179,192,67]
[null,200,91,21,165,106,78,108,117,149,112,25,39,174,236,177,225,7,159,91,170,232,21,199,139,119,140,158,249,84]
[null,32,5,37,11,26,202,152,131,147,116,141,34,203,26,204,215,171,243,60,83,106,105,33,137,168,209,199,151,107]
[null,153,106,91,207,127,43,30,26,249,83,131,58,236,54,202,249,154,161,20,225,117,61,56,201,205,160,213,141,80]
[null,115,78,115,49,97,225,159,243,214,77,67,5,248,231,146,70,120,127,242,229,183,112,208,193,107,193,195,79,241]
[null,210,35,90,249,15,2,123,97,150,180,54,35,212,202,175,40,144,26,202,125,159,42,212,163,56,215,161,73,156]
[null,80,123,3,77,99,216,242,183,178,130,207,57,187,42,188,30,41,106,171,115,15,10,96,150,140,180,164,27,126]
[null,189,80,40,176,75,55,11,99,184,5,215,48,169,7,159,86,107,117,193,86,97,23,103,255,209,195,181,118,221]
[null,162,69,63,26,74,165,180,178,75,91,132,120,256,195,44,175,16,182,26,113,214,171,245,161,185,23,180,234,134]
[null,83,66,47,250,80,115,42,74,99,198,18,82,228,125,39,152,122,149,33,178,150,172,174,158,241,3,144,170,160]
[null,159,29,45,105,108,172,226,214,15,168,247,102,208,85,62,197,183,147,119,5,80,192,85,233,91,99,193,254,197]
[null,40,28,28,196,44,101,35,108,97,44,217,79,140,97,22,181,193,249,70,131,74,252,62,196,70,121,184,184,135]
[null,232,24,77,111,9,185,208,147,127,104,34,43,199,155,58,110,186,44,148,147,182,230,221,250,134,72,205,17,88]
[null,132,31,51,187,111,31,68,9,26,171,6,65,148,157,55,87,205,108,228,49,149,212,147,247,131,50,232,41,33]
[null,136,6,94,18,109,139,239,182,106,244,157,85,234,76,9,97,124,80,234,189,111,136,31,185,43,4,138,95,70]
[null,102,17,23,225,76,89,114,109,117,98,192,119,240,23,123,98,62,74,255,57,9,169,54,236,103,109,224,104,86]
[null,107,160,225,159,18,142,25,234,170,115,227,27,76,180,180,184,71,256,191,45,199,150,35,232,20,34,98,91,69]
[null,174,232,217,90,24,36,219,18,174,211,146,121,109,191,95,157,47,228,166,257,148,151,8,189,111,112,89,112,78]
[null,27,226,229,256,110,211,26,199,203,242,82,49,111,87,186,198,198,208,137,123,24,206,232,208,160,122,90,36,44]
[null,209,133,244,126,59,72,257,110,236,31,84,66,9,30,211,235,244,140,172,199,18,131,215,223,193,75,14,57,42]
[null,43,148,177,166,118,233,20,208,248,35,159,54,44,210,170,45,197,59,10,144,256,163,73,243,68,100,71,207,211]
[null,251,136,245,64,50,62,181,118,212,256,196,25,108,148,124,89,203,110,99,76,228,232,106,200,97,128,91,252,193]
[null,74,237,151,190,30,201,120,256,187,141,105,124,80,33,138,104,101,24,102,236,50,130,237,191,194,85,86,238,164]
[null,179,157,175,86,2,128,183,30,169,57,57,67,74,75,238,38,45,18,69,16,118,200,165,231,244,2,87,182,203]
[null,240,218,252,170,89,144,94,187,2,58,186,56,75,167,38,209,4,170,153,124,248,106,116,234,142,155,20,30,240]
[null,6,107,142,78,71,46,235,89,30,249,236,101,99,119,101,137,100,174,133,194,212,74,113,254,243,156,75,110,232]
[null,147,217,154,156,46,171,110,248,50,176,115,128,15,115,40,194,156,203,236,25,71,98,206,132,9,251,28,158,131]
[null,66,239,160,20,10,132,145,46,118,66,60,86,97,45,42,196,173,236,116,205,89,48,252,172,38,169,17,52,242]
[null,142,171,171,237,22,199,133,203,59,99,155,53,127,175,30,79,159,10,112,231,170,4,7,175,228,219,51,159,87]
[null,54,251,132,131,55,49,197,22,110,178,135,52,26,138,79,125,207,46,6,9,174,117,117,220,222,253,47,123,50]
[null,230,176,145,137,84,183,52,170,24,247,46,122,106,60,105,102,22,71,128,180,55,75,134,221,104,201,43,200,23]
[null,12,159,220,113,88,125,171,84,18,70,128,72,117,35,46,28,21,89,54,93,22,78,187,133,62,214,76,253,24]
[null,60,96,88,234,38,187,161,145,225,113,149,96,123,176,185,239,109,252,212,106,171,241,242,109,8,246,41,152,57]
[null,237,118,84,120,113,99,104,38,217,158,219,73,21,255,242,159,82,142,256,243,132,148,166,134,32,231,85,176,117]
[null,31,85,55,167,126,194,253,171,229,202,5,11,37,81,237,212,146,154,169,77,113,179,97,7,201,131,11,205,2]
[null,248,42,22,27,87,12,73,126,244,88,87,70,91,127,167,253,232,160,165,121,38,175,90,146,247,198,80,248,121]
[null,22,84,10,162,98,213,220,154,177,95,203,19,115,246,195,65,247,87,88,120,252,227,151,117,55,141,93,1,192]
[null,188,120,46,115,104,18,18,98,245,238,220,36,90,154,151,15,108,126,52,66,142,219,177,10,105,234,27,70,249]
[null,93,74,71,218,116,239,193,252,151,151,90,125,3,39,234,54,131,113,23,208,104,195,36,116,224,220,118,85,168]
[null,152,51,89,3,6,123,112,116,175,102,98,20,40,51,160,94,58,38,134,102,98,204,9,99,178,236,67,54,244]
[null,163,54,2,191,83,226,217,151,6,1,251,100,63,172,76,168,42,225,251,37,177,47,175,88,130,94,50,226,184]
[null,35,130,30,57,107,79,2,83,116,144,154,12,47,153,114,226,9,217,185,223,245,7,217,89,176,62,99,210,150]
[null,176,33,50,222,13,156,134,177,104,152,47,114,45,9,66,201,233,229,224,3,107,77,58,79,84,64,54,171,111]
[null,121,43,118,37,81,112,48,13,98,101,37,95,28,95,4,130,225,244,186,230,83,118,10,90,29,9,37,178,200]
[null,140,16,59,206,14,200,140,229,87,32,248,105,77,166,53,111,182,81,35,247,225,80,233,6,206,8,32,101,59]
[null,86,57,110,81,29,97,71,14,126,229,147,42,51,247,15,116,141,13,51,92,217,22,230,94,133,66,60,8,115]
[null,228,121,24,227,41,151,255,225,113,225,56,31,94,50,71,13,19,107,58,153,29,2,101,106,106,41,3,93,81]
[null,114,15,18,74,33,23,56,41,38,17,42,103,23,128,126,68,97,83,79,96,14,143,65,118,76,84,2,2,48]
[null,196,196,27,241,155,210,158,31,96,209,242,33,1,248,244,182,170,100,195,240,105,208,143,181,156,161,250,186,213]
[null,97,193,121,1,227,30,67,155,73,118,222,41,8,256,156,151,126,12,196,101,42,193,241,194,251,124,156,109,167]
[null,205,144,49,224,216,220,194,105,11,92,19,29,16,41,147,248,17,114,218,164,227,253,112,182,44,178,209,236,195]
[null,17,208,66,10,153,13,57,216,70,218,1,14,32,58,154,143,92,95,203,117,155,156,55,205,108,197,196,221,253]
[null,235,108,54,175,163,237,243,114,19,240,228,81,64,186,197,37,128,153,41,48,100,170,219,186,216,182,242,89,19]
[null,42,168,25,42,144,76,62,163,36,72,144,13,69,162,155,6,23,216,25,140,12,249,159,213,148,111,222,34,29]
[null,256,220,124,178,246,175,188,100,125,85,88,107,61,6,148,48,220,227,11,107,144,154,23,187,24,179,192,132,53]
[null,138,238,67,50,158,90,121,246,20,133,44,83,78,100,227,21,148,155,12,239,163,188,70,148,25,199,225,40,83]
[null,15,164,56,140,238,147,198,125,158,212,181,6,68,170,106,199,210,96,239,159,19,27,153,214,89,35,237,209,99]
[null,154,183,101,63,133,14,82,238,246,12,229,116,112,192,133,150,223,73,187,65,36,59,144,197,114,125,243,130,46]
[null,92,231,128,203,222,154,203,19,144,26,124,104,7,122,26,123,91,11,254,184,133,68,60,245,231,6,149,147,34]
[null,145,256,86,6,239,94,131,222,163,131,52,98,60,43,89,185,73,70,177,4,238,67,104,198,146,56,143,190,100]
[null,61,248,53,246,188,136,204,11,153,162,237,87,92,205,51,88,49,239,42,17,96,32,191,217,86,83,174,77,145]
[null,167,169,52,85,247,88,58,188,216,74,169,126,4,178,13,100,103,222,9,211,73,15,149,244,35,36,228,125,144]
[null,112,210,122,245,185,219,189,96,227,68,12,113,62,118,59,112,229,133,118,8,247,25,42,225,179,142,249,42,226]
[null,254,153,72,59,162,109,122,185,155,230,70,38,17,114,7,24,212,238,90,128,188,1,76,166,163,46,145,56,136]
[null,127,9,162,226,186,173,90,122,27,217,218,88,93,229,229,153,172,56,226,163,53,114,45,28,171,93,127,38,176]
[null,25,100,185,101,136,96,195,186,121,59,210,84,39,218,252,177,135,101,180,56,52,177,30,82,213,11,104,105,133]
[null,195,113,247,217,206,232,72,53,49,84,61,55,34,68,136,211,80,128,231,198,136,202,158,17,122,17,227,15,254]
[null,51,86,188,38,205,50,252,206,66,138,75,22,58,112,191,250,59,86,230,146,186,224,184,80,40,87,141,11,209]
[null,250,72,239,229,172,214,53,128,54,161,234,10,5,152,142,18,20,205,80,67,56,164,22,91,181,96,107,219,56]
[null,67,45,222,14,130,5,246,172,25,61,195,46,35,194,194,66,133,206,5,227,101,161,150,49,187,107,214,237,71]
[null,201,116,133,213,157,166,28,56,124,81,32,71,57,38,257,71,181,136,48,68,130,185,231,128,5,20,142,187,140]
[null,133,1,238,69,202,67,128,157,67,135,8,89,48,17,247,92,192,186,84,158,172,139,257,74,83,120,186,168,51]
[null,98,112,158,182,191,243,44,124,202,239,175,2,120,137,82,227,152,27,147,132,54,8,61,40,61,218,203,127,52]
[null,202,104,246,133,134,11,192,191,157,63,156,30,82,224,86,247,180,121,138,26,25,64,125,70,126,119,139,33,146]
[null,85,22,144,183,233,140,116,54,130,73,64,50,102,21,37,141,115,49,184,195,134,38,224,75,149,211,176,13,76]
[null,123,115,163,112,204,51,149,233,172,136,113,118,79,24,5,214,6,66,219,51,191,18,179,2,195,244,248,108,54]
[null,65,23,153,198,192,160,59,49,205,132,122,59,43,238,49,84,40,204,76,7,27,62,120,39,51,189,245,143,190]
[null,217,8,216,53,209,68,147,192,206,27,172,110,65,244,19,69,93,233,95,204,121,49,29,43,158,245,122,124,138]
[null,81,49,227,152,137,242,105,27,136,75,65,24,85,94,94,22,226,134,83,87,209,43,218,19,210,204,150,199,166]
[null,149,30,155,94,231,27,221,137,186,203,23,18,119,52,69,17,201,191,113,136,192,93,148,9,240,176,189,156,222]
[null,221,222,1,108,139,148,250,85,93,172,78,76,231,253,150,205,221,120,75,155,43,35,209,144,211,228,22,203,218]
[null,100,156,8,215,173,65,10,139,39,25,13,109,137,147,183,145,160,82,131,108,65,132,243,55,199,187,19,198,245]
[null,203,206,16,48,193,234,212,43,34,109,166,111,209,117,241,163,116,102,44,176,173,40,3,59,41,242,110,189,194]
[null,39,182,32,202,215,106,14,193,58,147,187,9,192,61,137,178,118,79,77,104,139,37,4,93,66,148,58,240,246]
[null,245,245,64,15,179,141,178,102,5,150,73,44,204,196,168,36,137,215,222,70,120,82,207,135,242,210,134,28,72]
[null,9,224,69,197,156,41,40,179,35,110,74,108,233,145,224,78,113,193,221,212,82,135,195,151,219,239,83,23,62]
[null,224,203,61,54,176,174,177,120,57,64,249,80,134,123,173,136,208,173,154,119,156,109,82,12,37,152,24,7,11]
[null,64,212,78,130,138,69,36,176,48,137,177,74,191,25,166,56,228,139,245,179,179,53,57,104,10,206,23,29,85]
[null,78,214,68,97,210,167,167,57,138,215,76,75,202,156,77,124,230,93,64,206,5,145,164,18,94,51,96,255,130]
[null,130,255,112,200,201,81,92,210,176,7,118,99,157,254,119,144,214,39,114,75,35,134,247,127,75,31,46,214,116]
[null,89,170,7,79,223,150,209,5,156,24,138,15,130,116,128,246,52,34,66,185,201,238,69,32,177,29,42,213,60]
[null,150,166,60,123,253,7,7,223,179,191,167,97,172,98,45,138,54,58,85,21,210,213,80,1,120,73,12,211,25]
[null,76,194,92,44,200,248,245,34,215,207,79,127,205,134,28,109,74,253,162,13,93,189,256,68,137,32,35,31,179]
[null,239,221,4,193,224,134,85,200,193,52,96,26,206,149,113,14,27,223,141,224,39,207,167,52,101,1,52,25,162]
[null,139,246,62,66,219,137,225,93,173,37,208,106,136,19,131,118,245,201,160,42,224,157,18,87,204,33,70,75,148]
[null,190,119,17,124,165,95,31,219,139,204,189,117,186,126,41,82,246,210,240,196,200,217,98,98,232,15,101,96,119]
[null,238,93,165,73,241,230,34,62,1,255,106,123,162,165,206,229,189,68,47,160,92,71,32,204,237,113,25,62,181]
[null,1,97,219,169,196,131,184,241,8,103,3,21,185,193,143,216,255,112,100,90,4,16,48,162,245,45,73,64,219]
[null,214,4,224,84,254,155,47,92,16,30,205,37,247,18,178,186,96,7,31,234,196,55,186,227,23,28,112,43,223]
[null,5,131,200,254,166,29,215,254,32,216,151,91,188,107,184,131,95,60,1,41,241,111,181,138,1,42,95,46,161]
[null,185,134,253,39,198,178,21,7,64,153,33,115,239,201,222,93,5,166,199,20,68,100,53,212,212,70,64,197,75]
[null,72,11,223,251,251,120,229,198,69,69,125,90,222,209,201,27,83,254,237,187,112,120,47,173,225,92,61,242,8]
[null,199,109,201,30,146,204,24,68,61,53,238,3,133,90,231,50,227,196,201,44,251,19,246,177,96,115,111,208,15]
[null,71,70,210,144,190,1,169,146,78,248,223,40,238,77,162,139,169,241,135,226,198,84,244,202,115,132,18,223,6]
[null,101,81,138,19,180,218,115,61,190,193,97,63,158,243,10,233,222,1,106,248,64,201,24,180,72,167,103,113,7]
[null,171,95,176,160,197,74,155,180,146,71,121,47,246,222,33,162,240,8,15,2,69,137,102,113,2,184,88,120,73]
[null,52,117,156,110,189,236,88,64,251,76,241,45,144,47,65,217,2,16,43,220,197,229,123,216,145,191,40,14,3]
[null,247,59,179,154,194,53,175,189,198,208,158,28,163,79,117,219,1,32,109,12,180,247,122,143,180,240,92,78,95]
[null,3,14,215,46,226,224,76,16,166,250,94,77,153,227,93,2,67,194,143,72,1,167,131,229,31,203,5,175,231]
[null,170,111,193,158,242,105,231,226,254,4,15,51,216,150,25,35,34,189,122,177,8,255,66,253,92,172,1,166,257]
[null,24,132,173,116,250,238,84,1,196,21,213,94,227,16,23,51,190,197,250,85,242,222,183,156,255,248,57,114,149]
[null,211,77,139,235,257,100,162,250,241,236,139,23,155,71,100,85,153,180,161,200,226,142,194,224,170,157,48,177,154]
[null,222,68,76,211,235,3,172,94,123,219,256,257,33,37,35,91,248,63,164,203,77,214,239,237,141,168,105,232,228]
[null,110,18,109,25,164,254,93,235,21,94,254,250,41,46,84,55,234,47,157,61,51,133,214,228,200,163,6,172,238]
[null,155,60,111,236,207,17,254,77,37,38,58,242,29,250,18,63,94,45,229,244,164,155,86,153,6,233,38,137,157]
[null,29,67,9,16,181,221,119,207,91,165,26,226,14,257,118,52,84,28,197,43,235,162,132,147,85,144,132,164,103]
[null,168,71,44,230,230,70,151,45,115,210,190,194,81,70,87,232,39,181,14,39,63,166,190,122,198,181,106,19,106]
[null,124,58,108,72,213,192,51,230,90,62,142,189,13,84,2,242,81,207,38,169,47,159,238,195,254,237,121,98,38]
[null,225,83,80,163,211,61,160,63,3,23,28,197,107,185,149,257,243,164,45,30,213,173,128,238,74,190,7,97,21]
[null,14,103,74,103,195,181,45,211,40,213,59,180,83,189,32,238,194,235,53,174,230,246,87,242,123,205,135,65,89]
[null,45,61,75,139,218,113,179,3,195,169,150,190,6,59,198,7,188,123,209,222,115,72,139,174,22,105,39,122,10]
[null,183,56,99,5,255,195,101,218,211,124,163,146,116,55,215,75,202,21,151,109,90,90,253,157,28,88,128,155,93]
[null,16,73,15,149,168,52,156,115,213,36,80,251,104,159,210,3,43,37,132,148,255,33,88,211,189,123,56,174,28]
[null,208,53,97,107,143,252,9,168,230,252,14,198,98,226,190,103,90,91,208,23,218,60,95,210,159,58,29,119,31]
[null,46,63,127,136,167,8,241,37,181,243,209,166,87,13,246,191,63,143,68,91,123,13,140,222,19,26,81,116,236]
[null,181,25,26,70,221,176,132,167,207,119,148,254,126,89,250,254,8,168,108,116,21,30,169,192,93,104,4,12,217]
[null,38,47,106,223,237,9,117,123,164,79,93,196,113,230,255,126,179,255,103,40,221,76,38,207,208,150,68,63,215]
[null,164,79,117,117,135,198,95,237,235,224,85,241,38,184,208,200,119,218,17,252,167,14,137,155,191,81,125,67,153]
[null,141,219,135,171,141,35,22,106,76,245,231,165,88,44,97,34,147,75,176,161,127,234,78,23,246,37,79,66,191]
[null,58,167,237,93,152,180,150,141,109,146,233,219,84,22,81,33,251,99,167,88,26,237,59,119,139,118,100,9,174]
[null,226,253,221,247,232,56,106,127,111,142,117,224,55,232,54,43,87,15,198,175,152,153,225,121,90,49,59,107,151]
[null,105,152,167,51,131,215,228,232,9,175,127,200,22,204,56,9,104,97,238,33,141,197,202,57,53,98,45,117,178]
[null,143,180,143,209,161,33,99,15,44,181,191,253,10,27,112,188,138,131,16,29,75,146,50,65,151,65,63,179,17]
[null,48,223,168,9,243,256,135,161,108,78,204,223,46,56,83,218,114,232,56,133,99,216,46,95,202,43,97,185,102]
[null,178,135,255,181,159,42,16,75,80,128,51,201,71,216,70,228,217,152,87,143,243,248,162,108,118,78,94,231,132]
[null,69,178,218,82,183,203,247,159,74,253,43,210,89,251,99,172,151,141,65,172,161,235,155,3,49,63,77,140,37]
[null,96,189,195,232,184,93,78,80,183,167,126,138,2,63,214,83,242,76,232,145,44,87,13,97,73,235,78,24,124]
[null,175,192,211,8,178,143,216,184,159,60,240,176,30,133,219,106,136,109,225,80,108,86,84,100,17,255,114,88,98]
[null,99,229,213,153,150,86,32,44,243,90,11,156,50,173,196,61,75,111,139,253,178,66,173,25,167,159,65,4,61]
[null,218,230,230,62,214,157,223,150,161,214,41,179,118,161,236,77,65,9,188,127,184,6,196,62,188,137,74,74,123]
[null,26,234,181,147,249,73,50,111,131,154,224,215,59,103,200,148,72,214,110,111,76,28,37,8,124,186,53,241,170]
[null,126,227,207,71,147,227,190,249,232,87,252,193,110,101,203,171,53,150,30,209,109,46,111,11,127,208,26,217,225]
[null,122,252,164,240,149,119,19,76,152,14,101,173,24,182,249,161,134,178,24,69,147,122,227,73,215,254,120,163,188]
[null,156,241,235,33,182,169,144,149,141,160,66,139,18,235,135,160,196,184,3,201,249,89,204,22,155,149,34,154,172]
[null,151,98,33,99,240,116,233,24,88,143,31,231,182,78,78,74,187,2,67,213,59,108,223,26,238,224,160,167,189]
[null,84,26,41,168,234,222,39,240,84,47,112,137,149,67,163,101,211,30,92,1,110,107,250,69,147,146,169,146,180]
[null,231,32,29,2,148,47,232,59,55,16,176,209,147,171,72,60,60,50,121,135,234,52,26,50,98,136,168,222,214]
[null,49,125,14,132,199,186,1,148,22,227,174,192,249,228,47,23,14,118,86,59,240,127,43,35,65,183,244,201,216]
[null,215,110,81,92,140,25,238,50,10,223,99,204,214,48,88,213,61,199,248,114,2,95,185,15,190,158,187,51,47]
[null,7,122,13,194,208,196,77,140,46,2,62,233,150,110,134,169,55,148,159,182,30,26,152,58,161,130,167,6,65]
[null,184,21,107,68,228,57,138,2,71,117,153,134,178,225,120,154,157,234,156,22,208,128,21,67,64,173,172,20,94]
[null,79,101,83,172,256,130,75,228,89,201,201,191,184,183,20,220,213,240,189,242,140,58,93,27,14,256,171,76,55]
[null,18,40,6,88,169,114,164,71,256,200,72,202,183,91,220,49,254,88,105,134,10,152,142,24,116,103,238,228,18]
[null,252,151,116,180,187,212,23,169,228,9,22,157,159,139,157,121,158,84,125,64,46,184,145,4,15,102,183,148,26]
[null,111,41,104,102,212,87,148,10,208,82,143,130,243,143,218,64,102,55,22,233,187,160,52,126,249,7,230,100,127]
[null,192,19,98,238,248,126,113,212,140,192,198,172,161,213,216,62,85,22,142,53,169,210,6,86,220,89,241,206,16]
[null,116,87,87,21,236,59,125,55,199,159,103,205,131,83,228,179,99,248,146,27,88,254,251,83,30,39,207,99,171]
[null,204,7,126,127,203,209,61,236,148,80,123,206,232,120,179,133,51,212,252,249,84,141,141,38,36,5,211,135,208]
[null,28,82,113,121,174,75,206,88,234,11,212,136,152,198,153,156,236,187,130,78,203,183,124,37,154,57,215,58,235]
[null,246,99,38,145,170,133,87,174,240,188,130,186,141,223,212,230,237,169,204,165,236,180,71,125,196,44,182,5,234]
[null,198,162,170,24,220,71,97,113,33,145,109,162,135,82,73,19,149,6,46,152,87,17,16,149,250,12,217,106,201]
[null,21,140,174,138,145,159,154,220,41,100,39,185,237,3,16,99,176,116,2,15,126,110,92,124,226,27,173,82,141]
[null,227,173,203,91,132,64,5,87,29,56,253,247,221,177,21,46,112,104,89,181,145,79,161,251,57,127,247,53,256]
[null,10,216,236,231,171,246,185,132,14,170,171,188,167,131,91,5,26,98,93,137,220,83,168,112,11,60,178,10,137]
[null,236,174,248,96,160,45,38,104,81,163,55,239,143,12,63,193,11,171,170,138,6,31,107,141,203,117,165,257,66]
[null,70,138,212,143,154,240,240,160,13,20,38,222,168,104,107,243,150,132,206,192,116,39,81,248,153,24,231,188,9]
[null,165,184,187,40,142,19,65,6,107,107,168,133,255,219,24,204,127,145,235,50,154,63,222,142,34,38,140,173,90]
[null,106,207,169,255,252,135,146,142,83,156,160,238,218,207,98,164,200,220,124,156,160,54,249,159,80,22,191,204,14]
[null,95,204,256,67,175,32,41,107,252,257,7,158,195,86,182,90,216,33,7,221,81,211,83,170,128,164,208,32,74]
[null,223,128,228,201,151,179,256,175,142,114,104,246,211,105,144,32,249,41,73,35,13,251,41,169,82,196,159,48,108]
[null,82,225,208,36,245,102,124,81,154,106,211,144,213,249,192,57,25,29,34,255,151,181,200,179,174,194,204,87,147]
[null,137,215,140,221,177,146,210,245,160,157,221,163,230,163,254,128,33,14,72,28,175,140,248,168,229,249,221,80,58]
[null,118,242,199,52,244,58,118,29,171,226,10,153,181,92,205,147,76,177,223,11,33,178,25,252,52,250,226,157,199]
[null,172,201,148,177,229,161,187,244,132,29,111,216,207,11,243,142,117,245,207,166,41,236,28,164,125,192,198,250,143]
[null,30,137,234,31,217,107,3,33,145,33,202,227,164,208,187,245,239,151,200,105,229,256,157,152,152,217,255,165,177]
[null,144,243,240,184,225,235,202,217,220,241,216,155,235,130,132,190,161,175,179,162,244,115,193,140,182,174,256,256,210]
[null,72,62,231,97,227,18,17,162,257,76,225,10,102,16,103,115,88,158,45,48,153,100,8,77,50,62,14,49,63]
[null,149,65,137,134,103,157,257,185,250,107,217,2,7,36,31,17,132,246,91,228,216,191,102,64,65,161,102,140,62]
[null,22,114,209,80,153,94,34,247,242,10,229,217,214,239,42,146,241,144,63,38,31,64,49,76,5,53,111,166,40]
[null,37,50,192,61,42,141,248,188,226,115,244,200,150,257,105,203,166,163,5,245,103,201,62,53,102,241,104,40,55]
[null,169,150,204,76,144,210,83,239,194,221,177,72,42,30,95,39,130,105,239,21,158,15,16,72,88,23,61,18,217]
[null,224,90,233,147,95,118,216,222,189,252,245,96,110,114,114,99,235,42,229,182,246,196,36,45,9,216,103,186,233]
[null,126,38,134,79,158,151,80,133,197,210,151,252,234,170,12,235,38,31,205,83,114,70,66,71,104,2,110,173,247]
[null,218,20,191,59,12,19,208,238,180,237,175,158,233,214,100,188,110,103,175,168,95,137,33,110,70,120,31,125,246]
[null,49,94,202,223,133,99,118,100,190,59,252,88,169,77,20,105,48,162,159,111,239,60,21,44,231,243,152,46,19]
[null,128,75,157,133,20,193,195,12,146,108,142,66,144,29,125,114,35,185,212,244,222,176,15,61,199,104,125,246,71]
[null,111,27,130,252,239,74,55,114,251,135,154,136,27,134,36,198,167,247,224,104,125,55,109,13,190,166,232,232,4]
[null,68,2,172,202,36,254,252,95,198,73,160,215,112,206,19,154,185,188,158,164,20,127,115,60,191,113,169,127,81]
[null,181,10,205,175,247,241,12,105,166,170,171,53,172,21,70,67,209,19,113,122,162,54,84,41,226,197,207,96,216]
[null,133,89,206,222,70,47,173,42,254,158,132,80,223,89,11,109,155,36,114,170,185,200,30,14,243,91,245,184,249]
[null,216,48,136,116,162,250,13,31,196,146,145,140,79,246,73,216,29,125,32,39,11,69,9,33,233,146,199,190,140]
[null,202,105,186,212,73,130,199,103,241,234,220,144,95,188,96,182,46,20,122,149,70,136,113,92,257,4,251,28,168]
[null,220,249,96,165,136,95,32,231,165,105,170,29,87,40,72,213,86,202,82,85,205,168,131,230,144,131,29,41,32]
[null,153,158,73,247,72,202,157,137,219,81,174,40,45,48,122,228,123,157,125,162,206,63,154,176,81,233,6,199,78]
[null,243,145,11,241,205,60,41,209,224,47,203,190,136,197,52,100,178,130,4,26,122,186,31,241,56,63,122,174,27]
[null,247,172,70,171,52,112,220,192,200,8,236,146,218,183,53,74,199,172,49,208,72,6,117,178,34,207,67,120,28]
[null,39,186,19,162,130,191,29,204,253,240,248,106,77,24,86,236,238,53,202,44,202,205,151,167,94,8,116,97,178]
[null,21,213,36,151,86,31,244,233,223,192,212,64,71,63,128,108,125,52,187,253,157,12,44,209,97,191,64,197,253]
[null,71,142,125,238,202,190,45,134,201,187,187,220,253,226,101,27,77,122,118,92,128,230,116,130,73,57,1,177,210]
[null,90,257,20,138,101,100,189,191,210,166,169,241,175,250,56,1,66,72,207,191,86,130,72,184,119,125,11,123,174]
[null,131,146,100,40,134,126,76,56,138,31,256,121,197,83,67,197,106,231,206,15,204,214,55,218,250,160,176,19,111]
[null,225,154,12,139,67,232,125,101,176,11,228,34,132,102,124,133,78,137,112,247,233,66,119,188,194,56,172,195,120]
[null,245,236,114,47,204,63,75,128,156,117,208,237,109,194,25,34,143,209,182,118,124,142,82,183,220,173,221,185,74]
[null,150,143,95,14,25,207,146,86,179,44,140,234,63,145,54,79,252,192,204,207,67,109,10,256,240,135,253,122,39]
[null,115,235,105,69,209,251,60,53,215,174,199,20,207,136,66,138,218,54,68,98,231,199,13,219,196,193,209,126,182]
[null,134,250,42,13,66,54,205,52,193,189,148,14,100,86,49,229,165,25,120,190,137,111,136,215,209,41,239,231,163]
[null,59,209,31,54,231,171,106,122,173,236,234,164,48,193,121,40,32,124,92,16,49,153,108,239,215,177,164,183,175]
[null,102,228,103,82,121,122,164,72,139,241,240,206,18,235,27,110,57,67,36,231,66,37,69,249,165,109,189,55,145]
[null,55,36,257,30,173,103,150,165,27,53,182,5,47,180,119,49,37,138,40,110,215,8,236,114,223,37,108,86,183]
[null,60,102,250,71,119,150,43,219,121,113,149,111,59,245,85,15,98,176,13,193,193,248,239,203,126,158,75,233,127]
[null,69,52,242,16,215,82,210,224,49,95,147,141,217,92,65,255,142,156,64,24,85,46,148,199,218,55,17,149,214]
[null,18,76,226,110,65,154,56,200,66,80,249,197,192,71,43,254,140,179,12,152,119,244,200,165,221,219,121,111,181]
[null,230,13,194,48,156,188,243,253,54,222,214,62,16,185,79,51,121,43,186,117,138,80,124,123,176,13,90,108,36]
[null,235,34,189,19,79,46,61,223,25,180,150,113,39,184,102,63,145,65,196,217,176,218,175,107,123,249,34,148,37]
[null,251,55,197,106,138,139,204,201,124,122,178,135,221,9,82,176,50,85,247,84,102,81,234,246,149,34,85,194,104]
[null,229,46,180,52,82,79,128,210,67,202,184,233,248,81,120,201,30,119,173,189,79,222,235,154,205,194,92,121,13]
[null,3,44,190,207,201,52,161,120,56,134,183,102,164,182,48,94,28,165,128,91,253,91,162,240,113,180,181,43,194]
[null,44,3,146,227,48,183,58,82,101,114,159,4,183,140,57,11,44,219,142,177,223,166,212,131,124,128,139,251,144]
[null,45,88,251,229,253,73,179,102,128,12,243,142,81,120,35,189,206,224,198,108,57,49,216,226,20,169,130,234,192]
[null,47,92,198,185,35,237,135,79,86,120,161,160,138,91,5,178,204,200,233,251,48,251,246,257,45,108,213,67,173]
[null,227,64,166,226,224,245,214,43,53,149,131,124,121,179,58,2,184,5,79,10,165,13,223,190,69,182,230,51,96]
[null,233,37,254,257,58,34,65,65,52,244,232,109,157,162,34,91,231,35,96,124,219,173,206,206,51,19,145,206,117]
[null,183,12,196,225,165,216,192,85,122,140,152,239,54,50,39,240,13,57,110,121,34,33,188,171,101,119,127,221,98]
[null,162,139,241,243,39,62,134,119,72,176,141,132,26,69,93,160,12,48,139,163,58,227,157,160,41,68,217,54,18]
[null,196,165,93,145,196,98,185,257,96,29,135,93,21,152,17,226,69,190,77,28,166,224,233,54,187,20,52,3,211]
[null,194,161,39,213,17,168,89,250,73,42,237,65,13,255,62,210,3,146,39,127,254,74,185,96,242,257,115,155,158]
[null,215,254,34,230,166,24,174,242,11,72,221,240,235,53,4,72,162,251,35,103,62,211,146,31,203,44,80,228,227]
[null,212,127,58,216,4,217,4,226,70,127,167,151,257,107,92,77,163,198,97,229,17,43,163,120,147,253,74,42,257]
[null,61,124,5,188,251,238,219,194,19,165,143,57,46,225,60,205,253,92,183,80,190,237,194,46,158,73,36,105,59]
[null,16,247,35,166,60,71,7,189,36,231,168,49,33,133,7,211,175,4,250,138,146,29,197,85,138,186,57,189,21]
[null,50,149,57,143,190,214,228,197,125,208,255,168,162,20,112,12,31,62,243,54,7,234,147,81,239,59,27,205,57]
[null,35,188,48,126,112,32,114,180,20,119,218,181,143,35,68,14,89,17,252,257,60,89,240,56,174,187,96,10,123]
[null,145,177,120,91,197,10,239,68,100,25,195,15,186,161,78,234,36,257,251,40,194,143,155,78,57,157,248,65,152]
[null,138,163,82,74,78,256,98,112,12,96,211,36,256,137,61,156,18,250,185,184,189,103,170,145,121,87,225,187,243]
[null,244,141,102,67,194,38,148,7,114,41,213,211,113,17,69,135,256,242,255,22,61,170,218,42,29,206,193,182,215]
[null,180,199,79,18,69,246,104,60,95,39,230,179,78,100,64,136,257,226,163,205,78,83,166,115,11,11,141,50,149]
[null,83,244,43,55,242,186,212,92,105,256,181,31,227,164,32,127,191,64,27,34,257,182,253,29,91,255,165,8,115]
[null,92,147,65,86,32,81,100,4,42,223,207,108,166,243,16,192,224,69,1,153,250,27,257,5,3,88,233,254,136]
[null,144,126,85,10,257,173,142,62,31,207,164,242,3,45,8,75,68,61,109,20,16,174,201,102,36,234,235,237,8]
[null,81,181,119,101,8,58,23,17,103,173,235,187,88,119,1,64,105,78,104,158,32,96,210,34,116,47,158,22,97]
[null,26,190,182,90,164,55,47,135,225,167,1,221,117,2,23,19,10,195,30,255,181,86,153,21,44,36,223,39,94]
[null,86,240,149,95,23,197,233,237,217,203,8,212,58,4,94,44,24,211,20,4,207,165,252,30,125,148,174,164,101]
[null,121,198,147,25,181,14,22,221,229,195,16,8,252,200,51,172,164,213,101,241,94,4,220,105,103,103,240,220,29]
[null,94,191,249,114,51,215,242,167,244,206,32,1,173,232,77,126,174,230,155,37,23,139,126,111,96,229,140,93,61]
[null,239,187,214,77,213,219,28,143,177,26,64,188,60,68,28,68,219,77,152,188,195,107,152,136,92,90,171,48,244]
[null,160,200,150,21,28,89,186,168,245,16,69,174,4,116,45,20,177,51,220,66,211,207,137,63,99,134,256,196,220]
[null,161,175,178,68,195,228,95,255,151,1,61,73,184,230,47,130,15,94,237,197,45,98,251,20,85,33,109,235,213]
[null,193,155,184,53,47,84,155,218,175,20,78,69,135,199,63,171,64,23,169,77,28,213,123,16,12,244,226,45,205]
[null,136,197,183,153,255,36,119,63,252,251,68,199,236,108,40,119,70,135,248,145,143,79,219,84,186,213,60,89,49]
[null,103,202,159,170,40,149,253,47,142,183,112,203,230,95,3,5,56,237,165,63,168,157,130,101,168,75,43,134,107]
[null,84,185,243,135,143,110,109,45,154,255,7,99,69,178,90,170,215,221,230,206,3,102,202,47,225,242,48,222,126]
[null,139,205,161,200,90,235,151,28,160,155,60,32,99,244,115,163,168,167,227,6,40,249,229,48,198,50,68,6,50]
[null,142,195,131,232,221,167,122,77,171,67,92,245,239,49,91,118,195,115,22,250,135,17,177,36,245,212,12,15,190]
[null,246,233,232,154,91,142,188,51,132,4,4,169,165,110,37,89,250,90,41,82,237,126,254,66,228,77,8,139,150]
[null,195,211,152,108,135,218,35,94,145,132,62,28,50,165,21,220,79,3,43,249,37,141,190,51,182,220,3,179,155]
[null,191,179,141,177,21,6,141,23,220,58,17,74,67,173,123,121,139,40,105,60,91,163,133,103,244,94,50,34,241]
[null,192,39,123,221,152,97,87,182,170,224,93,214,12,27,117,180,111,183,67,223,131,236,179,235,24,117,161,13,82]
[null,249,91,21,140,117,170,165,149,174,225,39,236,119,25,106,199,7,159,84,78,232,108,158,139,21,200,177,112,91]
[null,151,5,37,209,131,83,11,147,203,215,34,26,168,141,26,33,171,243,107,202,106,152,199,137,105,32,204,116,60]
[null,141,106,91,160,26,225,207,249,236,249,58,54,205,131,127,56,154,161,80,43,117,30,213,201,61,153,202,83,20]
[null,79,78,115,193,243,229,49,214,248,70,5,231,107,67,97,208,120,127,241,225,183,159,195,193,112,115,146,77,242]
[null,73,35,90,215,97,125,249,150,212,40,35,202,56,54,15,212,144,26,156,2,159,123,161,163,42,210,175,180,202]
[null,27,123,3,180,183,115,77,178,187,30,57,42,140,207,99,96,41,106,126,216,15,242,164,150,10,80,188,130,171]
[null,118,80,40,195,99,86,176,184,169,86,48,7,209,215,75,103,107,117,221,55,97,11,181,255,23,189,159,5,193]
[null,234,69,63,23,178,113,26,75,256,175,120,195,185,132,74,245,16,182,134,165,214,180,180,161,171,162,44,91,26]
[null,170,66,47,3,74,178,250,99,228,152,82,125,241,18,80,174,122,149,160,115,150,42,144,158,172,83,39,198,33]
[null,254,29,45,99,214,5,105,15,208,197,102,85,91,247,108,85,183,147,197,172,80,226,193,233,192,159,62,168,119]
[null,184,28,28,121,108,131,196,97,140,181,79,97,70,217,44,62,193,249,135,101,74,35,184,196,252,40,22,44,70]
[null,17,24,77,72,147,147,111,127,199,110,43,155,134,34,9,221,186,44,88,185,182,208,205,250,230,232,58,104,148]
[null,41,31,51,50,9,49,187,26,148,87,65,157,131,6,111,147,205,108,33,31,149,68,232,247,212,132,55,171,228]
[null,95,6,94,4,182,189,18,106,234,97,85,76,43,157,109,31,124,80,70,139,111,239,138,185,136,136,9,244,234]
[null,104,17,23,109,109,57,225,117,240,98,119,23,103,192,76,54,62,74,86,89,9,114,224,236,169,102,123,98,255]
[null,91,160,225,34,234,45,159,170,76,184,27,180,20,227,18,35,71,256,69,142,199,25,98,232,150,107,180,115,191]
[null,112,232,217,112,18,257,90,174,109,157,121,191,111,146,24,8,47,228,78,36,148,219,89,189,151,174,95,211,166]
[null,36,226,229,122,199,123,256,203,111,198,49,87,160,82,110,232,198,208,44,211,24,26,90,208,206,27,186,242,137]
[null,57,133,244,75,110,199,126,236,9,235,66,30,193,84,59,215,244,140,42,72,18,257,14,223,131,209,211,31,172]
[null,207,148,177,100,208,144,166,248,44,45,54,210,68,159,118,73,197,59,211,233,256,20,71,243,163,43,170,35,10]
[null,252,136,245,128,118,76,64,212,108,89,25,148,97,196,50,106,203,110,193,62,228,181,91,200,232,251,124,256,99]
[null,238,237,151,85,256,236,190,187,80,104,124,33,194,105,30,237,101,24,164,201,50,120,86,191,130,74,138,141,102]
[null,182,157,175,2,30,16,86,169,74,38,67,75,244,57,2,165,45,18,203,128,118,183,87,231,200,179,238,57,69]
[null,30,218,252,155,187,124,170,2,75,209,56,167,142,186,89,116,4,170,240,144,248,94,20,234,106,240,38,58,153]
[null,110,107,142,156,89,194,78,30,99,137,101,119,243,236,71,113,100,174,232,46,212,235,75,254,74,6,101,249,133]
[null,158,217,154,251,248,25,156,50,15,194,128,115,9,115,46,206,156,203,131,171,71,110,28,132,98,147,40,176,236]
[null,52,239,160,169,46,205,20,118,97,196,86,45,38,60,10,252,173,236,242,132,89,145,17,172,48,66,42,66,116]
[null,159,171,171,219,203,231,237,59,127,79,53,175,228,155,22,7,159,10,87,199,170,133,51,175,4,142,30,99,112]
[null,123,251,132,253,22,9,131,110,26,125,52,138,222,135,55,117,207,46,50,49,174,197,47,220,117,54,79,178,6]
[null,200,176,145,201,170,180,137,24,106,102,122,60,104,46,84,134,22,71,23,183,55,52,43,221,75,230,105,247,128]
[null,253,159,220,214,84,93,113,18,117,28,72,35,62,128,88,187,21,89,24,125,22,171,76,133,78,12,46,70,54]
[null,152,96,88,246,145,106,234,225,123,239,96,176,8,149,38,242,109,252,57,187,171,161,41,109,241,60,185,113,212]
[null,176,118,84,231,38,243,120,217,21,159,73,255,32,219,113,166,82,142,117,99,132,104,85,134,148,237,242,158,256]
[null,205,85,55,131,171,77,167,229,37,212,11,81,201,5,126,97,146,154,2,194,113,253,11,7,179,31,237,202,169]
[null,248,42,22,198,126,121,27,244,91,253,70,127,247,87,87,90,232,160,121,12,38,73,80,146,175,248,167,88,165]
[null,1,84,10,141,154,120,162,177,115,65,19,246,55,203,98,151,247,87,192,213,252,220,93,117,227,22,195,95,88]
[null,70,120,46,234,98,66,115,245,90,15,36,154,105,220,104,177,108,126,249,18,142,18,27,10,219,188,151,238,52]
[null,85,74,71,220,252,208,218,151,3,54,125,39,224,90,116,36,131,113,168,239,104,193,118,116,195,93,234,151,23]
[null,54,51,89,236,116,102,3,175,40,94,20,51,178,98,6,9,58,38,244,123,98,112,67,99,204,152,160,102,134]
[null,226,54,2,94,151,37,191,6,63,168,100,172,130,251,83,175,42,225,184,226,177,217,50,88,47,163,76,1,251]
[null,210,130,30,62,83,223,57,116,47,226,12,153,176,154,107,217,9,217,150,79,245,2,99,89,7,35,114,144,185]
[null,171,33,50,64,177,3,222,104,45,201,114,9,84,47,13,58,233,229,111,156,107,134,54,79,77,176,66,152,224]
[null,178,43,118,9,13,230,37,98,28,130,95,95,29,37,81,10,225,244,200,112,83,48,37,90,118,121,4,101,186]
[null,101,16,59,8,229,247,206,87,77,111,105,166,206,248,14,233,182,81,59,200,225,140,32,6,80,140,53,32,35]
[null,8,57,110,66,14,92,81,126,51,116,42,247,133,147,29,230,141,13,115,97,217,71,60,94,22,86,15,229,51]
[null,93,121,24,41,225,153,227,113,94,13,31,50,106,56,41,101,19,107,81,151,29,255,3,106,2,228,71,225,58]
[null,2,15,18,84,41,96,74,38,23,68,103,128,76,42,33,65,97,83,48,23,14,56,2,118,143,114,126,17,79]
[null,186,196,27,161,31,240,241,96,1,182,33,248,156,242,155,143,170,100,213,210,105,158,250,181,208,196,244,209,195]
[null,109,193,121,124,155,101,1,73,8,151,41,256,251,222,227,241,126,12,167,30,42,67,156,194,193,97,156,118,196]
[null,236,144,49,178,105,164,224,11,16,248,29,41,44,19,216,112,17,114,195,220,227,194,209,182,253,205,147,92,218]
[null,221,208,66,197,216,117,10,70,32,143,14,58,108,1,153,55,92,95,253,13,155,57,196,205,156,17,154,218,203]
[null,89,108,54,182,114,48,175,19,64,37,81,186,216,228,163,219,128,153,19,237,100,243,242,186,170,235,197,240,41]
[null,34,168,25,111,163,140,42,36,69,6,13,162,148,144,144,159,23,216,29,76,12,62,222,213,249,42,155,72,25]
[null,132,220,124,179,100,107,178,125,61,48,107,6,24,88,246,23,220,227,53,175,144,188,192,187,154,256,148,85,11]
[null,40,238,67,199,246,239,50,20,78,21,83,100,25,44,158,70,148,155,83,90,163,121,225,148,188,138,227,133,12]
[null,209,164,56,35,125,159,140,158,68,199,6,170,89,181,238,153,210,96,99,147,19,198,237,214,27,15,106,212,239]
[null,130,183,101,125,238,65,63,246,112,150,116,192,114,229,133,144,223,73,46,14,36,82,243,197,59,154,133,12,187]
[null,147,231,128,6,19,184,203,144,7,123,104,122,231,124,222,60,91,11,34,154,133,203,149,245,68,92,26,26,254]
[null,190,256,86,56,222,4,6,163,60,185,98,43,146,52,239,104,73,70,100,94,238,131,143,198,67,145,89,131,177]
[null,77,248,53,83,11,17,246,153,92,88,87,205,86,237,188,191,49,239,145,136,96,204,174,217,32,61,51,162,42]
[null,125,169,52,36,188,211,85,216,4,100,126,178,35,169,247,149,103,222,144,88,73,58,228,244,15,167,13,74,9]
[null,42,210,122,142,96,8,245,227,62,112,113,118,179,12,185,42,229,133,226,219,247,189,249,225,25,112,59,68,118]
[null,56,153,72,46,185,128,59,155,17,24,38,114,163,70,162,76,212,238,136,109,188,122,145,166,1,254,7,230,90]
[null,38,9,162,93,122,163,226,27,93,153,88,229,171,218,186,45,172,56,176,173,53,90,127,28,114,127,229,217,226]
[null,105,100,185,11,186,56,101,121,39,177,84,218,213,210,136,30,135,101,133,96,52,195,104,82,177,25,252,59,180]
[null,15,113,247,17,53,198,217,49,34,211,55,68,122,61,206,158,80,128,254,232,136,72,227,17,202,195,136,84,231]
[null,11,86,188,87,206,146,38,66,58,250,22,112,40,75,205,184,59,86,209,50,186,252,141,80,224,51,191,138,230]
[null,219,72,239,96,128,67,229,54,5,18,10,152,181,234,172,22,20,205,56,214,56,53,107,91,164,250,142,161,80]
[null,237,45,222,107,172,227,14,25,35,66,46,194,187,195,130,150,133,206,71,5,101,246,214,49,161,67,194,61,5]
[null,187,116,133,20,56,68,213,124,57,71,71,38,5,32,157,231,181,136,140,166,130,28,142,128,185,201,257,81,48]
[null,168,1,238,120,157,158,69,67,48,92,89,17,83,8,202,257,192,186,51,67,172,128,186,74,139,133,247,135,84]
[null,127,112,158,218,124,132,182,202,120,227,2,137,61,175,191,61,152,27,52,243,54,44,203,40,8,98,82,239,147]
[null,33,104,246,119,191,26,133,157,82,247,30,224,126,156,134,125,180,121,146,11,25,192,139,70,64,202,86,63,138]
[null,13,22,144,211,54,195,183,130,102,141,50,21,149,64,233,224,115,49,76,140,134,116,176,75,38,85,37,73,184]
[null,108,115,163,244,233,51,112,172,79,214,118,24,195,113,204,179,6,66,54,51,191,149,248,2,18,123,5,136,219]
[null,143,23,153,189,49,7,198,205,43,84,59,238,51,122,192,120,40,204,190,160,27,59,245,39,62,65,49,132,76]
[null,124,8,216,245,192,204,53,206,65,69,110,244,158,172,209,29,93,233,138,68,121,147,122,43,49,217,19,27,95]
[null,199,49,227,204,27,87,152,136,85,22,24,94,210,65,137,218,226,134,166,242,209,105,150,19,43,81,94,75,83]
[null,156,30,155,176,137,136,94,186,119,17,18,52,240,23,231,148,201,191,222,27,192,221,189,9,93,149,69,203,113]
[null,203,222,1,228,85,155,108,93,231,205,76,253,211,78,139,209,221,120,218,148,43,250,22,144,35,221,150,172,75]
[null,198,156,8,187,139,108,215,39,137,145,109,147,199,13,173,243,160,82,245,65,65,10,19,55,132,100,183,25,131]
[null,189,206,16,242,43,176,48,34,209,163,111,117,41,166,193,3,116,102,194,234,173,212,110,59,40,203,241,109,44]
[null,240,182,32,148,193,104,202,58,192,178,9,61,66,187,215,4,118,79,246,106,139,14,58,93,37,39,137,147,77]
[null,28,245,64,210,102,70,15,5,204,36,44,196,242,73,179,207,137,215,72,141,120,178,134,135,82,245,168,150,222]
[null,23,224,69,239,179,212,197,35,233,78,108,145,219,74,156,195,113,193,62,41,82,40,83,151,135,9,224,110,221]
[null,7,203,61,152,120,119,54,57,134,136,80,123,37,249,176,82,208,173,11,174,156,177,24,12,109,224,173,64,154]
[null,29,212,78,206,176,179,130,48,191,56,74,25,10,177,138,57,228,139,85,69,179,36,23,104,53,64,166,137,245]
[null,255,214,68,51,57,206,97,138,202,124,75,156,94,76,210,164,230,93,130,167,5,167,96,18,145,78,77,215,64]
[null,214,255,112,31,210,75,200,176,157,144,99,254,75,118,201,247,214,39,116,81,35,92,46,127,134,130,119,7,114]
[null,213,170,7,29,5,185,79,156,130,246,15,116,177,138,223,69,52,34,60,150,201,209,42,32,238,89,128,24,66]
[null,211,166,60,73,223,21,123,179,172,138,97,98,120,167,253,80,54,58,25,7,210,7,12,1,213,150,45,191,85]
[null,31,194,92,32,34,13,44,215,205,109,127,134,137,79,200,256,74,253,179,248,93,245,35,68,189,76,28,207,162]
[null,25,221,4,1,200,224,193,193,206,14,26,149,101,96,224,167,27,223,162,134,39,85,52,52,207,239,113,52,141]
[null,75,246,62,33,93,42,66,173,136,118,106,19,204,208,219,18,245,201,148,137,224,225,70,87,157,139,131,37,160]
[null,96,119,17,15,219,196,124,139,186,82,117,126,232,189,165,98,246,210,119,95,200,31,101,98,217,190,41,204,240]
[null,62,93,165,113,62,160,73,1,162,229,123,165,237,106,241,32,189,68,181,230,92,34,25,204,71,238,206,255,47]
[null,64,97,219,45,241,90,169,8,185,216,21,193,245,3,196,48,255,112,219,131,4,184,73,162,16,1,143,103,100]
[null,43,4,224,28,92,234,84,16,247,186,37,18,23,205,254,186,96,7,223,155,196,47,112,227,55,214,178,30,31]
[null,46,131,200,42,254,41,254,32,188,131,91,107,1,151,166,181,95,60,161,29,241,215,95,138,111,5,184,216,1]
[null,197,134,253,70,7,20,39,64,239,93,115,201,212,33,198,53,5,166,75,178,68,21,64,212,100,185,222,153,199]
[null,242,11,223,92,198,187,251,69,222,27,90,209,225,125,251,47,83,254,8,120,112,229,61,173,120,72,201,69,237]
[null,208,109,201,115,68,44,30,61,133,50,3,90,96,238,146,246,227,196,15,204,251,24,111,177,19,199,231,53,201]
[null,223,70,210,132,146,226,144,78,238,139,40,77,115,223,190,244,169,241,6,1,198,169,18,202,84,71,162,248,135]
[null,113,81,138,167,61,248,19,190,158,233,63,243,72,97,180,24,222,1,7,218,64,115,103,180,201,101,10,193,106]
[null,120,95,176,184,180,2,160,146,246,162,47,222,2,121,197,102,240,8,73,74,69,155,88,113,137,171,33,71,15]
[null,14,117,156,191,64,220,110,251,144,217,45,47,145,241,189,123,2,16,3,236,197,88,40,216,229,52,65,76,43]
[null,78,59,179,240,189,12,154,198,163,219,28,79,180,158,194,122,1,32,95,53,180,175,92,143,247,247,117,208,109]
[null,175,14,215,203,16,72,46,166,153,2,77,227,31,94,226,131,67,194,231,224,1,76,5,229,167,3,93,250,143]
[null,166,111,193,172,226,177,158,254,216,35,51,150,92,15,242,66,34,189,257,105,8,231,1,253,255,170,25,4,122]
[null,114,132,173,248,1,85,116,196,227,51,94,16,255,213,250,183,190,197,149,238,242,84,57,156,222,24,23,21,250]
[null,177,77,139,157,250,200,235,241,155,85,23,71,170,139,257,194,153,180,154,100,226,162,48,224,142,211,100,236,161]
[null,232,68,76,168,94,203,211,123,33,91,257,37,141,256,235,239,248,63,228,3,77,172,105,237,214,222,35,219,164]
[null,172,18,109,163,235,61,25,21,41,55,250,46,200,254,164,214,234,47,238,254,51,93,6,228,133,110,84,94,157]
[null,137,60,111,233,77,244,236,37,29,63,242,250,6,58,207,86,94,45,157,17,164,254,38,153,155,155,18,38,229]
[null,164,67,9,144,207,43,16,91,14,52,226,257,85,26,181,132,84,28,103,221,235,119,132,147,162,29,118,165,197]
[null,19,71,44,181,45,39,230,115,81,232,194,70,198,190,230,190,39,181,106,70,63,151,106,122,166,168,87,210,14]
[null,98,58,108,237,230,169,72,90,13,242,189,84,254,142,213,238,81,207,38,192,47,51,121,195,159,124,2,62,38]
[null,97,83,80,190,63,30,163,3,107,257,197,185,74,28,211,128,243,164,21,61,213,160,7,238,173,225,149,23,45]
[null,65,103,74,205,211,174,103,40,83,238,180,189,123,59,195,87,194,235,89,181,230,45,135,242,246,14,32,213,53]
[null,122,61,75,105,3,222,139,195,6,7,190,59,22,150,218,139,188,123,10,113,115,179,39,174,72,45,198,169,209]
[null,155,56,99,88,218,109,5,211,116,75,146,55,28,163,255,253,202,21,93,195,90,101,128,157,90,183,215,124,151]
[null,174,73,15,123,115,148,149,213,104,3,251,159,189,80,168,88,43,37,28,52,255,156,56,211,33,16,210,36,132]
[null,119,53,97,58,168,23,107,230,98,103,198,226,159,14,143,95,90,91,31,252,218,9,29,210,60,208,190,252,208]
[null,116,63,127,26,37,91,136,181,87,191,166,13,19,209,167,140,63,143,236,8,123,241,81,222,13,46,246,243,68]
[null,12,25,26,104,167,116,70,207,126,254,254,89,93,148,221,169,8,168,217,176,21,132,4,192,30,181,250,119,108]
[null,63,47,106,150,123,40,223,164,113,126,196,230,208,93,237,38,179,255,215,9,221,117,68,207,76,38,255,79,103]
[null,67,79,117,81,237,252,117,235,38,200,241,184,191,85,135,137,119,218,153,198,167,95,125,155,14,164,208,224,17]
[null,66,219,135,37,106,161,171,76,88,34,165,44,246,231,141,78,147,75,191,35,127,22,79,23,234,141,97,245,176]
[null,9,167,237,118,141,88,93,109,84,33,219,22,139,233,152,59,251,99,174,180,26,150,100,119,237,58,81,146,167]
[null,107,253,221,49,127,175,247,111,55,43,224,232,90,117,232,225,87,15,151,56,152,106,59,121,153,226,54,142,198]
[null,117,152,167,98,232,33,51,9,22,9,200,204,53,127,131,202,104,97,178,215,141,228,45,57,197,105,56,175,238]
[null,179,180,143,65,15,29,209,44,10,188,253,27,151,191,161,50,138,131,17,33,75,99,63,65,146,143,112,181,16]
[null,185,223,168,43,161,133,9,108,46,218,223,56,202,204,243,46,114,232,102,256,99,135,97,95,216,48,83,78,56]
[null,231,135,255,78,75,143,181,80,71,228,201,216,118,51,159,162,217,152,132,42,243,16,94,108,248,178,70,128,87]
[null,140,178,218,63,159,172,82,74,89,172,210,251,49,43,183,155,151,141,37,203,161,247,77,3,235,69,99,253,65]
[null,24,189,195,235,80,145,232,183,2,83,138,63,73,126,184,13,242,76,124,93,44,78,78,97,87,96,214,167,232]
[null,88,192,211,255,184,80,8,159,30,106,176,133,17,240,178,84,136,109,98,143,108,216,114,100,86,175,219,60,225]
[null,4,229,213,159,44,253,153,243,50,61,156,173,167,11,150,173,75,111,61,86,178,32,65,25,66,99,196,90,139]
[null,74,230,230,137,150,127,62,161,118,77,179,161,188,41,214,196,65,9,123,157,184,223,74,62,6,218,236,214,188]
[null,241,234,181,186,111,111,147,131,59,148,215,103,124,224,249,37,72,214,170,73,76,50,53,8,28,26,200,154,110]
[null,217,227,207,208,249,209,71,232,110,171,193,101,127,252,147,111,53,150,225,227,109,190,26,11,46,126,203,87,30]
[null,163,252,164,254,76,69,240,152,24,161,173,182,215,101,149,227,134,178,188,119,147,19,120,73,122,122,249,14,24]
[null,154,241,235,149,149,201,33,141,18,160,139,235,155,66,182,204,196,184,172,169,249,144,34,22,89,156,135,160,3]
[null,167,98,33,224,24,213,99,88,182,74,231,78,238,31,240,223,187,2,189,116,59,233,160,26,108,151,78,143,67]
[null,146,26,41,146,240,1,168,84,149,101,137,67,147,112,234,250,211,30,180,222,110,39,169,69,107,84,163,47,92]
[null,222,32,29,136,59,135,2,55,147,60,209,171,98,176,148,26,60,50,214,47,234,232,168,50,52,231,72,16,121]
[null,201,125,14,183,148,59,132,22,249,23,192,228,65,174,199,43,14,118,216,186,240,1,244,35,127,49,47,227,86]
[null,51,110,81,158,50,114,92,10,214,213,204,48,190,99,140,185,61,199,47,25,2,238,187,15,95,215,88,223,248]
[null,6,122,13,130,140,182,194,46,150,169,233,110,161,62,208,152,55,148,65,196,30,77,167,58,26,7,134,2,159]
[null,20,21,107,173,2,22,68,71,178,154,134,225,64,153,228,21,157,234,94,57,208,138,172,67,128,184,120,117,156]
[null,76,101,83,256,228,242,172,89,184,220,191,183,14,201,256,93,213,240,55,130,140,75,171,27,58,79,20,201,189]
[null,228,40,6,103,71,134,88,256,183,49,202,91,116,72,169,142,254,88,18,114,10,164,238,24,152,18,220,200,105]
[null,148,151,116,102,169,64,180,228,159,121,157,139,15,22,187,145,158,84,26,212,46,23,183,4,184,252,157,9,125]
[null,100,41,104,7,10,233,102,208,243,64,130,143,249,143,212,52,102,55,127,87,187,148,230,126,160,111,218,82,22]
[null,206,19,98,89,212,53,238,140,161,62,172,213,220,198,248,6,85,22,16,126,169,113,241,86,210,192,216,192,142]
[null,99,87,87,39,55,27,21,199,131,179,205,83,30,103,236,251,99,248,171,59,88,125,207,83,254,116,228,159,146]
[null,135,7,126,5,236,249,127,148,232,133,206,120,36,123,203,141,51,212,208,209,84,61,211,38,141,204,179,80,252]
[null,58,82,113,57,88,78,121,234,152,156,136,198,154,212,174,124,236,187,235,75,203,206,215,37,183,28,153,11,130]
[null,5,99,38,44,174,165,145,240,141,230,186,223,196,130,170,71,237,169,234,133,236,87,182,125,180,246,212,188,204]
[null,106,162,170,12,113,152,24,33,135,19,162,82,250,109,220,16,149,6,201,71,87,97,217,149,17,198,73,145,46]
[null,82,140,174,27,220,15,138,41,237,99,185,3,226,39,145,92,176,116,141,159,126,154,173,124,110,21,16,100,2]
[null,53,173,203,127,87,181,91,29,221,46,247,177,57,253,132,161,112,104,256,64,145,5,247,251,79,227,21,56,89]
[null,10,216,236,60,132,137,231,14,167,5,188,131,11,171,171,168,26,98,137,246,220,185,178,112,83,10,91,170,93]
[null,257,174,248,117,104,138,96,81,143,193,239,12,203,55,160,107,11,171,66,45,6,38,165,141,31,236,63,163,170]
[null,188,138,212,24,160,192,143,13,168,243,222,104,153,38,154,81,150,132,9,240,116,240,231,248,39,70,107,20,206]
[null,173,184,187,38,6,50,40,107,255,204,133,219,34,168,142,222,127,145,90,19,154,65,140,142,63,165,24,107,235]
[null,204,207,169,22,142,156,255,83,218,164,238,207,80,160,252,249,200,220,14,135,160,146,191,159,54,106,98,156,124]
[null,32,204,256,164,107,221,67,252,195,90,158,86,128,7,175,83,216,33,74,32,81,41,208,170,211,95,182,257,7]
[null,48,128,228,196,175,35,201,142,211,32,246,105,82,104,151,41,249,41,108,179,13,256,159,169,251,223,144,114,73]
[null,87,225,208,194,81,255,36,154,213,57,144,249,174,211,245,200,25,29,147,102,151,124,204,179,181,82,192,106,34]
[null,80,215,140,249,245,28,221,160,230,128,163,163,229,221,177,248,33,14,58,146,175,210,221,168,140,137,254,157,72]
[null,157,242,199,250,29,11,52,171,181,147,153,92,52,10,244,25,76,177,199,58,33,118,226,252,178,118,205,226,223]
[null,250,201,148,192,244,166,177,132,207,142,216,11,125,111,229,28,117,245,143,161,41,187,198,164,236,172,243,29,207]
[null,165,137,234,217,33,105,31,145,164,245,227,208,152,202,217,157,239,151,177,107,229,3,255,152,256,30,187,33,200]
[null,256,243,240,174,217,162,184,220,235,190,155,130,182,216,225,193,161,175,210,235,244,202,256,140,115,144,132,241,179]
[null,48,225,45,17,103,158,153,227,162,257,8,10,231,18,72,16,88,49,102,76,77,100,62,14,50,115,62,63,97]
[null,228,217,91,257,31,246,216,103,185,250,102,2,137,157,149,36,132,140,7,107,64,191,65,102,65,17,161,62,134]
[null,38,229,63,34,42,144,31,153,247,242,49,217,209,94,22,239,241,166,214,10,76,64,114,111,5,146,53,40,80]
[null,245,244,5,248,105,163,103,42,188,226,62,200,192,141,37,257,166,40,150,115,53,201,50,104,102,203,241,55,61]
[null,21,177,239,83,95,105,158,144,239,194,16,72,204,210,169,30,130,18,42,221,72,15,150,61,88,39,23,217,76]
[null,182,245,229,216,114,42,246,95,222,189,36,96,233,118,224,114,235,186,110,252,45,196,90,103,9,99,216,233,147]
[null,83,151,205,80,12,31,114,158,133,197,66,252,134,151,126,170,38,173,234,210,71,70,38,110,104,235,2,247,79]
[null,168,175,175,208,100,103,95,12,238,180,33,158,191,19,218,214,110,125,233,237,110,137,20,31,70,188,120,246,59]
[null,111,252,159,118,20,162,239,133,100,190,21,88,202,99,49,77,48,46,169,59,44,60,94,152,231,105,243,19,223]
[null,244,142,212,195,125,185,222,20,12,146,15,66,157,193,128,29,35,246,144,108,61,176,75,125,199,114,104,71,133]
[null,104,154,224,55,36,247,125,239,114,251,109,136,130,74,111,134,167,232,27,135,13,55,27,232,190,198,166,4,252]
[null,164,160,158,252,19,188,20,36,95,198,115,215,172,254,68,206,185,127,112,73,60,127,2,169,191,154,113,81,202]
[null,122,171,113,12,70,19,162,247,105,166,84,53,205,241,181,21,209,96,172,170,41,54,10,207,226,67,197,216,175]
[null,170,132,114,173,11,36,185,70,42,254,30,80,206,47,133,89,155,184,223,158,14,200,89,245,243,109,91,249,222]
[null,39,145,32,13,73,125,11,162,31,196,9,140,136,250,216,246,29,190,79,146,33,69,48,199,233,216,146,140,116]
[null,149,220,122,199,96,20,70,73,103,241,113,144,186,130,202,188,46,28,95,234,92,136,105,251,257,182,4,168,212]
[null,85,170,82,32,72,202,205,136,231,165,131,29,96,95,220,40,86,41,87,105,230,168,249,29,144,213,131,32,165]
[null,162,174,125,157,122,157,206,72,137,219,154,40,73,202,153,48,123,199,45,81,176,63,158,6,81,228,233,78,247]
[null,26,203,4,41,52,130,122,205,209,224,31,190,11,60,243,197,178,174,136,47,241,186,145,122,56,100,63,27,241]
[null,208,236,49,220,53,172,72,52,192,200,117,146,70,112,247,183,199,120,218,8,178,6,172,67,34,74,207,28,171]
[null,44,248,202,29,86,53,202,130,204,253,151,106,19,191,39,24,238,97,77,240,167,205,186,116,94,236,8,178,162]
[null,253,212,187,244,128,52,157,86,233,223,44,64,36,31,21,63,125,197,71,192,209,12,213,64,97,108,191,253,151]
[null,92,187,118,45,101,122,128,202,134,201,116,220,125,190,71,226,77,177,253,187,130,230,142,1,73,27,57,210,238]
[null,191,169,207,189,56,72,86,101,191,210,72,241,20,100,90,250,66,123,175,166,184,130,257,11,119,1,125,174,138]
[null,15,256,206,76,67,231,204,134,56,138,55,121,100,126,131,83,106,19,197,31,218,214,146,176,250,197,160,111,40]
[null,247,228,112,125,124,137,233,67,101,176,119,34,12,232,225,102,78,195,132,11,188,66,154,172,194,133,56,120,139]
[null,118,208,182,75,25,209,124,204,128,156,82,237,114,63,245,194,143,185,109,117,183,142,236,221,220,34,173,74,47]
[null,207,140,204,146,54,192,67,25,86,179,10,234,95,207,150,145,252,122,63,44,256,109,143,253,240,79,135,39,14]
[null,98,199,68,60,66,54,231,209,53,215,13,20,105,251,115,136,218,126,207,174,219,199,235,209,196,138,193,182,69]
[null,190,148,120,205,49,25,137,66,52,193,136,14,42,54,134,86,165,231,100,189,215,111,250,239,209,229,41,163,13]
[null,16,234,92,106,121,124,49,231,122,173,108,164,31,171,59,193,32,183,48,236,239,153,209,164,215,40,177,175,54]
[null,231,240,36,164,27,67,66,121,72,139,69,206,103,122,102,235,57,55,18,241,249,37,228,189,165,110,109,145,82]
[null,110,182,40,150,119,138,215,173,165,27,236,5,257,103,55,180,37,86,47,53,114,8,36,108,223,49,37,183,30]
[null,193,149,13,43,85,176,193,119,219,121,239,111,250,150,60,245,98,233,59,113,203,248,102,75,126,15,158,127,71]
[null,24,147,64,210,65,156,85,215,224,49,148,141,242,82,69,92,142,149,217,95,199,46,52,17,218,255,55,214,16]
[null,152,249,12,56,43,179,119,65,200,66,200,197,226,154,18,71,140,111,192,80,165,244,76,121,221,254,219,181,110]
[null,117,214,186,243,79,43,138,156,253,54,124,62,194,188,230,185,121,108,16,222,123,80,13,90,176,51,13,36,48]
[null,217,150,196,61,102,65,176,79,223,25,175,113,189,46,235,184,145,148,39,180,107,218,34,34,123,63,249,37,19]
[null,84,178,247,204,82,85,102,138,201,124,234,135,197,139,251,9,50,194,221,122,246,81,55,85,149,176,34,104,106]
[null,189,184,173,128,120,119,79,82,210,67,235,233,180,79,229,81,30,121,248,202,154,222,46,92,205,201,194,13,52]
[null,91,183,128,161,48,165,253,201,120,56,162,102,190,52,3,182,28,43,164,134,240,91,44,181,113,94,180,194,207]
[null,177,159,142,58,57,219,223,48,82,101,212,4,146,183,44,140,44,251,183,114,131,166,3,139,124,11,128,144,227]
[null,108,243,198,179,35,224,57,253,102,128,216,142,251,73,45,120,206,234,81,12,226,49,88,130,20,189,169,192,229]
[null,251,161,233,135,5,200,48,35,79,86,246,160,198,237,47,91,204,67,138,120,257,251,92,213,45,178,108,173,185]
[null,10,131,79,214,58,5,165,224,43,53,223,124,166,245,227,179,184,51,121,149,190,13,64,230,69,2,182,96,226]
[null,124,232,96,65,34,35,219,58,65,52,206,109,254,34,233,162,231,206,157,244,206,173,37,145,51,91,19,117,257]
[null,121,152,110,192,39,57,34,165,85,122,188,239,196,216,183,50,13,221,54,140,171,33,12,127,101,240,119,98,225]
[null,163,141,139,134,93,48,58,39,119,72,157,132,241,62,162,69,12,54,26,176,160,227,139,217,41,160,68,18,243]
[null,28,135,77,185,17,190,166,196,257,96,233,93,93,98,196,152,69,3,21,29,54,224,165,52,187,226,20,211,145]
[null,127,237,39,89,62,146,254,17,250,73,185,65,39,168,194,255,3,155,13,42,96,74,161,115,242,210,257,158,213]
[null,103,221,35,174,4,251,62,166,242,11,146,240,34,24,215,53,162,228,235,72,31,211,254,80,203,72,44,227,230]
[null,229,167,97,4,92,198,17,4,226,70,163,151,58,217,212,107,163,42,257,127,120,43,127,74,147,77,253,257,216]
[null,80,143,183,219,60,92,190,251,194,19,194,57,5,238,61,225,253,105,46,165,46,237,124,36,158,205,73,59,188]
[null,138,168,250,7,7,4,146,60,189,36,197,49,35,71,16,133,175,189,33,231,85,29,247,57,138,211,186,21,166]
[null,54,255,243,228,112,62,7,190,197,125,147,168,57,214,50,20,31,205,162,208,81,234,149,27,239,12,59,57,143]
[null,257,218,252,114,68,17,60,112,180,20,240,181,48,32,35,35,89,10,143,119,56,89,188,96,174,14,187,123,126]
[null,40,195,251,239,78,257,194,197,68,100,155,15,120,10,145,161,36,65,186,25,78,143,177,248,57,234,157,152,91]
[null,184,211,185,98,61,250,189,78,112,12,170,36,82,256,138,137,18,187,256,96,145,103,163,225,121,156,87,243,74]
[null,22,213,255,148,69,242,61,194,7,114,218,211,102,38,244,17,256,182,113,41,42,170,141,193,29,135,206,215,67]
[null,205,230,163,104,64,226,78,69,60,95,166,179,79,246,180,100,257,50,78,39,115,83,199,141,11,136,11,149,18]
[null,34,181,27,212,32,64,257,242,92,105,253,31,43,186,83,164,191,8,227,256,29,182,244,165,91,127,255,115,55]
[null,153,207,1,100,16,69,250,32,4,42,257,108,65,81,92,243,224,254,166,223,5,27,147,233,3,192,88,136,86]
[null,20,164,109,142,8,61,16,257,62,31,201,242,85,173,144,45,68,237,3,207,102,174,126,235,36,75,234,8,10]
[null,158,235,104,23,1,78,32,8,17,103,210,187,119,58,81,119,105,22,88,173,34,96,181,158,116,64,47,97,101]
[null,255,1,30,47,23,195,181,164,135,225,153,221,182,55,26,2,10,39,117,167,21,86,190,223,44,19,36,94,90]
[null,4,8,20,233,94,211,207,23,237,217,252,212,149,197,86,4,24,164,58,203,30,165,240,174,125,44,148,101,95]
[null,241,16,101,22,51,213,94,181,221,229,220,8,147,14,121,200,164,220,252,195,105,4,198,240,103,172,103,29,25]
[null,37,32,155,242,77,230,23,51,167,244,126,1,249,215,94,232,174,93,173,206,111,139,191,140,96,126,229,61,114]
[null,188,64,152,28,28,77,195,213,143,177,152,188,214,219,239,68,219,48,60,26,136,107,187,171,92,68,90,244,77]
[null,66,69,220,186,45,51,211,28,168,245,137,174,150,89,160,116,177,196,4,16,63,207,200,256,99,20,134,220,21]
[null,197,61,237,95,47,94,45,195,255,151,251,73,178,228,161,230,15,235,184,1,20,98,175,109,85,130,33,213,68]
[null,77,78,169,155,63,23,28,47,218,175,123,69,184,84,193,199,64,45,135,20,16,213,155,226,12,171,244,205,53]
[null,145,68,248,119,40,135,143,255,63,252,219,199,183,36,136,108,70,89,236,251,84,79,197,60,186,119,213,49,153]
[null,63,112,165,253,3,237,168,40,47,142,130,203,159,149,103,95,56,134,230,183,101,157,202,43,168,5,75,107,170]
[null,206,7,230,109,90,221,3,143,45,154,202,99,243,110,84,178,215,222,69,255,47,102,185,48,225,170,242,126,135]
[null,6,60,227,151,115,167,40,90,28,160,229,32,161,235,139,244,168,6,99,155,48,249,205,68,198,163,50,50,200]
[null,250,92,22,122,91,115,135,221,77,171,177,245,131,167,142,49,195,15,239,67,36,17,195,12,245,118,212,190,232]
[null,82,4,41,188,37,90,237,91,51,132,254,169,232,142,246,110,250,139,165,4,66,126,233,8,228,89,77,150,154]
[null,249,62,43,35,21,3,37,135,94,145,190,28,152,218,195,165,79,179,50,132,51,141,211,3,182,220,220,155,108]
[null,60,17,105,141,123,40,91,21,23,220,133,74,141,6,191,173,139,34,67,58,103,163,179,50,244,121,94,241,177]
[null,223,93,67,87,117,183,131,152,182,170,179,214,123,97,192,27,111,13,12,224,235,236,39,161,24,180,117,82,221]
[null,78,39,84,165,106,159,232,117,149,174,158,236,21,170,249,25,7,112,119,225,139,108,91,177,21,199,200,91,140]
[null,202,34,107,11,26,243,106,131,147,203,199,26,37,83,151,141,171,116,168,215,137,152,5,204,105,33,32,60,209]
[null,43,58,80,207,127,161,117,26,249,236,213,54,91,225,141,131,154,83,205,249,201,30,106,202,61,56,153,20,160]
[null,225,5,241,49,97,127,183,243,214,248,195,231,115,229,79,67,120,77,107,70,193,159,78,146,112,208,115,242,193]
[null,2,35,156,249,15,26,159,97,150,212,161,202,90,125,73,54,144,180,56,40,163,123,35,175,42,212,210,202,215]
[null,216,57,126,77,99,106,15,183,178,187,164,42,3,115,27,207,41,130,140,30,150,242,123,188,10,96,80,171,180]
[null,55,48,221,176,75,117,97,99,184,169,181,7,40,86,118,215,107,5,209,86,255,11,80,159,23,103,189,193,195]
[null,165,120,134,26,74,182,214,178,75,256,180,195,63,113,234,132,16,91,185,175,161,180,69,44,171,245,162,26,23]
[null,115,82,160,250,80,149,150,74,99,228,144,125,47,178,170,18,122,198,241,152,158,42,66,39,172,174,83,33,3]
[null,172,102,197,105,108,147,80,214,15,208,193,85,45,5,254,247,183,168,91,197,233,226,29,62,192,85,159,119,99]
[null,101,79,135,196,44,249,74,108,97,140,184,97,28,131,184,217,193,44,70,181,196,35,28,22,252,62,40,70,121]
[null,185,43,88,111,9,44,182,147,127,199,205,155,77,147,17,34,186,104,134,110,250,208,24,58,230,221,232,148,72]
[null,31,65,33,187,111,108,149,9,26,148,232,157,51,49,41,6,205,171,131,87,247,68,31,55,212,147,132,228,50]
[null,139,85,70,18,109,80,111,182,106,234,138,76,94,189,95,157,124,244,43,97,185,239,6,9,136,31,136,234,4]
[null,89,119,86,225,76,74,9,109,117,240,224,23,23,57,104,192,62,98,103,98,236,114,17,123,169,54,102,255,109]
[null,142,27,69,159,18,256,199,234,170,76,98,180,225,45,91,227,71,115,20,184,232,25,160,180,150,35,107,191,34]
[null,36,121,78,90,24,228,148,18,174,109,89,191,217,257,112,146,47,211,111,157,189,219,232,95,151,8,174,166,112]
[null,211,49,44,256,110,208,24,199,203,111,90,87,229,123,36,82,198,242,160,198,208,26,226,186,206,232,27,137,122]
[null,72,66,42,126,59,140,18,110,236,9,14,30,244,199,57,84,244,31,193,235,223,257,133,211,131,215,209,172,75]
[null,233,54,211,166,118,59,256,208,248,44,71,210,177,144,207,159,197,35,68,45,243,20,148,170,163,73,43,10,100]
[null,62,25,193,64,50,110,228,118,212,108,91,148,245,76,252,196,203,256,97,89,200,181,136,124,232,106,251,99,128]
[null,201,124,164,190,30,24,50,256,187,80,86,33,151,236,238,105,101,141,194,104,191,120,237,138,130,237,74,102,85]
[null,128,67,203,86,2,18,118,30,169,74,87,75,175,16,182,57,45,57,244,38,231,183,157,238,200,165,179,69,2]
[null,144,56,240,170,89,170,248,187,2,75,20,167,252,124,30,186,4,58,142,209,234,94,218,38,106,116,240,153,155]
[null,46,101,232,78,71,174,212,89,30,99,75,119,142,194,110,236,100,249,243,137,254,235,107,101,74,113,6,133,156]
[null,171,128,131,156,46,203,71,248,50,15,28,115,154,25,158,115,156,176,9,194,132,110,217,40,98,206,147,236,251]
[null,132,86,242,20,10,236,89,46,118,97,17,45,160,205,52,60,173,66,38,196,172,145,239,42,48,252,66,116,169]
[null,199,53,87,237,22,10,170,203,59,127,51,175,171,231,159,155,159,99,228,79,175,133,171,30,4,7,142,112,219]
[null,49,52,50,131,55,46,174,22,110,26,47,138,132,9,123,135,207,178,222,125,220,197,251,79,117,117,54,6,253]
[null,183,122,23,137,84,71,55,170,24,106,43,60,145,180,200,46,22,247,104,102,221,52,176,105,75,134,230,128,201]
[null,125,72,24,113,88,89,22,84,18,117,76,35,220,93,253,128,21,70,62,28,133,171,159,46,78,187,12,54,214]
[null,187,96,57,234,38,252,171,145,225,123,41,176,88,106,152,149,109,113,8,239,109,161,96,185,241,242,60,212,246]
[null,99,73,117,120,113,142,132,38,217,21,85,255,84,243,176,219,82,158,32,159,134,104,118,242,148,166,237,256,231]
[null,194,11,2,167,126,154,113,171,229,37,11,81,55,77,205,5,146,202,201,212,7,253,85,237,179,97,31,169,131]
[null,12,70,121,27,87,160,38,126,244,91,80,127,22,121,248,87,232,88,247,253,146,73,42,167,175,90,248,165,198]
[null,213,19,192,162,98,87,252,154,177,115,93,246,10,120,1,203,247,95,55,65,117,220,84,195,227,151,22,88,141]
[null,18,36,249,115,104,126,142,98,245,90,27,154,46,66,70,220,108,238,105,15,10,18,120,151,219,177,188,52,234]
[null,239,125,168,218,116,113,104,252,151,3,118,39,71,208,85,90,131,151,224,54,116,193,74,234,195,36,93,23,220]
[null,123,20,244,3,6,38,98,116,175,40,67,51,89,102,54,98,58,102,178,94,99,112,51,160,204,9,152,134,236]
[null,226,100,184,191,83,225,177,151,6,63,50,172,2,37,226,251,42,1,130,168,88,217,54,76,47,175,163,251,94]
[null,79,12,150,57,107,217,245,83,116,47,99,153,30,223,210,154,9,144,176,226,89,2,130,114,7,217,35,185,62]
[null,156,114,111,222,13,229,107,177,104,45,54,9,50,3,171,47,233,152,84,201,79,134,33,66,77,58,176,224,64]
[null,112,95,200,37,81,244,83,13,98,28,37,95,118,230,178,37,225,101,29,130,90,48,43,4,118,10,121,186,9]
[null,200,105,59,206,14,81,225,229,87,77,32,166,59,247,101,248,182,32,206,111,6,140,16,53,80,233,140,35,8]
[null,97,42,115,81,29,13,217,14,126,51,60,247,110,92,8,147,141,229,133,116,94,71,57,15,22,230,86,51,66]
[null,151,31,81,227,41,107,29,225,113,94,3,50,24,153,93,56,19,225,106,13,106,255,121,71,2,101,228,58,41]
[null,23,103,48,74,33,83,14,41,38,23,2,128,18,96,2,42,97,17,76,68,118,56,15,126,143,65,114,79,84]
[null,210,33,213,241,155,100,105,31,96,1,250,248,27,240,186,242,170,209,156,182,181,158,196,244,208,143,196,195,161]
[null,30,41,167,1,227,12,42,155,73,8,156,256,121,101,109,222,126,118,251,151,194,67,193,156,193,241,97,196,124]
[null,220,29,195,224,216,114,227,105,11,16,209,41,49,164,236,19,17,92,44,248,182,194,144,147,253,112,205,218,178]
[null,13,14,253,10,153,95,155,216,70,32,196,58,66,117,221,1,92,218,108,143,205,57,208,154,156,55,17,203,197]
[null,237,81,19,175,163,153,100,114,19,64,242,186,54,48,89,228,128,240,216,37,186,243,108,197,170,219,235,41,182]
[null,76,13,29,42,144,216,12,163,36,69,222,162,25,140,34,144,23,72,148,6,213,62,168,155,249,159,42,25,111]
[null,175,107,53,178,246,227,144,100,125,61,192,6,124,107,132,88,220,85,24,48,187,188,220,148,154,23,256,11,179]
[null,90,83,83,50,158,155,163,246,20,78,225,100,67,239,40,44,148,133,25,21,148,121,238,227,188,70,138,12,199]
[null,147,6,99,140,238,96,19,125,158,68,237,170,56,159,209,181,210,212,89,199,214,198,164,106,27,153,15,239,35]
[null,14,116,46,63,133,73,36,238,246,112,243,192,101,65,130,229,223,12,114,150,197,82,183,133,59,144,154,187,125]
[null,154,104,34,203,222,11,133,19,144,7,149,122,128,184,147,124,91,26,231,123,245,203,231,26,68,60,92,254,6]
[null,94,98,100,6,239,70,238,222,163,60,143,43,86,4,190,52,73,131,146,185,198,131,256,89,67,104,145,177,56]
[null,136,87,145,246,188,239,96,11,153,92,174,205,53,17,77,237,49,162,86,88,217,204,248,51,32,191,61,42,83]
[null,88,126,144,85,247,222,73,188,216,4,228,178,52,211,125,169,103,74,35,100,244,58,169,13,15,149,167,9,36]
[null,219,113,226,245,185,133,247,96,227,62,249,118,122,8,42,12,229,68,179,112,225,189,210,59,25,42,112,118,142]
[null,109,38,136,59,162,238,188,185,155,17,145,114,72,128,56,70,212,230,163,24,166,122,153,7,1,76,254,90,46]
[null,173,88,176,226,186,56,53,122,27,93,127,229,162,163,38,218,172,217,171,153,28,90,9,229,114,45,127,226,93]
[null,96,84,133,101,136,101,52,186,121,39,104,218,185,56,105,210,135,59,213,177,82,195,100,252,177,30,25,180,11]
[null,232,55,254,217,206,128,136,53,49,34,227,68,247,198,15,61,80,84,122,211,17,72,113,136,202,158,195,231,17]
[null,50,22,209,38,205,86,186,206,66,58,141,112,188,146,11,75,59,138,40,250,80,252,86,191,224,184,51,230,87]
[null,214,10,56,229,172,205,56,128,54,5,107,152,239,67,219,234,20,161,181,18,91,53,72,142,164,22,250,80,96]
[null,5,46,71,14,130,206,101,172,25,35,214,194,222,227,237,195,133,61,187,66,49,246,45,194,161,150,67,5,107]
[null,166,71,140,213,157,136,130,56,124,57,142,38,133,68,187,32,181,81,5,71,128,28,116,257,185,231,201,48,20]
[null,67,89,51,69,202,186,172,157,67,48,186,17,238,158,168,8,192,135,83,92,74,128,1,247,139,257,133,84,120]
[null,243,2,52,182,191,27,54,124,202,120,203,137,158,132,127,175,152,239,61,227,40,44,112,82,8,61,98,147,218]
[null,11,30,146,133,134,121,25,191,157,82,139,224,246,26,33,156,180,63,126,247,70,192,104,86,64,125,202,138,119]
[null,140,50,76,183,233,49,134,54,130,102,176,21,144,195,13,64,115,73,149,141,75,116,22,37,38,224,85,184,211]
[null,51,118,54,112,204,66,191,233,172,79,248,24,163,51,108,113,6,136,195,214,2,149,115,5,18,179,123,219,244]
[null,160,59,190,198,192,204,27,49,205,43,245,238,153,7,143,122,40,132,51,84,39,59,23,49,62,120,65,76,189]
[null,68,110,138,53,209,233,121,192,206,65,122,244,216,204,124,172,93,27,158,69,43,147,8,19,49,29,217,95,245]
[null,242,24,166,152,137,134,209,27,136,85,150,94,227,87,199,65,226,75,210,22,19,105,49,94,43,218,81,83,204]
[null,27,18,222,94,231,191,192,137,186,119,189,52,155,136,156,23,201,203,240,17,9,221,30,69,93,148,149,113,176]
[null,148,76,218,108,139,120,43,85,93,231,22,253,1,155,203,78,221,172,211,205,144,250,222,150,35,209,221,75,228]
[null,65,109,245,215,173,82,65,139,39,137,19,147,8,108,198,13,160,25,199,145,55,10,156,183,132,243,100,131,187]
[null,234,111,194,48,193,102,173,43,34,209,110,117,16,176,189,166,116,109,41,163,59,212,206,241,40,3,203,44,242]
[null,106,9,246,202,215,79,139,193,58,192,58,61,32,104,240,187,118,147,66,178,93,14,182,137,37,4,39,77,148]
[null,141,44,72,15,179,215,120,102,5,204,134,196,64,70,28,73,137,150,242,36,135,178,245,168,82,207,245,222,210]
[null,41,108,62,197,156,193,82,179,35,233,83,145,69,212,23,74,113,110,219,78,151,40,224,224,135,195,9,221,239]
[null,174,80,11,54,176,173,156,120,57,134,24,123,61,119,7,249,208,64,37,136,12,177,203,173,109,82,224,154,152]
[null,69,74,85,130,138,139,179,176,48,191,23,25,78,179,29,177,228,137,10,56,104,36,212,166,53,57,64,245,206]
[null,167,75,130,97,210,93,5,57,138,202,96,156,68,206,255,76,230,215,94,124,18,167,214,77,145,164,78,64,51]
[null,81,99,116,200,201,39,35,210,176,157,46,254,112,75,214,118,214,7,75,144,127,92,255,119,134,247,130,114,31]
[null,150,15,60,79,223,34,201,5,156,130,42,116,7,185,213,138,52,24,177,246,32,209,170,128,238,69,89,66,29]
[null,7,97,25,123,253,58,210,223,179,172,12,98,60,21,211,167,54,191,120,138,1,7,166,45,213,80,150,85,73]
[null,248,127,179,44,200,253,93,34,215,205,35,134,92,13,31,79,74,207,137,109,68,245,194,28,189,256,76,162,32]
[null,134,26,162,193,224,223,39,200,193,206,52,149,4,224,25,96,27,52,101,14,52,85,221,113,207,167,239,141,1]
[null,137,106,148,66,219,201,224,93,173,136,70,19,62,42,75,208,245,37,204,118,87,225,246,131,157,18,139,160,33]
[null,95,117,119,124,165,210,200,219,139,186,101,126,17,196,96,189,246,204,232,82,98,31,119,41,217,98,190,240,15]
[null,230,123,181,73,241,68,92,62,1,162,25,165,165,160,62,106,189,255,237,229,204,34,93,206,71,32,238,47,113]
[null,131,21,219,169,196,112,4,241,8,185,73,193,219,90,64,3,255,103,245,216,162,184,97,143,16,48,1,100,45]
[null,155,37,223,84,254,7,196,92,16,247,112,18,224,234,43,205,96,30,23,186,227,47,4,178,55,186,214,31,28]
[null,29,91,161,254,166,60,241,254,32,188,95,107,200,41,46,151,95,216,1,131,138,215,131,184,111,181,5,1,42]
[null,178,115,75,39,198,166,68,7,64,239,64,201,253,20,197,33,5,153,212,93,212,21,134,222,100,53,185,199,70]
[null,120,90,8,251,251,254,112,198,69,222,61,209,223,187,242,125,83,69,225,27,173,229,11,201,120,47,72,237,92]
[null,204,3,15,30,146,196,251,68,61,133,111,90,201,44,208,238,227,53,96,50,177,24,109,231,19,246,199,201,115]
[null,1,40,6,144,190,241,198,146,78,238,18,77,210,226,223,223,169,248,115,139,202,169,70,162,84,244,71,135,132]
[null,218,63,7,19,180,1,64,61,190,158,103,243,138,248,113,97,222,193,72,233,180,115,81,10,201,24,101,106,167]
[null,74,47,73,160,197,8,69,180,146,246,88,222,176,2,120,121,240,71,2,162,113,155,95,33,137,102,171,15,184]
[null,236,45,3,110,189,16,197,64,251,144,40,47,156,220,14,241,2,76,145,217,216,88,117,65,229,123,52,43,191]
[null,53,28,95,154,194,32,180,189,198,163,92,79,179,12,78,158,1,208,180,219,143,175,59,117,247,122,247,109,240]
[null,224,77,231,46,226,194,1,16,166,153,5,227,215,72,175,94,67,250,31,2,229,76,14,93,167,131,3,143,203]
[null,105,51,257,158,242,189,8,226,254,216,1,150,193,177,166,15,34,4,92,35,253,231,111,25,255,66,170,122,172]
[null,238,94,149,116,250,197,242,1,196,227,57,16,173,85,114,213,190,21,255,51,156,84,132,23,222,183,24,250,248]
[null,100,23,154,235,257,180,226,250,241,155,48,71,139,200,177,139,153,236,170,85,224,162,77,100,142,194,211,161,157]
[null,3,257,228,211,235,63,77,94,123,33,105,37,76,203,232,256,248,219,141,91,237,172,68,35,214,239,222,164,168]
[null,254,250,238,25,164,47,51,235,21,41,6,46,109,61,172,254,234,94,200,55,228,93,18,84,133,214,110,157,163]
[null,17,242,157,236,207,45,164,77,37,29,38,250,111,244,137,58,94,38,6,63,153,254,60,18,155,86,155,229,233]
[null,221,226,103,16,181,28,235,207,91,14,132,257,9,43,164,26,84,165,85,52,147,119,67,118,162,132,29,197,144]
[null,70,194,106,230,230,181,63,45,115,81,106,70,44,39,19,190,39,210,198,232,122,151,71,87,166,190,168,14,181]
[null,192,189,38,72,213,207,47,230,90,13,121,84,108,169,98,142,81,62,254,242,195,51,58,2,159,238,124,38,237]
[null,61,197,21,163,211,164,213,63,3,107,7,185,80,30,97,28,243,23,74,257,238,160,83,149,173,128,225,45,190]
[null,181,180,89,103,195,235,230,211,40,83,135,189,74,174,65,59,194,213,123,238,242,45,103,32,246,87,14,53,205]
[null,113,190,10,139,218,123,115,3,195,6,39,59,75,222,122,150,188,169,22,7,174,179,61,198,72,139,45,209,105]
[null,195,146,93,5,255,21,90,218,211,116,128,55,99,109,155,163,202,124,28,75,157,101,56,215,90,253,183,151,88]
[null,52,251,28,149,168,37,255,115,213,104,56,159,15,148,174,80,43,36,189,3,211,156,73,210,33,88,16,132,123]
[null,252,198,31,107,143,91,218,168,230,98,29,226,97,23,119,14,90,252,159,103,210,9,53,190,60,95,208,208,58]
[null,8,166,236,136,167,143,123,37,181,87,81,13,127,91,116,209,63,243,19,191,222,241,63,246,13,140,46,68,26]
[null,176,254,217,70,221,168,21,167,207,126,4,89,26,116,12,148,8,119,93,254,192,132,25,250,30,169,181,108,104]
[null,9,196,215,223,237,255,221,123,164,113,68,230,106,40,63,93,179,79,208,126,207,117,47,255,76,38,38,103,150]
[null,198,241,153,117,135,218,167,237,235,38,125,184,117,252,67,85,119,224,191,200,155,95,79,208,14,137,164,17,81]
[null,35,165,191,171,141,75,127,106,76,88,79,44,135,161,66,231,147,245,246,34,23,22,219,97,234,78,141,176,37]
[null,180,219,174,93,152,99,26,141,109,84,100,22,237,88,9,233,251,146,139,33,119,150,167,81,237,59,58,167,118]
[null,56,224,151,247,232,15,152,127,111,55,59,232,221,175,107,117,87,142,90,43,121,106,253,54,153,225,226,198,49]
[null,215,200,178,51,131,97,141,232,9,22,45,204,167,33,117,127,104,175,53,9,57,228,152,56,197,202,105,238,98]
[null,33,253,17,209,161,131,75,15,44,10,63,27,143,29,179,191,138,181,151,188,65,99,180,112,146,50,143,16,65]
[null,256,223,102,9,243,232,99,161,108,46,97,56,168,133,185,204,114,78,202,218,95,135,223,83,216,46,48,56,43]
[null,42,201,132,181,159,152,243,75,80,71,94,216,255,143,231,51,217,128,118,228,108,16,135,70,248,162,178,87,78]
[null,203,210,37,82,183,141,161,159,74,89,77,251,218,172,140,43,151,253,49,172,3,247,178,99,235,155,69,65,63]
[null,93,138,124,232,184,76,44,80,183,2,78,63,195,145,24,126,242,167,73,83,97,78,189,214,87,13,96,232,235]
[null,143,176,98,8,178,109,108,184,159,30,114,133,211,80,88,240,136,60,17,106,100,216,192,219,86,84,175,225,255]
[null,86,156,61,153,150,111,178,44,243,50,65,173,213,253,4,11,75,90,167,61,25,32,229,196,66,173,99,139,159]
[null,157,179,123,62,214,9,184,150,161,118,74,161,230,127,74,41,65,214,188,77,62,223,230,236,6,196,218,188,137]
[null,73,215,170,147,249,214,76,111,131,59,53,103,181,111,241,224,72,154,124,148,8,50,234,200,28,37,26,110,186]
[null,227,193,225,71,147,150,109,249,232,110,26,101,207,209,217,252,53,87,127,171,11,190,227,203,46,111,126,30,208]
[null,119,173,188,240,149,178,147,76,152,24,120,182,164,69,163,101,134,14,215,161,73,19,252,249,122,227,122,24,254]
[null,169,139,172,33,182,184,249,149,141,18,34,235,235,201,154,66,196,160,155,160,22,144,241,135,89,204,156,3,149]
[null,116,231,189,99,240,2,59,24,88,182,160,78,33,213,167,31,187,143,238,74,26,233,98,78,108,223,151,67,224]
[null,222,137,180,168,234,30,110,240,84,149,169,67,41,1,146,112,211,47,147,101,69,39,26,163,107,250,84,92,146]
[null,47,209,214,2,148,50,234,59,55,147,168,171,29,135,222,176,60,16,98,60,50,232,32,72,52,26,231,121,136]
[null,186,192,216,132,199,118,240,148,22,249,244,228,14,59,201,174,14,227,65,23,35,1,125,47,127,43,49,86,183]
[null,25,204,47,92,140,199,2,50,10,214,187,48,81,114,51,99,61,223,190,213,15,238,110,88,95,185,215,248,158]
[null,196,233,65,194,208,148,30,140,46,150,167,110,13,182,6,62,55,2,161,169,58,77,122,134,26,152,7,159,130]
[null,57,134,94,68,228,234,208,2,71,178,172,225,107,22,20,153,157,117,64,154,67,138,21,120,128,21,184,156,173]
[null,130,191,55,172,256,240,140,228,89,184,171,183,83,242,76,201,213,201,14,220,27,75,101,20,58,93,79,189,256]
[null,114,202,18,88,169,88,10,71,256,183,238,91,6,134,228,72,254,200,116,49,24,164,40,220,152,142,18,105,103]
[null,212,157,26,180,187,84,46,169,228,159,183,139,116,64,148,22,158,9,15,121,4,23,151,157,184,145,252,125,102]
[null,87,130,127,102,212,55,187,10,208,243,230,143,104,233,100,143,102,82,249,64,126,148,41,218,160,52,111,22,7]
[null,126,172,16,238,248,22,169,212,140,161,241,213,98,53,206,198,85,192,220,62,86,113,19,216,210,6,192,142,89]
[null,59,205,171,21,236,248,88,55,199,131,207,83,87,27,99,103,99,159,30,179,83,125,87,228,254,251,116,146,39]
[null,209,206,208,127,203,212,84,236,148,232,211,120,126,249,135,123,51,80,36,133,38,61,7,179,141,141,204,252,5]
[null,75,136,235,121,174,187,203,88,234,152,215,198,113,78,58,212,236,11,154,156,37,206,82,153,183,124,28,130,57]
[null,133,186,234,145,170,169,236,174,240,141,182,223,38,165,5,130,237,188,196,230,125,87,99,212,180,71,246,204,44]
[null,71,162,201,24,220,6,87,113,33,135,217,82,170,152,106,109,149,145,250,19,149,97,162,73,17,16,198,46,12]
[null,159,185,141,138,145,116,126,220,41,237,173,3,174,15,82,39,176,100,226,99,124,154,140,16,110,92,21,2,27]
[null,64,247,256,91,132,104,145,87,29,221,247,177,203,181,53,253,112,56,57,46,251,5,173,21,79,161,227,89,127]
[null,246,188,137,231,171,98,220,132,14,167,178,131,236,137,10,171,26,170,11,5,112,185,216,91,83,168,10,93,60]
[null,45,239,66,96,160,171,6,104,81,143,165,12,248,138,257,55,11,163,203,193,141,38,174,63,31,107,236,170,117]
[null,240,222,9,143,154,132,116,160,13,168,231,104,212,192,188,38,150,20,153,243,248,240,138,107,39,81,70,206,24]
[null,19,133,90,40,142,145,154,6,107,255,140,219,187,50,173,168,127,107,34,204,142,65,184,24,63,222,165,235,38]
[null,135,238,14,255,252,220,160,142,83,218,191,207,169,156,204,160,200,156,80,164,159,146,207,98,54,249,106,124,22]
[null,32,158,74,67,175,33,81,107,252,195,208,86,256,221,32,7,216,257,128,90,170,41,204,182,211,83,95,7,164]
[null,179,246,108,201,151,41,13,175,142,211,159,105,228,35,48,104,249,114,82,32,169,256,128,144,251,41,223,73,196]
[null,102,144,147,36,245,29,151,81,154,213,204,249,208,255,87,211,25,106,174,57,179,124,225,192,181,200,82,34,194]
[null,146,163,58,221,177,14,175,245,160,230,221,163,140,28,80,221,33,157,229,128,168,210,215,254,140,248,137,72,249]
[null,58,153,199,52,244,177,33,29,171,181,226,92,199,11,157,10,76,226,52,147,252,118,242,205,178,25,118,223,250]
[null,161,216,143,177,229,245,41,244,132,207,198,11,148,166,250,111,117,29,125,142,164,187,201,243,236,28,172,207,192]
[null,107,227,177,31,217,151,229,33,145,164,255,208,234,105,165,202,239,33,152,245,152,3,137,187,256,157,30,200,217]
[null,235,155,210,184,225,175,244,217,220,235,256,130,240,162,256,216,161,241,182,190,140,202,243,132,115,193,144,179,174]
[null,48,231,49,45,153,17,100,103,88,115,227,50,102,257,77,162,72,158,63,18,76,62,97,16,8,14,62,10,225]
[null,228,137,140,91,216,257,191,31,132,17,103,65,7,250,64,185,149,246,62,157,107,161,134,36,102,102,65,2,217]
[null,38,209,166,63,31,34,64,42,241,146,153,5,214,242,76,247,22,144,40,94,10,53,80,239,49,111,114,217,229]
[null,245,192,40,5,103,248,201,105,166,203,42,102,150,226,53,188,37,163,55,141,115,241,61,257,62,104,50,200,244]
[null,21,204,18,239,158,83,15,95,130,39,144,88,42,194,72,239,169,105,217,210,221,23,76,30,16,61,150,72,177]
[null,182,233,186,229,246,216,196,114,235,99,95,9,110,189,45,222,224,42,233,118,252,216,147,114,36,103,90,96,245]
[null,83,134,173,205,114,80,70,12,38,235,158,104,234,197,71,133,126,31,247,151,210,2,79,170,66,110,38,252,151]
[null,168,191,125,175,95,208,137,100,110,188,12,70,233,180,110,238,218,103,246,19,237,120,59,214,33,31,20,158,175]
[null,111,202,46,159,239,118,60,20,48,105,133,231,169,190,44,100,49,162,19,99,59,243,223,77,21,152,94,88,252]
[null,244,157,246,212,222,195,176,125,35,114,20,199,144,146,61,12,128,185,71,193,108,104,133,29,15,125,75,66,142]
[null,104,130,232,224,125,55,55,36,167,198,239,190,27,251,13,114,111,247,4,74,135,166,252,134,109,232,27,136,154]
[null,164,172,127,158,20,252,127,19,185,154,36,191,112,198,60,95,68,188,81,254,73,113,202,206,115,169,2,215,160]
[null,122,205,96,113,162,12,54,70,209,67,247,226,172,166,41,105,181,19,216,241,170,197,175,21,84,207,10,53,171]
[null,170,206,184,114,185,173,200,11,155,109,70,243,223,254,14,42,133,36,249,47,158,91,222,89,30,245,89,80,132]
[null,39,136,190,32,11,13,69,73,29,216,162,233,79,196,33,31,216,125,140,250,146,146,116,246,9,199,48,140,145]
[null,149,186,28,122,70,199,136,96,46,182,73,257,95,241,92,103,202,20,168,130,234,4,212,188,113,251,105,144,220]
[null,85,96,41,82,205,32,168,72,86,213,136,144,87,165,230,231,220,202,32,95,105,131,165,40,131,29,249,29,170]
[null,162,73,199,125,206,157,63,122,123,228,72,81,45,219,176,137,153,157,78,202,81,233,247,48,154,6,158,40,174]
[null,26,11,174,4,122,41,186,52,178,100,205,56,136,224,241,209,243,130,27,60,47,63,241,197,31,122,145,190,203]
[null,208,70,120,49,72,220,6,53,199,74,52,34,218,200,178,192,247,172,28,112,8,207,171,183,117,67,172,146,236]
[null,44,19,97,202,202,29,205,86,238,236,130,94,77,253,167,204,39,53,178,191,240,8,162,24,151,116,186,106,248]
[null,253,36,197,187,157,244,12,128,125,108,86,97,71,223,209,233,21,52,253,31,192,191,151,63,44,64,213,64,212]
[null,92,125,177,118,128,45,230,101,77,27,202,73,253,201,130,134,71,122,210,190,187,57,238,226,116,1,142,220,187]
[null,191,20,123,207,86,189,130,56,66,1,101,119,175,210,184,191,90,72,174,100,166,125,138,250,72,11,257,241,169]
[null,15,100,19,206,204,76,214,67,106,197,134,250,197,138,218,56,131,231,111,126,31,160,40,83,55,176,146,121,256]
[null,247,12,195,112,233,125,66,124,78,133,67,194,132,176,188,101,225,137,120,232,11,56,139,102,119,172,154,34,228]
[null,118,114,185,182,124,75,142,25,143,34,204,220,109,156,183,128,245,209,74,63,117,173,47,194,82,221,236,237,208]
[null,207,95,122,204,67,146,109,54,252,79,25,240,63,179,256,86,150,192,39,207,44,135,14,145,10,253,143,234,140]
[null,98,105,126,68,231,60,199,66,218,138,209,196,207,215,219,53,115,54,182,251,174,193,69,136,13,209,235,20,199]
[null,190,42,231,120,137,205,111,49,165,229,66,209,100,193,215,52,134,25,163,54,189,41,13,86,136,239,250,14,148]
[null,16,31,183,92,49,106,153,121,32,40,231,215,48,173,239,122,59,124,175,171,236,177,54,193,108,164,209,164,234]
[null,231,103,55,36,66,164,37,27,57,110,121,165,18,139,249,72,102,67,145,122,241,109,82,235,69,189,228,206,240]
[null,110,257,86,40,215,150,8,119,37,49,173,223,47,27,114,165,55,138,183,103,53,37,30,180,236,108,36,5,182]
[null,193,250,233,13,193,43,248,85,98,15,119,126,59,121,203,219,60,176,127,150,113,158,71,245,239,75,102,111,149]
[null,24,242,149,64,85,210,46,65,142,255,215,218,217,49,199,224,69,156,214,82,95,55,16,92,148,17,52,141,147]
[null,152,226,111,12,119,56,244,43,140,254,65,221,192,66,165,200,18,179,181,154,80,219,110,71,200,121,76,197,249]
[null,117,194,108,186,138,243,80,79,121,51,156,176,16,54,123,253,230,43,36,188,222,13,48,185,124,90,13,62,214]
[null,217,189,148,196,176,61,218,102,145,63,79,123,39,25,107,223,235,65,37,46,180,249,19,184,175,34,34,113,150]
[null,84,197,194,247,102,204,81,82,50,176,138,149,221,124,246,201,251,85,104,139,122,34,106,9,234,85,55,135,178]
[null,189,180,121,173,79,128,222,120,30,201,82,205,248,67,154,210,229,119,13,79,202,194,52,81,235,92,46,233,184]
[null,91,190,43,128,253,161,91,48,28,94,201,113,164,56,240,120,3,165,194,52,134,180,207,182,162,181,44,102,183]
[null,177,146,251,142,223,58,166,57,44,11,48,124,183,101,131,82,44,219,144,183,114,128,227,140,212,139,3,4,159]
[null,108,251,234,198,57,179,49,35,206,189,253,20,81,128,226,102,45,224,192,73,12,169,229,120,216,130,88,142,243]
[null,251,198,67,233,48,135,251,5,204,178,35,45,138,86,257,79,47,200,173,237,120,108,185,91,246,213,92,160,161]
[null,10,166,51,79,165,214,13,58,184,2,224,69,121,53,190,43,227,5,96,245,149,182,226,179,223,230,64,124,131]
[null,124,254,206,96,219,65,173,34,231,91,58,51,157,52,206,65,233,35,117,34,244,19,257,162,206,145,37,109,232]
[null,121,196,221,110,34,192,33,39,13,240,165,101,54,122,171,85,183,57,98,216,140,119,225,50,188,127,12,239,152]
[null,163,241,54,139,58,134,227,93,12,160,39,41,26,72,160,119,162,48,18,62,176,68,243,69,157,217,139,132,141]
[null,28,93,3,77,166,185,224,17,69,226,196,187,21,96,54,257,196,190,211,98,29,20,145,152,233,52,165,93,135]
[null,127,39,155,39,254,89,74,62,3,210,17,242,13,73,96,250,194,146,158,168,42,257,213,255,185,115,161,65,237]
[null,103,34,228,35,62,174,211,4,162,72,166,203,235,11,31,242,215,251,227,24,72,44,230,53,146,80,254,240,221]
[null,229,58,42,97,17,4,43,92,163,77,4,147,257,70,120,226,212,198,257,217,127,253,216,107,163,74,127,151,167]
[null,80,5,105,183,190,219,237,60,253,205,251,158,46,19,46,194,61,92,59,238,165,73,188,225,194,36,124,57,143]
[null,138,35,189,250,146,7,29,7,175,211,60,138,33,36,85,189,16,4,21,71,231,186,166,133,197,57,247,49,168]
[null,54,57,205,243,7,228,234,112,31,12,190,239,162,125,81,197,50,62,57,214,208,59,143,20,147,27,149,168,255]
[null,257,48,10,252,60,114,89,68,89,14,112,174,143,20,56,180,35,17,123,32,119,187,126,35,240,96,188,181,218]
[null,40,120,65,251,194,239,143,78,36,234,197,57,186,100,78,68,145,257,152,10,25,157,91,161,155,248,177,15,195]
[null,184,82,187,185,189,98,103,61,18,156,78,121,256,12,145,112,138,250,243,256,96,87,74,137,170,225,163,36,211]
[null,22,102,182,255,61,148,170,69,256,135,194,29,113,114,42,7,244,242,215,38,41,206,67,17,218,193,141,211,213]
[null,205,79,50,163,78,104,83,64,257,136,69,11,78,95,115,60,180,226,149,246,39,11,18,100,166,141,199,179,230]
[null,34,43,8,27,257,212,182,32,191,127,242,91,227,105,29,92,83,64,115,186,256,255,55,164,253,165,244,31,181]
[null,153,65,254,1,250,100,27,16,224,192,32,3,166,42,5,4,92,69,136,81,223,88,86,243,257,233,147,108,207]
[null,20,85,237,109,16,142,174,8,68,75,257,36,3,31,102,62,144,61,8,173,207,234,10,45,201,235,126,242,164]
[null,158,119,22,104,32,23,96,1,105,64,8,116,88,103,34,17,81,78,97,58,173,47,101,119,210,158,181,187,235]
[null,255,182,39,30,181,47,86,23,10,19,164,44,117,225,21,135,26,195,94,55,167,36,90,2,153,223,190,221,1]
[null,4,149,164,20,207,233,165,94,24,44,23,125,58,217,30,237,86,211,101,197,203,148,95,4,252,174,240,212,8]
[null,241,147,220,101,94,22,4,51,164,172,181,103,252,229,105,221,121,213,29,14,195,103,25,200,220,240,198,8,16]
[null,37,249,93,155,23,242,139,77,174,126,51,96,173,244,111,167,94,230,61,215,206,229,114,232,126,140,191,1,32]
[null,188,214,48,152,195,28,107,28,219,68,213,92,60,177,136,143,239,77,244,219,26,90,77,68,152,171,187,188,64]
[null,66,150,196,220,211,186,207,45,177,20,28,99,4,245,63,168,160,51,220,89,16,134,21,116,137,256,200,174,69]
[null,197,178,235,237,45,95,98,47,15,130,195,85,184,151,20,255,161,94,213,228,1,33,68,230,251,109,175,73,61]
[null,77,184,45,169,28,155,213,63,64,171,47,12,135,175,16,218,193,23,205,84,20,244,53,199,123,226,155,69,78]
[null,145,183,89,248,143,119,79,40,70,119,255,186,236,252,84,63,136,135,49,36,251,213,153,108,219,60,197,199,68]
[null,63,159,134,165,168,253,157,3,56,5,40,168,230,142,101,47,103,237,107,149,183,75,170,95,130,43,202,203,112]
[null,206,243,222,230,3,109,102,90,215,170,143,225,69,154,47,45,84,221,126,110,255,242,135,178,202,48,185,99,7]
[null,6,161,6,227,40,151,249,115,168,163,90,198,99,160,48,28,139,167,50,235,155,50,200,244,229,68,205,32,60]
[null,250,131,15,22,135,122,17,91,195,118,221,245,239,171,36,77,142,115,190,167,67,212,232,49,177,12,195,245,92]
[null,82,232,139,41,237,188,126,37,250,89,91,228,165,132,66,51,246,90,150,142,4,77,154,110,254,8,233,169,4]
[null,249,152,179,43,37,35,141,21,79,220,135,182,50,145,51,94,195,3,155,218,132,220,108,165,190,3,211,28,62]
[null,60,141,34,105,91,141,163,123,139,121,21,244,67,220,103,23,191,40,241,6,58,94,177,173,133,50,179,74,17]
[null,223,123,13,67,131,87,236,117,111,180,152,24,12,170,235,182,192,183,82,97,224,117,221,27,179,161,39,214,93]
[null,78,21,112,84,232,165,108,106,7,199,117,21,119,174,139,149,249,159,91,170,225,200,140,25,158,177,91,236,39]
[null,202,37,116,107,106,11,152,26,171,33,131,105,168,203,137,147,151,243,60,83,215,32,209,141,199,204,5,26,34]
[null,43,91,83,80,117,207,30,127,154,56,26,61,205,236,201,249,141,161,20,225,249,153,160,131,213,202,106,54,58]
[null,225,115,77,241,183,49,159,97,120,208,243,112,107,248,193,214,79,127,242,229,70,115,193,67,195,146,78,231,5]
[null,2,90,180,156,159,249,123,15,144,212,97,42,56,212,163,150,73,26,202,125,40,210,215,54,161,175,35,202,35]
[null,216,3,130,126,15,77,242,99,41,96,183,10,140,187,150,178,27,106,171,115,30,80,180,207,164,188,123,42,57]
[null,55,40,5,221,97,176,11,75,107,103,99,23,209,169,255,184,118,117,193,86,86,189,195,215,181,159,80,7,48]
[null,165,63,91,134,214,26,180,74,16,245,178,171,185,256,161,75,234,182,26,113,175,162,23,132,180,44,69,195,120]
[null,115,47,198,160,150,250,42,80,122,174,74,172,241,228,158,99,170,149,33,178,152,83,3,18,144,39,66,125,82]
[null,172,45,168,197,80,105,226,108,183,85,214,192,91,208,233,15,254,147,119,5,197,159,99,247,193,62,29,85,102]
[null,101,28,44,135,74,196,35,44,193,62,108,252,70,140,196,97,184,249,70,131,181,40,121,217,184,22,28,97,79]
[null,185,77,104,88,182,111,208,9,186,221,147,230,134,199,250,127,17,44,148,147,110,232,72,34,205,58,24,155,43]
[null,31,51,171,33,149,187,68,111,205,147,9,212,131,148,247,26,41,108,228,49,87,132,50,6,232,55,31,157,65]
[null,139,94,244,70,111,18,239,109,124,31,182,136,43,234,185,106,95,80,234,189,97,136,4,157,138,9,6,76,85]
[null,89,23,98,86,9,225,114,76,62,54,109,169,103,240,236,117,104,74,255,57,98,102,109,192,224,123,17,23,119]
[null,142,225,115,69,199,159,25,18,71,35,234,150,20,76,232,170,91,256,191,45,184,107,34,227,98,180,160,180,27]
[null,36,217,211,78,148,90,219,24,47,8,18,151,111,109,189,174,112,228,166,257,157,174,112,146,89,95,232,191,121]
[null,211,229,242,44,24,256,26,110,198,232,199,206,160,111,208,203,36,208,137,123,198,27,122,82,90,186,226,87,49]
[null,72,244,31,42,18,126,257,59,244,215,110,131,193,9,223,236,57,140,172,199,235,209,75,84,14,211,133,30,66]
[null,233,177,35,211,256,166,20,118,197,73,208,163,68,44,243,248,207,59,10,144,45,43,100,159,71,170,148,210,54]
[null,62,245,256,193,228,64,181,50,203,106,118,232,97,108,200,212,252,110,99,76,89,251,128,196,91,124,136,148,25]
[null,201,151,141,164,50,190,120,30,101,237,256,130,194,80,191,187,238,24,102,236,104,74,85,105,86,138,237,33,124]
[null,128,175,57,203,118,86,183,2,45,165,30,200,244,74,231,169,182,18,69,16,38,179,2,57,87,238,157,75,67]
[null,144,252,58,240,248,170,94,89,4,116,187,106,142,75,234,2,30,170,153,124,209,240,155,186,20,38,218,167,56]
[null,46,142,249,232,212,78,235,71,100,113,89,74,243,99,254,30,110,174,133,194,137,6,156,236,75,101,107,119,101]
[null,171,154,176,131,71,156,110,46,156,206,248,98,9,15,132,50,158,203,236,25,194,147,251,115,28,40,217,115,128]
[null,132,160,66,242,89,20,145,10,173,252,46,48,38,97,172,118,52,236,116,205,196,66,169,60,17,42,239,45,86]
[null,199,171,99,87,170,237,133,22,159,7,203,4,228,127,175,59,159,10,112,231,79,142,219,155,51,30,171,175,53]
[null,49,132,178,50,174,131,197,55,207,117,22,117,222,26,220,110,123,46,6,9,125,54,253,135,47,79,251,138,52]
[null,183,145,247,23,55,137,52,84,22,134,170,75,104,106,221,24,200,71,128,180,102,230,201,46,43,105,176,60,122]
[null,125,220,70,24,22,113,171,88,21,187,84,78,62,117,133,18,253,89,54,93,28,12,214,128,76,46,159,35,72]
[null,187,88,113,57,171,234,161,38,109,242,145,241,8,123,109,225,152,252,212,106,239,60,246,149,41,185,96,176,96]
[null,99,84,158,117,132,120,104,113,82,166,38,148,32,21,134,217,176,142,256,243,159,237,231,219,85,242,118,255,73]
[null,194,55,202,2,113,167,253,126,146,97,171,179,201,37,7,229,205,154,169,77,212,31,131,5,11,237,85,81,11]
[null,12,22,88,121,38,27,73,87,232,90,126,175,247,91,146,244,248,160,165,121,253,248,198,87,80,167,42,127,70]
[null,213,10,95,192,252,162,220,98,247,151,154,227,55,115,117,177,1,87,88,120,65,22,141,203,93,195,84,246,19]
[null,18,46,238,249,142,115,18,104,108,177,98,219,105,90,10,245,70,126,52,66,15,188,234,220,27,151,120,154,36]
[null,239,71,151,168,104,218,193,116,131,36,252,195,224,3,116,151,85,113,23,208,54,93,220,90,118,234,74,39,125]
[null,123,89,102,244,98,3,112,6,58,9,116,204,178,40,99,175,54,38,134,102,94,152,236,98,67,160,51,51,20]
[null,226,2,1,184,177,191,217,83,42,175,151,47,130,63,88,6,226,225,251,37,168,163,94,251,50,76,54,172,100]
[null,79,30,144,150,245,57,2,107,9,217,83,7,176,47,89,116,210,217,185,223,226,35,62,154,99,114,130,153,12]
[null,156,50,152,111,107,222,134,13,233,58,177,77,84,45,79,104,171,229,224,3,201,176,64,47,54,66,33,9,114]
[null,112,118,101,200,83,37,48,81,225,10,13,118,29,28,90,98,178,244,186,230,130,121,9,37,37,4,43,95,95]
[null,200,59,32,59,225,206,140,14,182,233,229,80,206,77,6,87,101,81,35,247,111,140,8,248,32,53,16,166,105]
[null,97,110,229,115,217,81,71,29,141,230,14,22,133,51,94,126,8,13,51,92,116,86,66,147,60,15,57,247,42]
[null,151,24,225,81,29,227,255,41,19,101,225,2,106,94,106,113,93,107,58,153,13,228,41,56,3,71,121,50,31]
[null,23,18,17,48,14,74,56,33,97,65,41,143,76,23,118,38,2,83,79,96,68,114,84,42,2,126,15,128,103]
[null,210,27,209,213,105,241,158,155,170,143,31,208,156,1,181,96,186,100,195,240,182,196,161,242,250,244,196,248,33]
[null,30,121,118,167,42,1,67,227,126,241,155,193,251,8,194,73,109,12,196,101,151,97,124,222,156,156,193,256,41]
[null,220,49,92,195,227,224,194,216,17,112,105,253,44,16,182,11,236,114,218,164,248,205,178,19,209,147,144,41,29]
[null,13,66,218,253,155,10,57,153,92,55,216,156,108,32,205,70,221,95,203,117,143,17,197,1,196,154,208,58,14]
[null,237,54,240,19,100,175,243,163,128,219,114,170,216,64,186,19,89,153,41,48,37,235,182,228,242,197,108,186,81]
[null,76,25,72,29,12,42,62,144,23,159,163,249,148,69,213,36,34,216,25,140,6,42,111,144,222,155,168,162,13]
[null,175,124,85,53,144,178,188,246,220,23,100,154,24,61,187,125,132,227,11,107,48,256,179,88,192,148,220,6,107]
[null,90,67,133,83,163,50,121,158,148,70,246,188,25,78,148,20,40,155,12,239,21,138,199,44,225,227,238,100,83]
[null,147,56,212,99,19,140,198,238,210,153,125,27,89,68,214,158,209,96,239,159,199,15,35,181,237,106,164,170,6]
[null,14,101,12,46,36,63,82,133,223,144,238,59,114,112,197,246,130,73,187,65,150,154,125,229,243,133,183,192,116]
[null,154,128,26,34,133,203,203,222,91,60,19,68,231,7,245,144,147,11,254,184,123,92,6,124,149,26,231,122,104]
[null,94,86,131,100,238,6,131,239,73,104,222,67,146,60,198,163,190,70,177,4,185,145,56,52,143,89,256,43,98]
[null,136,53,162,145,96,246,204,188,49,191,11,32,86,92,217,153,77,239,42,17,88,61,83,237,174,51,248,205,87]
[null,88,52,74,144,73,85,58,247,103,149,188,15,35,4,244,216,125,222,9,211,100,167,36,169,228,13,169,178,126]
[null,219,122,68,226,247,245,189,185,229,42,96,25,179,62,225,227,42,133,118,8,112,112,142,12,249,59,210,118,113]
[null,109,72,230,136,188,59,122,162,212,76,185,1,163,17,166,155,56,238,90,128,24,254,46,70,145,7,153,114,38]
[null,173,162,217,176,53,226,90,186,172,45,122,114,171,93,28,27,38,56,226,163,153,127,93,218,127,229,9,229,88]
[null,96,185,59,133,52,101,195,136,135,30,186,177,213,39,82,121,105,101,180,56,177,25,11,210,104,252,100,218,84]
[null,232,247,84,254,136,217,72,206,80,158,53,202,122,34,17,49,15,128,231,198,211,195,17,61,227,136,113,68,55]
[null,50,188,138,209,186,38,252,205,59,184,206,224,40,58,80,66,11,86,230,146,250,51,87,75,141,191,86,112,22]
[null,214,239,161,56,56,229,53,172,20,22,128,164,181,5,91,54,219,205,80,67,18,250,96,234,107,142,72,152,10]
[null,5,222,61,71,101,14,246,130,133,150,172,161,187,35,49,25,237,206,5,227,66,67,107,195,214,194,45,194,46]
[null,166,133,81,140,130,213,28,157,181,231,56,185,5,57,128,124,187,136,48,68,71,201,20,32,142,257,116,38,71]
[null,67,238,135,51,172,69,128,202,192,257,157,139,83,48,74,67,168,186,84,158,92,133,120,8,186,247,1,17,89]
[null,243,158,239,52,54,182,44,191,152,61,124,8,61,120,40,202,127,27,147,132,227,98,218,175,203,82,112,137,2]
[null,11,246,63,146,25,133,192,134,180,125,191,64,126,82,70,157,33,121,138,26,247,202,119,156,139,86,104,224,30]
[null,140,144,73,76,134,183,116,233,115,224,54,38,149,102,75,130,13,49,184,195,141,85,211,64,176,37,22,21,50]
[null,51,163,136,54,191,112,149,204,6,179,233,18,195,79,2,172,108,66,219,51,214,123,244,113,248,5,115,24,118]
[null,160,153,132,190,27,198,59,192,40,120,49,62,51,43,39,205,143,204,76,7,84,65,189,122,245,49,23,238,59]
[null,68,216,27,138,121,53,147,209,93,29,192,49,158,65,43,206,124,233,95,204,69,217,245,172,122,19,8,244,110]
[null,242,227,75,166,209,152,105,137,226,218,27,43,210,85,19,136,199,134,83,87,22,81,204,65,150,94,49,94,24]
[null,27,155,203,222,192,94,221,231,201,148,137,93,240,119,9,186,156,191,113,136,17,149,176,23,189,69,30,52,18]
[null,148,1,172,218,43,108,250,139,221,209,85,35,211,231,144,93,203,120,75,155,205,221,228,78,22,150,222,253,76]
[null,65,8,25,245,65,215,10,173,160,243,139,132,199,137,55,39,198,82,131,108,145,100,187,13,19,183,156,147,109]
[null,234,16,109,194,173,48,212,193,116,3,43,40,41,209,59,34,189,102,44,176,163,203,242,166,110,241,206,117,111]
[null,106,32,147,246,139,202,14,215,118,4,193,37,66,192,93,58,240,79,77,104,178,39,148,187,58,137,182,61,9]
[null,141,64,150,72,120,15,178,179,137,207,102,82,242,204,135,5,28,215,222,70,36,245,210,73,134,168,245,196,44]
[null,41,69,110,62,82,197,40,156,113,195,179,135,219,233,151,35,23,193,221,212,78,9,239,74,83,224,224,145,108]
[null,174,61,64,11,156,54,177,176,208,82,120,109,37,134,12,57,7,173,154,119,136,224,152,249,24,173,203,123,80]
[null,69,78,137,85,179,130,36,138,228,57,176,53,10,191,104,48,29,139,245,179,56,64,206,177,23,166,212,25,74]
[null,167,68,215,130,5,97,167,210,230,164,57,145,94,202,18,138,255,93,64,206,124,78,51,76,96,77,214,156,75]
[null,81,112,7,116,35,200,92,201,214,247,210,134,75,157,127,176,214,39,114,75,144,130,31,118,46,119,255,254,99]
[null,150,7,24,60,201,79,209,223,52,69,5,238,177,130,32,156,213,34,66,185,246,89,29,138,42,128,170,116,15]
[null,7,60,191,25,210,123,7,253,54,80,223,213,120,172,1,179,211,58,85,21,138,150,73,167,12,45,166,98,97]
[null,248,92,207,179,93,44,245,200,74,256,34,189,137,205,68,215,31,253,162,13,109,76,32,79,35,28,194,134,127]
[null,134,4,52,162,39,193,85,224,27,167,200,207,101,206,52,193,25,223,141,224,14,239,1,96,52,113,221,149,26]
[null,137,62,37,148,224,66,225,219,245,18,93,157,204,136,87,173,75,201,160,42,118,139,33,208,70,131,246,19,106]
[null,95,17,204,119,200,124,31,165,246,98,219,217,232,186,98,139,96,210,240,196,82,190,15,189,101,41,119,126,117]
[null,230,165,255,181,92,73,34,241,189,32,62,71,237,162,204,1,62,68,47,160,229,238,113,106,25,206,93,165,123]
[null,131,219,103,219,4,169,184,196,255,48,241,16,245,185,162,8,64,112,100,90,216,1,45,3,73,143,97,193,21]
[null,155,224,30,223,196,84,47,254,96,186,92,55,23,247,227,16,43,7,31,234,186,214,28,205,112,178,4,18,37]
[null,29,200,216,161,241,254,215,166,95,181,254,111,1,188,138,32,46,60,1,41,131,5,42,151,95,184,131,107,91]
[null,178,253,153,75,68,39,21,198,5,53,7,100,212,239,212,64,197,166,199,20,93,185,70,33,64,222,134,201,115]
[null,120,223,69,8,112,251,229,251,83,47,198,120,225,222,173,69,242,254,237,187,27,72,92,125,61,201,11,209,90]
[null,204,201,53,15,251,30,24,146,227,246,68,19,96,133,177,61,208,196,201,44,50,199,115,238,111,231,109,90,3]
[null,1,210,248,6,198,144,169,190,169,244,146,84,115,238,202,78,223,241,135,226,139,71,132,223,18,162,70,77,40]
[null,218,138,193,7,64,19,115,180,222,24,61,201,72,158,180,190,113,1,106,248,233,101,167,97,103,10,81,243,63]
[null,74,176,71,73,69,160,155,197,240,102,180,137,2,246,113,146,120,8,15,2,162,171,184,121,88,33,95,222,47]
[null,236,156,76,3,197,110,88,189,2,123,64,229,145,144,216,251,14,16,43,220,217,52,191,241,40,65,117,47,45]
[null,53,179,208,95,180,154,175,194,1,122,189,247,180,163,143,198,78,32,109,12,219,247,240,158,92,117,59,79,28]
[null,224,215,250,231,1,46,76,226,67,131,16,167,31,153,229,166,175,194,143,72,2,3,203,94,5,93,14,227,77]
[null,105,193,4,257,8,158,231,242,34,66,226,255,92,216,253,254,166,189,122,177,35,170,172,15,1,25,111,150,51]
[null,238,173,21,149,242,116,84,250,190,183,1,222,255,227,156,196,114,197,250,85,51,24,248,213,57,23,132,16,94]
[null,100,139,236,154,226,235,162,257,153,194,250,142,170,155,224,241,177,180,161,200,85,211,157,139,48,100,77,71,23]
[null,3,76,219,228,77,211,172,235,248,239,94,214,141,33,237,123,232,63,164,203,91,222,168,256,105,35,68,37,257]
[null,254,109,94,238,51,25,93,164,234,214,235,133,200,41,228,21,172,47,157,61,55,110,163,254,6,84,18,46,250]
[null,17,111,38,157,164,236,254,207,94,86,77,155,6,29,153,37,137,45,229,244,63,155,233,58,38,18,60,250,242]
[null,221,9,165,103,235,16,119,181,84,132,207,162,85,14,147,91,164,28,197,43,52,29,144,26,132,118,67,257,226]
[null,70,44,210,106,63,230,151,230,39,190,45,166,198,81,122,115,19,181,14,39,232,168,181,190,106,87,71,70,194]
[null,192,108,62,38,47,72,51,213,81,238,230,159,254,13,195,90,98,207,38,169,242,124,237,142,121,2,58,84,189]
[null,61,80,23,21,213,163,160,211,243,128,63,173,74,107,238,3,97,164,45,30,257,225,190,28,7,149,83,185,197]
[null,181,74,213,89,230,103,45,195,194,87,211,246,123,83,242,40,65,235,53,174,238,14,205,59,135,32,103,189,180]
[null,113,75,169,10,115,139,179,218,188,139,3,72,22,6,174,195,122,123,209,222,7,45,105,150,39,198,61,59,190]
[null,195,99,124,93,90,5,101,255,202,253,218,90,28,116,157,211,155,21,151,109,75,183,88,163,128,215,56,55,146]
[null,52,15,36,28,255,149,156,168,43,88,115,33,189,104,211,213,174,37,132,148,3,16,123,80,56,210,73,159,251]
[null,252,97,252,31,218,107,9,143,90,95,168,60,159,98,210,230,119,91,208,23,103,208,58,14,29,190,53,226,198]
[null,8,127,243,236,123,136,241,167,63,140,37,13,19,87,222,181,116,143,68,91,191,46,26,209,81,246,63,13,166]
[null,176,26,119,217,21,70,132,221,8,169,167,30,93,126,192,207,12,168,108,116,254,181,104,148,4,250,25,89,254]
[null,9,106,79,215,221,223,117,237,179,38,123,76,208,113,207,164,63,255,103,40,126,38,150,93,68,255,47,230,196]
[null,198,117,224,153,167,117,95,135,119,137,237,14,191,38,155,235,67,218,17,252,200,164,81,85,125,208,79,184,241]
[null,35,135,245,191,127,171,22,141,147,78,106,234,246,88,23,76,66,75,176,161,34,141,37,231,79,97,219,44,165]
[null,180,237,146,174,26,93,150,152,251,59,141,237,139,84,119,109,9,99,167,88,33,58,118,233,100,81,167,22,219]
[null,56,221,142,151,152,247,106,232,87,225,127,153,90,55,121,111,107,15,198,175,43,226,49,117,59,54,253,232,224]
[null,215,167,175,178,141,51,228,131,104,202,232,197,53,22,57,9,117,97,238,33,9,105,98,127,45,56,152,204,200]
[null,33,143,181,17,75,209,99,161,138,50,15,146,151,10,65,44,179,131,16,29,188,143,65,191,63,112,180,27,253]
[null,256,168,78,102,99,9,135,243,114,46,161,216,202,46,95,108,185,232,56,133,218,48,43,204,97,83,223,56,223]
[null,42,255,128,132,243,181,16,159,217,162,75,248,118,71,108,80,231,152,87,143,228,178,78,51,94,70,135,216,201]
[null,203,218,253,37,161,82,247,183,151,155,159,235,49,89,3,74,140,141,65,172,172,69,63,43,77,99,178,251,210]
[null,93,195,167,124,44,232,78,184,242,13,80,87,73,2,97,183,24,76,232,145,83,96,235,126,78,214,189,63,138]
[null,143,211,60,98,108,8,216,178,136,84,184,86,17,30,100,159,88,109,225,80,106,175,255,240,114,219,192,133,176]
[null,86,213,90,61,178,153,32,150,75,173,44,66,167,50,25,243,4,111,139,253,61,99,159,11,65,196,229,173,156]
[null,157,230,214,123,184,62,223,214,65,196,150,6,188,118,62,161,74,9,188,127,77,218,137,41,74,236,230,161,179]
[null,73,181,154,170,76,147,50,249,72,37,111,28,124,59,8,131,241,214,110,111,148,26,186,224,53,200,234,103,215]
[null,227,207,87,225,109,71,190,147,53,111,249,46,127,110,11,232,217,150,30,209,171,126,208,252,26,203,227,101,193]
[null,119,164,14,188,147,240,19,149,134,227,76,122,215,24,73,152,163,178,24,69,161,122,254,101,120,249,252,182,173]
[null,169,235,160,172,249,33,144,182,196,204,149,89,155,18,22,141,154,184,3,201,160,156,149,66,34,135,241,235,139]
[null,116,33,143,189,59,99,233,240,187,223,24,108,238,182,26,88,167,2,67,213,74,151,224,31,160,78,98,78,231]
[null,222,41,47,180,110,168,39,234,211,250,240,107,147,149,69,84,146,30,92,1,101,84,146,112,169,163,26,67,137]
[null,47,29,16,214,234,2,232,148,60,26,59,52,98,147,50,55,222,50,121,135,60,231,136,176,168,72,32,171,209]
[null,186,14,227,216,240,132,1,199,14,43,148,127,65,249,35,22,201,118,86,59,23,49,183,174,244,47,125,228,192]
[null,25,81,223,47,2,92,238,140,61,185,50,95,190,214,15,10,51,199,248,114,213,215,158,99,187,88,110,48,204]
[null,196,13,2,65,30,194,77,208,55,152,140,26,161,150,58,46,6,148,159,182,169,7,130,62,167,134,122,110,233]
[null,57,107,117,94,208,68,138,228,157,21,2,128,64,178,67,71,20,234,156,22,154,184,173,153,172,120,21,225,134]
[null,130,83,201,55,140,172,75,256,213,93,228,58,14,184,27,89,76,240,189,242,220,79,256,201,171,20,101,183,191]
[null,114,6,200,18,10,88,164,169,254,142,71,152,116,183,24,256,228,88,105,134,49,18,103,72,238,220,40,91,202]
[null,212,116,9,26,46,180,23,187,158,145,169,184,15,159,4,228,148,84,125,64,121,252,102,22,183,157,151,139,157]
[null,87,104,82,127,187,102,148,212,102,52,10,160,249,243,126,208,100,55,22,233,64,111,7,143,230,218,41,143,130]
[null,126,98,192,16,169,238,113,248,85,6,212,210,220,161,86,140,206,22,142,53,62,192,89,198,241,216,19,213,172]
[null,59,87,159,171,88,21,125,236,99,251,55,254,30,131,83,199,99,248,146,27,179,116,39,103,207,228,87,83,205]
[null,209,126,80,208,84,127,61,203,51,141,236,141,36,232,38,148,135,212,252,249,133,204,5,123,211,179,7,120,206]
[null,75,113,11,235,203,121,206,174,236,124,88,183,154,152,37,234,58,187,130,78,156,28,57,212,215,153,82,198,136]
[null,133,38,188,234,236,145,87,170,237,71,174,180,196,141,125,240,5,169,204,165,230,246,44,130,182,212,99,223,186]
[null,71,170,145,201,87,24,97,220,149,16,113,17,250,135,149,33,106,6,46,152,19,198,12,109,217,73,162,82,162]
[null,159,174,100,141,126,138,154,145,176,92,220,110,226,237,124,41,82,116,2,15,99,21,27,39,173,16,140,3,185]
[null,64,203,56,256,145,91,5,132,112,161,87,79,57,221,251,29,53,104,89,181,46,227,127,253,247,21,173,177,247]
[null,246,236,170,137,220,231,185,171,26,168,132,83,11,167,112,14,10,98,93,137,5,10,60,171,178,91,216,131,188]
[null,45,248,163,66,6,96,38,160,11,107,104,31,203,143,141,81,257,171,170,138,193,236,117,55,165,63,174,12,239]
[null,240,212,20,9,116,143,240,154,150,81,160,39,153,168,248,13,188,132,206,192,243,70,24,38,231,107,138,104,222]
[null,19,187,107,90,154,40,65,142,127,222,6,63,34,255,142,107,173,145,235,50,204,165,38,168,140,24,184,219,133]
[null,135,169,156,14,160,255,146,252,200,249,142,54,80,218,159,83,204,220,124,156,164,106,22,160,191,98,207,207,238]
[null,32,256,257,74,81,67,41,175,216,83,107,211,128,195,170,252,32,33,7,221,90,95,164,7,208,182,204,86,158]
[null,179,228,114,108,13,201,256,151,249,41,175,251,82,211,169,142,48,41,73,35,32,223,196,104,159,144,128,105,246]
[null,102,208,106,147,151,36,124,245,25,200,81,181,174,213,179,154,87,29,34,255,57,82,194,211,204,192,225,249,144]
[null,146,140,157,58,175,221,210,177,33,248,245,140,229,230,168,160,80,14,72,28,128,137,249,221,221,254,215,163,163]
[null,58,199,226,199,33,52,118,244,76,25,29,178,52,181,252,171,157,177,223,11,147,118,250,10,226,205,242,92,153]
[null,161,148,29,143,41,177,187,229,117,28,244,236,125,207,164,132,250,245,207,166,142,172,192,111,198,243,201,11,216]
[null,107,234,33,177,229,31,3,217,239,157,33,256,152,164,152,145,165,151,200,105,245,30,217,202,255,187,137,208,227]
[null,235,240,241,210,244,184,202,225,161,193,217,115,182,235,140,220,256,175,179,162,190,144,174,216,256,132,243,130,155]
[null,62,231,225,17,257,227,153,8,162,88,72,10,48,18,62,103,102,158,45,16,76,100,115,50,14,97,63,77,49]
[null,65,137,217,257,250,103,216,102,185,132,149,2,228,157,161,31,7,246,91,36,107,191,17,65,102,134,62,64,140]
[null,114,209,229,34,242,153,31,49,247,241,22,217,38,94,53,42,214,144,63,239,10,64,146,5,111,80,40,76,166]
[null,50,192,244,248,226,42,103,62,188,166,37,200,245,141,241,105,150,163,5,257,115,201,203,102,104,61,55,53,40]
[null,150,204,177,83,194,144,158,16,239,130,169,72,21,210,23,95,42,105,239,30,221,15,39,88,61,76,217,72,18]
[null,90,233,245,216,189,95,246,36,222,235,224,96,182,118,216,114,110,42,229,114,252,196,99,9,103,147,233,45,186]
[null,38,134,151,80,197,158,114,66,133,38,126,252,83,151,2,12,234,31,205,170,210,70,235,104,110,79,247,71,173]
[null,20,191,175,208,180,12,95,33,238,110,218,158,168,19,120,100,233,103,175,214,237,137,188,70,31,59,246,110,125]
[null,94,202,252,118,190,133,239,21,100,48,49,88,111,99,243,20,169,162,159,77,59,60,105,231,152,223,19,44,46]
[null,75,157,142,195,146,20,222,15,12,35,128,66,244,193,104,125,144,185,212,29,108,176,114,199,125,133,71,61,246]
[null,27,130,154,55,251,239,125,109,114,167,111,136,104,74,166,36,27,247,224,134,135,55,198,190,232,252,4,13,232]
[null,2,172,160,252,198,36,20,115,95,185,68,215,164,254,113,19,112,188,158,206,73,127,154,191,169,202,81,60,127]
[null,10,205,171,12,166,247,162,84,105,209,181,53,122,241,197,70,172,19,113,21,170,54,67,226,207,175,216,41,96]
[null,89,206,132,173,254,70,185,30,42,155,133,80,170,47,91,11,223,36,114,89,158,200,109,243,245,222,249,14,184]
[null,48,136,145,13,196,162,11,9,31,29,216,140,39,250,146,73,79,125,32,246,146,69,216,233,199,116,140,33,190]
[null,105,186,220,199,241,73,70,113,103,46,202,144,149,130,4,96,95,20,122,188,234,136,182,257,251,212,168,92,28]
[null,249,96,170,32,165,136,205,131,231,86,220,29,85,95,131,72,87,202,82,40,105,168,213,144,29,165,32,230,41]
[null,158,73,174,157,219,72,206,154,137,123,153,40,162,202,233,122,45,157,125,48,81,63,228,81,6,247,78,176,199]
[null,145,11,203,41,224,205,122,31,209,178,243,190,26,60,63,52,136,130,4,197,47,186,100,56,122,241,27,241,174]
[null,172,70,236,220,200,52,72,117,192,199,247,146,208,112,207,53,218,172,49,183,8,6,74,34,67,171,28,178,120]
[null,186,19,248,29,253,130,202,151,204,238,39,106,44,191,8,86,77,53,202,24,240,205,236,94,116,162,178,167,97]
[null,213,36,212,244,223,86,157,44,233,125,21,64,253,31,191,128,71,52,187,63,192,12,108,97,64,151,253,209,197]
[null,142,125,187,45,201,202,128,116,134,77,71,220,92,190,57,101,253,122,118,226,187,230,27,73,1,238,210,130,177]
[null,257,20,169,189,210,101,86,72,191,66,90,241,191,100,125,56,175,72,207,250,166,130,1,119,11,138,174,184,123]
[null,146,100,256,76,138,134,204,55,56,106,131,121,15,126,160,67,197,231,206,83,31,214,197,250,176,40,111,218,19]
[null,154,12,228,125,176,67,233,119,101,78,225,34,247,232,56,124,132,137,112,102,11,66,133,194,172,139,120,188,195]
[null,236,114,208,75,156,204,124,82,128,143,245,237,118,63,173,25,109,209,182,194,117,142,34,220,221,47,74,183,185]
[null,143,95,140,146,179,25,67,10,86,252,150,234,207,207,135,54,63,192,204,145,44,109,79,240,253,14,39,256,122]
[null,235,105,199,60,215,209,231,13,53,218,115,20,98,251,193,66,207,54,68,136,174,199,138,196,209,69,182,219,126]
[null,250,42,148,205,193,66,137,136,52,165,134,14,190,54,41,49,100,25,120,86,189,111,229,209,239,13,163,215,231]
[null,209,31,234,106,173,231,49,108,122,32,59,164,16,171,177,121,48,124,92,193,236,153,40,215,164,54,175,239,183]
[null,228,103,240,164,139,121,66,69,72,57,102,206,231,122,109,27,18,67,36,235,241,37,110,165,189,82,145,249,55]
[null,36,257,182,150,27,173,215,236,165,37,55,5,110,103,37,119,47,138,40,180,53,8,49,223,108,30,183,114,86]
[null,102,250,149,43,121,119,193,239,219,98,60,111,193,150,158,85,59,176,13,245,113,248,15,126,75,71,127,203,233]
[null,52,242,147,210,49,215,85,148,224,142,69,141,24,82,55,65,217,156,64,92,95,46,255,218,17,16,214,199,149]
[null,76,226,249,56,66,65,119,200,200,140,18,197,152,154,219,43,192,179,12,71,80,244,254,221,121,110,181,165,111]
[null,13,194,214,243,54,156,138,124,253,121,230,62,117,188,13,79,16,43,186,185,222,80,51,176,90,48,36,123,108]
[null,34,189,150,61,25,79,176,175,223,145,235,113,217,46,249,102,39,65,196,184,180,218,63,123,34,19,37,107,148]
[null,55,197,178,204,124,138,102,234,201,50,251,135,84,139,34,82,221,85,247,9,122,81,176,149,85,106,104,246,194]
[null,46,180,184,128,67,82,79,235,210,30,229,233,189,79,194,120,248,119,173,81,202,222,201,205,92,52,13,154,121]
[null,44,190,183,161,56,201,253,162,120,28,3,102,91,52,180,48,164,165,128,182,134,91,94,113,181,207,194,240,43]
[null,3,146,159,58,101,48,223,212,82,44,44,4,177,183,128,57,183,219,142,140,114,166,11,124,139,227,144,131,251]
[null,88,251,243,179,128,253,57,216,102,206,45,142,108,73,169,35,81,224,198,120,12,49,189,20,130,229,192,226,234]
[null,92,198,161,135,86,35,48,246,79,204,47,160,251,237,108,5,138,200,233,91,120,251,178,45,213,185,173,257,67]
[null,64,166,131,214,53,224,165,223,43,184,227,124,10,245,182,58,121,5,79,179,149,13,2,69,230,226,96,190,51]
[null,37,254,232,65,52,58,219,206,65,231,233,109,124,34,19,34,157,35,96,162,244,173,91,51,145,257,117,206,206]
[null,12,196,152,192,122,165,34,188,85,13,183,239,121,216,119,39,54,57,110,50,140,33,240,101,127,225,98,171,221]
[null,139,241,141,134,72,39,58,157,119,12,162,132,163,62,68,93,26,48,139,69,176,227,160,41,217,243,18,160,54]
[null,165,93,135,185,96,196,166,233,257,69,196,93,28,98,20,17,21,190,77,152,29,224,226,187,52,145,211,54,3]
[null,161,39,237,89,73,17,254,185,250,3,194,65,127,168,257,62,13,146,39,255,42,74,210,242,115,213,158,96,155]
[null,254,34,221,174,11,166,62,146,242,162,215,240,103,24,44,4,235,251,35,53,72,211,72,203,80,230,227,31,228]
[null,127,58,167,4,70,4,17,163,226,163,212,151,229,217,253,92,257,198,97,107,127,43,77,147,74,216,257,120,42]
[null,124,5,143,219,19,251,190,194,194,253,61,57,80,238,73,60,46,92,183,225,165,237,205,158,36,188,59,46,105]
[null,247,35,168,7,36,60,146,197,189,175,16,49,138,71,186,7,33,4,250,133,231,29,211,138,57,166,21,85,189]
[null,149,57,255,228,125,190,7,147,197,31,50,168,54,214,59,112,162,62,243,20,208,234,12,239,27,143,57,81,205]
[null,188,48,218,114,20,112,60,240,180,89,35,181,257,32,187,68,143,17,252,35,119,89,14,174,96,126,123,56,10]
[null,177,120,195,239,100,197,194,155,68,36,145,15,40,10,157,78,186,257,251,161,25,143,234,57,248,91,152,78,65]
[null,163,82,211,98,12,78,189,170,112,18,138,36,184,256,87,61,256,250,185,137,96,103,156,121,225,74,243,145,187]
[null,141,102,213,148,114,194,61,218,7,256,244,211,22,38,206,69,113,242,255,17,41,170,135,29,193,67,215,42,182]
[null,199,79,230,104,95,69,78,166,60,257,180,179,205,246,11,64,78,226,163,100,39,83,136,11,141,18,149,115,50]
[null,244,43,181,212,105,242,257,253,92,191,83,31,34,186,255,32,227,64,27,164,256,182,127,91,165,55,115,29,8]
[null,147,65,207,100,42,32,250,257,4,224,92,108,153,81,88,16,166,69,1,243,223,27,192,3,233,86,136,5,254]
[null,126,85,164,142,31,257,16,201,62,68,144,242,20,173,234,8,3,61,109,45,207,174,75,36,235,10,8,102,237]
[null,181,119,235,23,103,8,32,210,17,105,81,187,158,58,47,1,88,78,104,119,173,96,64,116,158,101,97,34,22]
[null,190,182,1,47,225,164,181,153,135,10,26,221,255,55,36,23,117,195,30,2,167,86,19,44,223,90,94,21,39]
[null,240,149,8,233,217,23,207,252,237,24,86,212,4,197,148,94,58,211,20,4,203,165,44,125,174,95,101,30,164]
[null,198,147,16,22,229,181,94,220,221,164,121,8,241,14,103,51,252,213,101,200,195,4,172,103,240,25,29,105,220]
[null,191,249,32,242,244,51,23,126,167,174,94,1,37,215,229,77,173,230,155,232,206,139,126,96,140,114,61,111,93]
[null,187,214,64,28,177,213,195,152,143,219,239,188,188,219,90,28,60,77,152,68,26,107,68,92,171,77,244,136,48]
[null,200,150,69,186,245,28,211,137,168,177,160,174,66,89,134,45,4,51,220,116,16,207,20,99,256,21,220,63,196]
[null,175,178,61,95,151,195,45,251,255,15,161,73,197,228,33,47,184,94,237,230,1,98,130,85,109,68,213,20,235]
[null,155,184,78,155,175,47,28,123,218,64,193,69,77,84,244,63,135,23,169,199,20,213,171,12,226,53,205,16,45]
[null,197,183,68,119,252,255,143,219,63,70,136,199,145,36,213,40,236,135,248,108,251,79,119,186,60,153,49,84,89]
[null,202,159,112,253,142,40,168,130,47,56,103,203,63,149,75,3,230,237,165,95,183,157,5,168,43,170,107,101,134]
[null,185,243,7,109,154,143,3,202,45,215,84,99,206,110,242,90,69,221,230,178,255,102,170,225,48,135,126,47,222]
[null,205,161,60,151,160,90,40,229,28,168,139,32,6,235,50,115,99,167,227,244,155,249,163,198,68,200,50,48,6]
[null,195,131,92,122,171,221,135,177,77,195,142,245,250,167,212,91,239,115,22,49,67,17,118,245,12,232,190,36,15]
[null,233,232,4,188,132,91,237,254,51,250,246,169,82,142,77,37,165,90,41,110,4,126,89,228,8,154,150,66,139]
[null,211,152,62,35,145,135,37,190,94,79,195,28,249,218,220,21,50,3,43,165,132,141,220,182,3,108,155,51,179]
[null,179,141,17,141,220,21,91,133,23,139,191,74,60,6,94,123,67,40,105,173,58,163,121,244,50,177,241,103,34]
[null,39,123,93,87,170,152,131,179,182,111,192,214,223,97,117,117,12,183,67,27,224,236,180,24,161,221,82,235,13]
[null,91,21,39,165,174,117,232,158,149,7,249,236,78,170,200,106,119,159,84,25,225,108,199,21,177,140,91,139,112]
[null,5,37,34,11,203,131,106,199,147,171,151,26,202,83,32,26,168,243,107,141,215,152,33,105,204,209,60,137,116]
[null,106,91,58,207,236,26,117,213,249,154,141,54,43,225,153,127,205,161,80,131,249,30,56,61,202,160,20,201,83]
[null,78,115,5,49,248,243,183,195,214,120,79,231,225,229,115,97,107,127,241,67,70,159,208,112,146,193,242,193,77]
[null,35,90,35,249,212,97,159,161,150,144,73,202,2,125,210,15,56,26,156,54,40,123,212,42,175,215,202,163,180]
[null,123,3,57,77,187,183,15,164,178,41,27,42,216,115,80,99,140,106,126,207,30,242,96,10,188,180,171,150,130]
[null,80,40,48,176,169,99,97,181,184,107,118,7,55,86,189,75,209,117,221,215,86,11,103,23,159,195,193,255,5]
[null,69,63,120,26,256,178,214,180,75,16,234,195,165,113,162,74,185,182,134,132,175,180,245,171,44,23,26,161,91]
[null,66,47,82,250,228,74,150,144,99,122,170,125,115,178,83,80,241,149,160,18,152,42,174,172,39,3,33,158,198]
[null,29,45,102,105,208,214,80,193,15,183,254,85,172,5,159,108,91,147,197,247,197,226,85,192,62,99,119,233,168]
[null,28,28,79,196,140,108,74,184,97,193,184,97,101,131,40,44,70,249,135,217,181,35,62,252,22,121,70,196,44]
[null,24,77,43,111,199,147,182,205,127,186,17,155,185,147,232,9,134,44,88,34,110,208,221,230,58,72,148,250,104]
[null,31,51,65,187,148,9,149,232,26,205,41,157,31,49,132,111,131,108,33,6,87,68,147,212,55,50,228,247,171]
[null,6,94,85,18,234,182,111,138,106,124,95,76,139,189,136,109,43,80,70,157,97,239,31,136,9,4,234,185,244]
[null,17,23,119,225,240,109,9,224,117,62,104,23,89,57,102,76,103,74,86,192,98,114,54,169,123,109,255,236,98]
[null,160,225,27,159,76,234,199,98,170,71,91,180,142,45,107,18,20,256,69,227,184,25,35,150,180,34,191,232,115]
[null,232,217,121,90,109,18,148,89,174,47,112,191,36,257,174,24,111,228,78,146,157,219,8,151,95,112,166,189,211]
[null,226,229,49,256,111,199,24,90,203,198,36,87,211,123,27,110,160,208,44,82,198,26,232,206,186,122,137,208,242]
[null,133,244,66,126,9,110,18,14,236,244,57,30,72,199,209,59,193,140,42,84,235,257,215,131,211,75,172,223,31]
[null,148,177,54,166,44,208,256,71,248,197,207,210,233,144,43,118,68,59,211,159,45,20,73,163,170,100,10,243,35]
[null,136,245,25,64,108,118,228,91,212,203,252,148,62,76,251,50,97,110,193,196,89,181,106,232,124,128,99,200,256]
[null,237,151,124,190,80,256,50,86,187,101,238,33,201,236,74,30,194,24,164,105,104,120,237,130,138,85,102,191,141]
[null,157,175,67,86,74,30,118,87,169,45,182,75,128,16,179,2,244,18,203,57,38,183,165,200,238,2,69,231,57]
[null,218,252,56,170,75,187,248,20,2,4,30,167,144,124,240,89,142,170,240,186,209,94,116,106,38,155,153,234,58]
[null,107,142,101,78,99,89,212,75,30,100,110,119,46,194,6,71,243,174,232,236,137,235,113,74,101,156,133,254,249]
[null,217,154,128,156,15,248,71,28,50,156,158,115,171,25,147,46,9,203,131,115,194,110,206,98,40,251,236,132,176]
[null,239,160,86,20,97,46,89,17,118,173,52,45,132,205,66,10,38,236,242,60,196,145,252,48,42,169,116,172,66]
[null,171,171,53,237,127,203,170,51,59,159,159,175,199,231,142,22,228,10,87,155,79,133,7,4,30,219,112,175,99]
[null,251,132,52,131,26,22,174,47,110,207,123,138,49,9,54,55,222,46,50,135,125,197,117,117,79,253,6,220,178]
[null,176,145,122,137,106,170,55,43,24,22,200,60,183,180,230,84,104,71,23,46,102,52,134,75,105,201,128,221,247]
[null,159,220,72,113,117,84,22,76,18,21,253,35,125,93,12,88,62,89,24,128,28,171,187,78,46,214,54,133,70]
[null,96,88,96,234,123,145,171,41,225,109,152,176,187,106,60,38,8,252,57,149,239,161,242,241,185,246,212,109,113]
[null,118,84,73,120,21,38,132,85,217,82,176,255,99,243,237,113,32,142,117,219,159,104,166,148,242,231,256,134,158]
[null,85,55,11,167,37,171,113,11,229,146,205,81,194,77,31,126,201,154,2,5,212,253,97,179,237,131,169,7,202]
[null,42,22,70,27,91,126,38,80,244,232,248,127,12,121,248,87,247,160,121,87,253,73,90,175,167,198,165,146,88]
[null,84,10,19,162,115,154,252,93,177,247,1,246,213,120,22,98,55,87,192,203,65,220,151,227,195,141,88,117,95]
[null,120,46,36,115,90,98,142,27,245,108,70,154,18,66,188,104,105,126,249,220,15,18,177,219,151,234,52,10,238]
[null,74,71,125,218,3,252,104,118,151,131,85,39,239,208,93,116,224,113,168,90,54,193,36,195,234,220,23,116,151]
[null,51,89,20,3,40,116,98,67,175,58,54,51,123,102,152,6,178,38,244,98,94,112,9,204,160,236,134,99,102]
[null,54,2,100,191,63,151,177,50,6,42,226,172,226,37,163,83,130,225,184,251,168,217,175,47,76,94,251,88,1]
[null,130,30,12,57,47,83,245,99,116,9,210,153,79,223,35,107,176,217,150,154,226,2,217,7,114,62,185,89,144]
[null,33,50,114,222,45,177,107,54,104,233,171,9,156,3,176,13,84,229,111,47,201,134,58,77,66,64,224,79,152]
[null,43,118,95,37,28,13,83,37,98,225,178,95,112,230,121,81,29,244,200,37,130,48,10,118,4,9,186,90,101]
[null,16,59,105,206,77,229,225,32,87,182,101,166,200,247,140,14,206,81,59,248,111,140,233,80,53,8,35,6,32]
[null,57,110,42,81,51,14,217,60,126,141,8,247,97,92,86,29,133,13,115,147,116,71,230,22,15,66,51,94,229]
[null,121,24,31,227,94,225,29,3,113,19,93,50,151,153,228,41,106,107,81,56,13,255,101,2,71,41,58,106,225]
[null,15,18,103,74,23,41,14,2,38,97,2,128,23,96,114,33,76,83,48,42,68,56,65,143,126,84,79,118,17]
[null,196,27,33,241,1,31,105,250,96,170,186,248,210,240,196,155,156,100,213,242,182,158,143,208,244,161,195,181,209]
[null,193,121,41,1,8,155,42,156,73,126,109,256,30,101,97,227,251,12,167,222,151,67,241,193,156,124,196,194,118]
[null,144,49,29,224,16,105,227,209,11,17,236,41,220,164,205,216,44,114,195,19,248,194,112,253,147,178,218,182,92]
[null,208,66,14,10,32,216,155,196,70,92,221,58,13,117,17,153,108,95,253,1,143,57,55,156,154,197,203,205,218]
[null,108,54,81,175,64,114,100,242,19,128,89,186,237,48,235,163,216,153,19,228,37,243,219,170,197,182,41,186,240]
[null,168,25,13,42,69,163,12,222,36,23,34,162,76,140,42,144,148,216,29,144,6,62,159,249,155,111,25,213,72]
[null,220,124,107,178,61,100,144,192,125,220,132,6,175,107,256,246,24,227,53,88,48,188,23,154,148,179,11,187,85]
[null,238,67,83,50,78,246,163,225,20,148,40,100,90,239,138,158,25,155,83,44,21,121,70,188,227,199,12,148,133]
[null,164,56,6,140,68,125,19,237,158,210,209,170,147,159,15,238,89,96,99,181,199,198,153,27,106,35,239,214,212]
[null,183,101,116,63,112,238,36,243,246,223,130,192,14,65,154,133,114,73,46,229,150,82,144,59,133,125,187,197,12]
[null,231,128,104,203,7,19,133,149,144,91,147,122,154,184,92,222,231,11,34,124,123,203,60,68,26,6,254,245,26]
[null,256,86,98,6,60,222,238,143,163,73,190,43,94,4,145,239,146,70,100,52,185,131,104,67,89,56,177,198,131]
[null,248,53,87,246,92,11,96,174,153,49,77,205,136,17,61,188,86,239,145,237,88,204,191,32,51,83,42,217,162]
[null,169,52,126,85,4,188,73,228,216,103,125,178,88,211,167,247,35,222,144,169,100,58,149,15,13,36,9,244,74]
[null,210,122,113,245,62,96,247,249,227,229,42,118,219,8,112,185,179,133,226,12,112,189,42,25,59,142,118,225,68]
[null,153,72,38,59,17,185,188,145,155,212,56,114,109,128,254,162,163,238,136,70,24,122,76,1,7,46,90,166,230]
[null,9,162,88,226,93,122,53,127,27,172,38,229,173,163,127,186,171,56,176,218,153,90,45,114,229,93,226,28,217]
[null,100,185,84,101,39,186,52,104,121,135,105,218,96,56,25,136,213,101,133,210,177,195,30,177,252,11,180,82,59]
[null,113,247,55,217,34,53,136,227,49,80,15,68,232,198,195,206,122,128,254,61,211,72,158,202,136,17,231,17,84]
[null,86,188,22,38,58,206,186,141,66,59,11,112,50,146,51,205,40,86,209,75,250,252,184,224,191,87,230,80,138]
[null,72,239,10,229,5,128,56,107,54,20,219,152,214,67,250,172,181,205,56,234,18,53,22,164,142,96,80,91,161]
[null,45,222,46,14,35,172,101,214,25,133,237,194,5,227,67,130,187,206,71,195,66,246,150,161,194,107,5,49,61]
[null,116,133,71,213,57,56,130,142,124,181,187,38,166,68,201,157,5,136,140,32,71,28,231,185,257,20,48,128,81]
[null,1,238,89,69,48,157,172,186,67,192,168,17,67,158,133,202,83,186,51,8,92,128,257,139,247,120,84,74,135]
[null,112,158,2,182,120,124,54,203,202,152,127,137,243,132,98,191,61,27,52,175,227,44,61,8,82,218,147,40,239]
[null,104,246,30,133,82,191,25,139,157,180,33,224,11,26,202,134,126,121,146,156,247,192,125,64,86,119,138,70,63]
[null,22,144,50,183,102,54,134,176,130,115,13,21,140,195,85,233,149,49,76,64,141,116,224,38,37,211,184,75,73]
[null,115,163,118,112,79,233,191,248,172,6,108,24,51,51,123,204,195,66,54,113,214,149,179,18,5,244,219,2,136]
[null,23,153,59,198,43,49,27,245,205,40,143,238,160,7,65,192,51,204,190,122,84,59,120,62,49,189,76,39,132]
[null,8,216,110,53,65,192,121,122,206,93,124,244,68,204,217,209,158,233,138,172,69,147,29,49,19,245,95,43,27]
[null,49,227,24,152,85,27,209,150,136,226,199,94,242,87,81,137,210,134,166,65,22,105,218,43,94,204,83,19,75]
[null,30,155,18,94,119,137,192,189,186,201,156,52,27,136,149,231,240,191,222,23,17,221,148,93,69,176,113,9,203]
[null,222,1,76,108,231,85,43,22,93,221,203,253,148,155,221,139,211,120,218,78,205,250,209,35,150,228,75,144,172]
[null,156,8,109,215,137,139,65,19,39,160,198,147,65,108,100,173,199,82,245,13,145,10,243,132,183,187,131,55,25]
[null,206,16,111,48,209,43,173,110,34,116,189,117,234,176,203,193,41,102,194,166,163,212,3,40,241,242,44,59,109]
[null,182,32,9,202,192,193,139,58,58,118,240,61,106,104,39,215,66,79,246,187,178,14,4,37,137,148,77,93,147]
[null,245,64,44,15,204,102,120,134,5,137,28,196,141,70,245,179,242,215,72,73,36,178,207,82,168,210,222,135,150]
[null,224,69,108,197,233,179,82,83,35,113,23,145,41,212,9,156,219,193,62,74,78,40,195,135,224,239,221,151,110]
[null,203,61,80,54,134,120,156,24,57,208,7,123,174,119,224,176,37,173,11,249,136,177,82,109,173,152,154,12,64]
[null,212,78,74,130,191,176,179,23,48,228,29,25,69,179,64,138,10,139,85,177,56,36,57,53,166,206,245,104,137]
[null,214,68,75,97,202,57,5,96,138,230,255,156,167,206,78,210,94,93,130,76,124,167,164,145,77,51,64,18,215]
[null,255,112,99,200,157,210,35,46,176,214,214,254,81,75,130,201,75,39,116,118,144,92,247,134,119,31,114,127,7]
[null,170,7,15,79,130,5,201,42,156,52,213,116,150,185,89,223,177,34,60,138,246,209,69,238,128,29,66,32,24]
[null,166,60,97,123,172,223,210,12,179,54,211,98,7,21,150,253,120,58,25,167,138,7,80,213,45,73,85,1,191]
[null,194,92,127,44,205,34,93,35,215,74,31,134,248,13,76,200,137,253,179,79,109,245,256,189,28,32,162,68,207]
[null,221,4,26,193,206,200,39,52,193,27,25,149,134,224,239,224,101,223,162,96,14,85,167,207,113,1,141,52,52]
[null,246,62,106,66,136,93,224,70,173,245,75,19,137,42,139,219,204,201,148,208,118,225,18,157,131,33,160,87,37]
[null,119,17,117,124,186,219,200,101,139,246,96,126,95,196,190,165,232,210,119,189,82,31,98,217,41,15,240,98,204]
[null,93,165,123,73,162,62,92,25,1,189,62,165,230,160,238,241,237,68,181,106,229,34,32,71,206,113,47,204,255]
[null,97,219,21,169,185,241,4,73,8,255,64,193,131,90,1,196,245,112,219,3,216,184,48,16,143,45,100,162,103]
[null,4,224,37,84,247,92,196,112,16,96,43,18,155,234,214,254,23,7,223,205,186,47,186,55,178,28,31,227,30]
[null,131,200,91,254,188,254,241,95,32,95,46,107,29,41,5,166,1,60,161,151,131,215,181,111,184,42,1,138,216]
[null,134,253,115,39,239,7,68,64,64,5,197,201,178,20,185,198,212,166,75,33,93,21,53,100,222,70,199,212,153]
[null,11,223,90,251,222,198,112,61,69,83,242,209,120,187,72,251,225,254,8,125,27,229,47,120,201,92,237,173,69]
[null,109,201,3,30,133,68,251,111,61,227,208,90,204,44,199,146,96,196,15,238,50,24,246,19,231,115,201,177,53]
[null,70,210,40,144,238,146,198,18,78,169,223,77,1,226,71,190,115,241,6,223,139,169,244,84,162,132,135,202,248]
[null,81,138,63,19,158,61,64,103,190,222,113,243,218,248,101,180,72,1,7,97,233,115,24,201,10,167,106,180,193]
[null,95,176,47,160,246,180,69,88,146,240,120,222,74,2,171,197,2,8,73,121,162,155,102,137,33,184,15,113,71]
[null,117,156,45,110,144,64,197,40,251,2,14,47,236,220,52,189,145,16,3,241,217,88,123,229,65,191,43,216,76]
[null,59,179,28,154,163,189,180,92,198,1,78,79,53,12,247,194,180,32,95,158,219,175,122,247,117,240,109,143,208]
[null,14,215,77,46,153,16,1,5,166,67,175,227,224,72,3,226,31,194,231,94,2,76,131,167,93,203,143,229,250]
[null,111,193,51,158,216,226,8,1,254,34,166,150,105,177,170,242,92,189,257,15,35,231,66,255,25,172,122,253,4]
[null,132,173,94,116,227,1,242,57,196,190,114,16,238,85,24,250,255,197,149,213,51,84,183,222,23,248,250,156,21]
[null,77,139,23,235,155,250,226,48,241,153,177,71,100,200,211,257,170,180,154,139,85,162,194,142,100,157,161,224,236]
[null,68,76,257,211,33,94,77,105,123,248,232,37,3,203,222,235,141,63,228,256,91,172,239,214,35,168,164,237,219]
[null,18,109,250,25,41,235,51,6,21,234,172,46,254,61,110,164,200,47,238,254,55,93,214,133,84,163,157,228,94]
[null,60,111,242,236,29,77,164,38,37,94,137,250,17,244,155,207,6,45,157,58,63,254,86,155,18,233,229,153,38]
[null,67,9,226,16,14,207,235,132,91,84,164,257,221,43,29,181,85,28,103,26,52,119,132,162,118,144,197,147,165]
[null,71,44,194,230,81,45,63,106,115,39,19,70,70,39,168,230,198,181,106,190,232,151,190,166,87,181,14,122,210]
[null,58,108,189,72,13,230,47,121,90,81,98,84,192,169,124,213,254,207,38,142,242,51,238,159,2,237,38,195,62]
[null,83,80,197,163,107,63,213,7,3,243,97,185,61,30,225,211,74,164,21,28,257,160,128,173,149,190,45,238,23]
[null,103,74,180,103,83,211,230,135,40,194,65,189,181,174,14,195,123,235,89,59,238,45,87,246,32,205,53,242,213]
[null,61,75,190,139,6,3,115,39,195,188,122,59,113,222,45,218,22,123,10,150,7,179,139,72,198,105,209,174,169]
[null,56,99,146,5,116,218,90,128,211,202,155,55,195,109,183,255,28,21,93,163,75,101,253,90,215,88,151,157,124]
[null,73,15,251,149,104,115,255,56,213,43,174,159,52,148,16,168,189,37,28,80,3,156,88,33,210,123,132,211,36]
[null,53,97,198,107,98,168,218,29,230,90,119,226,252,23,208,143,159,91,31,14,103,9,95,60,190,58,208,210,252]
[null,63,127,166,136,87,37,123,81,181,63,116,13,8,91,46,167,19,143,236,209,191,241,140,13,246,26,68,222,243]
[null,25,26,254,70,126,167,21,4,207,8,12,89,176,116,181,221,93,168,217,148,254,132,169,30,250,104,108,192,119]
[null,47,106,196,223,113,123,221,68,164,179,63,230,9,40,38,237,208,255,215,93,126,117,38,76,255,150,103,207,79]
[null,79,117,241,117,38,237,167,125,235,119,67,184,198,252,164,135,191,218,153,85,200,95,137,14,208,81,17,155,224]
[null,219,135,165,171,88,106,127,79,76,147,66,44,35,161,141,141,246,75,191,231,34,22,78,234,97,37,176,23,245]
[null,167,237,219,93,84,141,26,100,109,251,9,22,180,88,58,152,139,99,174,233,33,150,59,237,81,118,167,119,146]
[null,253,221,224,247,55,127,152,59,111,87,107,232,56,175,226,232,90,15,151,117,43,106,225,153,54,49,198,121,142]
[null,152,167,200,51,22,232,141,45,9,104,117,204,215,33,105,131,53,97,178,127,9,228,202,197,56,98,238,57,175]
[null,180,143,253,209,10,15,75,63,44,138,179,27,33,29,143,161,151,131,17,191,188,99,50,146,112,65,16,65,181]
[null,223,168,223,9,46,161,99,97,108,114,185,56,256,133,48,243,202,232,102,204,218,135,46,216,83,43,56,95,78]
[null,135,255,201,181,71,75,243,94,80,217,231,216,42,143,178,159,118,152,132,51,228,16,162,248,70,78,87,108,128]
[null,178,218,210,82,89,159,161,77,74,151,140,251,203,172,69,183,49,141,37,43,172,247,155,235,99,63,65,3,253]
[null,189,195,138,232,2,80,44,78,183,242,24,63,93,145,96,184,73,76,124,126,83,78,13,87,214,235,232,97,167]
[null,192,211,176,8,30,184,108,114,159,136,88,133,143,80,175,178,17,109,98,240,106,216,84,86,219,255,225,100,60]
[null,229,213,156,153,50,44,178,65,243,75,4,173,86,253,99,150,167,111,61,11,61,32,173,66,196,159,139,25,90]
[null,230,230,179,62,118,150,184,74,161,65,74,161,157,127,218,214,188,9,123,41,77,223,196,6,236,137,188,62,214]
[null,234,181,215,147,59,111,76,53,131,72,241,103,73,111,26,249,124,214,170,224,148,50,37,28,200,186,110,8,154]
[null,227,207,193,71,110,249,109,26,232,53,217,101,227,209,126,147,127,150,225,252,171,190,111,46,203,208,30,11,87]
[null,252,164,173,240,24,76,147,120,152,134,163,182,119,69,122,149,215,178,188,101,161,19,227,122,249,254,24,73,14]
[null,241,235,139,33,18,149,249,34,141,196,154,235,169,201,156,182,155,184,172,66,160,144,204,89,135,149,3,22,160]
[null,98,33,231,99,182,24,59,160,88,187,167,78,116,213,151,240,238,2,189,31,74,233,223,108,78,224,67,26,143]
[null,26,41,137,168,149,240,110,169,84,211,146,67,222,1,84,234,147,30,180,112,101,39,250,107,163,146,92,69,47]
[null,32,29,209,2,147,59,234,168,55,60,222,171,47,135,231,148,98,50,214,176,60,232,26,52,72,136,121,50,16]
[null,125,14,192,132,249,148,240,244,22,14,201,228,186,59,49,199,65,118,216,174,23,1,43,127,47,183,86,35,227]
[null,110,81,204,92,214,50,2,187,10,61,51,48,25,114,215,140,190,199,47,99,213,238,185,95,88,158,248,15,223]
[null,122,13,233,194,150,140,30,167,46,55,6,110,196,182,7,208,161,148,65,62,169,77,152,26,134,130,159,58,2]
[null,21,107,134,68,178,2,208,172,71,157,20,225,57,22,184,228,64,234,94,153,154,138,21,128,120,173,156,67,117]
[null,101,83,191,172,184,228,140,171,89,213,76,183,130,242,79,256,14,240,55,201,220,75,93,58,20,256,189,27,201]
[null,40,6,202,88,183,71,10,238,256,254,228,91,114,134,18,169,116,88,18,72,49,164,142,152,220,103,105,24,200]
[null,151,116,157,180,159,169,46,183,228,158,148,139,212,64,252,187,15,84,26,22,121,23,145,184,157,102,125,4,9]
[null,41,104,130,102,243,10,187,230,208,102,100,143,87,233,111,212,249,55,127,143,64,148,52,160,218,7,22,126,82]
[null,19,98,172,238,161,212,169,241,140,85,206,213,126,53,192,248,220,22,16,198,62,113,6,210,216,89,142,86,192]
[null,87,87,205,21,131,55,88,207,199,99,99,83,59,27,116,236,30,248,171,103,179,125,251,254,228,39,146,83,159]
[null,7,126,206,127,232,236,84,211,148,51,135,120,209,249,204,203,36,212,208,123,133,61,141,141,179,5,252,38,80]
[null,82,113,136,121,152,88,203,215,234,236,58,198,75,78,28,174,154,187,235,212,156,206,124,183,153,57,130,37,11]
[null,99,38,186,145,141,174,236,182,240,237,5,223,133,165,246,170,196,169,234,130,230,87,71,180,212,44,204,125,188]
[null,162,170,162,24,135,113,87,217,33,149,106,82,71,152,198,220,250,6,201,109,19,97,16,17,73,12,46,149,145]
[null,140,174,185,138,237,220,126,173,41,176,82,3,159,15,21,145,226,116,141,39,99,154,92,110,16,27,2,124,100]
[null,173,203,247,91,221,87,145,247,29,112,53,177,64,181,227,132,57,104,256,253,46,5,161,79,21,127,89,251,56]
[null,216,236,188,231,167,132,220,178,14,26,10,131,246,137,10,171,11,98,137,171,5,185,168,83,91,60,93,112,170]
[null,174,248,239,96,143,104,6,165,81,11,257,12,45,138,236,160,203,171,66,55,193,38,107,31,63,117,170,141,163]
[null,138,212,222,143,168,160,116,231,13,150,188,104,240,192,70,154,153,132,9,38,243,240,81,39,107,24,206,248,20]
[null,184,187,133,40,255,6,154,140,107,127,173,219,19,50,165,142,34,145,90,168,204,65,222,63,24,38,235,142,107]
[null,207,169,238,255,218,142,160,191,83,200,204,207,135,156,106,252,80,220,14,160,164,146,249,54,98,22,124,159,156]
[null,204,256,158,67,195,107,81,208,252,216,32,86,32,221,95,175,128,33,74,7,90,41,83,211,182,164,7,170,257]
[null,128,228,246,201,211,175,13,159,142,249,48,105,179,35,223,151,82,41,108,104,32,256,41,251,144,196,73,169,114]
[null,225,208,144,36,213,81,151,204,154,25,87,249,102,255,82,245,174,29,147,211,57,124,200,181,192,194,34,179,106]
[null,215,140,163,221,230,245,175,221,160,33,80,163,146,28,137,177,229,14,58,221,128,210,248,140,254,249,72,168,157]
[null,242,199,153,52,181,29,33,226,171,76,157,92,58,11,118,244,52,177,199,10,147,118,25,178,205,250,223,252,226]
[null,201,148,216,177,207,244,41,198,132,117,250,11,161,166,172,229,125,245,143,111,142,187,28,236,243,192,207,164,29]
[null,137,234,227,31,164,33,229,255,145,239,165,208,107,105,30,217,152,151,177,202,245,3,157,256,187,217,200,152,33]
[null,243,240,155,184,235,217,244,256,220,161,256,130,235,162,144,225,182,175,210,216,190,202,193,115,132,174,179,140,241]

{"sheet":"NOLH for up to 29 factors","index":12,"n_rows":262,"n_cols":30,"rows_kept":262,"cut":false,"hidden":false,"merged":[]}
[]
["low level",1,1,1,1,1,1,1,1,1,1,1,1,1,1,1,1,1,1,1,1,1,1,1,1,1,1,1,1,1]
["high level",257,257,257,257,257,257,257,257,257,257,257,257,257,257,257,257,257,257,257,257,257,257,257,257,257,257,257,257,257]
["decimals",0,0,0,0,0,0,0,0,0,0,0,0,0,0,0,0,0,0,0,0,0,0,0,0,0,0,0,0,0]
["factor name"]
[null,{"$f":"ROUND( B$2+(('coded NOLH for 23-29 factors'!B5-1)*(B$3-B$2)/256), B$4)","v":103},{"$f":"ROUND( C$2+(('coded NOLH for 23-29 factors'!C5-1)*(C$3-C$2)/256), C$4)","v":227},{"$f":"ROUND( D$2+(('coded NOLH for 23-29 factors'!D5-1)*(D$3-D$2)/256), D$4)","v":153},{"$f":"ROUND( E$2+(('coded NOLH for 23-29 factors'!E5-1)*(E$3-E$2)/256), E$4)","v":158},{"$f":"ROUND( F$2+(('coded NOLH for 23-29 factors'!F5-1)*(F$3-F$2)/256), F$4)","v":162},{"$f":"ROUND( G$2+(('coded NOLH for 23-29 factors'!G5-1)*(G$3-G$2)/256), G$4)","v":231},{"$f":"ROUND( H$2+(('coded NOLH for 23-29 factors'!H5-1)*(H$3-H$2)/256), H$4)","v":257},{"$f":"ROUND( I$2+(('coded NOLH for 23-29 factors'!I5-1)*(I$3-I$2)/256), I$4)","v":225},{"$f":"ROUND( J$2+(('coded NOLH for 23-29 factors'!J5-1)*(J$3-J$2)/256), J$4)","v":49},{"$f":"ROUND( K$2+(('coded NOLH for 23-29 factors'!K5-1)*(K$3-K$2)/256), K$4)","v":18},{"$f":"ROUND( L$2+(('coded NOLH for 23-29 factors'!L5-1)*(L$3-L$2)/256), L$4)","v":62},{"$f":"ROUND( M$2+(('coded NOLH for 23-29 factors'!M5-1)*(M$3-M$2)/256), M$4)","v":100},{"$f":"ROUND( N$2+(('coded NOLH for 23-29 factors'!N5-1)*(N$3-N$2)/256), N$4)","v":17},{"$f":"ROUND( O$2+(('coded NOLH for 23-29 factors'!O5-1)*(O$3-O$2)/256), O$4)","v":48},{"$f":"ROUND( P$2+(('coded NOLH for 23-29 factors'!P5-1)*(P$3-P$2)/256), P$4)","v":88},{"$f":"ROUND( Q$2+(('coded NOLH for 23-29 factors'!Q5-1)*(Q$3-Q$2)/256), Q$4)","v":102},{"$f":"ROUND( R$2+(('coded NOLH for 23-29 factors'!R5-1)*(R$3-R$2)/256), R$4)","v":115},{"$f":"ROUND( S$2+(('coded NOLH for 23-29 factors'!S5-1)*(S$3-S$2)/256), S$4)","v":16},{"$f":"ROUND( T$2+(('coded NOLH for 23-29 factors'!T5-1)*(T$3-T$2)/256), T$4)","v":10},{"$f":"ROUND( U$2+(('coded NOLH for 23-29 factors'!U5-1)*(U$3-U$2)/256), U$4)","v":45},{"$f":"ROUND( V$2+(('coded NOLH for 23-29 factors'!V5-1)*(V$3-V$2)/256), V$4)","v":72},{"$f":"ROUND( W$2+(('coded NOLH for 23-29 factors'!W5-1)*(W$3-W$2)/256), W$4)","v":63},{"$f":"ROUND( X$2+(('coded NOLH for 23-29 factors'!X5-1)*(X$3-X$2)/256), X$4)","v":76},{"$f":"ROUND( Y$2+(('coded NOLH for 23-29 factors'!Y5-1)*(Y$3-Y$2)/256), Y$4)","v":97},{"$f":"ROUND( Z$2+(('coded NOLH for 23-29 factors'!Z5-1)*(Z$3-Z$2)/256), Z$4)","v":50},{"$f":"ROUND( AA$2+(('coded NOLH for 23-29 factors'!AA5-1)*(AA$3-AA$2)/256), AA$4)","v":14},{"$f":"ROUND( AB$2+(('coded NOLH for 23-29 factors'!AB5-1)*(AB$3-AB$2)/256), AB$4)","v":77},{"$f":"ROUND( AC$2+(('coded NOLH for 23-29 factors'!AC5-1)*(AC$3-AC$2)/256), AC$4)","v":62},{"$f":"ROUND( AD$2+(('coded NOLH for 23-29 factors'!AD5-1)*(AD$3-AD$2)/256), AD$4)","v":8}]
[null,{"$f":"ROUND( B$2+(('coded NOLH for 23-29 factors'!B6-1)*(B$3-B$2)/256), B$4)","v":31},{"$f":"ROUND( C$2+(('coded NOLH for 23-29 factors'!C6-1)*(C$3-C$2)/256), C$4)","v":103},{"$f":"ROUND( D$2+(('coded NOLH for 23-29 factors'!D6-1)*(D$3-D$2)/256), D$4)","v":216},{"$f":"ROUND( E$2+(('coded NOLH for 23-29 factors'!E6-1)*(E$3-E$2)/256), E$4)","v":246},{"$f":"ROUND( F$2+(('coded NOLH for 23-29 factors'!F6-1)*(F$3-F$2)/256), F$4)","v":185},{"$f":"ROUND( G$2+(('coded NOLH for 23-29 factors'!G6-1)*(G$3-G$2)/256), G$4)","v":137},{"$f":"ROUND( H$2+(('coded NOLH for 23-29 factors'!H6-1)*(H$3-H$2)/256), H$4)","v":250},{"$f":"ROUND( I$2+(('coded NOLH for 23-29 factors'!I6-1)*(I$3-I$2)/256), I$4)","v":217},{"$f":"ROUND( J$2+(('coded NOLH for 23-29 factors'!J6-1)*(J$3-J$2)/256), J$4)","v":140},{"$f":"ROUND( K$2+(('coded NOLH for 23-29 factors'!K6-1)*(K$3-K$2)/256), K$4)","v":157},{"$f":"ROUND( L$2+(('coded NOLH for 23-29 factors'!L6-1)*(L$3-L$2)/256), L$4)","v":161},{"$f":"ROUND( M$2+(('coded NOLH for 23-29 factors'!M6-1)*(M$3-M$2)/256), M$4)","v":191},{"$f":"ROUND( N$2+(('coded NOLH for 23-29 factors'!N6-1)*(N$3-N$2)/256), N$4)","v":257},{"$f":"ROUND( O$2+(('coded NOLH for 23-29 factors'!O6-1)*(O$3-O$2)/256), O$4)","v":228},{"$f":"ROUND( P$2+(('coded NOLH for 23-29 factors'!P6-1)*(P$3-P$2)/256), P$4)","v":132},{"$f":"ROUND( Q$2+(('coded NOLH for 23-29 factors'!Q6-1)*(Q$3-Q$2)/256), Q$4)","v":7},{"$f":"ROUND( R$2+(('coded NOLH for 23-29 factors'!R6-1)*(R$3-R$2)/256), R$4)","v":17},{"$f":"ROUND( S$2+(('coded NOLH for 23-29 factors'!S6-1)*(S$3-S$2)/256), S$4)","v":36},{"$f":"ROUND( T$2+(('coded NOLH for 23-29 factors'!T6-1)*(T$3-T$2)/256), T$4)","v":2},{"$f":"ROUND( U$2+(('coded NOLH for 23-29 factors'!U6-1)*(U$3-U$2)/256), U$4)","v":91},{"$f":"ROUND( V$2+(('coded NOLH for 23-29 factors'!V6-1)*(V$3-V$2)/256), V$4)","v":149},{"$f":"ROUND( W$2+(('coded NOLH for 23-29 factors'!W6-1)*(W$3-W$2)/256), W$4)","v":62},{"$f":"ROUND( X$2+(('coded NOLH for 23-29 factors'!X6-1)*(X$3-X$2)/256), X$4)","v":107},{"$f":"ROUND( Y$2+(('coded NOLH for 23-29 factors'!Y6-1)*(Y$3-Y$2)/256), Y$4)","v":134},{"$f":"ROUND( Z$2+(('coded NOLH for 23-29 factors'!Z6-1)*(Z$3-Z$2)/256), Z$4)","v":65},{"$f":"ROUND( AA$2+(('coded NOLH for 23-29 factors'!AA6-1)*(AA$3-AA$2)/256), AA$4)","v":102},{"$f":"ROUND( AB$2+(('coded NOLH for 23-29 factors'!AB6-1)*(AB$3-AB$2)/256), AB$4)","v":64},{"$f":"ROUND( AC$2+(('coded NOLH for 23-29 factors'!AC6-1)*(AC$3-AC$2)/256), AC$4)","v":65},{"$f":"ROUND( AD$2+(('coded NOLH for 23-29 factors'!AD6-1)*(AD$3-AD$2)/256), AD$4)","v":102}]
[null,{"$f":"ROUND( B$2+(('coded NOLH for 23-29 factors'!B7-1)*(B$3-B$2)/256), B$4)","v":42},{"$f":"ROUND( C$2+(('coded NOLH for 23-29 factors'!C7-1)*(C$3-C$2)/256), C$4)","v":153},{"$f":"ROUND( D$2+(('coded NOLH for 23-29 factors'!D7-1)*(D$3-D$2)/256), D$4)","v":31},{"$f":"ROUND( E$2+(('coded NOLH for 23-29 factors'!E7-1)*(E$3-E$2)/256), E$4)","v":144},{"$f":"ROUND( F$2+(('coded NOLH for 23-29 factors'!F7-1)*(F$3-F$2)/256), F$4)","v":247},{"$f":"ROUND( G$2+(('coded NOLH for 23-29 factors'!G7-1)*(G$3-G$2)/256), G$4)","v":209},{"$f":"ROUND( H$2+(('coded NOLH for 23-29 factors'!H7-1)*(H$3-H$2)/256), H$4)","v":242},{"$f":"ROUND( I$2+(('coded NOLH for 23-29 factors'!I7-1)*(I$3-I$2)/256), I$4)","v":229},{"$f":"ROUND( J$2+(('coded NOLH for 23-29 factors'!J7-1)*(J$3-J$2)/256), J$4)","v":166},{"$f":"ROUND( K$2+(('coded NOLH for 23-29 factors'!K7-1)*(K$3-K$2)/256), K$4)","v":94},{"$f":"ROUND( L$2+(('coded NOLH for 23-29 factors'!L7-1)*(L$3-L$2)/256), L$4)","v":53},{"$f":"ROUND( M$2+(('coded NOLH for 23-29 factors'!M7-1)*(M$3-M$2)/256), M$4)","v":64},{"$f":"ROUND( N$2+(('coded NOLH for 23-29 factors'!N7-1)*(N$3-N$2)/256), N$4)","v":34},{"$f":"ROUND( O$2+(('coded NOLH for 23-29 factors'!O7-1)*(O$3-O$2)/256), O$4)","v":38},{"$f":"ROUND( P$2+(('coded NOLH for 23-29 factors'!P7-1)*(P$3-P$2)/256), P$4)","v":241},{"$f":"ROUND( Q$2+(('coded NOLH for 23-29 factors'!Q7-1)*(Q$3-Q$2)/256), Q$4)","v":214},{"$f":"ROUND( R$2+(('coded NOLH for 23-29 factors'!R7-1)*(R$3-R$2)/256), R$4)","v":146},{"$f":"ROUND( S$2+(('coded NOLH for 23-29 factors'!S7-1)*(S$3-S$2)/256), S$4)","v":239},{"$f":"ROUND( T$2+(('coded NOLH for 23-29 factors'!T7-1)*(T$3-T$2)/256), T$4)","v":217},{"$f":"ROUND( U$2+(('coded NOLH for 23-29 factors'!U7-1)*(U$3-U$2)/256), U$4)","v":63},{"$f":"ROUND( V$2+(('coded NOLH for 23-29 factors'!V7-1)*(V$3-V$2)/256), V$4)","v":22},{"$f":"ROUND( W$2+(('coded NOLH for 23-29 factors'!W7-1)*(W$3-W$2)/256), W$4)","v":40},{"$f":"ROUND( X$2+(('coded NOLH for 23-29 factors'!X7-1)*(X$3-X$2)/256), X$4)","v":10},{"$f":"ROUND( Y$2+(('coded NOLH for 23-29 factors'!Y7-1)*(Y$3-Y$2)/256), Y$4)","v":80},{"$f":"ROUND( Z$2+(('coded NOLH for 23-29 factors'!Z7-1)*(Z$3-Z$2)/256), Z$4)","v":5},{"$f":"ROUND( AA$2+(('coded NOLH for 23-29 factors'!AA7-1)*(AA$3-AA$2)/256), AA$4)","v":111},{"$f":"ROUND( AB$2+(('coded NOLH for 23-29 factors'!AB7-1)*(AB$3-AB$2)/256), AB$4)","v":76},{"$f":"ROUND( AC$2+(('coded NOLH for 23-29 factors'!AC7-1)*(AC$3-AC$2)/256), AC$4)","v":114},{"$f":"ROUND( AD$2+(('coded NOLH for 23-29 factors'!AD7-1)*(AD$3-AD$2)/256), AD$4)","v":49}]
[null,{"$f":"ROUND( B$2+(('coded NOLH for 23-29 factors'!B8-1)*(B$3-B$2)/256), B$4)","v":105},{"$f":"ROUND( C$2+(('coded NOLH for 23-29 factors'!C8-1)*(C$3-C$2)/256), C$4)","v":42},{"$f":"ROUND( D$2+(('coded NOLH for 23-29 factors'!D8-1)*(D$3-D$2)/256), D$4)","v":103},{"$f":"ROUND( E$2+(('coded NOLH for 23-29 factors'!E8-1)*(E$3-E$2)/256), E$4)","v":163},{"$f":"ROUND( F$2+(('coded NOLH for 23-29 factors'!F8-1)*(F$3-F$2)/256), F$4)","v":188},{"$f":"ROUND( G$2+(('coded NOLH for 23-29 factors'!G8-1)*(G$3-G$2)/256), G$4)","v":192},{"$f":"ROUND( H$2+(('coded NOLH for 23-29 factors'!H8-1)*(H$3-H$2)/256), H$4)","v":226},{"$f":"ROUND( I$2+(('coded NOLH for 23-29 factors'!I8-1)*(I$3-I$2)/256), I$4)","v":244},{"$f":"ROUND( J$2+(('coded NOLH for 23-29 factors'!J8-1)*(J$3-J$2)/256), J$4)","v":40},{"$f":"ROUND( K$2+(('coded NOLH for 23-29 factors'!K8-1)*(K$3-K$2)/256), K$4)","v":141},{"$f":"ROUND( L$2+(('coded NOLH for 23-29 factors'!L8-1)*(L$3-L$2)/256), L$4)","v":241},{"$f":"ROUND( M$2+(('coded NOLH for 23-29 factors'!M8-1)*(M$3-M$2)/256), M$4)","v":201},{"$f":"ROUND( N$2+(('coded NOLH for 23-29 factors'!N8-1)*(N$3-N$2)/256), N$4)","v":248},{"$f":"ROUND( O$2+(('coded NOLH for 23-29 factors'!O8-1)*(O$3-O$2)/256), O$4)","v":245},{"$f":"ROUND( P$2+(('coded NOLH for 23-29 factors'!P8-1)*(P$3-P$2)/256), P$4)","v":166},{"$f":"ROUND( Q$2+(('coded NOLH for 23-29 factors'!Q8-1)*(Q$3-Q$2)/256), Q$4)","v":150},{"$f":"ROUND( R$2+(('coded NOLH for 23-29 factors'!R8-1)*(R$3-R$2)/256), R$4)","v":203},{"$f":"ROUND( S$2+(('coded NOLH for 23-29 factors'!S8-1)*(S$3-S$2)/256), S$4)","v":257},{"$f":"ROUND( T$2+(('coded NOLH for 23-29 factors'!T8-1)*(T$3-T$2)/256), T$4)","v":200},{"$f":"ROUND( U$2+(('coded NOLH for 23-29 factors'!U8-1)*(U$3-U$2)/256), U$4)","v":5},{"$f":"ROUND( V$2+(('coded NOLH for 23-29 factors'!V8-1)*(V$3-V$2)/256), V$4)","v":37},{"$f":"ROUND( W$2+(('coded NOLH for 23-29 factors'!W8-1)*(W$3-W$2)/256), W$4)","v":55},{"$f":"ROUND( X$2+(('coded NOLH for 23-29 factors'!X8-1)*(X$3-X$2)/256), X$4)","v":115},{"$f":"ROUND( Y$2+(('coded NOLH for 23-29 factors'!Y8-1)*(Y$3-Y$2)/256), Y$4)","v":61},{"$f":"ROUND( Z$2+(('coded NOLH for 23-29 factors'!Z8-1)*(Z$3-Z$2)/256), Z$4)","v":102},{"$f":"ROUND( AA$2+(('coded NOLH for 23-29 factors'!AA8-1)*(AA$3-AA$2)/256), AA$4)","v":104},{"$f":"ROUND( AB$2+(('coded NOLH for 23-29 factors'!AB8-1)*(AB$3-AB$2)/256), AB$4)","v":53},{"$f":"ROUND( AC$2+(('coded NOLH for 23-29 factors'!AC8-1)*(AC$3-AC$2)/256), AC$4)","v":50},{"$f":"ROUND( AD$2+(('coded NOLH for 23-29 factors'!AD8-1)*(AD$3-AD$2)/256), AD$4)","v":62}]
[null,{"$f":"ROUND( B$2+(('coded NOLH for 23-29 factors'!B9-1)*(B$3-B$2)/256), B$4)","v":95},{"$f":"ROUND( C$2+(('coded NOLH for 23-29 factors'!C9-1)*(C$3-C$2)/256), C$4)","v":144},{"$f":"ROUND( D$2+(('coded NOLH for 23-29 factors'!D9-1)*(D$3-D$2)/256), D$4)","v":158},{"$f":"ROUND( E$2+(('coded NOLH for 23-29 factors'!E9-1)*(E$3-E$2)/256), E$4)","v":105},{"$f":"ROUND( F$2+(('coded NOLH for 23-29 factors'!F9-1)*(F$3-F$2)/256), F$4)","v":239},{"$f":"ROUND( G$2+(('coded NOLH for 23-29 factors'!G9-1)*(G$3-G$2)/256), G$4)","v":204},{"$f":"ROUND( H$2+(('coded NOLH for 23-29 factors'!H9-1)*(H$3-H$2)/256), H$4)","v":194},{"$f":"ROUND( I$2+(('coded NOLH for 23-29 factors'!I9-1)*(I$3-I$2)/256), I$4)","v":177},{"$f":"ROUND( J$2+(('coded NOLH for 23-29 factors'!J9-1)*(J$3-J$2)/256), J$4)","v":18},{"$f":"ROUND( K$2+(('coded NOLH for 23-29 factors'!K9-1)*(K$3-K$2)/256), K$4)","v":210},{"$f":"ROUND( L$2+(('coded NOLH for 23-29 factors'!L9-1)*(L$3-L$2)/256), L$4)","v":23},{"$f":"ROUND( M$2+(('coded NOLH for 23-29 factors'!M9-1)*(M$3-M$2)/256), M$4)","v":15},{"$f":"ROUND( N$2+(('coded NOLH for 23-29 factors'!N9-1)*(N$3-N$2)/256), N$4)","v":83},{"$f":"ROUND( O$2+(('coded NOLH for 23-29 factors'!O9-1)*(O$3-O$2)/256), O$4)","v":21},{"$f":"ROUND( P$2+(('coded NOLH for 23-29 factors'!P9-1)*(P$3-P$2)/256), P$4)","v":130},{"$f":"ROUND( Q$2+(('coded NOLH for 23-29 factors'!Q9-1)*(Q$3-Q$2)/256), Q$4)","v":42},{"$f":"ROUND( R$2+(('coded NOLH for 23-29 factors'!R9-1)*(R$3-R$2)/256), R$4)","v":39},{"$f":"ROUND( S$2+(('coded NOLH for 23-29 factors'!S9-1)*(S$3-S$2)/256), S$4)","v":30},{"$f":"ROUND( T$2+(('coded NOLH for 23-29 factors'!T9-1)*(T$3-T$2)/256), T$4)","v":72},{"$f":"ROUND( U$2+(('coded NOLH for 23-29 factors'!U9-1)*(U$3-U$2)/256), U$4)","v":239},{"$f":"ROUND( V$2+(('coded NOLH for 23-29 factors'!V9-1)*(V$3-V$2)/256), V$4)","v":169},{"$f":"ROUND( W$2+(('coded NOLH for 23-29 factors'!W9-1)*(W$3-W$2)/256), W$4)","v":217},{"$f":"ROUND( X$2+(('coded NOLH for 23-29 factors'!X9-1)*(X$3-X$2)/256), X$4)","v":221},{"$f":"ROUND( Y$2+(('coded NOLH for 23-29 factors'!Y9-1)*(Y$3-Y$2)/256), Y$4)","v":76},{"$f":"ROUND( Z$2+(('coded NOLH for 23-29 factors'!Z9-1)*(Z$3-Z$2)/256), Z$4)","v":88},{"$f":"ROUND( AA$2+(('coded NOLH for 23-29 factors'!AA9-1)*(AA$3-AA$2)/256), AA$4)","v":61},{"$f":"ROUND( AB$2+(('coded NOLH for 23-29 factors'!AB9-1)*(AB$3-AB$2)/256), AB$4)","v":72},{"$f":"ROUND( AC$2+(('coded NOLH for 23-29 factors'!AC9-1)*(AC$3-AC$2)/256), AC$4)","v":150},{"$f":"ROUND( AD$2+(('coded NOLH for 23-29 factors'!AD9-1)*(AD$3-AD$2)/256), AD$4)","v":16}]
[null,{"$f":"ROUND( B$2+(('coded NOLH for 23-29 factors'!B10-1)*(B$3-B$2)/256), B$4)","v":114},{"$f":"ROUND( C$2+(('coded NOLH for 23-29 factors'!C10-1)*(C$3-C$2)/256), C$4)","v":95},{"$f":"ROUND( D$2+(('coded NOLH for 23-29 factors'!D10-1)*(D$3-D$2)/256), D$4)","v":246},{"$f":"ROUND( E$2+(('coded NOLH for 23-29 factors'!E10-1)*(E$3-E$2)/256), E$4)","v":42},{"$f":"ROUND( F$2+(('coded NOLH for 23-29 factors'!F10-1)*(F$3-F$2)/256), F$4)","v":222},{"$f":"ROUND( G$2+(('coded NOLH for 23-29 factors'!G10-1)*(G$3-G$2)/256), G$4)","v":233},{"$f":"ROUND( H$2+(('coded NOLH for 23-29 factors'!H10-1)*(H$3-H$2)/256), H$4)","v":189},{"$f":"ROUND( I$2+(('coded NOLH for 23-29 factors'!I10-1)*(I$3-I$2)/256), I$4)","v":245},{"$f":"ROUND( J$2+(('coded NOLH for 23-29 factors'!J10-1)*(J$3-J$2)/256), J$4)","v":186},{"$f":"ROUND( K$2+(('coded NOLH for 23-29 factors'!K10-1)*(K$3-K$2)/256), K$4)","v":118},{"$f":"ROUND( L$2+(('coded NOLH for 23-29 factors'!L10-1)*(L$3-L$2)/256), L$4)","v":216},{"$f":"ROUND( M$2+(('coded NOLH for 23-29 factors'!M10-1)*(M$3-M$2)/256), M$4)","v":196},{"$f":"ROUND( N$2+(('coded NOLH for 23-29 factors'!N10-1)*(N$3-N$2)/256), N$4)","v":216},{"$f":"ROUND( O$2+(('coded NOLH for 23-29 factors'!O10-1)*(O$3-O$2)/256), O$4)","v":182},{"$f":"ROUND( P$2+(('coded NOLH for 23-29 factors'!P10-1)*(P$3-P$2)/256), P$4)","v":235},{"$f":"ROUND( Q$2+(('coded NOLH for 23-29 factors'!Q10-1)*(Q$3-Q$2)/256), Q$4)","v":110},{"$f":"ROUND( R$2+(('coded NOLH for 23-29 factors'!R10-1)*(R$3-R$2)/256), R$4)","v":99},{"$f":"ROUND( S$2+(('coded NOLH for 23-29 factors'!S10-1)*(S$3-S$2)/256), S$4)","v":114},{"$f":"ROUND( T$2+(('coded NOLH for 23-29 factors'!T10-1)*(T$3-T$2)/256), T$4)","v":96},{"$f":"ROUND( U$2+(('coded NOLH for 23-29 factors'!U10-1)*(U$3-U$2)/256), U$4)","v":229},{"$f":"ROUND( V$2+(('coded NOLH for 23-29 factors'!V10-1)*(V$3-V$2)/256), V$4)","v":224},{"$f":"ROUND( W$2+(('coded NOLH for 23-29 factors'!W10-1)*(W$3-W$2)/256), W$4)","v":233},{"$f":"ROUND( X$2+(('coded NOLH for 23-29 factors'!X10-1)*(X$3-X$2)/256), X$4)","v":252},{"$f":"ROUND( Y$2+(('coded NOLH for 23-29 factors'!Y10-1)*(Y$3-Y$2)/256), Y$4)","v":147},{"$f":"ROUND( Z$2+(('coded NOLH for 23-29 factors'!Z10-1)*(Z$3-Z$2)/256), Z$4)","v":9},{"$f":"ROUND( AA$2+(('coded NOLH for 23-29 factors'!AA10-1)*(AA$3-AA$2)/256), AA$4)","v":103},{"$f":"ROUND( AB$2+(('coded NOLH for 23-29 factors'!AB10-1)*(AB$3-AB$2)/256), AB$4)","v":45},{"$f":"ROUND( AC$2+(('coded NOLH for 23-29 factors'!AC10-1)*(AC$3-AC$2)/256), AC$4)","v":90},{"$f":"ROUND( AD$2+(('coded NOLH for 23-29 factors'!AD10-1)*(AD$3-AD$2)/256), AD$4)","v":36}]
[null,{"$f":"ROUND( B$2+(('coded NOLH for 23-29 factors'!B11-1)*(B$3-B$2)/256), B$4)","v":12},{"$f":"ROUND( C$2+(('coded NOLH for 23-29 factors'!C11-1)*(C$3-C$2)/256), C$4)","v":158},{"$f":"ROUND( D$2+(('coded NOLH for 23-29 factors'!D11-1)*(D$3-D$2)/256), D$4)","v":114},{"$f":"ROUND( E$2+(('coded NOLH for 23-29 factors'!E11-1)*(E$3-E$2)/256), E$4)","v":31},{"$f":"ROUND( F$2+(('coded NOLH for 23-29 factors'!F11-1)*(F$3-F$2)/256), F$4)","v":133},{"$f":"ROUND( G$2+(('coded NOLH for 23-29 factors'!G11-1)*(G$3-G$2)/256), G$4)","v":134},{"$f":"ROUND( H$2+(('coded NOLH for 23-29 factors'!H11-1)*(H$3-H$2)/256), H$4)","v":197},{"$f":"ROUND( I$2+(('coded NOLH for 23-29 factors'!I11-1)*(I$3-I$2)/256), I$4)","v":151},{"$f":"ROUND( J$2+(('coded NOLH for 23-29 factors'!J11-1)*(J$3-J$2)/256), J$4)","v":173},{"$f":"ROUND( K$2+(('coded NOLH for 23-29 factors'!K11-1)*(K$3-K$2)/256), K$4)","v":151},{"$f":"ROUND( L$2+(('coded NOLH for 23-29 factors'!L11-1)*(L$3-L$2)/256), L$4)","v":2},{"$f":"ROUND( M$2+(('coded NOLH for 23-29 factors'!M11-1)*(M$3-M$2)/256), M$4)","v":70},{"$f":"ROUND( N$2+(('coded NOLH for 23-29 factors'!N11-1)*(N$3-N$2)/256), N$4)","v":80},{"$f":"ROUND( O$2+(('coded NOLH for 23-29 factors'!O11-1)*(O$3-O$2)/256), O$4)","v":83},{"$f":"ROUND( P$2+(('coded NOLH for 23-29 factors'!P11-1)*(P$3-P$2)/256), P$4)","v":38},{"$f":"ROUND( Q$2+(('coded NOLH for 23-29 factors'!Q11-1)*(Q$3-Q$2)/256), Q$4)","v":234},{"$f":"ROUND( R$2+(('coded NOLH for 23-29 factors'!R11-1)*(R$3-R$2)/256), R$4)","v":235},{"$f":"ROUND( S$2+(('coded NOLH for 23-29 factors'!S11-1)*(S$3-S$2)/256), S$4)","v":170},{"$f":"ROUND( T$2+(('coded NOLH for 23-29 factors'!T11-1)*(T$3-T$2)/256), T$4)","v":252},{"$f":"ROUND( U$2+(('coded NOLH for 23-29 factors'!U11-1)*(U$3-U$2)/256), U$4)","v":205},{"$f":"ROUND( V$2+(('coded NOLH for 23-29 factors'!V11-1)*(V$3-V$2)/256), V$4)","v":126},{"$f":"ROUND( W$2+(('coded NOLH for 23-29 factors'!W11-1)*(W$3-W$2)/256), W$4)","v":247},{"$f":"ROUND( X$2+(('coded NOLH for 23-29 factors'!X11-1)*(X$3-X$2)/256), X$4)","v":210},{"$f":"ROUND( Y$2+(('coded NOLH for 23-29 factors'!Y11-1)*(Y$3-Y$2)/256), Y$4)","v":79},{"$f":"ROUND( Z$2+(('coded NOLH for 23-29 factors'!Z11-1)*(Z$3-Z$2)/256), Z$4)","v":104},{"$f":"ROUND( AA$2+(('coded NOLH for 23-29 factors'!AA11-1)*(AA$3-AA$2)/256), AA$4)","v":110},{"$f":"ROUND( AB$2+(('coded NOLH for 23-29 factors'!AB11-1)*(AB$3-AB$2)/256), AB$4)","v":71},{"$f":"ROUND( AC$2+(('coded NOLH for 23-29 factors'!AC11-1)*(AC$3-AC$2)/256), AC$4)","v":38},{"$f":"ROUND( AD$2+(('coded NOLH for 23-29 factors'!AD11-1)*(AD$3-AD$2)/256), AD$4)","v":66}]
[null,{"$f":"ROUND( B$2+(('coded NOLH for 23-29 factors'!B12-1)*(B$3-B$2)/256), B$4)","v":100},{"$f":"ROUND( C$2+(('coded NOLH for 23-29 factors'!C12-1)*(C$3-C$2)/256), C$4)","v":12},{"$f":"ROUND( D$2+(('coded NOLH for 23-29 factors'!D12-1)*(D$3-D$2)/256), D$4)","v":95},{"$f":"ROUND( E$2+(('coded NOLH for 23-29 factors'!E12-1)*(E$3-E$2)/256), E$4)","v":103},{"$f":"ROUND( F$2+(('coded NOLH for 23-29 factors'!F12-1)*(F$3-F$2)/256), F$4)","v":238},{"$f":"ROUND( G$2+(('coded NOLH for 23-29 factors'!G12-1)*(G$3-G$2)/256), G$4)","v":191},{"$f":"ROUND( H$2+(('coded NOLH for 23-29 factors'!H12-1)*(H$3-H$2)/256), H$4)","v":180},{"$f":"ROUND( I$2+(('coded NOLH for 23-29 factors'!I12-1)*(I$3-I$2)/256), I$4)","v":175},{"$f":"ROUND( J$2+(('coded NOLH for 23-29 factors'!J12-1)*(J$3-J$2)/256), J$4)","v":125},{"$f":"ROUND( K$2+(('coded NOLH for 23-29 factors'!K12-1)*(K$3-K$2)/256), K$4)","v":19},{"$f":"ROUND( L$2+(('coded NOLH for 23-29 factors'!L12-1)*(L$3-L$2)/256), L$4)","v":120},{"$f":"ROUND( M$2+(('coded NOLH for 23-29 factors'!M12-1)*(M$3-M$2)/256), M$4)","v":137},{"$f":"ROUND( N$2+(('coded NOLH for 23-29 factors'!N12-1)*(N$3-N$2)/256), N$4)","v":208},{"$f":"ROUND( O$2+(('coded NOLH for 23-29 factors'!O12-1)*(O$3-O$2)/256), O$4)","v":168},{"$f":"ROUND( P$2+(('coded NOLH for 23-29 factors'!P12-1)*(P$3-P$2)/256), P$4)","v":110},{"$f":"ROUND( Q$2+(('coded NOLH for 23-29 factors'!Q12-1)*(Q$3-Q$2)/256), Q$4)","v":233},{"$f":"ROUND( R$2+(('coded NOLH for 23-29 factors'!R12-1)*(R$3-R$2)/256), R$4)","v":188},{"$f":"ROUND( S$2+(('coded NOLH for 23-29 factors'!S12-1)*(S$3-S$2)/256), S$4)","v":214},{"$f":"ROUND( T$2+(('coded NOLH for 23-29 factors'!T12-1)*(T$3-T$2)/256), T$4)","v":158},{"$f":"ROUND( U$2+(('coded NOLH for 23-29 factors'!U12-1)*(U$3-U$2)/256), U$4)","v":175},{"$f":"ROUND( V$2+(('coded NOLH for 23-29 factors'!V12-1)*(V$3-V$2)/256), V$4)","v":218},{"$f":"ROUND( W$2+(('coded NOLH for 23-29 factors'!W12-1)*(W$3-W$2)/256), W$4)","v":246},{"$f":"ROUND( X$2+(('coded NOLH for 23-29 factors'!X12-1)*(X$3-X$2)/256), X$4)","v":237},{"$f":"ROUND( Y$2+(('coded NOLH for 23-29 factors'!Y12-1)*(Y$3-Y$2)/256), Y$4)","v":59},{"$f":"ROUND( Z$2+(('coded NOLH for 23-29 factors'!Z12-1)*(Z$3-Z$2)/256), Z$4)","v":70},{"$f":"ROUND( AA$2+(('coded NOLH for 23-29 factors'!AA12-1)*(AA$3-AA$2)/256), AA$4)","v":31},{"$f":"ROUND( AB$2+(('coded NOLH for 23-29 factors'!AB12-1)*(AB$3-AB$2)/256), AB$4)","v":110},{"$f":"ROUND( AC$2+(('coded NOLH for 23-29 factors'!AC12-1)*(AC$3-AC$2)/256), AC$4)","v":20},{"$f":"ROUND( AD$2+(('coded NOLH for 23-29 factors'!AD12-1)*(AD$3-AD$2)/256), AD$4)","v":33}]
[null,{"$f":"ROUND( B$2+(('coded NOLH for 23-29 factors'!B13-1)*(B$3-B$2)/256), B$4)","v":20},{"$f":"ROUND( C$2+(('coded NOLH for 23-29 factors'!C13-1)*(C$3-C$2)/256), C$4)","v":133},{"$f":"ROUND( D$2+(('coded NOLH for 23-29 factors'!D13-1)*(D$3-D$2)/256), D$4)","v":239},{"$f":"ROUND( E$2+(('coded NOLH for 23-29 factors'!E13-1)*(E$3-E$2)/256), E$4)","v":162},{"$f":"ROUND( F$2+(('coded NOLH for 23-29 factors'!F13-1)*(F$3-F$2)/256), F$4)","v":100},{"$f":"ROUND( G$2+(('coded NOLH for 23-29 factors'!G13-1)*(G$3-G$2)/256), G$4)","v":202},{"$f":"ROUND( H$2+(('coded NOLH for 23-29 factors'!H13-1)*(H$3-H$2)/256), H$4)","v":190},{"$f":"ROUND( I$2+(('coded NOLH for 23-29 factors'!I13-1)*(I$3-I$2)/256), I$4)","v":252},{"$f":"ROUND( J$2+(('coded NOLH for 23-29 factors'!J13-1)*(J$3-J$2)/256), J$4)","v":46},{"$f":"ROUND( K$2+(('coded NOLH for 23-29 factors'!K13-1)*(K$3-K$2)/256), K$4)","v":99},{"$f":"ROUND( L$2+(('coded NOLH for 23-29 factors'!L13-1)*(L$3-L$2)/256), L$4)","v":243},{"$f":"ROUND( M$2+(('coded NOLH for 23-29 factors'!M13-1)*(M$3-M$2)/256), M$4)","v":60},{"$f":"ROUND( N$2+(('coded NOLH for 23-29 factors'!N13-1)*(N$3-N$2)/256), N$4)","v":118},{"$f":"ROUND( O$2+(('coded NOLH for 23-29 factors'!O13-1)*(O$3-O$2)/256), O$4)","v":111},{"$f":"ROUND( P$2+(('coded NOLH for 23-29 factors'!P13-1)*(P$3-P$2)/256), P$4)","v":48},{"$f":"ROUND( Q$2+(('coded NOLH for 23-29 factors'!Q13-1)*(Q$3-Q$2)/256), Q$4)","v":169},{"$f":"ROUND( R$2+(('coded NOLH for 23-29 factors'!R13-1)*(R$3-R$2)/256), R$4)","v":105},{"$f":"ROUND( S$2+(('coded NOLH for 23-29 factors'!S13-1)*(S$3-S$2)/256), S$4)","v":77},{"$f":"ROUND( T$2+(('coded NOLH for 23-29 factors'!T13-1)*(T$3-T$2)/256), T$4)","v":88},{"$f":"ROUND( U$2+(('coded NOLH for 23-29 factors'!U13-1)*(U$3-U$2)/256), U$4)","v":159},{"$f":"ROUND( V$2+(('coded NOLH for 23-29 factors'!V13-1)*(V$3-V$2)/256), V$4)","v":49},{"$f":"ROUND( W$2+(('coded NOLH for 23-29 factors'!W13-1)*(W$3-W$2)/256), W$4)","v":19},{"$f":"ROUND( X$2+(('coded NOLH for 23-29 factors'!X13-1)*(X$3-X$2)/256), X$4)","v":59},{"$f":"ROUND( Y$2+(('coded NOLH for 23-29 factors'!Y13-1)*(Y$3-Y$2)/256), Y$4)","v":223},{"$f":"ROUND( Z$2+(('coded NOLH for 23-29 factors'!Z13-1)*(Z$3-Z$2)/256), Z$4)","v":231},{"$f":"ROUND( AA$2+(('coded NOLH for 23-29 factors'!AA13-1)*(AA$3-AA$2)/256), AA$4)","v":152},{"$f":"ROUND( AB$2+(('coded NOLH for 23-29 factors'!AB13-1)*(AB$3-AB$2)/256), AB$4)","v":44},{"$f":"ROUND( AC$2+(('coded NOLH for 23-29 factors'!AC13-1)*(AC$3-AC$2)/256), AC$4)","v":94},{"$f":"ROUND( AD$2+(('coded NOLH for 23-29 factors'!AD13-1)*(AD$3-AD$2)/256), AD$4)","v":21}]
[null,{"$f":"ROUND( B$2+(('coded NOLH for 23-29 factors'!B14-1)*(B$3-B$2)/256), B$4)","v":125},{"$f":"ROUND( C$2+(('coded NOLH for 23-29 factors'!C14-1)*(C$3-C$2)/256), C$4)","v":20},{"$f":"ROUND( D$2+(('coded NOLH for 23-29 factors'!D14-1)*(D$3-D$2)/256), D$4)","v":222},{"$f":"ROUND( E$2+(('coded NOLH for 23-29 factors'!E14-1)*(E$3-E$2)/256), E$4)","v":185},{"$f":"ROUND( F$2+(('coded NOLH for 23-29 factors'!F14-1)*(F$3-F$2)/256), F$4)","v":12},{"$f":"ROUND( G$2+(('coded NOLH for 23-29 factors'!G14-1)*(G$3-G$2)/256), G$4)","v":157},{"$f":"ROUND( H$2+(('coded NOLH for 23-29 factors'!H14-1)*(H$3-H$2)/256), H$4)","v":146},{"$f":"ROUND( I$2+(('coded NOLH for 23-29 factors'!I14-1)*(I$3-I$2)/256), I$4)","v":142},{"$f":"ROUND( J$2+(('coded NOLH for 23-29 factors'!J14-1)*(J$3-J$2)/256), J$4)","v":246},{"$f":"ROUND( K$2+(('coded NOLH for 23-29 factors'!K14-1)*(K$3-K$2)/256), K$4)","v":193},{"$f":"ROUND( L$2+(('coded NOLH for 23-29 factors'!L14-1)*(L$3-L$2)/256), L$4)","v":104},{"$f":"ROUND( M$2+(('coded NOLH for 23-29 factors'!M14-1)*(M$3-M$2)/256), M$4)","v":176},{"$f":"ROUND( N$2+(('coded NOLH for 23-29 factors'!N14-1)*(N$3-N$2)/256), N$4)","v":195},{"$f":"ROUND( O$2+(('coded NOLH for 23-29 factors'!O14-1)*(O$3-O$2)/256), O$4)","v":244},{"$f":"ROUND( P$2+(('coded NOLH for 23-29 factors'!P14-1)*(P$3-P$2)/256), P$4)","v":35},{"$f":"ROUND( Q$2+(('coded NOLH for 23-29 factors'!Q14-1)*(Q$3-Q$2)/256), Q$4)","v":144},{"$f":"ROUND( R$2+(('coded NOLH for 23-29 factors'!R14-1)*(R$3-R$2)/256), R$4)","v":114},{"$f":"ROUND( S$2+(('coded NOLH for 23-29 factors'!S14-1)*(S$3-S$2)/256), S$4)","v":29},{"$f":"ROUND( T$2+(('coded NOLH for 23-29 factors'!T14-1)*(T$3-T$2)/256), T$4)","v":66},{"$f":"ROUND( U$2+(('coded NOLH for 23-29 factors'!U14-1)*(U$3-U$2)/256), U$4)","v":212},{"$f":"ROUND( V$2+(('coded NOLH for 23-29 factors'!V14-1)*(V$3-V$2)/256), V$4)","v":128},{"$f":"ROUND( W$2+(('coded NOLH for 23-29 factors'!W14-1)*(W$3-W$2)/256), W$4)","v":71},{"$f":"ROUND( X$2+(('coded NOLH for 23-29 factors'!X14-1)*(X$3-X$2)/256), X$4)","v":108},{"$f":"ROUND( Y$2+(('coded NOLH for 23-29 factors'!Y14-1)*(Y$3-Y$2)/256), Y$4)","v":133},{"$f":"ROUND( Z$2+(('coded NOLH for 23-29 factors'!Z14-1)*(Z$3-Z$2)/256), Z$4)","v":199},{"$f":"ROUND( AA$2+(('coded NOLH for 23-29 factors'!AA14-1)*(AA$3-AA$2)/256), AA$4)","v":125},{"$f":"ROUND( AB$2+(('coded NOLH for 23-29 factors'!AB14-1)*(AB$3-AB$2)/256), AB$4)","v":61},{"$f":"ROUND( AC$2+(('coded NOLH for 23-29 factors'!AC14-1)*(AC$3-AC$2)/256), AC$4)","v":75},{"$f":"ROUND( AD$2+(('coded NOLH for 23-29 factors'!AD14-1)*(AD$3-AD$2)/256), AD$4)","v":15}]
[null,{"$f":"ROUND( B$2+(('coded NOLH for 23-29 factors'!B15-1)*(B$3-B$2)/256), B$4)","v":36},{"$f":"ROUND( C$2+(('coded NOLH for 23-29 factors'!C15-1)*(C$3-C$2)/256), C$4)","v":239},{"$f":"ROUND( D$2+(('coded NOLH for 23-29 factors'!D15-1)*(D$3-D$2)/256), D$4)","v":125},{"$f":"ROUND( E$2+(('coded NOLH for 23-29 factors'!E15-1)*(E$3-E$2)/256), E$4)","v":247},{"$f":"ROUND( F$2+(('coded NOLH for 23-29 factors'!F15-1)*(F$3-F$2)/256), F$4)","v":114},{"$f":"ROUND( G$2+(('coded NOLH for 23-29 factors'!G15-1)*(G$3-G$2)/256), G$4)","v":130},{"$f":"ROUND( H$2+(('coded NOLH for 23-29 factors'!H15-1)*(H$3-H$2)/256), H$4)","v":251},{"$f":"ROUND( I$2+(('coded NOLH for 23-29 factors'!I15-1)*(I$3-I$2)/256), I$4)","v":154},{"$f":"ROUND( J$2+(('coded NOLH for 23-29 factors'!J15-1)*(J$3-J$2)/256), J$4)","v":232},{"$f":"ROUND( K$2+(('coded NOLH for 23-29 factors'!K15-1)*(K$3-K$2)/256), K$4)","v":74},{"$f":"ROUND( L$2+(('coded NOLH for 23-29 factors'!L15-1)*(L$3-L$2)/256), L$4)","v":166},{"$f":"ROUND( M$2+(('coded NOLH for 23-29 factors'!M15-1)*(M$3-M$2)/256), M$4)","v":55},{"$f":"ROUND( N$2+(('coded NOLH for 23-29 factors'!N15-1)*(N$3-N$2)/256), N$4)","v":55},{"$f":"ROUND( O$2+(('coded NOLH for 23-29 factors'!O15-1)*(O$3-O$2)/256), O$4)","v":104},{"$f":"ROUND( P$2+(('coded NOLH for 23-29 factors'!P15-1)*(P$3-P$2)/256), P$4)","v":167},{"$f":"ROUND( Q$2+(('coded NOLH for 23-29 factors'!Q15-1)*(Q$3-Q$2)/256), Q$4)","v":27},{"$f":"ROUND( R$2+(('coded NOLH for 23-29 factors'!R15-1)*(R$3-R$2)/256), R$4)","v":198},{"$f":"ROUND( S$2+(('coded NOLH for 23-29 factors'!S15-1)*(S$3-S$2)/256), S$4)","v":134},{"$f":"ROUND( T$2+(('coded NOLH for 23-29 factors'!T15-1)*(T$3-T$2)/256), T$4)","v":136},{"$f":"ROUND( U$2+(('coded NOLH for 23-29 factors'!U15-1)*(U$3-U$2)/256), U$4)","v":224},{"$f":"ROUND( V$2+(('coded NOLH for 23-29 factors'!V15-1)*(V$3-V$2)/256), V$4)","v":111},{"$f":"ROUND( W$2+(('coded NOLH for 23-29 factors'!W15-1)*(W$3-W$2)/256), W$4)","v":4},{"$f":"ROUND( X$2+(('coded NOLH for 23-29 factors'!X15-1)*(X$3-X$2)/256), X$4)","v":135},{"$f":"ROUND( Y$2+(('coded NOLH for 23-29 factors'!Y15-1)*(Y$3-Y$2)/256), Y$4)","v":252},{"$f":"ROUND( Z$2+(('coded NOLH for 23-29 factors'!Z15-1)*(Z$3-Z$2)/256), Z$4)","v":190},{"$f":"ROUND( AA$2+(('coded NOLH for 23-29 factors'!AA15-1)*(AA$3-AA$2)/256), AA$4)","v":232},{"$f":"ROUND( AB$2+(('coded NOLH for 23-29 factors'!AB15-1)*(AB$3-AB$2)/256), AB$4)","v":13},{"$f":"ROUND( AC$2+(('coded NOLH for 23-29 factors'!AC15-1)*(AC$3-AC$2)/256), AC$4)","v":27},{"$f":"ROUND( AD$2+(('coded NOLH for 23-29 factors'!AD15-1)*(AD$3-AD$2)/256), AD$4)","v":109}]
[null,{"$f":"ROUND( B$2+(('coded NOLH for 23-29 factors'!B16-1)*(B$3-B$2)/256), B$4)","v":19},{"$f":"ROUND( C$2+(('coded NOLH for 23-29 factors'!C16-1)*(C$3-C$2)/256), C$4)","v":36},{"$f":"ROUND( D$2+(('coded NOLH for 23-29 factors'!D16-1)*(D$3-D$2)/256), D$4)","v":20},{"$f":"ROUND( E$2+(('coded NOLH for 23-29 factors'!E16-1)*(E$3-E$2)/256), E$4)","v":188},{"$f":"ROUND( F$2+(('coded NOLH for 23-29 factors'!F16-1)*(F$3-F$2)/256), F$4)","v":95},{"$f":"ROUND( G$2+(('coded NOLH for 23-29 factors'!G16-1)*(G$3-G$2)/256), G$4)","v":172},{"$f":"ROUND( H$2+(('coded NOLH for 23-29 factors'!H16-1)*(H$3-H$2)/256), H$4)","v":198},{"$f":"ROUND( I$2+(('coded NOLH for 23-29 factors'!I16-1)*(I$3-I$2)/256), I$4)","v":160},{"$f":"ROUND( J$2+(('coded NOLH for 23-29 factors'!J16-1)*(J$3-J$2)/256), J$4)","v":127},{"$f":"ROUND( K$2+(('coded NOLH for 23-29 factors'!K16-1)*(K$3-K$2)/256), K$4)","v":254},{"$f":"ROUND( L$2+(('coded NOLH for 23-29 factors'!L16-1)*(L$3-L$2)/256), L$4)","v":113},{"$f":"ROUND( M$2+(('coded NOLH for 23-29 factors'!M16-1)*(M$3-M$2)/256), M$4)","v":127},{"$f":"ROUND( N$2+(('coded NOLH for 23-29 factors'!N16-1)*(N$3-N$2)/256), N$4)","v":252},{"$f":"ROUND( O$2+(('coded NOLH for 23-29 factors'!O16-1)*(O$3-O$2)/256), O$4)","v":164},{"$f":"ROUND( P$2+(('coded NOLH for 23-29 factors'!P16-1)*(P$3-P$2)/256), P$4)","v":185},{"$f":"ROUND( Q$2+(('coded NOLH for 23-29 factors'!Q16-1)*(Q$3-Q$2)/256), Q$4)","v":112},{"$f":"ROUND( R$2+(('coded NOLH for 23-29 factors'!R16-1)*(R$3-R$2)/256), R$4)","v":154},{"$f":"ROUND( S$2+(('coded NOLH for 23-29 factors'!S16-1)*(S$3-S$2)/256), S$4)","v":206},{"$f":"ROUND( T$2+(('coded NOLH for 23-29 factors'!T16-1)*(T$3-T$2)/256), T$4)","v":215},{"$f":"ROUND( U$2+(('coded NOLH for 23-29 factors'!U16-1)*(U$3-U$2)/256), U$4)","v":158},{"$f":"ROUND( V$2+(('coded NOLH for 23-29 factors'!V16-1)*(V$3-V$2)/256), V$4)","v":68},{"$f":"ROUND( W$2+(('coded NOLH for 23-29 factors'!W16-1)*(W$3-W$2)/256), W$4)","v":81},{"$f":"ROUND( X$2+(('coded NOLH for 23-29 factors'!X16-1)*(X$3-X$2)/256), X$4)","v":73},{"$f":"ROUND( Y$2+(('coded NOLH for 23-29 factors'!Y16-1)*(Y$3-Y$2)/256), Y$4)","v":202},{"$f":"ROUND( Z$2+(('coded NOLH for 23-29 factors'!Z16-1)*(Z$3-Z$2)/256), Z$4)","v":191},{"$f":"ROUND( AA$2+(('coded NOLH for 23-29 factors'!AA16-1)*(AA$3-AA$2)/256), AA$4)","v":169},{"$f":"ROUND( AB$2+(('coded NOLH for 23-29 factors'!AB16-1)*(AB$3-AB$2)/256), AB$4)","v":60},{"$f":"ROUND( AC$2+(('coded NOLH for 23-29 factors'!AC16-1)*(AC$3-AC$2)/256), AC$4)","v":2},{"$f":"ROUND( AD$2+(('coded NOLH for 23-29 factors'!AD16-1)*(AD$3-AD$2)/256), AD$4)","v":115}]
[null,{"$f":"ROUND( B$2+(('coded NOLH for 23-29 factors'!B17-1)*(B$3-B$2)/256), B$4)","v":70},{"$f":"ROUND( C$2+(('coded NOLH for 23-29 factors'!C17-1)*(C$3-C$2)/256), C$4)","v":247},{"$f":"ROUND( D$2+(('coded NOLH for 23-29 factors'!D17-1)*(D$3-D$2)/256), D$4)","v":162},{"$f":"ROUND( E$2+(('coded NOLH for 23-29 factors'!E17-1)*(E$3-E$2)/256), E$4)","v":19},{"$f":"ROUND( F$2+(('coded NOLH for 23-29 factors'!F17-1)*(F$3-F$2)/256), F$4)","v":105},{"$f":"ROUND( G$2+(('coded NOLH for 23-29 factors'!G17-1)*(G$3-G$2)/256), G$4)","v":205},{"$f":"ROUND( H$2+(('coded NOLH for 23-29 factors'!H17-1)*(H$3-H$2)/256), H$4)","v":166},{"$f":"ROUND( I$2+(('coded NOLH for 23-29 factors'!I17-1)*(I$3-I$2)/256), I$4)","v":171},{"$f":"ROUND( J$2+(('coded NOLH for 23-29 factors'!J17-1)*(J$3-J$2)/256), J$4)","v":96},{"$f":"ROUND( K$2+(('coded NOLH for 23-29 factors'!K17-1)*(K$3-K$2)/256), K$4)","v":241},{"$f":"ROUND( L$2+(('coded NOLH for 23-29 factors'!L17-1)*(L$3-L$2)/256), L$4)","v":197},{"$f":"ROUND( M$2+(('coded NOLH for 23-29 factors'!M17-1)*(M$3-M$2)/256), M$4)","v":54},{"$f":"ROUND( N$2+(('coded NOLH for 23-29 factors'!N17-1)*(N$3-N$2)/256), N$4)","v":12},{"$f":"ROUND( O$2+(('coded NOLH for 23-29 factors'!O17-1)*(O$3-O$2)/256), O$4)","v":122},{"$f":"ROUND( P$2+(('coded NOLH for 23-29 factors'!P17-1)*(P$3-P$2)/256), P$4)","v":209},{"$f":"ROUND( Q$2+(('coded NOLH for 23-29 factors'!Q17-1)*(Q$3-Q$2)/256), Q$4)","v":172},{"$f":"ROUND( R$2+(('coded NOLH for 23-29 factors'!R17-1)*(R$3-R$2)/256), R$4)","v":67},{"$f":"ROUND( S$2+(('coded NOLH for 23-29 factors'!S17-1)*(S$3-S$2)/256), S$4)","v":21},{"$f":"ROUND( T$2+(('coded NOLH for 23-29 factors'!T17-1)*(T$3-T$2)/256), T$4)","v":53},{"$f":"ROUND( U$2+(('coded NOLH for 23-29 factors'!U17-1)*(U$3-U$2)/256), U$4)","v":113},{"$f":"ROUND( V$2+(('coded NOLH for 23-29 factors'!V17-1)*(V$3-V$2)/256), V$4)","v":181},{"$f":"ROUND( W$2+(('coded NOLH for 23-29 factors'!W17-1)*(W$3-W$2)/256), W$4)","v":216},{"$f":"ROUND( X$2+(('coded NOLH for 23-29 factors'!X17-1)*(X$3-X$2)/256), X$4)","v":170},{"$f":"ROUND( Y$2+(('coded NOLH for 23-29 factors'!Y17-1)*(Y$3-Y$2)/256), Y$4)","v":175},{"$f":"ROUND( Z$2+(('coded NOLH for 23-29 factors'!Z17-1)*(Z$3-Z$2)/256), Z$4)","v":226},{"$f":"ROUND( AA$2+(('coded NOLH for 23-29 factors'!AA17-1)*(AA$3-AA$2)/256), AA$4)","v":207},{"$f":"ROUND( AB$2+(('coded NOLH for 23-29 factors'!AB17-1)*(AB$3-AB$2)/256), AB$4)","v":41},{"$f":"ROUND( AC$2+(('coded NOLH for 23-29 factors'!AC17-1)*(AC$3-AC$2)/256), AC$4)","v":10},{"$f":"ROUND( AD$2+(('coded NOLH for 23-29 factors'!AD17-1)*(AD$3-AD$2)/256), AD$4)","v":84}]
[null,{"$f":"ROUND( B$2+(('coded NOLH for 23-29 factors'!B18-1)*(B$3-B$2)/256), B$4)","v":11},{"$f":"ROUND( C$2+(('coded NOLH for 23-29 factors'!C18-1)*(C$3-C$2)/256), C$4)","v":70},{"$f":"ROUND( D$2+(('coded NOLH for 23-29 factors'!D18-1)*(D$3-D$2)/256), D$4)","v":185},{"$f":"ROUND( E$2+(('coded NOLH for 23-29 factors'!E18-1)*(E$3-E$2)/256), E$4)","v":36},{"$f":"ROUND( F$2+(('coded NOLH for 23-29 factors'!F18-1)*(F$3-F$2)/256), F$4)","v":42},{"$f":"ROUND( G$2+(('coded NOLH for 23-29 factors'!G18-1)*(G$3-G$2)/256), G$4)","v":206},{"$f":"ROUND( H$2+(('coded NOLH for 23-29 factors'!H18-1)*(H$3-H$2)/256), H$4)","v":254},{"$f":"ROUND( I$2+(('coded NOLH for 23-29 factors'!I18-1)*(I$3-I$2)/256), I$4)","v":132},{"$f":"ROUND( J$2+(('coded NOLH for 23-29 factors'!J18-1)*(J$3-J$2)/256), J$4)","v":184},{"$f":"ROUND( K$2+(('coded NOLH for 23-29 factors'!K18-1)*(K$3-K$2)/256), K$4)","v":47},{"$f":"ROUND( L$2+(('coded NOLH for 23-29 factors'!L18-1)*(L$3-L$2)/256), L$4)","v":91},{"$f":"ROUND( M$2+(('coded NOLH for 23-29 factors'!M18-1)*(M$3-M$2)/256), M$4)","v":200},{"$f":"ROUND( N$2+(('coded NOLH for 23-29 factors'!N18-1)*(N$3-N$2)/256), N$4)","v":173},{"$f":"ROUND( O$2+(('coded NOLH for 23-29 factors'!O18-1)*(O$3-O$2)/256), O$4)","v":170},{"$f":"ROUND( P$2+(('coded NOLH for 23-29 factors'!P18-1)*(P$3-P$2)/256), P$4)","v":155},{"$f":"ROUND( Q$2+(('coded NOLH for 23-29 factors'!Q18-1)*(Q$3-Q$2)/256), Q$4)","v":223},{"$f":"ROUND( R$2+(('coded NOLH for 23-29 factors'!R18-1)*(R$3-R$2)/256), R$4)","v":109},{"$f":"ROUND( S$2+(('coded NOLH for 23-29 factors'!S18-1)*(S$3-S$2)/256), S$4)","v":89},{"$f":"ROUND( T$2+(('coded NOLH for 23-29 factors'!T18-1)*(T$3-T$2)/256), T$4)","v":80},{"$f":"ROUND( U$2+(('coded NOLH for 23-29 factors'!U18-1)*(U$3-U$2)/256), U$4)","v":114},{"$f":"ROUND( V$2+(('coded NOLH for 23-29 factors'!V18-1)*(V$3-V$2)/256), V$4)","v":133},{"$f":"ROUND( W$2+(('coded NOLH for 23-29 factors'!W18-1)*(W$3-W$2)/256), W$4)","v":249},{"$f":"ROUND( X$2+(('coded NOLH for 23-29 factors'!X18-1)*(X$3-X$2)/256), X$4)","v":158},{"$f":"ROUND( Y$2+(('coded NOLH for 23-29 factors'!Y18-1)*(Y$3-Y$2)/256), Y$4)","v":222},{"$f":"ROUND( Z$2+(('coded NOLH for 23-29 factors'!Z18-1)*(Z$3-Z$2)/256), Z$4)","v":243},{"$f":"ROUND( AA$2+(('coded NOLH for 23-29 factors'!AA18-1)*(AA$3-AA$2)/256), AA$4)","v":245},{"$f":"ROUND( AB$2+(('coded NOLH for 23-29 factors'!AB18-1)*(AB$3-AB$2)/256), AB$4)","v":14},{"$f":"ROUND( AC$2+(('coded NOLH for 23-29 factors'!AC18-1)*(AC$3-AC$2)/256), AC$4)","v":89},{"$f":"ROUND( AD$2+(('coded NOLH for 23-29 factors'!AD18-1)*(AD$3-AD$2)/256), AD$4)","v":30}]
[null,{"$f":"ROUND( B$2+(('coded NOLH for 23-29 factors'!B19-1)*(B$3-B$2)/256), B$4)","v":73},{"$f":"ROUND( C$2+(('coded NOLH for 23-29 factors'!C19-1)*(C$3-C$2)/256), C$4)","v":162},{"$f":"ROUND( D$2+(('coded NOLH for 23-29 factors'!D19-1)*(D$3-D$2)/256), D$4)","v":11},{"$f":"ROUND( E$2+(('coded NOLH for 23-29 factors'!E19-1)*(E$3-E$2)/256), E$4)","v":125},{"$f":"ROUND( F$2+(('coded NOLH for 23-29 factors'!F19-1)*(F$3-F$2)/256), F$4)","v":31},{"$f":"ROUND( G$2+(('coded NOLH for 23-29 factors'!G19-1)*(G$3-G$2)/256), G$4)","v":136},{"$f":"ROUND( H$2+(('coded NOLH for 23-29 factors'!H19-1)*(H$3-H$2)/256), H$4)","v":196},{"$f":"ROUND( I$2+(('coded NOLH for 23-29 factors'!I19-1)*(I$3-I$2)/256), I$4)","v":145},{"$f":"ROUND( J$2+(('coded NOLH for 23-29 factors'!J19-1)*(J$3-J$2)/256), J$4)","v":190},{"$f":"ROUND( K$2+(('coded NOLH for 23-29 factors'!K19-1)*(K$3-K$2)/256), K$4)","v":250},{"$f":"ROUND( L$2+(('coded NOLH for 23-29 factors'!L19-1)*(L$3-L$2)/256), L$4)","v":146},{"$f":"ROUND( M$2+(('coded NOLH for 23-29 factors'!M19-1)*(M$3-M$2)/256), M$4)","v":69},{"$f":"ROUND( N$2+(('coded NOLH for 23-29 factors'!N19-1)*(N$3-N$2)/256), N$4)","v":13},{"$f":"ROUND( O$2+(('coded NOLH for 23-29 factors'!O19-1)*(O$3-O$2)/256), O$4)","v":39},{"$f":"ROUND( P$2+(('coded NOLH for 23-29 factors'!P19-1)*(P$3-P$2)/256), P$4)","v":29},{"$f":"ROUND( Q$2+(('coded NOLH for 23-29 factors'!Q19-1)*(Q$3-Q$2)/256), Q$4)","v":79},{"$f":"ROUND( R$2+(('coded NOLH for 23-29 factors'!R19-1)*(R$3-R$2)/256), R$4)","v":216},{"$f":"ROUND( S$2+(('coded NOLH for 23-29 factors'!S19-1)*(S$3-S$2)/256), S$4)","v":246},{"$f":"ROUND( T$2+(('coded NOLH for 23-29 factors'!T19-1)*(T$3-T$2)/256), T$4)","v":140},{"$f":"ROUND( U$2+(('coded NOLH for 23-29 factors'!U19-1)*(U$3-U$2)/256), U$4)","v":32},{"$f":"ROUND( V$2+(('coded NOLH for 23-29 factors'!V19-1)*(V$3-V$2)/256), V$4)","v":216},{"$f":"ROUND( W$2+(('coded NOLH for 23-29 factors'!W19-1)*(W$3-W$2)/256), W$4)","v":140},{"$f":"ROUND( X$2+(('coded NOLH for 23-29 factors'!X19-1)*(X$3-X$2)/256), X$4)","v":146},{"$f":"ROUND( Y$2+(('coded NOLH for 23-29 factors'!Y19-1)*(Y$3-Y$2)/256), Y$4)","v":116},{"$f":"ROUND( Z$2+(('coded NOLH for 23-29 factors'!Z19-1)*(Z$3-Z$2)/256), Z$4)","v":233},{"$f":"ROUND( AA$2+(('coded NOLH for 23-29 factors'!AA19-1)*(AA$3-AA$2)/256), AA$4)","v":199},{"$f":"ROUND( AB$2+(('coded NOLH for 23-29 factors'!AB19-1)*(AB$3-AB$2)/256), AB$4)","v":33},{"$f":"ROUND( AC$2+(('coded NOLH for 23-29 factors'!AC19-1)*(AC$3-AC$2)/256), AC$4)","v":48},{"$f":"ROUND( AD$2+(('coded NOLH for 23-29 factors'!AD19-1)*(AD$3-AD$2)/256), AD$4)","v":9}]
[null,{"$f":"ROUND( B$2+(('coded NOLH for 23-29 factors'!B20-1)*(B$3-B$2)/256), B$4)","v":96},{"$f":"ROUND( C$2+(('coded NOLH for 23-29 factors'!C20-1)*(C$3-C$2)/256), C$4)","v":73},{"$f":"ROUND( D$2+(('coded NOLH for 23-29 factors'!D20-1)*(D$3-D$2)/256), D$4)","v":70},{"$f":"ROUND( E$2+(('coded NOLH for 23-29 factors'!E20-1)*(E$3-E$2)/256), E$4)","v":20},{"$f":"ROUND( F$2+(('coded NOLH for 23-29 factors'!F20-1)*(F$3-F$2)/256), F$4)","v":103},{"$f":"ROUND( G$2+(('coded NOLH for 23-29 factors'!G20-1)*(G$3-G$2)/256), G$4)","v":186},{"$f":"ROUND( H$2+(('coded NOLH for 23-29 factors'!H20-1)*(H$3-H$2)/256), H$4)","v":241},{"$f":"ROUND( I$2+(('coded NOLH for 23-29 factors'!I20-1)*(I$3-I$2)/256), I$4)","v":220},{"$f":"ROUND( J$2+(('coded NOLH for 23-29 factors'!J20-1)*(J$3-J$2)/256), J$4)","v":28},{"$f":"ROUND( K$2+(('coded NOLH for 23-29 factors'!K20-1)*(K$3-K$2)/256), K$4)","v":130},{"$f":"ROUND( L$2+(('coded NOLH for 23-29 factors'!L20-1)*(L$3-L$2)/256), L$4)","v":4},{"$f":"ROUND( M$2+(('coded NOLH for 23-29 factors'!M20-1)*(M$3-M$2)/256), M$4)","v":136},{"$f":"ROUND( N$2+(('coded NOLH for 23-29 factors'!N20-1)*(N$3-N$2)/256), N$4)","v":199},{"$f":"ROUND( O$2+(('coded NOLH for 23-29 factors'!O20-1)*(O$3-O$2)/256), O$4)","v":149},{"$f":"ROUND( P$2+(('coded NOLH for 23-29 factors'!P20-1)*(P$3-P$2)/256), P$4)","v":46},{"$f":"ROUND( Q$2+(('coded NOLH for 23-29 factors'!Q20-1)*(Q$3-Q$2)/256), Q$4)","v":95},{"$f":"ROUND( R$2+(('coded NOLH for 23-29 factors'!R20-1)*(R$3-R$2)/256), R$4)","v":182},{"$f":"ROUND( S$2+(('coded NOLH for 23-29 factors'!S20-1)*(S$3-S$2)/256), S$4)","v":188},{"$f":"ROUND( T$2+(('coded NOLH for 23-29 factors'!T20-1)*(T$3-T$2)/256), T$4)","v":144},{"$f":"ROUND( U$2+(('coded NOLH for 23-29 factors'!U20-1)*(U$3-U$2)/256), U$4)","v":122},{"$f":"ROUND( V$2+(('coded NOLH for 23-29 factors'!V20-1)*(V$3-V$2)/256), V$4)","v":202},{"$f":"ROUND( W$2+(('coded NOLH for 23-29 factors'!W20-1)*(W$3-W$2)/256), W$4)","v":168},{"$f":"ROUND( X$2+(('coded NOLH for 23-29 factors'!X20-1)*(X$3-X$2)/256), X$4)","v":234},{"$f":"ROUND( Y$2+(('coded NOLH for 23-29 factors'!Y20-1)*(Y$3-Y$2)/256), Y$4)","v":212},{"$f":"ROUND( Z$2+(('coded NOLH for 23-29 factors'!Z20-1)*(Z$3-Z$2)/256), Z$4)","v":257},{"$f":"ROUND( AA$2+(('coded NOLH for 23-29 factors'!AA20-1)*(AA$3-AA$2)/256), AA$4)","v":251},{"$f":"ROUND( AB$2+(('coded NOLH for 23-29 factors'!AB20-1)*(AB$3-AB$2)/256), AB$4)","v":92},{"$f":"ROUND( AC$2+(('coded NOLH for 23-29 factors'!AC20-1)*(AC$3-AC$2)/256), AC$4)","v":105},{"$f":"ROUND( AD$2+(('coded NOLH for 23-29 factors'!AD20-1)*(AD$3-AD$2)/256), AD$4)","v":113}]
[null,{"$f":"ROUND( B$2+(('coded NOLH for 23-29 factors'!B21-1)*(B$3-B$2)/256), B$4)","v":72},{"$f":"ROUND( C$2+(('coded NOLH for 23-29 factors'!C21-1)*(C$3-C$2)/256), C$4)","v":136},{"$f":"ROUND( D$2+(('coded NOLH for 23-29 factors'!D21-1)*(D$3-D$2)/256), D$4)","v":205},{"$f":"ROUND( E$2+(('coded NOLH for 23-29 factors'!E21-1)*(E$3-E$2)/256), E$4)","v":202},{"$f":"ROUND( F$2+(('coded NOLH for 23-29 factors'!F21-1)*(F$3-F$2)/256), F$4)","v":231},{"$f":"ROUND( G$2+(('coded NOLH for 23-29 factors'!G21-1)*(G$3-G$2)/256), G$4)","v":96},{"$f":"ROUND( H$2+(('coded NOLH for 23-29 factors'!H21-1)*(H$3-H$2)/256), H$4)","v":165},{"$f":"ROUND( I$2+(('coded NOLH for 23-29 factors'!I21-1)*(I$3-I$2)/256), I$4)","v":170},{"$f":"ROUND( J$2+(('coded NOLH for 23-29 factors'!J21-1)*(J$3-J$2)/256), J$4)","v":41},{"$f":"ROUND( K$2+(('coded NOLH for 23-29 factors'!K21-1)*(K$3-K$2)/256), K$4)","v":95},{"$f":"ROUND( L$2+(('coded NOLH for 23-29 factors'!L21-1)*(L$3-L$2)/256), L$4)","v":131},{"$f":"ROUND( M$2+(('coded NOLH for 23-29 factors'!M21-1)*(M$3-M$2)/256), M$4)","v":168},{"$f":"ROUND( N$2+(('coded NOLH for 23-29 factors'!N21-1)*(N$3-N$2)/256), N$4)","v":32},{"$f":"ROUND( O$2+(('coded NOLH for 23-29 factors'!O21-1)*(O$3-O$2)/256), O$4)","v":85},{"$f":"ROUND( P$2+(('coded NOLH for 23-29 factors'!P21-1)*(P$3-P$2)/256), P$4)","v":86},{"$f":"ROUND( Q$2+(('coded NOLH for 23-29 factors'!Q21-1)*(Q$3-Q$2)/256), Q$4)","v":87},{"$f":"ROUND( R$2+(('coded NOLH for 23-29 factors'!R21-1)*(R$3-R$2)/256), R$4)","v":213},{"$f":"ROUND( S$2+(('coded NOLH for 23-29 factors'!S21-1)*(S$3-S$2)/256), S$4)","v":40},{"$f":"ROUND( T$2+(('coded NOLH for 23-29 factors'!T21-1)*(T$3-T$2)/256), T$4)","v":29},{"$f":"ROUND( U$2+(('coded NOLH for 23-29 factors'!U21-1)*(U$3-U$2)/256), U$4)","v":82},{"$f":"ROUND( V$2+(('coded NOLH for 23-29 factors'!V21-1)*(V$3-V$2)/256), V$4)","v":220},{"$f":"ROUND( W$2+(('coded NOLH for 23-29 factors'!W21-1)*(W$3-W$2)/256), W$4)","v":32},{"$f":"ROUND( X$2+(('coded NOLH for 23-29 factors'!X21-1)*(X$3-X$2)/256), X$4)","v":105},{"$f":"ROUND( Y$2+(('coded NOLH for 23-29 factors'!Y21-1)*(Y$3-Y$2)/256), Y$4)","v":165},{"$f":"ROUND( Z$2+(('coded NOLH for 23-29 factors'!Z21-1)*(Z$3-Z$2)/256), Z$4)","v":144},{"$f":"ROUND( AA$2+(('coded NOLH for 23-29 factors'!AA21-1)*(AA$3-AA$2)/256), AA$4)","v":29},{"$f":"ROUND( AB$2+(('coded NOLH for 23-29 factors'!AB21-1)*(AB$3-AB$2)/256), AB$4)","v":230},{"$f":"ROUND( AC$2+(('coded NOLH for 23-29 factors'!AC21-1)*(AC$3-AC$2)/256), AC$4)","v":249},{"$f":"ROUND( AD$2+(('coded NOLH for 23-29 factors'!AD21-1)*(AD$3-AD$2)/256), AD$4)","v":131}]
[null,{"$f":"ROUND( B$2+(('coded NOLH for 23-29 factors'!B22-1)*(B$3-B$2)/256), B$4)","v":122},{"$f":"ROUND( C$2+(('coded NOLH for 23-29 factors'!C22-1)*(C$3-C$2)/256), C$4)","v":72},{"$f":"ROUND( D$2+(('coded NOLH for 23-29 factors'!D22-1)*(D$3-D$2)/256), D$4)","v":206},{"$f":"ROUND( E$2+(('coded NOLH for 23-29 factors'!E22-1)*(E$3-E$2)/256), E$4)","v":157},{"$f":"ROUND( F$2+(('coded NOLH for 23-29 factors'!F22-1)*(F$3-F$2)/256), F$4)","v":137},{"$f":"ROUND( G$2+(('coded NOLH for 23-29 factors'!G22-1)*(G$3-G$2)/256), G$4)","v":73},{"$f":"ROUND( H$2+(('coded NOLH for 23-29 factors'!H22-1)*(H$3-H$2)/256), H$4)","v":219},{"$f":"ROUND( I$2+(('coded NOLH for 23-29 factors'!I22-1)*(I$3-I$2)/256), I$4)","v":174},{"$f":"ROUND( J$2+(('coded NOLH for 23-29 factors'!J22-1)*(J$3-J$2)/256), J$4)","v":199},{"$f":"ROUND( K$2+(('coded NOLH for 23-29 factors'!K22-1)*(K$3-K$2)/256), K$4)","v":202},{"$f":"ROUND( L$2+(('coded NOLH for 23-29 factors'!L22-1)*(L$3-L$2)/256), L$4)","v":233},{"$f":"ROUND( M$2+(('coded NOLH for 23-29 factors'!M22-1)*(M$3-M$2)/256), M$4)","v":63},{"$f":"ROUND( N$2+(('coded NOLH for 23-29 factors'!N22-1)*(N$3-N$2)/256), N$4)","v":157},{"$f":"ROUND( O$2+(('coded NOLH for 23-29 factors'!O22-1)*(O$3-O$2)/256), O$4)","v":162},{"$f":"ROUND( P$2+(('coded NOLH for 23-29 factors'!P22-1)*(P$3-P$2)/256), P$4)","v":123},{"$f":"ROUND( Q$2+(('coded NOLH for 23-29 factors'!Q22-1)*(Q$3-Q$2)/256), Q$4)","v":45},{"$f":"ROUND( R$2+(('coded NOLH for 23-29 factors'!R22-1)*(R$3-R$2)/256), R$4)","v":228},{"$f":"ROUND( S$2+(('coded NOLH for 23-29 factors'!S22-1)*(S$3-S$2)/256), S$4)","v":48},{"$f":"ROUND( T$2+(('coded NOLH for 23-29 factors'!T22-1)*(T$3-T$2)/256), T$4)","v":40},{"$f":"ROUND( U$2+(('coded NOLH for 23-29 factors'!U22-1)*(U$3-U$2)/256), U$4)","v":125},{"$f":"ROUND( V$2+(('coded NOLH for 23-29 factors'!V22-1)*(V$3-V$2)/256), V$4)","v":153},{"$f":"ROUND( W$2+(('coded NOLH for 23-29 factors'!W22-1)*(W$3-W$2)/256), W$4)","v":78},{"$f":"ROUND( X$2+(('coded NOLH for 23-29 factors'!X22-1)*(X$3-X$2)/256), X$4)","v":81},{"$f":"ROUND( Y$2+(('coded NOLH for 23-29 factors'!Y22-1)*(Y$3-Y$2)/256), Y$4)","v":247},{"$f":"ROUND( Z$2+(('coded NOLH for 23-29 factors'!Z22-1)*(Z$3-Z$2)/256), Z$4)","v":81},{"$f":"ROUND( AA$2+(('coded NOLH for 23-29 factors'!AA22-1)*(AA$3-AA$2)/256), AA$4)","v":6},{"$f":"ROUND( AB$2+(('coded NOLH for 23-29 factors'!AB22-1)*(AB$3-AB$2)/256), AB$4)","v":176},{"$f":"ROUND( AC$2+(('coded NOLH for 23-29 factors'!AC22-1)*(AC$3-AC$2)/256), AC$4)","v":158},{"$f":"ROUND( AD$2+(('coded NOLH for 23-29 factors'!AD22-1)*(AD$3-AD$2)/256), AD$4)","v":154}]
[null,{"$f":"ROUND( B$2+(('coded NOLH for 23-29 factors'!B23-1)*(B$3-B$2)/256), B$4)","v":52},{"$f":"ROUND( C$2+(('coded NOLH for 23-29 factors'!C23-1)*(C$3-C$2)/256), C$4)","v":205},{"$f":"ROUND( D$2+(('coded NOLH for 23-29 factors'!D23-1)*(D$3-D$2)/256), D$4)","v":122},{"$f":"ROUND( E$2+(('coded NOLH for 23-29 factors'!E23-1)*(E$3-E$2)/256), E$4)","v":130},{"$f":"ROUND( F$2+(('coded NOLH for 23-29 factors'!F23-1)*(F$3-F$2)/256), F$4)","v":209},{"$f":"ROUND( G$2+(('coded NOLH for 23-29 factors'!G23-1)*(G$3-G$2)/256), G$4)","v":11},{"$f":"ROUND( H$2+(('coded NOLH for 23-29 factors'!H23-1)*(H$3-H$2)/256), H$4)","v":224},{"$f":"ROUND( I$2+(('coded NOLH for 23-29 factors'!I23-1)*(I$3-I$2)/256), I$4)","v":203},{"$f":"ROUND( J$2+(('coded NOLH for 23-29 factors'!J23-1)*(J$3-J$2)/256), J$4)","v":174},{"$f":"ROUND( K$2+(('coded NOLH for 23-29 factors'!K23-1)*(K$3-K$2)/256), K$4)","v":60},{"$f":"ROUND( L$2+(('coded NOLH for 23-29 factors'!L23-1)*(L$3-L$2)/256), L$4)","v":63},{"$f":"ROUND( M$2+(('coded NOLH for 23-29 factors'!M23-1)*(M$3-M$2)/256), M$4)","v":186},{"$f":"ROUND( N$2+(('coded NOLH for 23-29 factors'!N23-1)*(N$3-N$2)/256), N$4)","v":41},{"$f":"ROUND( O$2+(('coded NOLH for 23-29 factors'!O23-1)*(O$3-O$2)/256), O$4)","v":26},{"$f":"ROUND( P$2+(('coded NOLH for 23-29 factors'!P23-1)*(P$3-P$2)/256), P$4)","v":178},{"$f":"ROUND( Q$2+(('coded NOLH for 23-29 factors'!Q23-1)*(Q$3-Q$2)/256), Q$4)","v":136},{"$f":"ROUND( R$2+(('coded NOLH for 23-29 factors'!R23-1)*(R$3-R$2)/256), R$4)","v":100},{"$f":"ROUND( S$2+(('coded NOLH for 23-29 factors'!S23-1)*(S$3-S$2)/256), S$4)","v":197},{"$f":"ROUND( T$2+(('coded NOLH for 23-29 factors'!T23-1)*(T$3-T$2)/256), T$4)","v":190},{"$f":"ROUND( U$2+(('coded NOLH for 23-29 factors'!U23-1)*(U$3-U$2)/256), U$4)","v":4},{"$f":"ROUND( V$2+(('coded NOLH for 23-29 factors'!V23-1)*(V$3-V$2)/256), V$4)","v":243},{"$f":"ROUND( W$2+(('coded NOLH for 23-29 factors'!W23-1)*(W$3-W$2)/256), W$4)","v":27},{"$f":"ROUND( X$2+(('coded NOLH for 23-29 factors'!X23-1)*(X$3-X$2)/256), X$4)","v":47},{"$f":"ROUND( Y$2+(('coded NOLH for 23-29 factors'!Y23-1)*(Y$3-Y$2)/256), Y$4)","v":241},{"$f":"ROUND( Z$2+(('coded NOLH for 23-29 factors'!Z23-1)*(Z$3-Z$2)/256), Z$4)","v":56},{"$f":"ROUND( AA$2+(('coded NOLH for 23-29 factors'!AA23-1)*(AA$3-AA$2)/256), AA$4)","v":122},{"$f":"ROUND( AB$2+(('coded NOLH for 23-29 factors'!AB23-1)*(AB$3-AB$2)/256), AB$4)","v":241},{"$f":"ROUND( AC$2+(('coded NOLH for 23-29 factors'!AC23-1)*(AC$3-AC$2)/256), AC$4)","v":145},{"$f":"ROUND( AD$2+(('coded NOLH for 23-29 factors'!AD23-1)*(AD$3-AD$2)/256), AD$4)","v":31}]
[null,{"$f":"ROUND( B$2+(('coded NOLH for 23-29 factors'!B24-1)*(B$3-B$2)/256), B$4)","v":53},{"$f":"ROUND( C$2+(('coded NOLH for 23-29 factors'!C24-1)*(C$3-C$2)/256), C$4)","v":52},{"$f":"ROUND( D$2+(('coded NOLH for 23-29 factors'!D24-1)*(D$3-D$2)/256), D$4)","v":72},{"$f":"ROUND( E$2+(('coded NOLH for 23-29 factors'!E24-1)*(E$3-E$2)/256), E$4)","v":172},{"$f":"ROUND( F$2+(('coded NOLH for 23-29 factors'!F24-1)*(F$3-F$2)/256), F$4)","v":192},{"$f":"ROUND( G$2+(('coded NOLH for 23-29 factors'!G24-1)*(G$3-G$2)/256), G$4)","v":70},{"$f":"ROUND( H$2+(('coded NOLH for 23-29 factors'!H24-1)*(H$3-H$2)/256), H$4)","v":200},{"$f":"ROUND( I$2+(('coded NOLH for 23-29 factors'!I24-1)*(I$3-I$2)/256), I$4)","v":236},{"$f":"ROUND( J$2+(('coded NOLH for 23-29 factors'!J24-1)*(J$3-J$2)/256), J$4)","v":120},{"$f":"ROUND( K$2+(('coded NOLH for 23-29 factors'!K24-1)*(K$3-K$2)/256), K$4)","v":112},{"$f":"ROUND( L$2+(('coded NOLH for 23-29 factors'!L24-1)*(L$3-L$2)/256), L$4)","v":207},{"$f":"ROUND( M$2+(('coded NOLH for 23-29 factors'!M24-1)*(M$3-M$2)/256), M$4)","v":6},{"$f":"ROUND( N$2+(('coded NOLH for 23-29 factors'!N24-1)*(N$3-N$2)/256), N$4)","v":220},{"$f":"ROUND( O$2+(('coded NOLH for 23-29 factors'!O24-1)*(O$3-O$2)/256), O$4)","v":208},{"$f":"ROUND( P$2+(('coded NOLH for 23-29 factors'!P24-1)*(P$3-P$2)/256), P$4)","v":199},{"$f":"ROUND( Q$2+(('coded NOLH for 23-29 factors'!Q24-1)*(Q$3-Q$2)/256), Q$4)","v":218},{"$f":"ROUND( R$2+(('coded NOLH for 23-29 factors'!R24-1)*(R$3-R$2)/256), R$4)","v":74},{"$f":"ROUND( S$2+(('coded NOLH for 23-29 factors'!S24-1)*(S$3-S$2)/256), S$4)","v":183},{"$f":"ROUND( T$2+(('coded NOLH for 23-29 factors'!T24-1)*(T$3-T$2)/256), T$4)","v":146},{"$f":"ROUND( U$2+(('coded NOLH for 23-29 factors'!U24-1)*(U$3-U$2)/256), U$4)","v":49},{"$f":"ROUND( V$2+(('coded NOLH for 23-29 factors'!V24-1)*(V$3-V$2)/256), V$4)","v":247},{"$f":"ROUND( W$2+(('coded NOLH for 23-29 factors'!W24-1)*(W$3-W$2)/256), W$4)","v":28},{"$f":"ROUND( X$2+(('coded NOLH for 23-29 factors'!X24-1)*(X$3-X$2)/256), X$4)","v":8},{"$f":"ROUND( Y$2+(('coded NOLH for 23-29 factors'!Y24-1)*(Y$3-Y$2)/256), Y$4)","v":171},{"$f":"ROUND( Z$2+(('coded NOLH for 23-29 factors'!Z24-1)*(Z$3-Z$2)/256), Z$4)","v":34},{"$f":"ROUND( AA$2+(('coded NOLH for 23-29 factors'!AA24-1)*(AA$3-AA$2)/256), AA$4)","v":67},{"$f":"ROUND( AB$2+(('coded NOLH for 23-29 factors'!AB24-1)*(AB$3-AB$2)/256), AB$4)","v":178},{"$f":"ROUND( AC$2+(('coded NOLH for 23-29 factors'!AC24-1)*(AC$3-AC$2)/256), AC$4)","v":172},{"$f":"ROUND( AD$2+(('coded NOLH for 23-29 factors'!AD24-1)*(AD$3-AD$2)/256), AD$4)","v":117}]
[null,{"$f":"ROUND( B$2+(('coded NOLH for 23-29 factors'!B25-1)*(B$3-B$2)/256), B$4)","v":86},{"$f":"ROUND( C$2+(('coded NOLH for 23-29 factors'!C25-1)*(C$3-C$2)/256), C$4)","v":130},{"$f":"ROUND( D$2+(('coded NOLH for 23-29 factors'!D25-1)*(D$3-D$2)/256), D$4)","v":202},{"$f":"ROUND( E$2+(('coded NOLH for 23-29 factors'!E25-1)*(E$3-E$2)/256), E$4)","v":53},{"$f":"ROUND( F$2+(('coded NOLH for 23-29 factors'!F25-1)*(F$3-F$2)/256), F$4)","v":204},{"$f":"ROUND( G$2+(('coded NOLH for 23-29 factors'!G25-1)*(G$3-G$2)/256), G$4)","v":19},{"$f":"ROUND( H$2+(('coded NOLH for 23-29 factors'!H25-1)*(H$3-H$2)/256), H$4)","v":253},{"$f":"ROUND( I$2+(('coded NOLH for 23-29 factors'!I25-1)*(I$3-I$2)/256), I$4)","v":248},{"$f":"ROUND( J$2+(('coded NOLH for 23-29 factors'!J25-1)*(J$3-J$2)/256), J$4)","v":97},{"$f":"ROUND( K$2+(('coded NOLH for 23-29 factors'!K25-1)*(K$3-K$2)/256), K$4)","v":191},{"$f":"ROUND( L$2+(('coded NOLH for 23-29 factors'!L25-1)*(L$3-L$2)/256), L$4)","v":8},{"$f":"ROUND( M$2+(('coded NOLH for 23-29 factors'!M25-1)*(M$3-M$2)/256), M$4)","v":205},{"$f":"ROUND( N$2+(('coded NOLH for 23-29 factors'!N25-1)*(N$3-N$2)/256), N$4)","v":29},{"$f":"ROUND( O$2+(('coded NOLH for 23-29 factors'!O25-1)*(O$3-O$2)/256), O$4)","v":44},{"$f":"ROUND( P$2+(('coded NOLH for 23-29 factors'!P25-1)*(P$3-P$2)/256), P$4)","v":238},{"$f":"ROUND( Q$2+(('coded NOLH for 23-29 factors'!Q25-1)*(Q$3-Q$2)/256), Q$4)","v":77},{"$f":"ROUND( R$2+(('coded NOLH for 23-29 factors'!R25-1)*(R$3-R$2)/256), R$4)","v":236},{"$f":"ROUND( S$2+(('coded NOLH for 23-29 factors'!S25-1)*(S$3-S$2)/256), S$4)","v":24},{"$f":"ROUND( T$2+(('coded NOLH for 23-29 factors'!T25-1)*(T$3-T$2)/256), T$4)","v":106},{"$f":"ROUND( U$2+(('coded NOLH for 23-29 factors'!U25-1)*(U$3-U$2)/256), U$4)","v":202},{"$f":"ROUND( V$2+(('coded NOLH for 23-29 factors'!V25-1)*(V$3-V$2)/256), V$4)","v":39},{"$f":"ROUND( W$2+(('coded NOLH for 23-29 factors'!W25-1)*(W$3-W$2)/256), W$4)","v":178},{"$f":"ROUND( X$2+(('coded NOLH for 23-29 factors'!X25-1)*(X$3-X$2)/256), X$4)","v":240},{"$f":"ROUND( Y$2+(('coded NOLH for 23-29 factors'!Y25-1)*(Y$3-Y$2)/256), Y$4)","v":162},{"$f":"ROUND( Z$2+(('coded NOLH for 23-29 factors'!Z25-1)*(Z$3-Z$2)/256), Z$4)","v":94},{"$f":"ROUND( AA$2+(('coded NOLH for 23-29 factors'!AA25-1)*(AA$3-AA$2)/256), AA$4)","v":116},{"$f":"ROUND( AB$2+(('coded NOLH for 23-29 factors'!AB25-1)*(AB$3-AB$2)/256), AB$4)","v":167},{"$f":"ROUND( AC$2+(('coded NOLH for 23-29 factors'!AC25-1)*(AC$3-AC$2)/256), AC$4)","v":186},{"$f":"ROUND( AD$2+(('coded NOLH for 23-29 factors'!AD25-1)*(AD$3-AD$2)/256), AD$4)","v":151}]
[null,{"$f":"ROUND( B$2+(('coded NOLH for 23-29 factors'!B26-1)*(B$3-B$2)/256), B$4)","v":128},{"$f":"ROUND( C$2+(('coded NOLH for 23-29 factors'!C26-1)*(C$3-C$2)/256), C$4)","v":86},{"$f":"ROUND( D$2+(('coded NOLH for 23-29 factors'!D26-1)*(D$3-D$2)/256), D$4)","v":157},{"$f":"ROUND( E$2+(('coded NOLH for 23-29 factors'!E26-1)*(E$3-E$2)/256), E$4)","v":52},{"$f":"ROUND( F$2+(('coded NOLH for 23-29 factors'!F26-1)*(F$3-F$2)/256), F$4)","v":233},{"$f":"ROUND( G$2+(('coded NOLH for 23-29 factors'!G26-1)*(G$3-G$2)/256), G$4)","v":36},{"$f":"ROUND( H$2+(('coded NOLH for 23-29 factors'!H26-1)*(H$3-H$2)/256), H$4)","v":223},{"$f":"ROUND( I$2+(('coded NOLH for 23-29 factors'!I26-1)*(I$3-I$2)/256), I$4)","v":212},{"$f":"ROUND( J$2+(('coded NOLH for 23-29 factors'!J26-1)*(J$3-J$2)/256), J$4)","v":197},{"$f":"ROUND( K$2+(('coded NOLH for 23-29 factors'!K26-1)*(K$3-K$2)/256), K$4)","v":31},{"$f":"ROUND( L$2+(('coded NOLH for 23-29 factors'!L26-1)*(L$3-L$2)/256), L$4)","v":191},{"$f":"ROUND( M$2+(('coded NOLH for 23-29 factors'!M26-1)*(M$3-M$2)/256), M$4)","v":12},{"$f":"ROUND( N$2+(('coded NOLH for 23-29 factors'!N26-1)*(N$3-N$2)/256), N$4)","v":244},{"$f":"ROUND( O$2+(('coded NOLH for 23-29 factors'!O26-1)*(O$3-O$2)/256), O$4)","v":253},{"$f":"ROUND( P$2+(('coded NOLH for 23-29 factors'!P26-1)*(P$3-P$2)/256), P$4)","v":125},{"$f":"ROUND( Q$2+(('coded NOLH for 23-29 factors'!Q26-1)*(Q$3-Q$2)/256), Q$4)","v":71},{"$f":"ROUND( R$2+(('coded NOLH for 23-29 factors'!R26-1)*(R$3-R$2)/256), R$4)","v":108},{"$f":"ROUND( S$2+(('coded NOLH for 23-29 factors'!S26-1)*(S$3-S$2)/256), S$4)","v":63},{"$f":"ROUND( T$2+(('coded NOLH for 23-29 factors'!T26-1)*(T$3-T$2)/256), T$4)","v":64},{"$f":"ROUND( U$2+(('coded NOLH for 23-29 factors'!U26-1)*(U$3-U$2)/256), U$4)","v":187},{"$f":"ROUND( V$2+(('coded NOLH for 23-29 factors'!V26-1)*(V$3-V$2)/256), V$4)","v":21},{"$f":"ROUND( W$2+(('coded NOLH for 23-29 factors'!W26-1)*(W$3-W$2)/256), W$4)","v":253},{"$f":"ROUND( X$2+(('coded NOLH for 23-29 factors'!X26-1)*(X$3-X$2)/256), X$4)","v":192},{"$f":"ROUND( Y$2+(('coded NOLH for 23-29 factors'!Y26-1)*(Y$3-Y$2)/256), Y$4)","v":151},{"$f":"ROUND( Z$2+(('coded NOLH for 23-29 factors'!Z26-1)*(Z$3-Z$2)/256), Z$4)","v":97},{"$f":"ROUND( AA$2+(('coded NOLH for 23-29 factors'!AA26-1)*(AA$3-AA$2)/256), AA$4)","v":64},{"$f":"ROUND( AB$2+(('coded NOLH for 23-29 factors'!AB26-1)*(AB$3-AB$2)/256), AB$4)","v":209},{"$f":"ROUND( AC$2+(('coded NOLH for 23-29 factors'!AC26-1)*(AC$3-AC$2)/256), AC$4)","v":213},{"$f":"ROUND( AD$2+(('coded NOLH for 23-29 factors'!AD26-1)*(AD$3-AD$2)/256), AD$4)","v":44}]
[null,{"$f":"ROUND( B$2+(('coded NOLH for 23-29 factors'!B27-1)*(B$3-B$2)/256), B$4)","v":101},{"$f":"ROUND( C$2+(('coded NOLH for 23-29 factors'!C27-1)*(C$3-C$2)/256), C$4)","v":202},{"$f":"ROUND( D$2+(('coded NOLH for 23-29 factors'!D27-1)*(D$3-D$2)/256), D$4)","v":128},{"$f":"ROUND( E$2+(('coded NOLH for 23-29 factors'!E27-1)*(E$3-E$2)/256), E$4)","v":122},{"$f":"ROUND( F$2+(('coded NOLH for 23-29 factors'!F27-1)*(F$3-F$2)/256), F$4)","v":134},{"$f":"ROUND( G$2+(('coded NOLH for 23-29 factors'!G27-1)*(G$3-G$2)/256), G$4)","v":125},{"$f":"ROUND( H$2+(('coded NOLH for 23-29 factors'!H27-1)*(H$3-H$2)/256), H$4)","v":201},{"$f":"ROUND( I$2+(('coded NOLH for 23-29 factors'!I27-1)*(I$3-I$2)/256), I$4)","v":187},{"$f":"ROUND( J$2+(('coded NOLH for 23-29 factors'!J27-1)*(J$3-J$2)/256), J$4)","v":177},{"$f":"ROUND( K$2+(('coded NOLH for 23-29 factors'!K27-1)*(K$3-K$2)/256), K$4)","v":190},{"$f":"ROUND( L$2+(('coded NOLH for 23-29 factors'!L27-1)*(L$3-L$2)/256), L$4)","v":57},{"$f":"ROUND( M$2+(('coded NOLH for 23-29 factors'!M27-1)*(M$3-M$2)/256), M$4)","v":230},{"$f":"ROUND( N$2+(('coded NOLH for 23-29 factors'!N27-1)*(N$3-N$2)/256), N$4)","v":45},{"$f":"ROUND( O$2+(('coded NOLH for 23-29 factors'!O27-1)*(O$3-O$2)/256), O$4)","v":92},{"$f":"ROUND( P$2+(('coded NOLH for 23-29 factors'!P27-1)*(P$3-P$2)/256), P$4)","v":77},{"$f":"ROUND( Q$2+(('coded NOLH for 23-29 factors'!Q27-1)*(Q$3-Q$2)/256), Q$4)","v":253},{"$f":"ROUND( R$2+(('coded NOLH for 23-29 factors'!R27-1)*(R$3-R$2)/256), R$4)","v":27},{"$f":"ROUND( S$2+(('coded NOLH for 23-29 factors'!S27-1)*(S$3-S$2)/256), S$4)","v":226},{"$f":"ROUND( T$2+(('coded NOLH for 23-29 factors'!T27-1)*(T$3-T$2)/256), T$4)","v":220},{"$f":"ROUND( U$2+(('coded NOLH for 23-29 factors'!U27-1)*(U$3-U$2)/256), U$4)","v":118},{"$f":"ROUND( V$2+(('coded NOLH for 23-29 factors'!V27-1)*(V$3-V$2)/256), V$4)","v":71},{"$f":"ROUND( W$2+(('coded NOLH for 23-29 factors'!W27-1)*(W$3-W$2)/256), W$4)","v":210},{"$f":"ROUND( X$2+(('coded NOLH for 23-29 factors'!X27-1)*(X$3-X$2)/256), X$4)","v":187},{"$f":"ROUND( Y$2+(('coded NOLH for 23-29 factors'!Y27-1)*(Y$3-Y$2)/256), Y$4)","v":238},{"$f":"ROUND( Z$2+(('coded NOLH for 23-29 factors'!Z27-1)*(Z$3-Z$2)/256), Z$4)","v":73},{"$f":"ROUND( AA$2+(('coded NOLH for 23-29 factors'!AA27-1)*(AA$3-AA$2)/256), AA$4)","v":1},{"$f":"ROUND( AB$2+(('coded NOLH for 23-29 factors'!AB27-1)*(AB$3-AB$2)/256), AB$4)","v":130},{"$f":"ROUND( AC$2+(('coded NOLH for 23-29 factors'!AC27-1)*(AC$3-AC$2)/256), AC$4)","v":142},{"$f":"ROUND( AD$2+(('coded NOLH for 23-29 factors'!AD27-1)*(AD$3-AD$2)/256), AD$4)","v":116}]
[null,{"$f":"ROUND( B$2+(('coded NOLH for 23-29 factors'!B28-1)*(B$3-B$2)/256), B$4)","v":56},{"$f":"ROUND( C$2+(('coded NOLH for 23-29 factors'!C28-1)*(C$3-C$2)/256), C$4)","v":101},{"$f":"ROUND( D$2+(('coded NOLH for 23-29 factors'!D28-1)*(D$3-D$2)/256), D$4)","v":86},{"$f":"ROUND( E$2+(('coded NOLH for 23-29 factors'!E28-1)*(E$3-E$2)/256), E$4)","v":72},{"$f":"ROUND( F$2+(('coded NOLH for 23-29 factors'!F28-1)*(F$3-F$2)/256), F$4)","v":191},{"$f":"ROUND( G$2+(('coded NOLH for 23-29 factors'!G28-1)*(G$3-G$2)/256), G$4)","v":20},{"$f":"ROUND( H$2+(('coded NOLH for 23-29 factors'!H28-1)*(H$3-H$2)/256), H$4)","v":210},{"$f":"ROUND( I$2+(('coded NOLH for 23-29 factors'!I28-1)*(I$3-I$2)/256), I$4)","v":169},{"$f":"ROUND( J$2+(('coded NOLH for 23-29 factors'!J28-1)*(J$3-J$2)/256), J$4)","v":123},{"$f":"ROUND( K$2+(('coded NOLH for 23-29 factors'!K28-1)*(K$3-K$2)/256), K$4)","v":100},{"$f":"ROUND( L$2+(('coded NOLH for 23-29 factors'!L28-1)*(L$3-L$2)/256), L$4)","v":125},{"$f":"ROUND( M$2+(('coded NOLH for 23-29 factors'!M28-1)*(M$3-M$2)/256), M$4)","v":130},{"$f":"ROUND( N$2+(('coded NOLH for 23-29 factors'!N28-1)*(N$3-N$2)/256), N$4)","v":189},{"$f":"ROUND( O$2+(('coded NOLH for 23-29 factors'!O28-1)*(O$3-O$2)/256), O$4)","v":191},{"$f":"ROUND( P$2+(('coded NOLH for 23-29 factors'!P28-1)*(P$3-P$2)/256), P$4)","v":66},{"$f":"ROUND( Q$2+(('coded NOLH for 23-29 factors'!Q28-1)*(Q$3-Q$2)/256), Q$4)","v":175},{"$f":"ROUND( R$2+(('coded NOLH for 23-29 factors'!R28-1)*(R$3-R$2)/256), R$4)","v":1},{"$f":"ROUND( S$2+(('coded NOLH for 23-29 factors'!S28-1)*(S$3-S$2)/256), S$4)","v":250},{"$f":"ROUND( T$2+(('coded NOLH for 23-29 factors'!T28-1)*(T$3-T$2)/256), T$4)","v":241},{"$f":"ROUND( U$2+(('coded NOLH for 23-29 factors'!U28-1)*(U$3-U$2)/256), U$4)","v":207},{"$f":"ROUND( V$2+(('coded NOLH for 23-29 factors'!V28-1)*(V$3-V$2)/256), V$4)","v":90},{"$f":"ROUND( W$2+(('coded NOLH for 23-29 factors'!W28-1)*(W$3-W$2)/256), W$4)","v":174},{"$f":"ROUND( X$2+(('coded NOLH for 23-29 factors'!X28-1)*(X$3-X$2)/256), X$4)","v":166},{"$f":"ROUND( Y$2+(('coded NOLH for 23-29 factors'!Y28-1)*(Y$3-Y$2)/256), Y$4)","v":138},{"$f":"ROUND( Z$2+(('coded NOLH for 23-29 factors'!Z28-1)*(Z$3-Z$2)/256), Z$4)","v":119},{"$f":"ROUND( AA$2+(('coded NOLH for 23-29 factors'!AA28-1)*(AA$3-AA$2)/256), AA$4)","v":11},{"$f":"ROUND( AB$2+(('coded NOLH for 23-29 factors'!AB28-1)*(AB$3-AB$2)/256), AB$4)","v":184},{"$f":"ROUND( AC$2+(('coded NOLH for 23-29 factors'!AC28-1)*(AC$3-AC$2)/256), AC$4)","v":257},{"$f":"ROUND( AD$2+(('coded NOLH for 23-29 factors'!AD28-1)*(AD$3-AD$2)/256), AD$4)","v":72}]
[null,{"$f":"ROUND( B$2+(('coded NOLH for 23-29 factors'!B29-1)*(B$3-B$2)/256), B$4)","v":67},{"$f":"ROUND( C$2+(('coded NOLH for 23-29 factors'!C29-1)*(C$3-C$2)/256), C$4)","v":134},{"$f":"ROUND( D$2+(('coded NOLH for 23-29 factors'!D29-1)*(D$3-D$2)/256), D$4)","v":204},{"$f":"ROUND( E$2+(('coded NOLH for 23-29 factors'!E29-1)*(E$3-E$2)/256), E$4)","v":231},{"$f":"ROUND( F$2+(('coded NOLH for 23-29 factors'!F29-1)*(F$3-F$2)/256), F$4)","v":56},{"$f":"ROUND( G$2+(('coded NOLH for 23-29 factors'!G29-1)*(G$3-G$2)/256), G$4)","v":100},{"$f":"ROUND( H$2+(('coded NOLH for 23-29 factors'!H29-1)*(H$3-H$2)/256), H$4)","v":138},{"$f":"ROUND( I$2+(('coded NOLH for 23-29 factors'!I29-1)*(I$3-I$2)/256), I$4)","v":256},{"$f":"ROUND( J$2+(('coded NOLH for 23-29 factors'!J29-1)*(J$3-J$2)/256), J$4)","v":19},{"$f":"ROUND( K$2+(('coded NOLH for 23-29 factors'!K29-1)*(K$3-K$2)/256), K$4)","v":126},{"$f":"ROUND( L$2+(('coded NOLH for 23-29 factors'!L29-1)*(L$3-L$2)/256), L$4)","v":160},{"$f":"ROUND( M$2+(('coded NOLH for 23-29 factors'!M29-1)*(M$3-M$2)/256), M$4)","v":214},{"$f":"ROUND( N$2+(('coded NOLH for 23-29 factors'!N29-1)*(N$3-N$2)/256), N$4)","v":76},{"$f":"ROUND( O$2+(('coded NOLH for 23-29 factors'!O29-1)*(O$3-O$2)/256), O$4)","v":15},{"$f":"ROUND( P$2+(('coded NOLH for 23-29 factors'!P29-1)*(P$3-P$2)/256), P$4)","v":106},{"$f":"ROUND( Q$2+(('coded NOLH for 23-29 factors'!Q29-1)*(Q$3-Q$2)/256), Q$4)","v":197},{"$f":"ROUND( R$2+(('coded NOLH for 23-29 factors'!R29-1)*(R$3-R$2)/256), R$4)","v":197},{"$f":"ROUND( S$2+(('coded NOLH for 23-29 factors'!S29-1)*(S$3-S$2)/256), S$4)","v":83},{"$f":"ROUND( T$2+(('coded NOLH for 23-29 factors'!T29-1)*(T$3-T$2)/256), T$4)","v":121},{"$f":"ROUND( U$2+(('coded NOLH for 23-29 factors'!U29-1)*(U$3-U$2)/256), U$4)","v":206},{"$f":"ROUND( V$2+(('coded NOLH for 23-29 factors'!V29-1)*(V$3-V$2)/256), V$4)","v":131},{"$f":"ROUND( W$2+(('coded NOLH for 23-29 factors'!W29-1)*(W$3-W$2)/256), W$4)","v":111},{"$f":"ROUND( X$2+(('coded NOLH for 23-29 factors'!X29-1)*(X$3-X$2)/256), X$4)","v":31},{"$f":"ROUND( Y$2+(('coded NOLH for 23-29 factors'!Y29-1)*(Y$3-Y$2)/256), Y$4)","v":40},{"$f":"ROUND( Z$2+(('coded NOLH for 23-29 factors'!Z29-1)*(Z$3-Z$2)/256), Z$4)","v":250},{"$f":"ROUND( AA$2+(('coded NOLH for 23-29 factors'!AA29-1)*(AA$3-AA$2)/256), AA$4)","v":176},{"$f":"ROUND( AB$2+(('coded NOLH for 23-29 factors'!AB29-1)*(AB$3-AB$2)/256), AB$4)","v":218},{"$f":"ROUND( AC$2+(('coded NOLH for 23-29 factors'!AC29-1)*(AC$3-AC$2)/256), AC$4)","v":146},{"$f":"ROUND( AD$2+(('coded NOLH for 23-29 factors'!AD29-1)*(AD$3-AD$2)/256), AD$4)","v":55}]
[null,{"$f":"ROUND( B$2+(('coded NOLH for 23-29 factors'!B30-1)*(B$3-B$2)/256), B$4)","v":124},{"$f":"ROUND( C$2+(('coded NOLH for 23-29 factors'!C30-1)*(C$3-C$2)/256), C$4)","v":67},{"$f":"ROUND( D$2+(('coded NOLH for 23-29 factors'!D30-1)*(D$3-D$2)/256), D$4)","v":233},{"$f":"ROUND( E$2+(('coded NOLH for 23-29 factors'!E30-1)*(E$3-E$2)/256), E$4)","v":137},{"$f":"ROUND( F$2+(('coded NOLH for 23-29 factors'!F30-1)*(F$3-F$2)/256), F$4)","v":101},{"$f":"ROUND( G$2+(('coded NOLH for 23-29 factors'!G30-1)*(G$3-G$2)/256), G$4)","v":12},{"$f":"ROUND( H$2+(('coded NOLH for 23-29 factors'!H30-1)*(H$3-H$2)/256), H$4)","v":176},{"$f":"ROUND( I$2+(('coded NOLH for 23-29 factors'!I30-1)*(I$3-I$2)/256), I$4)","v":228},{"$f":"ROUND( J$2+(('coded NOLH for 23-29 factors'!J30-1)*(J$3-J$2)/256), J$4)","v":195},{"$f":"ROUND( K$2+(('coded NOLH for 23-29 factors'!K30-1)*(K$3-K$2)/256), K$4)","v":232},{"$f":"ROUND( L$2+(('coded NOLH for 23-29 factors'!L30-1)*(L$3-L$2)/256), L$4)","v":56},{"$f":"ROUND( M$2+(('coded NOLH for 23-29 factors'!M30-1)*(M$3-M$2)/256), M$4)","v":66},{"$f":"ROUND( N$2+(('coded NOLH for 23-29 factors'!N30-1)*(N$3-N$2)/256), N$4)","v":125},{"$f":"ROUND( O$2+(('coded NOLH for 23-29 factors'!O30-1)*(O$3-O$2)/256), O$4)","v":247},{"$f":"ROUND( P$2+(('coded NOLH for 23-29 factors'!P30-1)*(P$3-P$2)/256), P$4)","v":78},{"$f":"ROUND( Q$2+(('coded NOLH for 23-29 factors'!Q30-1)*(Q$3-Q$2)/256), Q$4)","v":132},{"$f":"ROUND( R$2+(('coded NOLH for 23-29 factors'!R30-1)*(R$3-R$2)/256), R$4)","v":133},{"$f":"ROUND( S$2+(('coded NOLH for 23-29 factors'!S30-1)*(S$3-S$2)/256), S$4)","v":102},{"$f":"ROUND( T$2+(('coded NOLH for 23-29 factors'!T30-1)*(T$3-T$2)/256), T$4)","v":34},{"$f":"ROUND( U$2+(('coded NOLH for 23-29 factors'!U30-1)*(U$3-U$2)/256), U$4)","v":112},{"$f":"ROUND( V$2+(('coded NOLH for 23-29 factors'!V30-1)*(V$3-V$2)/256), V$4)","v":225},{"$f":"ROUND( W$2+(('coded NOLH for 23-29 factors'!W30-1)*(W$3-W$2)/256), W$4)","v":120},{"$f":"ROUND( X$2+(('coded NOLH for 23-29 factors'!X30-1)*(X$3-X$2)/256), X$4)","v":11},{"$f":"ROUND( Y$2+(('coded NOLH for 23-29 factors'!Y30-1)*(Y$3-Y$2)/256), Y$4)","v":139},{"$f":"ROUND( Z$2+(('coded NOLH for 23-29 factors'!Z30-1)*(Z$3-Z$2)/256), Z$4)","v":194},{"$f":"ROUND( AA$2+(('coded NOLH for 23-29 factors'!AA30-1)*(AA$3-AA$2)/256), AA$4)","v":172},{"$f":"ROUND( AB$2+(('coded NOLH for 23-29 factors'!AB30-1)*(AB$3-AB$2)/256), AB$4)","v":188},{"$f":"ROUND( AC$2+(('coded NOLH for 23-29 factors'!AC30-1)*(AC$3-AC$2)/256), AC$4)","v":154},{"$f":"ROUND( AD$2+(('coded NOLH for 23-29 factors'!AD30-1)*(AD$3-AD$2)/256), AD$4)","v":119}]
[null,{"$f":"ROUND( B$2+(('coded NOLH for 23-29 factors'!B31-1)*(B$3-B$2)/256), B$4)","v":25},{"$f":"ROUND( C$2+(('coded NOLH for 23-29 factors'!C31-1)*(C$3-C$2)/256), C$4)","v":204},{"$f":"ROUND( D$2+(('coded NOLH for 23-29 factors'!D31-1)*(D$3-D$2)/256), D$4)","v":124},{"$f":"ROUND( E$2+(('coded NOLH for 23-29 factors'!E31-1)*(E$3-E$2)/256), E$4)","v":209},{"$f":"ROUND( F$2+(('coded NOLH for 23-29 factors'!F31-1)*(F$3-F$2)/256), F$4)","v":128},{"$f":"ROUND( G$2+(('coded NOLH for 23-29 factors'!G31-1)*(G$3-G$2)/256), G$4)","v":114},{"$f":"ROUND( H$2+(('coded NOLH for 23-29 factors'!H31-1)*(H$3-H$2)/256), H$4)","v":156},{"$f":"ROUND( I$2+(('coded NOLH for 23-29 factors'!I31-1)*(I$3-I$2)/256), I$4)","v":208},{"$f":"ROUND( J$2+(('coded NOLH for 23-29 factors'!J31-1)*(J$3-J$2)/256), J$4)","v":185},{"$f":"ROUND( K$2+(('coded NOLH for 23-29 factors'!K31-1)*(K$3-K$2)/256), K$4)","v":63},{"$f":"ROUND( L$2+(('coded NOLH for 23-29 factors'!L31-1)*(L$3-L$2)/256), L$4)","v":173},{"$f":"ROUND( M$2+(('coded NOLH for 23-29 factors'!M31-1)*(M$3-M$2)/256), M$4)","v":142},{"$f":"ROUND( N$2+(('coded NOLH for 23-29 factors'!N31-1)*(N$3-N$2)/256), N$4)","v":75},{"$f":"ROUND( O$2+(('coded NOLH for 23-29 factors'!O31-1)*(O$3-O$2)/256), O$4)","v":118},{"$f":"ROUND( P$2+(('coded NOLH for 23-29 factors'!P31-1)*(P$3-P$2)/256), P$4)","v":143},{"$f":"ROUND( Q$2+(('coded NOLH for 23-29 factors'!Q31-1)*(Q$3-Q$2)/256), Q$4)","v":109},{"$f":"ROUND( R$2+(('coded NOLH for 23-29 factors'!R31-1)*(R$3-R$2)/256), R$4)","v":34},{"$f":"ROUND( S$2+(('coded NOLH for 23-29 factors'!S31-1)*(S$3-S$2)/256), S$4)","v":194},{"$f":"ROUND( T$2+(('coded NOLH for 23-29 factors'!T31-1)*(T$3-T$2)/256), T$4)","v":237},{"$f":"ROUND( U$2+(('coded NOLH for 23-29 factors'!U31-1)*(U$3-U$2)/256), U$4)","v":182},{"$f":"ROUND( V$2+(('coded NOLH for 23-29 factors'!V31-1)*(V$3-V$2)/256), V$4)","v":245},{"$f":"ROUND( W$2+(('coded NOLH for 23-29 factors'!W31-1)*(W$3-W$2)/256), W$4)","v":74},{"$f":"ROUND( X$2+(('coded NOLH for 23-29 factors'!X31-1)*(X$3-X$2)/256), X$4)","v":117},{"$f":"ROUND( Y$2+(('coded NOLH for 23-29 factors'!Y31-1)*(Y$3-Y$2)/256), Y$4)","v":47},{"$f":"ROUND( Z$2+(('coded NOLH for 23-29 factors'!Z31-1)*(Z$3-Z$2)/256), Z$4)","v":220},{"$f":"ROUND( AA$2+(('coded NOLH for 23-29 factors'!AA31-1)*(AA$3-AA$2)/256), AA$4)","v":221},{"$f":"ROUND( AB$2+(('coded NOLH for 23-29 factors'!AB31-1)*(AB$3-AB$2)/256), AB$4)","v":183},{"$f":"ROUND( AC$2+(('coded NOLH for 23-29 factors'!AC31-1)*(AC$3-AC$2)/256), AC$4)","v":236},{"$f":"ROUND( AD$2+(('coded NOLH for 23-29 factors'!AD31-1)*(AD$3-AD$2)/256), AD$4)","v":82}]
[null,{"$f":"ROUND( B$2+(('coded NOLH for 23-29 factors'!B32-1)*(B$3-B$2)/256), B$4)","v":54},{"$f":"ROUND( C$2+(('coded NOLH for 23-29 factors'!C32-1)*(C$3-C$2)/256), C$4)","v":25},{"$f":"ROUND( D$2+(('coded NOLH for 23-29 factors'!D32-1)*(D$3-D$2)/256), D$4)","v":67},{"$f":"ROUND( E$2+(('coded NOLH for 23-29 factors'!E32-1)*(E$3-E$2)/256), E$4)","v":192},{"$f":"ROUND( F$2+(('coded NOLH for 23-29 factors'!F32-1)*(F$3-F$2)/256), F$4)","v":86},{"$f":"ROUND( G$2+(('coded NOLH for 23-29 factors'!G32-1)*(G$3-G$2)/256), G$4)","v":95},{"$f":"ROUND( H$2+(('coded NOLH for 23-29 factors'!H32-1)*(H$3-H$2)/256), H$4)","v":179},{"$f":"ROUND( I$2+(('coded NOLH for 23-29 factors'!I32-1)*(I$3-I$2)/256), I$4)","v":140},{"$f":"ROUND( J$2+(('coded NOLH for 23-29 factors'!J32-1)*(J$3-J$2)/256), J$4)","v":122},{"$f":"ROUND( K$2+(('coded NOLH for 23-29 factors'!K32-1)*(K$3-K$2)/256), K$4)","v":207},{"$f":"ROUND( L$2+(('coded NOLH for 23-29 factors'!L32-1)*(L$3-L$2)/256), L$4)","v":135},{"$f":"ROUND( M$2+(('coded NOLH for 23-29 factors'!M32-1)*(M$3-M$2)/256), M$4)","v":109},{"$f":"ROUND( N$2+(('coded NOLH for 23-29 factors'!N32-1)*(N$3-N$2)/256), N$4)","v":146},{"$f":"ROUND( O$2+(('coded NOLH for 23-29 factors'!O32-1)*(O$3-O$2)/256), O$4)","v":207},{"$f":"ROUND( P$2+(('coded NOLH for 23-29 factors'!P32-1)*(P$3-P$2)/256), P$4)","v":252},{"$f":"ROUND( Q$2+(('coded NOLH for 23-29 factors'!Q32-1)*(Q$3-Q$2)/256), Q$4)","v":63},{"$f":"ROUND( R$2+(('coded NOLH for 23-29 factors'!R32-1)*(R$3-R$2)/256), R$4)","v":79},{"$f":"ROUND( S$2+(('coded NOLH for 23-29 factors'!S32-1)*(S$3-S$2)/256), S$4)","v":145},{"$f":"ROUND( T$2+(('coded NOLH for 23-29 factors'!T32-1)*(T$3-T$2)/256), T$4)","v":234},{"$f":"ROUND( U$2+(('coded NOLH for 23-29 factors'!U32-1)*(U$3-U$2)/256), U$4)","v":204},{"$f":"ROUND( V$2+(('coded NOLH for 23-29 factors'!V32-1)*(V$3-V$2)/256), V$4)","v":150},{"$f":"ROUND( W$2+(('coded NOLH for 23-29 factors'!W32-1)*(W$3-W$2)/256), W$4)","v":39},{"$f":"ROUND( X$2+(('coded NOLH for 23-29 factors'!X32-1)*(X$3-X$2)/256), X$4)","v":44},{"$f":"ROUND( Y$2+(('coded NOLH for 23-29 factors'!Y32-1)*(Y$3-Y$2)/256), Y$4)","v":14},{"$f":"ROUND( Z$2+(('coded NOLH for 23-29 factors'!Z32-1)*(Z$3-Z$2)/256), Z$4)","v":240},{"$f":"ROUND( AA$2+(('coded NOLH for 23-29 factors'!AA32-1)*(AA$3-AA$2)/256), AA$4)","v":253},{"$f":"ROUND( AB$2+(('coded NOLH for 23-29 factors'!AB32-1)*(AB$3-AB$2)/256), AB$4)","v":256},{"$f":"ROUND( AC$2+(('coded NOLH for 23-29 factors'!AC32-1)*(AC$3-AC$2)/256), AC$4)","v":143},{"$f":"ROUND( AD$2+(('coded NOLH for 23-29 factors'!AD32-1)*(AD$3-AD$2)/256), AD$4)","v":10}]
[null,{"$f":"ROUND( B$2+(('coded NOLH for 23-29 factors'!B33-1)*(B$3-B$2)/256), B$4)","v":66},{"$f":"ROUND( C$2+(('coded NOLH for 23-29 factors'!C33-1)*(C$3-C$2)/256), C$4)","v":209},{"$f":"ROUND( D$2+(('coded NOLH for 23-29 factors'!D33-1)*(D$3-D$2)/256), D$4)","v":231},{"$f":"ROUND( E$2+(('coded NOLH for 23-29 factors'!E33-1)*(E$3-E$2)/256), E$4)","v":54},{"$f":"ROUND( F$2+(('coded NOLH for 23-29 factors'!F33-1)*(F$3-F$2)/256), F$4)","v":53},{"$f":"ROUND( G$2+(('coded NOLH for 23-29 factors'!G33-1)*(G$3-G$2)/256), G$4)","v":105},{"$f":"ROUND( H$2+(('coded NOLH for 23-29 factors'!H33-1)*(H$3-H$2)/256), H$4)","v":215},{"$f":"ROUND( I$2+(('coded NOLH for 23-29 factors'!I33-1)*(I$3-I$2)/256), I$4)","v":199},{"$f":"ROUND( J$2+(('coded NOLH for 23-29 factors'!J33-1)*(J$3-J$2)/256), J$4)","v":126},{"$f":"ROUND( K$2+(('coded NOLH for 23-29 factors'!K33-1)*(K$3-K$2)/256), K$4)","v":251},{"$f":"ROUND( L$2+(('coded NOLH for 23-29 factors'!L33-1)*(L$3-L$2)/256), L$4)","v":193},{"$f":"ROUND( M$2+(('coded NOLH for 23-29 factors'!M33-1)*(M$3-M$2)/256), M$4)","v":199},{"$f":"ROUND( N$2+(('coded NOLH for 23-29 factors'!N33-1)*(N$3-N$2)/256), N$4)","v":60},{"$f":"ROUND( O$2+(('coded NOLH for 23-29 factors'!O33-1)*(O$3-O$2)/256), O$4)","v":98},{"$f":"ROUND( P$2+(('coded NOLH for 23-29 factors'!P33-1)*(P$3-P$2)/256), P$4)","v":218},{"$f":"ROUND( Q$2+(('coded NOLH for 23-29 factors'!Q33-1)*(Q$3-Q$2)/256), Q$4)","v":207},{"$f":"ROUND( R$2+(('coded NOLH for 23-29 factors'!R33-1)*(R$3-R$2)/256), R$4)","v":138},{"$f":"ROUND( S$2+(('coded NOLH for 23-29 factors'!S33-1)*(S$3-S$2)/256), S$4)","v":136},{"$f":"ROUND( T$2+(('coded NOLH for 23-29 factors'!T33-1)*(T$3-T$2)/256), T$4)","v":20},{"$f":"ROUND( U$2+(('coded NOLH for 23-29 factors'!U33-1)*(U$3-U$2)/256), U$4)","v":68},{"$f":"ROUND( V$2+(('coded NOLH for 23-29 factors'!V33-1)*(V$3-V$2)/256), V$4)","v":115},{"$f":"ROUND( W$2+(('coded NOLH for 23-29 factors'!W33-1)*(W$3-W$2)/256), W$4)","v":182},{"$f":"ROUND( X$2+(('coded NOLH for 23-29 factors'!X33-1)*(X$3-X$2)/256), X$4)","v":174},{"$f":"ROUND( Y$2+(('coded NOLH for 23-29 factors'!Y33-1)*(Y$3-Y$2)/256), Y$4)","v":69},{"$f":"ROUND( Z$2+(('coded NOLH for 23-29 factors'!Z33-1)*(Z$3-Z$2)/256), Z$4)","v":196},{"$f":"ROUND( AA$2+(('coded NOLH for 23-29 factors'!AA33-1)*(AA$3-AA$2)/256), AA$4)","v":209},{"$f":"ROUND( AB$2+(('coded NOLH for 23-29 factors'!AB33-1)*(AB$3-AB$2)/256), AB$4)","v":219},{"$f":"ROUND( AC$2+(('coded NOLH for 23-29 factors'!AC33-1)*(AC$3-AC$2)/256), AC$4)","v":235},{"$f":"ROUND( AD$2+(('coded NOLH for 23-29 factors'!AD33-1)*(AD$3-AD$2)/256), AD$4)","v":13}]
[null,{"$f":"ROUND( B$2+(('coded NOLH for 23-29 factors'!B34-1)*(B$3-B$2)/256), B$4)","v":49},{"$f":"ROUND( C$2+(('coded NOLH for 23-29 factors'!C34-1)*(C$3-C$2)/256), C$4)","v":66},{"$f":"ROUND( D$2+(('coded NOLH for 23-29 factors'!D34-1)*(D$3-D$2)/256), D$4)","v":137},{"$f":"ROUND( E$2+(('coded NOLH for 23-29 factors'!E34-1)*(E$3-E$2)/256), E$4)","v":25},{"$f":"ROUND( F$2+(('coded NOLH for 23-29 factors'!F34-1)*(F$3-F$2)/256), F$4)","v":52},{"$f":"ROUND( G$2+(('coded NOLH for 23-29 factors'!G34-1)*(G$3-G$2)/256), G$4)","v":42},{"$f":"ROUND( H$2+(('coded NOLH for 23-29 factors'!H34-1)*(H$3-H$2)/256), H$4)","v":193},{"$f":"ROUND( I$2+(('coded NOLH for 23-29 factors'!I34-1)*(I$3-I$2)/256), I$4)","v":148},{"$f":"ROUND( J$2+(('coded NOLH for 23-29 factors'!J34-1)*(J$3-J$2)/256), J$4)","v":231},{"$f":"ROUND( K$2+(('coded NOLH for 23-29 factors'!K34-1)*(K$3-K$2)/256), K$4)","v":54},{"$f":"ROUND( L$2+(('coded NOLH for 23-29 factors'!L34-1)*(L$3-L$2)/256), L$4)","v":41},{"$f":"ROUND( M$2+(('coded NOLH for 23-29 factors'!M34-1)*(M$3-M$2)/256), M$4)","v":111},{"$f":"ROUND( N$2+(('coded NOLH for 23-29 factors'!N34-1)*(N$3-N$2)/256), N$4)","v":205},{"$f":"ROUND( O$2+(('coded NOLH for 23-29 factors'!O34-1)*(O$3-O$2)/256), O$4)","v":190},{"$f":"ROUND( P$2+(('coded NOLH for 23-29 factors'!P34-1)*(P$3-P$2)/256), P$4)","v":165},{"$f":"ROUND( Q$2+(('coded NOLH for 23-29 factors'!Q34-1)*(Q$3-Q$2)/256), Q$4)","v":100},{"$f":"ROUND( R$2+(('coded NOLH for 23-29 factors'!R34-1)*(R$3-R$2)/256), R$4)","v":229},{"$f":"ROUND( S$2+(('coded NOLH for 23-29 factors'!S34-1)*(S$3-S$2)/256), S$4)","v":86},{"$f":"ROUND( T$2+(('coded NOLH for 23-29 factors'!T34-1)*(T$3-T$2)/256), T$4)","v":14},{"$f":"ROUND( U$2+(('coded NOLH for 23-29 factors'!U34-1)*(U$3-U$2)/256), U$4)","v":120},{"$f":"ROUND( V$2+(('coded NOLH for 23-29 factors'!V34-1)*(V$3-V$2)/256), V$4)","v":134},{"$f":"ROUND( W$2+(('coded NOLH for 23-29 factors'!W34-1)*(W$3-W$2)/256), W$4)","v":163},{"$f":"ROUND( X$2+(('coded NOLH for 23-29 factors'!X34-1)*(X$3-X$2)/256), X$4)","v":189},{"$f":"ROUND( Y$2+(('coded NOLH for 23-29 factors'!Y34-1)*(Y$3-Y$2)/256), Y$4)","v":13},{"$f":"ROUND( Z$2+(('coded NOLH for 23-29 factors'!Z34-1)*(Z$3-Z$2)/256), Z$4)","v":209},{"$f":"ROUND( AA$2+(('coded NOLH for 23-29 factors'!AA34-1)*(AA$3-AA$2)/256), AA$4)","v":239},{"$f":"ROUND( AB$2+(('coded NOLH for 23-29 factors'!AB34-1)*(AB$3-AB$2)/256), AB$4)","v":215},{"$f":"ROUND( AC$2+(('coded NOLH for 23-29 factors'!AC34-1)*(AC$3-AC$2)/256), AC$4)","v":250},{"$f":"ROUND( AD$2+(('coded NOLH for 23-29 factors'!AD34-1)*(AD$3-AD$2)/256), AD$4)","v":136}]
[null,{"$f":"ROUND( B$2+(('coded NOLH for 23-29 factors'!B35-1)*(B$3-B$2)/256), B$4)","v":121},{"$f":"ROUND( C$2+(('coded NOLH for 23-29 factors'!C35-1)*(C$3-C$2)/256), C$4)","v":231},{"$f":"ROUND( D$2+(('coded NOLH for 23-29 factors'!D35-1)*(D$3-D$2)/256), D$4)","v":49},{"$f":"ROUND( E$2+(('coded NOLH for 23-29 factors'!E35-1)*(E$3-E$2)/256), E$4)","v":124},{"$f":"ROUND( F$2+(('coded NOLH for 23-29 factors'!F35-1)*(F$3-F$2)/256), F$4)","v":122},{"$f":"ROUND( G$2+(('coded NOLH for 23-29 factors'!G35-1)*(G$3-G$2)/256), G$4)","v":31},{"$f":"ROUND( H$2+(('coded NOLH for 23-29 factors'!H35-1)*(H$3-H$2)/256), H$4)","v":173},{"$f":"ROUND( I$2+(('coded NOLH for 23-29 factors'!I35-1)*(I$3-I$2)/256), I$4)","v":234},{"$f":"ROUND( J$2+(('coded NOLH for 23-29 factors'!J35-1)*(J$3-J$2)/256), J$4)","v":183},{"$f":"ROUND( K$2+(('coded NOLH for 23-29 factors'!K35-1)*(K$3-K$2)/256), K$4)","v":171},{"$f":"ROUND( L$2+(('coded NOLH for 23-29 factors'!L35-1)*(L$3-L$2)/256), L$4)","v":177},{"$f":"ROUND( M$2+(('coded NOLH for 23-29 factors'!M35-1)*(M$3-M$2)/256), M$4)","v":153},{"$f":"ROUND( N$2+(('coded NOLH for 23-29 factors'!N35-1)*(N$3-N$2)/256), N$4)","v":106},{"$f":"ROUND( O$2+(('coded NOLH for 23-29 factors'!O35-1)*(O$3-O$2)/256), O$4)","v":16},{"$f":"ROUND( P$2+(('coded NOLH for 23-29 factors'!P35-1)*(P$3-P$2)/256), P$4)","v":32},{"$f":"ROUND( Q$2+(('coded NOLH for 23-29 factors'!Q35-1)*(Q$3-Q$2)/256), Q$4)","v":48},{"$f":"ROUND( R$2+(('coded NOLH for 23-29 factors'!R35-1)*(R$3-R$2)/256), R$4)","v":40},{"$f":"ROUND( S$2+(('coded NOLH for 23-29 factors'!S35-1)*(S$3-S$2)/256), S$4)","v":193},{"$f":"ROUND( T$2+(('coded NOLH for 23-29 factors'!T35-1)*(T$3-T$2)/256), T$4)","v":164},{"$f":"ROUND( U$2+(('coded NOLH for 23-29 factors'!U35-1)*(U$3-U$2)/256), U$4)","v":92},{"$f":"ROUND( V$2+(('coded NOLH for 23-29 factors'!V35-1)*(V$3-V$2)/256), V$4)","v":59},{"$f":"ROUND( W$2+(('coded NOLH for 23-29 factors'!W35-1)*(W$3-W$2)/256), W$4)","v":175},{"$f":"ROUND( X$2+(('coded NOLH for 23-29 factors'!X35-1)*(X$3-X$2)/256), X$4)","v":236},{"$f":"ROUND( Y$2+(('coded NOLH for 23-29 factors'!Y35-1)*(Y$3-Y$2)/256), Y$4)","v":54},{"$f":"ROUND( Z$2+(('coded NOLH for 23-29 factors'!Z35-1)*(Z$3-Z$2)/256), Z$4)","v":215},{"$f":"ROUND( AA$2+(('coded NOLH for 23-29 factors'!AA35-1)*(AA$3-AA$2)/256), AA$4)","v":164},{"$f":"ROUND( AB$2+(('coded NOLH for 23-29 factors'!AB35-1)*(AB$3-AB$2)/256), AB$4)","v":239},{"$f":"ROUND( AC$2+(('coded NOLH for 23-29 factors'!AC35-1)*(AC$3-AC$2)/256), AC$4)","v":209},{"$f":"ROUND( AD$2+(('coded NOLH for 23-29 factors'!AD35-1)*(AD$3-AD$2)/256), AD$4)","v":108}]
[null,{"$f":"ROUND( B$2+(('coded NOLH for 23-29 factors'!B36-1)*(B$3-B$2)/256), B$4)","v":27},{"$f":"ROUND( C$2+(('coded NOLH for 23-29 factors'!C36-1)*(C$3-C$2)/256), C$4)","v":121},{"$f":"ROUND( D$2+(('coded NOLH for 23-29 factors'!D36-1)*(D$3-D$2)/256), D$4)","v":66},{"$f":"ROUND( E$2+(('coded NOLH for 23-29 factors'!E36-1)*(E$3-E$2)/256), E$4)","v":67},{"$f":"ROUND( F$2+(('coded NOLH for 23-29 factors'!F36-1)*(F$3-F$2)/256), F$4)","v":72},{"$f":"ROUND( G$2+(('coded NOLH for 23-29 factors'!G36-1)*(G$3-G$2)/256), G$4)","v":103},{"$f":"ROUND( H$2+(('coded NOLH for 23-29 factors'!H36-1)*(H$3-H$2)/256), H$4)","v":139},{"$f":"ROUND( I$2+(('coded NOLH for 23-29 factors'!I36-1)*(I$3-I$2)/256), I$4)","v":240},{"$f":"ROUND( J$2+(('coded NOLH for 23-29 factors'!J36-1)*(J$3-J$2)/256), J$4)","v":55},{"$f":"ROUND( K$2+(('coded NOLH for 23-29 factors'!K36-1)*(K$3-K$2)/256), K$4)","v":122},{"$f":"ROUND( L$2+(('coded NOLH for 23-29 factors'!L36-1)*(L$3-L$2)/256), L$4)","v":109},{"$f":"ROUND( M$2+(('coded NOLH for 23-29 factors'!M36-1)*(M$3-M$2)/256), M$4)","v":37},{"$f":"ROUND( N$2+(('coded NOLH for 23-29 factors'!N36-1)*(N$3-N$2)/256), N$4)","v":164},{"$f":"ROUND( O$2+(('coded NOLH for 23-29 factors'!O36-1)*(O$3-O$2)/256), O$4)","v":231},{"$f":"ROUND( P$2+(('coded NOLH for 23-29 factors'!P36-1)*(P$3-P$2)/256), P$4)","v":57},{"$f":"ROUND( Q$2+(('coded NOLH for 23-29 factors'!Q36-1)*(Q$3-Q$2)/256), Q$4)","v":18},{"$f":"ROUND( R$2+(('coded NOLH for 23-29 factors'!R36-1)*(R$3-R$2)/256), R$4)","v":110},{"$f":"ROUND( S$2+(('coded NOLH for 23-29 factors'!S36-1)*(S$3-S$2)/256), S$4)","v":235},{"$f":"ROUND( T$2+(('coded NOLH for 23-29 factors'!T36-1)*(T$3-T$2)/256), T$4)","v":206},{"$f":"ROUND( U$2+(('coded NOLH for 23-29 factors'!U36-1)*(U$3-U$2)/256), U$4)","v":36},{"$f":"ROUND( V$2+(('coded NOLH for 23-29 factors'!V36-1)*(V$3-V$2)/256), V$4)","v":102},{"$f":"ROUND( W$2+(('coded NOLH for 23-29 factors'!W36-1)*(W$3-W$2)/256), W$4)","v":145},{"$f":"ROUND( X$2+(('coded NOLH for 23-29 factors'!X36-1)*(X$3-X$2)/256), X$4)","v":241},{"$f":"ROUND( Y$2+(('coded NOLH for 23-29 factors'!Y36-1)*(Y$3-Y$2)/256), Y$4)","v":82},{"$f":"ROUND( Z$2+(('coded NOLH for 23-29 factors'!Z36-1)*(Z$3-Z$2)/256), Z$4)","v":165},{"$f":"ROUND( AA$2+(('coded NOLH for 23-29 factors'!AA36-1)*(AA$3-AA$2)/256), AA$4)","v":189},{"$f":"ROUND( AB$2+(('coded NOLH for 23-29 factors'!AB36-1)*(AB$3-AB$2)/256), AB$4)","v":249},{"$f":"ROUND( AC$2+(('coded NOLH for 23-29 factors'!AC36-1)*(AC$3-AC$2)/256), AC$4)","v":228},{"$f":"ROUND( AD$2+(('coded NOLH for 23-29 factors'!AD36-1)*(AD$3-AD$2)/256), AD$4)","v":69}]
[null,{"$f":"ROUND( B$2+(('coded NOLH for 23-29 factors'!B37-1)*(B$3-B$2)/256), B$4)","v":119},{"$f":"ROUND( C$2+(('coded NOLH for 23-29 factors'!C37-1)*(C$3-C$2)/256), C$4)","v":173},{"$f":"ROUND( D$2+(('coded NOLH for 23-29 factors'!D37-1)*(D$3-D$2)/256), D$4)","v":215},{"$f":"ROUND( E$2+(('coded NOLH for 23-29 factors'!E37-1)*(E$3-E$2)/256), E$4)","v":138},{"$f":"ROUND( F$2+(('coded NOLH for 23-29 factors'!F37-1)*(F$3-F$2)/256), F$4)","v":165},{"$f":"ROUND( G$2+(('coded NOLH for 23-29 factors'!G37-1)*(G$3-G$2)/256), G$4)","v":257},{"$f":"ROUND( H$2+(('coded NOLH for 23-29 factors'!H37-1)*(H$3-H$2)/256), H$4)","v":27},{"$f":"ROUND( I$2+(('coded NOLH for 23-29 factors'!I37-1)*(I$3-I$2)/256), I$4)","v":182},{"$f":"ROUND( J$2+(('coded NOLH for 23-29 factors'!J37-1)*(J$3-J$2)/256), J$4)","v":86},{"$f":"ROUND( K$2+(('coded NOLH for 23-29 factors'!K37-1)*(K$3-K$2)/256), K$4)","v":103},{"$f":"ROUND( L$2+(('coded NOLH for 23-29 factors'!L37-1)*(L$3-L$2)/256), L$4)","v":37},{"$f":"ROUND( M$2+(('coded NOLH for 23-29 factors'!M37-1)*(M$3-M$2)/256), M$4)","v":8},{"$f":"ROUND( N$2+(('coded NOLH for 23-29 factors'!N37-1)*(N$3-N$2)/256), N$4)","v":150},{"$f":"ROUND( O$2+(('coded NOLH for 23-29 factors'!O37-1)*(O$3-O$2)/256), O$4)","v":110},{"$f":"ROUND( P$2+(('coded NOLH for 23-29 factors'!P37-1)*(P$3-P$2)/256), P$4)","v":37},{"$f":"ROUND( Q$2+(('coded NOLH for 23-29 factors'!Q37-1)*(Q$3-Q$2)/256), Q$4)","v":47},{"$f":"ROUND( R$2+(('coded NOLH for 23-29 factors'!R37-1)*(R$3-R$2)/256), R$4)","v":49},{"$f":"ROUND( S$2+(('coded NOLH for 23-29 factors'!S37-1)*(S$3-S$2)/256), S$4)","v":180},{"$f":"ROUND( T$2+(('coded NOLH for 23-29 factors'!T37-1)*(T$3-T$2)/256), T$4)","v":5},{"$f":"ROUND( U$2+(('coded NOLH for 23-29 factors'!U37-1)*(U$3-U$2)/256), U$4)","v":40},{"$f":"ROUND( V$2+(('coded NOLH for 23-29 factors'!V37-1)*(V$3-V$2)/256), V$4)","v":55},{"$f":"ROUND( W$2+(('coded NOLH for 23-29 factors'!W37-1)*(W$3-W$2)/256), W$4)","v":183},{"$f":"ROUND( X$2+(('coded NOLH for 23-29 factors'!X37-1)*(X$3-X$2)/256), X$4)","v":53},{"$f":"ROUND( Y$2+(('coded NOLH for 23-29 factors'!Y37-1)*(Y$3-Y$2)/256), Y$4)","v":30},{"$f":"ROUND( Z$2+(('coded NOLH for 23-29 factors'!Z37-1)*(Z$3-Z$2)/256), Z$4)","v":223},{"$f":"ROUND( AA$2+(('coded NOLH for 23-29 factors'!AA37-1)*(AA$3-AA$2)/256), AA$4)","v":108},{"$f":"ROUND( AB$2+(('coded NOLH for 23-29 factors'!AB37-1)*(AB$3-AB$2)/256), AB$4)","v":114},{"$f":"ROUND( AC$2+(('coded NOLH for 23-29 factors'!AC37-1)*(AC$3-AC$2)/256), AC$4)","v":36},{"$f":"ROUND( AD$2+(('coded NOLH for 23-29 factors'!AD37-1)*(AD$3-AD$2)/256), AD$4)","v":236}]
[null,{"$f":"ROUND( B$2+(('coded NOLH for 23-29 factors'!B38-1)*(B$3-B$2)/256), B$4)","v":85},{"$f":"ROUND( C$2+(('coded NOLH for 23-29 factors'!C38-1)*(C$3-C$2)/256), C$4)","v":119},{"$f":"ROUND( D$2+(('coded NOLH for 23-29 factors'!D38-1)*(D$3-D$2)/256), D$4)","v":193},{"$f":"ROUND( E$2+(('coded NOLH for 23-29 factors'!E38-1)*(E$3-E$2)/256), E$4)","v":176},{"$f":"ROUND( F$2+(('coded NOLH for 23-29 factors'!F38-1)*(F$3-F$2)/256), F$4)","v":219},{"$f":"ROUND( G$2+(('coded NOLH for 23-29 factors'!G38-1)*(G$3-G$2)/256), G$4)","v":250},{"$f":"ROUND( H$2+(('coded NOLH for 23-29 factors'!H38-1)*(H$3-H$2)/256), H$4)","v":121},{"$f":"ROUND( I$2+(('coded NOLH for 23-29 factors'!I38-1)*(I$3-I$2)/256), I$4)","v":149},{"$f":"ROUND( J$2+(('coded NOLH for 23-29 factors'!J38-1)*(J$3-J$2)/256), J$4)","v":233},{"$f":"ROUND( K$2+(('coded NOLH for 23-29 factors'!K38-1)*(K$3-K$2)/256), K$4)","v":150},{"$f":"ROUND( L$2+(('coded NOLH for 23-29 factors'!L38-1)*(L$3-L$2)/256), L$4)","v":158},{"$f":"ROUND( M$2+(('coded NOLH for 23-29 factors'!M38-1)*(M$3-M$2)/256), M$4)","v":248},{"$f":"ROUND( N$2+(('coded NOLH for 23-29 factors'!N38-1)*(N$3-N$2)/256), N$4)","v":43},{"$f":"ROUND( O$2+(('coded NOLH for 23-29 factors'!O38-1)*(O$3-O$2)/256), O$4)","v":193},{"$f":"ROUND( P$2+(('coded NOLH for 23-29 factors'!P38-1)*(P$3-P$2)/256), P$4)","v":98},{"$f":"ROUND( Q$2+(('coded NOLH for 23-29 factors'!Q38-1)*(Q$3-Q$2)/256), Q$4)","v":59},{"$f":"ROUND( R$2+(('coded NOLH for 23-29 factors'!R38-1)*(R$3-R$2)/256), R$4)","v":15},{"$f":"ROUND( S$2+(('coded NOLH for 23-29 factors'!S38-1)*(S$3-S$2)/256), S$4)","v":245},{"$f":"ROUND( T$2+(('coded NOLH for 23-29 factors'!T38-1)*(T$3-T$2)/256), T$4)","v":111},{"$f":"ROUND( U$2+(('coded NOLH for 23-29 factors'!U38-1)*(U$3-U$2)/256), U$4)","v":13},{"$f":"ROUND( V$2+(('coded NOLH for 23-29 factors'!V38-1)*(V$3-V$2)/256), V$4)","v":60},{"$f":"ROUND( W$2+(('coded NOLH for 23-29 factors'!W38-1)*(W$3-W$2)/256), W$4)","v":127},{"$f":"ROUND( X$2+(('coded NOLH for 23-29 factors'!X38-1)*(X$3-X$2)/256), X$4)","v":113},{"$f":"ROUND( Y$2+(('coded NOLH for 23-29 factors'!Y38-1)*(Y$3-Y$2)/256), Y$4)","v":71},{"$f":"ROUND( Z$2+(('coded NOLH for 23-29 factors'!Z38-1)*(Z$3-Z$2)/256), Z$4)","v":126},{"$f":"ROUND( AA$2+(('coded NOLH for 23-29 factors'!AA38-1)*(AA$3-AA$2)/256), AA$4)","v":75},{"$f":"ROUND( AB$2+(('coded NOLH for 23-29 factors'!AB38-1)*(AB$3-AB$2)/256), AB$4)","v":203},{"$f":"ROUND( AC$2+(('coded NOLH for 23-29 factors'!AC38-1)*(AC$3-AC$2)/256), AC$4)","v":102},{"$f":"ROUND( AD$2+(('coded NOLH for 23-29 factors'!AD38-1)*(AD$3-AD$2)/256), AD$4)","v":239}]
[null,{"$f":"ROUND( B$2+(('coded NOLH for 23-29 factors'!B39-1)*(B$3-B$2)/256), B$4)","v":65},{"$f":"ROUND( C$2+(('coded NOLH for 23-29 factors'!C39-1)*(C$3-C$2)/256), C$4)","v":215},{"$f":"ROUND( D$2+(('coded NOLH for 23-29 factors'!D39-1)*(D$3-D$2)/256), D$4)","v":85},{"$f":"ROUND( E$2+(('coded NOLH for 23-29 factors'!E39-1)*(E$3-E$2)/256), E$4)","v":156},{"$f":"ROUND( F$2+(('coded NOLH for 23-29 factors'!F39-1)*(F$3-F$2)/256), F$4)","v":224},{"$f":"ROUND( G$2+(('coded NOLH for 23-29 factors'!G39-1)*(G$3-G$2)/256), G$4)","v":242},{"$f":"ROUND( H$2+(('coded NOLH for 23-29 factors'!H39-1)*(H$3-H$2)/256), H$4)","v":49},{"$f":"ROUND( I$2+(('coded NOLH for 23-29 factors'!I39-1)*(I$3-I$2)/256), I$4)","v":147},{"$f":"ROUND( J$2+(('coded NOLH for 23-29 factors'!J39-1)*(J$3-J$2)/256), J$4)","v":149},{"$f":"ROUND( K$2+(('coded NOLH for 23-29 factors'!K39-1)*(K$3-K$2)/256), K$4)","v":82},{"$f":"ROUND( L$2+(('coded NOLH for 23-29 factors'!L39-1)*(L$3-L$2)/256), L$4)","v":55},{"$f":"ROUND( M$2+(('coded NOLH for 23-29 factors'!M39-1)*(M$3-M$2)/256), M$4)","v":46},{"$f":"ROUND( N$2+(('coded NOLH for 23-29 factors'!N39-1)*(N$3-N$2)/256), N$4)","v":210},{"$f":"ROUND( O$2+(('coded NOLH for 23-29 factors'!O39-1)*(O$3-O$2)/256), O$4)","v":24},{"$f":"ROUND( P$2+(('coded NOLH for 23-29 factors'!P39-1)*(P$3-P$2)/256), P$4)","v":142},{"$f":"ROUND( Q$2+(('coded NOLH for 23-29 factors'!Q39-1)*(Q$3-Q$2)/256), Q$4)","v":217},{"$f":"ROUND( R$2+(('coded NOLH for 23-29 factors'!R39-1)*(R$3-R$2)/256), R$4)","v":255},{"$f":"ROUND( S$2+(('coded NOLH for 23-29 factors'!S39-1)*(S$3-S$2)/256), S$4)","v":92},{"$f":"ROUND( T$2+(('coded NOLH for 23-29 factors'!T39-1)*(T$3-T$2)/256), T$4)","v":141},{"$f":"ROUND( U$2+(('coded NOLH for 23-29 factors'!U39-1)*(U$3-U$2)/256), U$4)","v":64},{"$f":"ROUND( V$2+(('coded NOLH for 23-29 factors'!V39-1)*(V$3-V$2)/256), V$4)","v":69},{"$f":"ROUND( W$2+(('coded NOLH for 23-29 factors'!W39-1)*(W$3-W$2)/256), W$4)","v":214},{"$f":"ROUND( X$2+(('coded NOLH for 23-29 factors'!X39-1)*(X$3-X$2)/256), X$4)","v":95},{"$f":"ROUND( Y$2+(('coded NOLH for 23-29 factors'!Y39-1)*(Y$3-Y$2)/256), Y$4)","v":16},{"$f":"ROUND( Z$2+(('coded NOLH for 23-29 factors'!Z39-1)*(Z$3-Z$2)/256), Z$4)","v":218},{"$f":"ROUND( AA$2+(('coded NOLH for 23-29 factors'!AA39-1)*(AA$3-AA$2)/256), AA$4)","v":17},{"$f":"ROUND( AB$2+(('coded NOLH for 23-29 factors'!AB39-1)*(AB$3-AB$2)/256), AB$4)","v":199},{"$f":"ROUND( AC$2+(('coded NOLH for 23-29 factors'!AC39-1)*(AC$3-AC$2)/256), AC$4)","v":52},{"$f":"ROUND( AD$2+(('coded NOLH for 23-29 factors'!AD39-1)*(AD$3-AD$2)/256), AD$4)","v":148}]
[null,{"$f":"ROUND( B$2+(('coded NOLH for 23-29 factors'!B40-1)*(B$3-B$2)/256), B$4)","v":43},{"$f":"ROUND( C$2+(('coded NOLH for 23-29 factors'!C40-1)*(C$3-C$2)/256), C$4)","v":65},{"$f":"ROUND( D$2+(('coded NOLH for 23-29 factors'!D40-1)*(D$3-D$2)/256), D$4)","v":119},{"$f":"ROUND( E$2+(('coded NOLH for 23-29 factors'!E40-1)*(E$3-E$2)/256), E$4)","v":179},{"$f":"ROUND( F$2+(('coded NOLH for 23-29 factors'!F40-1)*(F$3-F$2)/256), F$4)","v":200},{"$f":"ROUND( G$2+(('coded NOLH for 23-29 factors'!G40-1)*(G$3-G$2)/256), G$4)","v":226},{"$f":"ROUND( H$2+(('coded NOLH for 23-29 factors'!H40-1)*(H$3-H$2)/256), H$4)","v":66},{"$f":"ROUND( I$2+(('coded NOLH for 23-29 factors'!I40-1)*(I$3-I$2)/256), I$4)","v":249},{"$f":"ROUND( J$2+(('coded NOLH for 23-29 factors'!J40-1)*(J$3-J$2)/256), J$4)","v":111},{"$f":"ROUND( K$2+(('coded NOLH for 23-29 factors'!K40-1)*(K$3-K$2)/256), K$4)","v":154},{"$f":"ROUND( L$2+(('coded NOLH for 23-29 factors'!L40-1)*(L$3-L$2)/256), L$4)","v":219},{"$f":"ROUND( M$2+(('coded NOLH for 23-29 factors'!M40-1)*(M$3-M$2)/256), M$4)","v":244},{"$f":"ROUND( N$2+(('coded NOLH for 23-29 factors'!N40-1)*(N$3-N$2)/256), N$4)","v":56},{"$f":"ROUND( O$2+(('coded NOLH for 23-29 factors'!O40-1)*(O$3-O$2)/256), O$4)","v":152},{"$f":"ROUND( P$2+(('coded NOLH for 23-29 factors'!P40-1)*(P$3-P$2)/256), P$4)","v":140},{"$f":"ROUND( Q$2+(('coded NOLH for 23-29 factors'!Q40-1)*(Q$3-Q$2)/256), Q$4)","v":192},{"$f":"ROUND( R$2+(('coded NOLH for 23-29 factors'!R40-1)*(R$3-R$2)/256), R$4)","v":254},{"$f":"ROUND( S$2+(('coded NOLH for 23-29 factors'!S40-1)*(S$3-S$2)/256), S$4)","v":71},{"$f":"ROUND( T$2+(('coded NOLH for 23-29 factors'!T40-1)*(T$3-T$2)/256), T$4)","v":197},{"$f":"ROUND( U$2+(('coded NOLH for 23-29 factors'!U40-1)*(U$3-U$2)/256), U$4)","v":12},{"$f":"ROUND( V$2+(('coded NOLH for 23-29 factors'!V40-1)*(V$3-V$2)/256), V$4)","v":18},{"$f":"ROUND( W$2+(('coded NOLH for 23-29 factors'!W40-1)*(W$3-W$2)/256), W$4)","v":181},{"$f":"ROUND( X$2+(('coded NOLH for 23-29 factors'!X40-1)*(X$3-X$2)/256), X$4)","v":80},{"$f":"ROUND( Y$2+(('coded NOLH for 23-29 factors'!Y40-1)*(Y$3-Y$2)/256), Y$4)","v":110},{"$f":"ROUND( Z$2+(('coded NOLH for 23-29 factors'!Z40-1)*(Z$3-Z$2)/256), Z$4)","v":221},{"$f":"ROUND( AA$2+(('coded NOLH for 23-29 factors'!AA40-1)*(AA$3-AA$2)/256), AA$4)","v":121},{"$f":"ROUND( AB$2+(('coded NOLH for 23-29 factors'!AB40-1)*(AB$3-AB$2)/256), AB$4)","v":165},{"$f":"ROUND( AC$2+(('coded NOLH for 23-29 factors'!AC40-1)*(AC$3-AC$2)/256), AC$4)","v":76},{"$f":"ROUND( AD$2+(('coded NOLH for 23-29 factors'!AD40-1)*(AD$3-AD$2)/256), AD$4)","v":200}]
[null,{"$f":"ROUND( B$2+(('coded NOLH for 23-29 factors'!B41-1)*(B$3-B$2)/256), B$4)","v":79},{"$f":"ROUND( C$2+(('coded NOLH for 23-29 factors'!C41-1)*(C$3-C$2)/256), C$4)","v":156},{"$f":"ROUND( D$2+(('coded NOLH for 23-29 factors'!D41-1)*(D$3-D$2)/256), D$4)","v":138},{"$f":"ROUND( E$2+(('coded NOLH for 23-29 factors'!E41-1)*(E$3-E$2)/256), E$4)","v":43},{"$f":"ROUND( F$2+(('coded NOLH for 23-29 factors'!F41-1)*(F$3-F$2)/256), F$4)","v":253},{"$f":"ROUND( G$2+(('coded NOLH for 23-29 factors'!G41-1)*(G$3-G$2)/256), G$4)","v":194},{"$f":"ROUND( H$2+(('coded NOLH for 23-29 factors'!H41-1)*(H$3-H$2)/256), H$4)","v":54},{"$f":"ROUND( I$2+(('coded NOLH for 23-29 factors'!I41-1)*(I$3-I$2)/256), I$4)","v":214},{"$f":"ROUND( J$2+(('coded NOLH for 23-29 factors'!J41-1)*(J$3-J$2)/256), J$4)","v":108},{"$f":"ROUND( K$2+(('coded NOLH for 23-29 factors'!K41-1)*(K$3-K$2)/256), K$4)","v":188},{"$f":"ROUND( L$2+(('coded NOLH for 23-29 factors'!L41-1)*(L$3-L$2)/256), L$4)","v":13},{"$f":"ROUND( M$2+(('coded NOLH for 23-29 factors'!M41-1)*(M$3-M$2)/256), M$4)","v":80},{"$f":"ROUND( N$2+(('coded NOLH for 23-29 factors'!N41-1)*(N$3-N$2)/256), N$4)","v":243},{"$f":"ROUND( O$2+(('coded NOLH for 23-29 factors'!O41-1)*(O$3-O$2)/256), O$4)","v":117},{"$f":"ROUND( P$2+(('coded NOLH for 23-29 factors'!P41-1)*(P$3-P$2)/256), P$4)","v":121},{"$f":"ROUND( Q$2+(('coded NOLH for 23-29 factors'!Q41-1)*(Q$3-Q$2)/256), Q$4)","v":16},{"$f":"ROUND( R$2+(('coded NOLH for 23-29 factors'!R41-1)*(R$3-R$2)/256), R$4)","v":51},{"$f":"ROUND( S$2+(('coded NOLH for 23-29 factors'!S41-1)*(S$3-S$2)/256), S$4)","v":185},{"$f":"ROUND( T$2+(('coded NOLH for 23-29 factors'!T41-1)*(T$3-T$2)/256), T$4)","v":62},{"$f":"ROUND( U$2+(('coded NOLH for 23-29 factors'!U41-1)*(U$3-U$2)/256), U$4)","v":186},{"$f":"ROUND( V$2+(('coded NOLH for 23-29 factors'!V41-1)*(V$3-V$2)/256), V$4)","v":230},{"$f":"ROUND( W$2+(('coded NOLH for 23-29 factors'!W41-1)*(W$3-W$2)/256), W$4)","v":36},{"$f":"ROUND( X$2+(('coded NOLH for 23-29 factors'!X41-1)*(X$3-X$2)/256), X$4)","v":222},{"$f":"ROUND( Y$2+(('coded NOLH for 23-29 factors'!Y41-1)*(Y$3-Y$2)/256), Y$4)","v":48},{"$f":"ROUND( Z$2+(('coded NOLH for 23-29 factors'!Z41-1)*(Z$3-Z$2)/256), Z$4)","v":176},{"$f":"ROUND( AA$2+(('coded NOLH for 23-29 factors'!AA41-1)*(AA$3-AA$2)/256), AA$4)","v":90},{"$f":"ROUND( AB$2+(('coded NOLH for 23-29 factors'!AB41-1)*(AB$3-AB$2)/256), AB$4)","v":123},{"$f":"ROUND( AC$2+(('coded NOLH for 23-29 factors'!AC41-1)*(AC$3-AC$2)/256), AC$4)","v":13},{"$f":"ROUND( AD$2+(('coded NOLH for 23-29 factors'!AD41-1)*(AD$3-AD$2)/256), AD$4)","v":124}]
[null,{"$f":"ROUND( B$2+(('coded NOLH for 23-29 factors'!B42-1)*(B$3-B$2)/256), B$4)","v":102},{"$f":"ROUND( C$2+(('coded NOLH for 23-29 factors'!C42-1)*(C$3-C$2)/256), C$4)","v":79},{"$f":"ROUND( D$2+(('coded NOLH for 23-29 factors'!D42-1)*(D$3-D$2)/256), D$4)","v":176},{"$f":"ROUND( E$2+(('coded NOLH for 23-29 factors'!E42-1)*(E$3-E$2)/256), E$4)","v":65},{"$f":"ROUND( F$2+(('coded NOLH for 23-29 factors'!F42-1)*(F$3-F$2)/256), F$4)","v":223},{"$f":"ROUND( G$2+(('coded NOLH for 23-29 factors'!G42-1)*(G$3-G$2)/256), G$4)","v":189},{"$f":"ROUND( H$2+(('coded NOLH for 23-29 factors'!H42-1)*(H$3-H$2)/256), H$4)","v":25},{"$f":"ROUND( I$2+(('coded NOLH for 23-29 factors'!I42-1)*(I$3-I$2)/256), I$4)","v":150},{"$f":"ROUND( J$2+(('coded NOLH for 23-29 factors'!J42-1)*(J$3-J$2)/256), J$4)","v":148},{"$f":"ROUND( K$2+(('coded NOLH for 23-29 factors'!K42-1)*(K$3-K$2)/256), K$4)","v":46},{"$f":"ROUND( L$2+(('coded NOLH for 23-29 factors'!L42-1)*(L$3-L$2)/256), L$4)","v":249},{"$f":"ROUND( M$2+(('coded NOLH for 23-29 factors'!M42-1)*(M$3-M$2)/256), M$4)","v":218},{"$f":"ROUND( N$2+(('coded NOLH for 23-29 factors'!N42-1)*(N$3-N$2)/256), N$4)","v":61},{"$f":"ROUND( O$2+(('coded NOLH for 23-29 factors'!O42-1)*(O$3-O$2)/256), O$4)","v":217},{"$f":"ROUND( P$2+(('coded NOLH for 23-29 factors'!P42-1)*(P$3-P$2)/256), P$4)","v":145},{"$f":"ROUND( Q$2+(('coded NOLH for 23-29 factors'!Q42-1)*(Q$3-Q$2)/256), Q$4)","v":39},{"$f":"ROUND( R$2+(('coded NOLH for 23-29 factors'!R42-1)*(R$3-R$2)/256), R$4)","v":63},{"$f":"ROUND( S$2+(('coded NOLH for 23-29 factors'!S42-1)*(S$3-S$2)/256), S$4)","v":184},{"$f":"ROUND( T$2+(('coded NOLH for 23-29 factors'!T42-1)*(T$3-T$2)/256), T$4)","v":113},{"$f":"ROUND( U$2+(('coded NOLH for 23-29 factors'!U42-1)*(U$3-U$2)/256), U$4)","v":196},{"$f":"ROUND( V$2+(('coded NOLH for 23-29 factors'!V42-1)*(V$3-V$2)/256), V$4)","v":235},{"$f":"ROUND( W$2+(('coded NOLH for 23-29 factors'!W42-1)*(W$3-W$2)/256), W$4)","v":37},{"$f":"ROUND( X$2+(('coded NOLH for 23-29 factors'!X42-1)*(X$3-X$2)/256), X$4)","v":180},{"$f":"ROUND( Y$2+(('coded NOLH for 23-29 factors'!Y42-1)*(Y$3-Y$2)/256), Y$4)","v":19},{"$f":"ROUND( Z$2+(('coded NOLH for 23-29 factors'!Z42-1)*(Z$3-Z$2)/256), Z$4)","v":123},{"$f":"ROUND( AA$2+(('coded NOLH for 23-29 factors'!AA42-1)*(AA$3-AA$2)/256), AA$4)","v":34},{"$f":"ROUND( AB$2+(('coded NOLH for 23-29 factors'!AB42-1)*(AB$3-AB$2)/256), AB$4)","v":107},{"$f":"ROUND( AC$2+(('coded NOLH for 23-29 factors'!AC42-1)*(AC$3-AC$2)/256), AC$4)","v":34},{"$f":"ROUND( AD$2+(('coded NOLH for 23-29 factors'!AD42-1)*(AD$3-AD$2)/256), AD$4)","v":175}]
[null,{"$f":"ROUND( B$2+(('coded NOLH for 23-29 factors'!B43-1)*(B$3-B$2)/256), B$4)","v":82},{"$f":"ROUND( C$2+(('coded NOLH for 23-29 factors'!C43-1)*(C$3-C$2)/256), C$4)","v":138},{"$f":"ROUND( D$2+(('coded NOLH for 23-29 factors'!D43-1)*(D$3-D$2)/256), D$4)","v":102},{"$f":"ROUND( E$2+(('coded NOLH for 23-29 factors'!E43-1)*(E$3-E$2)/256), E$4)","v":85},{"$f":"ROUND( F$2+(('coded NOLH for 23-29 factors'!F43-1)*(F$3-F$2)/256), F$4)","v":201},{"$f":"ROUND( G$2+(('coded NOLH for 23-29 factors'!G43-1)*(G$3-G$2)/256), G$4)","v":197},{"$f":"ROUND( H$2+(('coded NOLH for 23-29 factors'!H43-1)*(H$3-H$2)/256), H$4)","v":124},{"$f":"ROUND( I$2+(('coded NOLH for 23-29 factors'!I43-1)*(I$3-I$2)/256), I$4)","v":178},{"$f":"ROUND( J$2+(('coded NOLH for 23-29 factors'!J43-1)*(J$3-J$2)/256), J$4)","v":194},{"$f":"ROUND( K$2+(('coded NOLH for 23-29 factors'!K43-1)*(K$3-K$2)/256), K$4)","v":139},{"$f":"ROUND( L$2+(('coded NOLH for 23-29 factors'!L43-1)*(L$3-L$2)/256), L$4)","v":34},{"$f":"ROUND( M$2+(('coded NOLH for 23-29 factors'!M43-1)*(M$3-M$2)/256), M$4)","v":81},{"$f":"ROUND( N$2+(('coded NOLH for 23-29 factors'!N43-1)*(N$3-N$2)/256), N$4)","v":204},{"$f":"ROUND( O$2+(('coded NOLH for 23-29 factors'!O43-1)*(O$3-O$2)/256), O$4)","v":84},{"$f":"ROUND( P$2+(('coded NOLH for 23-29 factors'!P43-1)*(P$3-P$2)/256), P$4)","v":50},{"$f":"ROUND( Q$2+(('coded NOLH for 23-29 factors'!Q43-1)*(Q$3-Q$2)/256), Q$4)","v":221},{"$f":"ROUND( R$2+(('coded NOLH for 23-29 factors'!R43-1)*(R$3-R$2)/256), R$4)","v":176},{"$f":"ROUND( S$2+(('coded NOLH for 23-29 factors'!S43-1)*(S$3-S$2)/256), S$4)","v":9},{"$f":"ROUND( T$2+(('coded NOLH for 23-29 factors'!T43-1)*(T$3-T$2)/256), T$4)","v":135},{"$f":"ROUND( U$2+(('coded NOLH for 23-29 factors'!U43-1)*(U$3-U$2)/256), U$4)","v":247},{"$f":"ROUND( V$2+(('coded NOLH for 23-29 factors'!V43-1)*(V$3-V$2)/256), V$4)","v":251},{"$f":"ROUND( W$2+(('coded NOLH for 23-29 factors'!W43-1)*(W$3-W$2)/256), W$4)","v":104},{"$f":"ROUND( X$2+(('coded NOLH for 23-29 factors'!X43-1)*(X$3-X$2)/256), X$4)","v":122},{"$f":"ROUND( Y$2+(('coded NOLH for 23-29 factors'!Y43-1)*(Y$3-Y$2)/256), Y$4)","v":106},{"$f":"ROUND( Z$2+(('coded NOLH for 23-29 factors'!Z43-1)*(Z$3-Z$2)/256), Z$4)","v":149},{"$f":"ROUND( AA$2+(('coded NOLH for 23-29 factors'!AA43-1)*(AA$3-AA$2)/256), AA$4)","v":85},{"$f":"ROUND( AB$2+(('coded NOLH for 23-29 factors'!AB43-1)*(AB$3-AB$2)/256), AB$4)","v":246},{"$f":"ROUND( AC$2+(('coded NOLH for 23-29 factors'!AC43-1)*(AC$3-AC$2)/256), AC$4)","v":55},{"$f":"ROUND( AD$2+(('coded NOLH for 23-29 factors'!AD43-1)*(AD$3-AD$2)/256), AD$4)","v":234}]
[null,{"$f":"ROUND( B$2+(('coded NOLH for 23-29 factors'!B44-1)*(B$3-B$2)/256), B$4)","v":120},{"$f":"ROUND( C$2+(('coded NOLH for 23-29 factors'!C44-1)*(C$3-C$2)/256), C$4)","v":82},{"$f":"ROUND( D$2+(('coded NOLH for 23-29 factors'!D44-1)*(D$3-D$2)/256), D$4)","v":79},{"$f":"ROUND( E$2+(('coded NOLH for 23-29 factors'!E44-1)*(E$3-E$2)/256), E$4)","v":119},{"$f":"ROUND( F$2+(('coded NOLH for 23-29 factors'!F44-1)*(F$3-F$2)/256), F$4)","v":210},{"$f":"ROUND( G$2+(('coded NOLH for 23-29 factors'!G44-1)*(G$3-G$2)/256), G$4)","v":180},{"$f":"ROUND( H$2+(('coded NOLH for 23-29 factors'!H44-1)*(H$3-H$2)/256), H$4)","v":67},{"$f":"ROUND( I$2+(('coded NOLH for 23-29 factors'!I44-1)*(I$3-I$2)/256), I$4)","v":184},{"$f":"ROUND( J$2+(('coded NOLH for 23-29 factors'!J44-1)*(J$3-J$2)/256), J$4)","v":121},{"$f":"ROUND( K$2+(('coded NOLH for 23-29 factors'!K44-1)*(K$3-K$2)/256), K$4)","v":79},{"$f":"ROUND( L$2+(('coded NOLH for 23-29 factors'!L44-1)*(L$3-L$2)/256), L$4)","v":194},{"$f":"ROUND( M$2+(('coded NOLH for 23-29 factors'!M44-1)*(M$3-M$2)/256), M$4)","v":222},{"$f":"ROUND( N$2+(('coded NOLH for 23-29 factors'!N44-1)*(N$3-N$2)/256), N$4)","v":128},{"$f":"ROUND( O$2+(('coded NOLH for 23-29 factors'!O44-1)*(O$3-O$2)/256), O$4)","v":189},{"$f":"ROUND( P$2+(('coded NOLH for 23-29 factors'!P44-1)*(P$3-P$2)/256), P$4)","v":30},{"$f":"ROUND( Q$2+(('coded NOLH for 23-29 factors'!Q44-1)*(Q$3-Q$2)/256), Q$4)","v":248},{"$f":"ROUND( R$2+(('coded NOLH for 23-29 factors'!R44-1)*(R$3-R$2)/256), R$4)","v":201},{"$f":"ROUND( S$2+(('coded NOLH for 23-29 factors'!S44-1)*(S$3-S$2)/256), S$4)","v":81},{"$f":"ROUND( T$2+(('coded NOLH for 23-29 factors'!T44-1)*(T$3-T$2)/256), T$4)","v":233},{"$f":"ROUND( U$2+(('coded NOLH for 23-29 factors'!U44-1)*(U$3-U$2)/256), U$4)","v":173},{"$f":"ROUND( V$2+(('coded NOLH for 23-29 factors'!V44-1)*(V$3-V$2)/256), V$4)","v":229},{"$f":"ROUND( W$2+(('coded NOLH for 23-29 factors'!W44-1)*(W$3-W$2)/256), W$4)","v":13},{"$f":"ROUND( X$2+(('coded NOLH for 23-29 factors'!X44-1)*(X$3-X$2)/256), X$4)","v":202},{"$f":"ROUND( Y$2+(('coded NOLH for 23-29 factors'!Y44-1)*(Y$3-Y$2)/256), Y$4)","v":52},{"$f":"ROUND( Z$2+(('coded NOLH for 23-29 factors'!Z44-1)*(Z$3-Z$2)/256), Z$4)","v":205},{"$f":"ROUND( AA$2+(('coded NOLH for 23-29 factors'!AA44-1)*(AA$3-AA$2)/256), AA$4)","v":92},{"$f":"ROUND( AB$2+(('coded NOLH for 23-29 factors'!AB44-1)*(AB$3-AB$2)/256), AB$4)","v":154},{"$f":"ROUND( AC$2+(('coded NOLH for 23-29 factors'!AC44-1)*(AC$3-AC$2)/256), AC$4)","v":46},{"$f":"ROUND( AD$2+(('coded NOLH for 23-29 factors'!AD44-1)*(AD$3-AD$2)/256), AD$4)","v":235}]
[null,{"$f":"ROUND( B$2+(('coded NOLH for 23-29 factors'!B45-1)*(B$3-B$2)/256), B$4)","v":48},{"$f":"ROUND( C$2+(('coded NOLH for 23-29 factors'!C45-1)*(C$3-C$2)/256), C$4)","v":201},{"$f":"ROUND( D$2+(('coded NOLH for 23-29 factors'!D45-1)*(D$3-D$2)/256), D$4)","v":253},{"$f":"ROUND( E$2+(('coded NOLH for 23-29 factors'!E45-1)*(E$3-E$2)/256), E$4)","v":165},{"$f":"ROUND( F$2+(('coded NOLH for 23-29 factors'!F45-1)*(F$3-F$2)/256), F$4)","v":120},{"$f":"ROUND( G$2+(('coded NOLH for 23-29 factors'!G45-1)*(G$3-G$2)/256), G$4)","v":190},{"$f":"ROUND( H$2+(('coded NOLH for 23-29 factors'!H45-1)*(H$3-H$2)/256), H$4)","v":56},{"$f":"ROUND( I$2+(('coded NOLH for 23-29 factors'!I45-1)*(I$3-I$2)/256), I$4)","v":183},{"$f":"ROUND( J$2+(('coded NOLH for 23-29 factors'!J45-1)*(J$3-J$2)/256), J$4)","v":43},{"$f":"ROUND( K$2+(('coded NOLH for 23-29 factors'!K45-1)*(K$3-K$2)/256), K$4)","v":52},{"$f":"ROUND( L$2+(('coded NOLH for 23-29 factors'!L45-1)*(L$3-L$2)/256), L$4)","v":180},{"$f":"ROUND( M$2+(('coded NOLH for 23-29 factors'!M45-1)*(M$3-M$2)/256), M$4)","v":91},{"$f":"ROUND( N$2+(('coded NOLH for 23-29 factors'!N45-1)*(N$3-N$2)/256), N$4)","v":161},{"$f":"ROUND( O$2+(('coded NOLH for 23-29 factors'!O45-1)*(O$3-O$2)/256), O$4)","v":91},{"$f":"ROUND( P$2+(('coded NOLH for 23-29 factors'!P45-1)*(P$3-P$2)/256), P$4)","v":28},{"$f":"ROUND( Q$2+(('coded NOLH for 23-29 factors'!Q45-1)*(Q$3-Q$2)/256), Q$4)","v":164},{"$f":"ROUND( R$2+(('coded NOLH for 23-29 factors'!R45-1)*(R$3-R$2)/256), R$4)","v":94},{"$f":"ROUND( S$2+(('coded NOLH for 23-29 factors'!S45-1)*(S$3-S$2)/256), S$4)","v":182},{"$f":"ROUND( T$2+(('coded NOLH for 23-29 factors'!T45-1)*(T$3-T$2)/256), T$4)","v":102},{"$f":"ROUND( U$2+(('coded NOLH for 23-29 factors'!U45-1)*(U$3-U$2)/256), U$4)","v":128},{"$f":"ROUND( V$2+(('coded NOLH for 23-29 factors'!V45-1)*(V$3-V$2)/256), V$4)","v":3},{"$f":"ROUND( W$2+(('coded NOLH for 23-29 factors'!W45-1)*(W$3-W$2)/256), W$4)","v":194},{"$f":"ROUND( X$2+(('coded NOLH for 23-29 factors'!X45-1)*(X$3-X$2)/256), X$4)","v":134},{"$f":"ROUND( Y$2+(('coded NOLH for 23-29 factors'!Y45-1)*(Y$3-Y$2)/256), Y$4)","v":207},{"$f":"ROUND( Z$2+(('coded NOLH for 23-29 factors'!Z45-1)*(Z$3-Z$2)/256), Z$4)","v":113},{"$f":"ROUND( AA$2+(('coded NOLH for 23-29 factors'!AA45-1)*(AA$3-AA$2)/256), AA$4)","v":181},{"$f":"ROUND( AB$2+(('coded NOLH for 23-29 factors'!AB45-1)*(AB$3-AB$2)/256), AB$4)","v":240},{"$f":"ROUND( AC$2+(('coded NOLH for 23-29 factors'!AC45-1)*(AC$3-AC$2)/256), AC$4)","v":44},{"$f":"ROUND( AD$2+(('coded NOLH for 23-29 factors'!AD45-1)*(AD$3-AD$2)/256), AD$4)","v":162}]
[null,{"$f":"ROUND( B$2+(('coded NOLH for 23-29 factors'!B46-1)*(B$3-B$2)/256), B$4)","v":57},{"$f":"ROUND( C$2+(('coded NOLH for 23-29 factors'!C46-1)*(C$3-C$2)/256), C$4)","v":48},{"$f":"ROUND( D$2+(('coded NOLH for 23-29 factors'!D46-1)*(D$3-D$2)/256), D$4)","v":223},{"$f":"ROUND( E$2+(('coded NOLH for 23-29 factors'!E46-1)*(E$3-E$2)/256), E$4)","v":219},{"$f":"ROUND( F$2+(('coded NOLH for 23-29 factors'!F46-1)*(F$3-F$2)/256), F$4)","v":82},{"$f":"ROUND( G$2+(('coded NOLH for 23-29 factors'!G46-1)*(G$3-G$2)/256), G$4)","v":146},{"$f":"ROUND( H$2+(('coded NOLH for 23-29 factors'!H46-1)*(H$3-H$2)/256), H$4)","v":101},{"$f":"ROUND( I$2+(('coded NOLH for 23-29 factors'!I46-1)*(I$3-I$2)/256), I$4)","v":159},{"$f":"ROUND( J$2+(('coded NOLH for 23-29 factors'!J46-1)*(J$3-J$2)/256), J$4)","v":251},{"$f":"ROUND( K$2+(('coded NOLH for 23-29 factors'!K46-1)*(K$3-K$2)/256), K$4)","v":183},{"$f":"ROUND( L$2+(('coded NOLH for 23-29 factors'!L46-1)*(L$3-L$2)/256), L$4)","v":128},{"$f":"ROUND( M$2+(('coded NOLH for 23-29 factors'!M46-1)*(M$3-M$2)/256), M$4)","v":166},{"$f":"ROUND( N$2+(('coded NOLH for 23-29 factors'!N46-1)*(N$3-N$2)/256), N$4)","v":58},{"$f":"ROUND( O$2+(('coded NOLH for 23-29 factors'!O46-1)*(O$3-O$2)/256), O$4)","v":177},{"$f":"ROUND( P$2+(('coded NOLH for 23-29 factors'!P46-1)*(P$3-P$2)/256), P$4)","v":44},{"$f":"ROUND( Q$2+(('coded NOLH for 23-29 factors'!Q46-1)*(Q$3-Q$2)/256), Q$4)","v":183},{"$f":"ROUND( R$2+(('coded NOLH for 23-29 factors'!R46-1)*(R$3-R$2)/256), R$4)","v":11},{"$f":"ROUND( S$2+(('coded NOLH for 23-29 factors'!S46-1)*(S$3-S$2)/256), S$4)","v":140},{"$f":"ROUND( T$2+(('coded NOLH for 23-29 factors'!T46-1)*(T$3-T$2)/256), T$4)","v":4},{"$f":"ROUND( U$2+(('coded NOLH for 23-29 factors'!U46-1)*(U$3-U$2)/256), U$4)","v":142},{"$f":"ROUND( V$2+(('coded NOLH for 23-29 factors'!V46-1)*(V$3-V$2)/256), V$4)","v":44},{"$f":"ROUND( W$2+(('coded NOLH for 23-29 factors'!W46-1)*(W$3-W$2)/256), W$4)","v":144},{"$f":"ROUND( X$2+(('coded NOLH for 23-29 factors'!X46-1)*(X$3-X$2)/256), X$4)","v":114},{"$f":"ROUND( Y$2+(('coded NOLH for 23-29 factors'!Y46-1)*(Y$3-Y$2)/256), Y$4)","v":227},{"$f":"ROUND( Z$2+(('coded NOLH for 23-29 factors'!Z46-1)*(Z$3-Z$2)/256), Z$4)","v":124},{"$f":"ROUND( AA$2+(('coded NOLH for 23-29 factors'!AA46-1)*(AA$3-AA$2)/256), AA$4)","v":139},{"$f":"ROUND( AB$2+(('coded NOLH for 23-29 factors'!AB46-1)*(AB$3-AB$2)/256), AB$4)","v":131},{"$f":"ROUND( AC$2+(('coded NOLH for 23-29 factors'!AC46-1)*(AC$3-AC$2)/256), AC$4)","v":3},{"$f":"ROUND( AD$2+(('coded NOLH for 23-29 factors'!AD46-1)*(AD$3-AD$2)/256), AD$4)","v":212}]
[null,{"$f":"ROUND( B$2+(('coded NOLH for 23-29 factors'!B47-1)*(B$3-B$2)/256), B$4)","v":35},{"$f":"ROUND( C$2+(('coded NOLH for 23-29 factors'!C47-1)*(C$3-C$2)/256), C$4)","v":253},{"$f":"ROUND( D$2+(('coded NOLH for 23-29 factors'!D47-1)*(D$3-D$2)/256), D$4)","v":57},{"$f":"ROUND( E$2+(('coded NOLH for 23-29 factors'!E47-1)*(E$3-E$2)/256), E$4)","v":224},{"$f":"ROUND( F$2+(('coded NOLH for 23-29 factors'!F47-1)*(F$3-F$2)/256), F$4)","v":102},{"$f":"ROUND( G$2+(('coded NOLH for 23-29 factors'!G47-1)*(G$3-G$2)/256), G$4)","v":251},{"$f":"ROUND( H$2+(('coded NOLH for 23-29 factors'!H47-1)*(H$3-H$2)/256), H$4)","v":128},{"$f":"ROUND( I$2+(('coded NOLH for 23-29 factors'!I47-1)*(I$3-I$2)/256), I$4)","v":243},{"$f":"ROUND( J$2+(('coded NOLH for 23-29 factors'!J47-1)*(J$3-J$2)/256), J$4)","v":234},{"$f":"ROUND( K$2+(('coded NOLH for 23-29 factors'!K47-1)*(K$3-K$2)/256), K$4)","v":73},{"$f":"ROUND( L$2+(('coded NOLH for 23-29 factors'!L47-1)*(L$3-L$2)/256), L$4)","v":169},{"$f":"ROUND( M$2+(('coded NOLH for 23-29 factors'!M47-1)*(M$3-M$2)/256), M$4)","v":49},{"$f":"ROUND( N$2+(('coded NOLH for 23-29 factors'!N47-1)*(N$3-N$2)/256), N$4)","v":179},{"$f":"ROUND( O$2+(('coded NOLH for 23-29 factors'!O47-1)*(O$3-O$2)/256), O$4)","v":108},{"$f":"ROUND( P$2+(('coded NOLH for 23-29 factors'!P47-1)*(P$3-P$2)/256), P$4)","v":206},{"$f":"ROUND( Q$2+(('coded NOLH for 23-29 factors'!Q47-1)*(Q$3-Q$2)/256), Q$4)","v":81},{"$f":"ROUND( R$2+(('coded NOLH for 23-29 factors'!R47-1)*(R$3-R$2)/256), R$4)","v":189},{"$f":"ROUND( S$2+(('coded NOLH for 23-29 factors'!S47-1)*(S$3-S$2)/256), S$4)","v":120},{"$f":"ROUND( T$2+(('coded NOLH for 23-29 factors'!T47-1)*(T$3-T$2)/256), T$4)","v":142},{"$f":"ROUND( U$2+(('coded NOLH for 23-29 factors'!U47-1)*(U$3-U$2)/256), U$4)","v":198},{"$f":"ROUND( V$2+(('coded NOLH for 23-29 factors'!V47-1)*(V$3-V$2)/256), V$4)","v":45},{"$f":"ROUND( W$2+(('coded NOLH for 23-29 factors'!W47-1)*(W$3-W$2)/256), W$4)","v":192},{"$f":"ROUND( X$2+(('coded NOLH for 23-29 factors'!X47-1)*(X$3-X$2)/256), X$4)","v":12},{"$f":"ROUND( Y$2+(('coded NOLH for 23-29 factors'!Y47-1)*(Y$3-Y$2)/256), Y$4)","v":229},{"$f":"ROUND( Z$2+(('coded NOLH for 23-29 factors'!Z47-1)*(Z$3-Z$2)/256), Z$4)","v":20},{"$f":"ROUND( AA$2+(('coded NOLH for 23-29 factors'!AA47-1)*(AA$3-AA$2)/256), AA$4)","v":130},{"$f":"ROUND( AB$2+(('coded NOLH for 23-29 factors'!AB47-1)*(AB$3-AB$2)/256), AB$4)","v":226},{"$f":"ROUND( AC$2+(('coded NOLH for 23-29 factors'!AC47-1)*(AC$3-AC$2)/256), AC$4)","v":88},{"$f":"ROUND( AD$2+(('coded NOLH for 23-29 factors'!AD47-1)*(AD$3-AD$2)/256), AD$4)","v":216}]
[null,{"$f":"ROUND( B$2+(('coded NOLH for 23-29 factors'!B48-1)*(B$3-B$2)/256), B$4)","v":5},{"$f":"ROUND( C$2+(('coded NOLH for 23-29 factors'!C48-1)*(C$3-C$2)/256), C$4)","v":35},{"$f":"ROUND( D$2+(('coded NOLH for 23-29 factors'!D48-1)*(D$3-D$2)/256), D$4)","v":48},{"$f":"ROUND( E$2+(('coded NOLH for 23-29 factors'!E48-1)*(E$3-E$2)/256), E$4)","v":200},{"$f":"ROUND( F$2+(('coded NOLH for 23-29 factors'!F48-1)*(F$3-F$2)/256), F$4)","v":79},{"$f":"ROUND( G$2+(('coded NOLH for 23-29 factors'!G48-1)*(G$3-G$2)/256), G$4)","v":198},{"$f":"ROUND( H$2+(('coded NOLH for 23-29 factors'!H48-1)*(H$3-H$2)/256), H$4)","v":86},{"$f":"ROUND( I$2+(('coded NOLH for 23-29 factors'!I48-1)*(I$3-I$2)/256), I$4)","v":161},{"$f":"ROUND( J$2+(('coded NOLH for 23-29 factors'!J48-1)*(J$3-J$2)/256), J$4)","v":67},{"$f":"ROUND( K$2+(('coded NOLH for 23-29 factors'!K48-1)*(K$3-K$2)/256), K$4)","v":237},{"$f":"ROUND( L$2+(('coded NOLH for 23-29 factors'!L48-1)*(L$3-L$2)/256), L$4)","v":108},{"$f":"ROUND( M$2+(('coded NOLH for 23-29 factors'!M48-1)*(M$3-M$2)/256), M$4)","v":251},{"$f":"ROUND( N$2+(('coded NOLH for 23-29 factors'!N48-1)*(N$3-N$2)/256), N$4)","v":135},{"$f":"ROUND( O$2+(('coded NOLH for 23-29 factors'!O48-1)*(O$3-O$2)/256), O$4)","v":251},{"$f":"ROUND( P$2+(('coded NOLH for 23-29 factors'!P48-1)*(P$3-P$2)/256), P$4)","v":204},{"$f":"ROUND( Q$2+(('coded NOLH for 23-29 factors'!Q48-1)*(Q$3-Q$2)/256), Q$4)","v":138},{"$f":"ROUND( R$2+(('coded NOLH for 23-29 factors'!R48-1)*(R$3-R$2)/256), R$4)","v":178},{"$f":"ROUND( S$2+(('coded NOLH for 23-29 factors'!S48-1)*(S$3-S$2)/256), S$4)","v":91},{"$f":"ROUND( T$2+(('coded NOLH for 23-29 factors'!T48-1)*(T$3-T$2)/256), T$4)","v":160},{"$f":"ROUND( U$2+(('coded NOLH for 23-29 factors'!U48-1)*(U$3-U$2)/256), U$4)","v":233},{"$f":"ROUND( V$2+(('coded NOLH for 23-29 factors'!V48-1)*(V$3-V$2)/256), V$4)","v":47},{"$f":"ROUND( W$2+(('coded NOLH for 23-29 factors'!W48-1)*(W$3-W$2)/256), W$4)","v":173},{"$f":"ROUND( X$2+(('coded NOLH for 23-29 factors'!X48-1)*(X$3-X$2)/256), X$4)","v":120},{"$f":"ROUND( Y$2+(('coded NOLH for 23-29 factors'!Y48-1)*(Y$3-Y$2)/256), Y$4)","v":185},{"$f":"ROUND( Z$2+(('coded NOLH for 23-29 factors'!Z48-1)*(Z$3-Z$2)/256), Z$4)","v":45},{"$f":"ROUND( AA$2+(('coded NOLH for 23-29 factors'!AA48-1)*(AA$3-AA$2)/256), AA$4)","v":213},{"$f":"ROUND( AB$2+(('coded NOLH for 23-29 factors'!AB48-1)*(AB$3-AB$2)/256), AB$4)","v":257},{"$f":"ROUND( AC$2+(('coded NOLH for 23-29 factors'!AC48-1)*(AC$3-AC$2)/256), AC$4)","v":92},{"$f":"ROUND( AD$2+(('coded NOLH for 23-29 factors'!AD48-1)*(AD$3-AD$2)/256), AD$4)","v":246}]
[null,{"$f":"ROUND( B$2+(('coded NOLH for 23-29 factors'!B49-1)*(B$3-B$2)/256), B$4)","v":58},{"$f":"ROUND( C$2+(('coded NOLH for 23-29 factors'!C49-1)*(C$3-C$2)/256), C$4)","v":224},{"$f":"ROUND( D$2+(('coded NOLH for 23-29 factors'!D49-1)*(D$3-D$2)/256), D$4)","v":165},{"$f":"ROUND( E$2+(('coded NOLH for 23-29 factors'!E49-1)*(E$3-E$2)/256), E$4)","v":5},{"$f":"ROUND( F$2+(('coded NOLH for 23-29 factors'!F49-1)*(F$3-F$2)/256), F$4)","v":43},{"$f":"ROUND( G$2+(('coded NOLH for 23-29 factors'!G49-1)*(G$3-G$2)/256), G$4)","v":166},{"$f":"ROUND( H$2+(('coded NOLH for 23-29 factors'!H49-1)*(H$3-H$2)/256), H$4)","v":53},{"$f":"ROUND( I$2+(('coded NOLH for 23-29 factors'!I49-1)*(I$3-I$2)/256), I$4)","v":131},{"$f":"ROUND( J$2+(('coded NOLH for 23-29 factors'!J49-1)*(J$3-J$2)/256), J$4)","v":51},{"$f":"ROUND( K$2+(('coded NOLH for 23-29 factors'!K49-1)*(K$3-K$2)/256), K$4)","v":245},{"$f":"ROUND( L$2+(('coded NOLH for 23-29 factors'!L49-1)*(L$3-L$2)/256), L$4)","v":182},{"$f":"ROUND( M$2+(('coded NOLH for 23-29 factors'!M49-1)*(M$3-M$2)/256), M$4)","v":13},{"$f":"ROUND( N$2+(('coded NOLH for 23-29 factors'!N49-1)*(N$3-N$2)/256), N$4)","v":214},{"$f":"ROUND( O$2+(('coded NOLH for 23-29 factors'!O49-1)*(O$3-O$2)/256), O$4)","v":10},{"$f":"ROUND( P$2+(('coded NOLH for 23-29 factors'!P49-1)*(P$3-P$2)/256), P$4)","v":184},{"$f":"ROUND( Q$2+(('coded NOLH for 23-29 factors'!Q49-1)*(Q$3-Q$2)/256), Q$4)","v":121},{"$f":"ROUND( R$2+(('coded NOLH for 23-29 factors'!R49-1)*(R$3-R$2)/256), R$4)","v":2},{"$f":"ROUND( S$2+(('coded NOLH for 23-29 factors'!S49-1)*(S$3-S$2)/256), S$4)","v":179},{"$f":"ROUND( T$2+(('coded NOLH for 23-29 factors'!T49-1)*(T$3-T$2)/256), T$4)","v":124},{"$f":"ROUND( U$2+(('coded NOLH for 23-29 factors'!U49-1)*(U$3-U$2)/256), U$4)","v":79},{"$f":"ROUND( V$2+(('coded NOLH for 23-29 factors'!V49-1)*(V$3-V$2)/256), V$4)","v":227},{"$f":"ROUND( W$2+(('coded NOLH for 23-29 factors'!W49-1)*(W$3-W$2)/256), W$4)","v":96},{"$f":"ROUND( X$2+(('coded NOLH for 23-29 factors'!X49-1)*(X$3-X$2)/256), X$4)","v":149},{"$f":"ROUND( Y$2+(('coded NOLH for 23-29 factors'!Y49-1)*(Y$3-Y$2)/256), Y$4)","v":226},{"$f":"ROUND( Z$2+(('coded NOLH for 23-29 factors'!Z49-1)*(Z$3-Z$2)/256), Z$4)","v":69},{"$f":"ROUND( AA$2+(('coded NOLH for 23-29 factors'!AA49-1)*(AA$3-AA$2)/256), AA$4)","v":230},{"$f":"ROUND( AB$2+(('coded NOLH for 23-29 factors'!AB49-1)*(AB$3-AB$2)/256), AB$4)","v":190},{"$f":"ROUND( AC$2+(('coded NOLH for 23-29 factors'!AC49-1)*(AC$3-AC$2)/256), AC$4)","v":64},{"$f":"ROUND( AD$2+(('coded NOLH for 23-29 factors'!AD49-1)*(AD$3-AD$2)/256), AD$4)","v":223}]
[null,{"$f":"ROUND( B$2+(('coded NOLH for 23-29 factors'!B50-1)*(B$3-B$2)/256), B$4)","v":34},{"$f":"ROUND( C$2+(('coded NOLH for 23-29 factors'!C50-1)*(C$3-C$2)/256), C$4)","v":58},{"$f":"ROUND( D$2+(('coded NOLH for 23-29 factors'!D50-1)*(D$3-D$2)/256), D$4)","v":219},{"$f":"ROUND( E$2+(('coded NOLH for 23-29 factors'!E50-1)*(E$3-E$2)/256), E$4)","v":35},{"$f":"ROUND( F$2+(('coded NOLH for 23-29 factors'!F50-1)*(F$3-F$2)/256), F$4)","v":65},{"$f":"ROUND( G$2+(('coded NOLH for 23-29 factors'!G50-1)*(G$3-G$2)/256), G$4)","v":254},{"$f":"ROUND( H$2+(('coded NOLH for 23-29 factors'!H50-1)*(H$3-H$2)/256), H$4)","v":52},{"$f":"ROUND( I$2+(('coded NOLH for 23-29 factors'!I50-1)*(I$3-I$2)/256), I$4)","v":232},{"$f":"ROUND( J$2+(('coded NOLH for 23-29 factors'!J50-1)*(J$3-J$2)/256), J$4)","v":206},{"$f":"ROUND( K$2+(('coded NOLH for 23-29 factors'!K50-1)*(K$3-K$2)/256), K$4)","v":34},{"$f":"ROUND( L$2+(('coded NOLH for 23-29 factors'!L50-1)*(L$3-L$2)/256), L$4)","v":19},{"$f":"ROUND( M$2+(('coded NOLH for 23-29 factors'!M50-1)*(M$3-M$2)/256), M$4)","v":173},{"$f":"ROUND( N$2+(('coded NOLH for 23-29 factors'!N50-1)*(N$3-N$2)/256), N$4)","v":65},{"$f":"ROUND( O$2+(('coded NOLH for 23-29 factors'!O50-1)*(O$3-O$2)/256), O$4)","v":124},{"$f":"ROUND( P$2+(('coded NOLH for 23-29 factors'!P50-1)*(P$3-P$2)/256), P$4)","v":231},{"$f":"ROUND( Q$2+(('coded NOLH for 23-29 factors'!Q50-1)*(Q$3-Q$2)/256), Q$4)","v":157},{"$f":"ROUND( R$2+(('coded NOLH for 23-29 factors'!R50-1)*(R$3-R$2)/256), R$4)","v":91},{"$f":"ROUND( S$2+(('coded NOLH for 23-29 factors'!S50-1)*(S$3-S$2)/256), S$4)","v":162},{"$f":"ROUND( T$2+(('coded NOLH for 23-29 factors'!T50-1)*(T$3-T$2)/256), T$4)","v":109},{"$f":"ROUND( U$2+(('coded NOLH for 23-29 factors'!U50-1)*(U$3-U$2)/256), U$4)","v":96},{"$f":"ROUND( V$2+(('coded NOLH for 23-29 factors'!V50-1)*(V$3-V$2)/256), V$4)","v":233},{"$f":"ROUND( W$2+(('coded NOLH for 23-29 factors'!W50-1)*(W$3-W$2)/256), W$4)","v":117},{"$f":"ROUND( X$2+(('coded NOLH for 23-29 factors'!X50-1)*(X$3-X$2)/256), X$4)","v":244},{"$f":"ROUND( Y$2+(('coded NOLH for 23-29 factors'!Y50-1)*(Y$3-Y$2)/256), Y$4)","v":257},{"$f":"ROUND( Z$2+(('coded NOLH for 23-29 factors'!Z50-1)*(Z$3-Z$2)/256), Z$4)","v":51},{"$f":"ROUND( AA$2+(('coded NOLH for 23-29 factors'!AA50-1)*(AA$3-AA$2)/256), AA$4)","v":145},{"$f":"ROUND( AB$2+(('coded NOLH for 23-29 factors'!AB50-1)*(AB$3-AB$2)/256), AB$4)","v":206},{"$f":"ROUND( AC$2+(('coded NOLH for 23-29 factors'!AC50-1)*(AC$3-AC$2)/256), AC$4)","v":37},{"$f":"ROUND( AD$2+(('coded NOLH for 23-29 factors'!AD50-1)*(AD$3-AD$2)/256), AD$4)","v":206}]
[null,{"$f":"ROUND( B$2+(('coded NOLH for 23-29 factors'!B51-1)*(B$3-B$2)/256), B$4)","v":39},{"$f":"ROUND( C$2+(('coded NOLH for 23-29 factors'!C51-1)*(C$3-C$2)/256), C$4)","v":165},{"$f":"ROUND( D$2+(('coded NOLH for 23-29 factors'!D51-1)*(D$3-D$2)/256), D$4)","v":34},{"$f":"ROUND( E$2+(('coded NOLH for 23-29 factors'!E51-1)*(E$3-E$2)/256), E$4)","v":57},{"$f":"ROUND( F$2+(('coded NOLH for 23-29 factors'!F51-1)*(F$3-F$2)/256), F$4)","v":85},{"$f":"ROUND( G$2+(('coded NOLH for 23-29 factors'!G51-1)*(G$3-G$2)/256), G$4)","v":196},{"$f":"ROUND( H$2+(('coded NOLH for 23-29 factors'!H51-1)*(H$3-H$2)/256), H$4)","v":122},{"$f":"ROUND( I$2+(('coded NOLH for 23-29 factors'!I51-1)*(I$3-I$2)/256), I$4)","v":152},{"$f":"ROUND( J$2+(('coded NOLH for 23-29 factors'!J51-1)*(J$3-J$2)/256), J$4)","v":221},{"$f":"ROUND( K$2+(('coded NOLH for 23-29 factors'!K51-1)*(K$3-K$2)/256), K$4)","v":216},{"$f":"ROUND( L$2+(('coded NOLH for 23-29 factors'!L51-1)*(L$3-L$2)/256), L$4)","v":119},{"$f":"ROUND( M$2+(('coded NOLH for 23-29 factors'!M51-1)*(M$3-M$2)/256), M$4)","v":33},{"$f":"ROUND( N$2+(('coded NOLH for 23-29 factors'!N51-1)*(N$3-N$2)/256), N$4)","v":192},{"$f":"ROUND( O$2+(('coded NOLH for 23-29 factors'!O51-1)*(O$3-O$2)/256), O$4)","v":121},{"$f":"ROUND( P$2+(('coded NOLH for 23-29 factors'!P51-1)*(P$3-P$2)/256), P$4)","v":13},{"$f":"ROUND( Q$2+(('coded NOLH for 23-29 factors'!Q51-1)*(Q$3-Q$2)/256), Q$4)","v":54},{"$f":"ROUND( R$2+(('coded NOLH for 23-29 factors'!R51-1)*(R$3-R$2)/256), R$4)","v":240},{"$f":"ROUND( S$2+(('coded NOLH for 23-29 factors'!S51-1)*(S$3-S$2)/256), S$4)","v":50},{"$f":"ROUND( T$2+(('coded NOLH for 23-29 factors'!T51-1)*(T$3-T$2)/256), T$4)","v":239},{"$f":"ROUND( U$2+(('coded NOLH for 23-29 factors'!U51-1)*(U$3-U$2)/256), U$4)","v":110},{"$f":"ROUND( V$2+(('coded NOLH for 23-29 factors'!V51-1)*(V$3-V$2)/256), V$4)","v":183},{"$f":"ROUND( W$2+(('coded NOLH for 23-29 factors'!W51-1)*(W$3-W$2)/256), W$4)","v":98},{"$f":"ROUND( X$2+(('coded NOLH for 23-29 factors'!X51-1)*(X$3-X$2)/256), X$4)","v":140},{"$f":"ROUND( Y$2+(('coded NOLH for 23-29 factors'!Y51-1)*(Y$3-Y$2)/256), Y$4)","v":225},{"$f":"ROUND( Z$2+(('coded NOLH for 23-29 factors'!Z51-1)*(Z$3-Z$2)/256), Z$4)","v":101},{"$f":"ROUND( AA$2+(('coded NOLH for 23-29 factors'!AA51-1)*(AA$3-AA$2)/256), AA$4)","v":127},{"$f":"ROUND( AB$2+(('coded NOLH for 23-29 factors'!AB51-1)*(AB$3-AB$2)/256), AB$4)","v":171},{"$f":"ROUND( AC$2+(('coded NOLH for 23-29 factors'!AC51-1)*(AC$3-AC$2)/256), AC$4)","v":12},{"$f":"ROUND( AD$2+(('coded NOLH for 23-29 factors'!AD51-1)*(AD$3-AD$2)/256), AD$4)","v":188}]
[null,{"$f":"ROUND( B$2+(('coded NOLH for 23-29 factors'!B52-1)*(B$3-B$2)/256), B$4)","v":93},{"$f":"ROUND( C$2+(('coded NOLH for 23-29 factors'!C52-1)*(C$3-C$2)/256), C$4)","v":39},{"$f":"ROUND( D$2+(('coded NOLH for 23-29 factors'!D52-1)*(D$3-D$2)/256), D$4)","v":58},{"$f":"ROUND( E$2+(('coded NOLH for 23-29 factors'!E52-1)*(E$3-E$2)/256), E$4)","v":48},{"$f":"ROUND( F$2+(('coded NOLH for 23-29 factors'!F52-1)*(F$3-F$2)/256), F$4)","v":119},{"$f":"ROUND( G$2+(('coded NOLH for 23-29 factors'!G52-1)*(G$3-G$2)/256), G$4)","v":241},{"$f":"ROUND( H$2+(('coded NOLH for 23-29 factors'!H52-1)*(H$3-H$2)/256), H$4)","v":72},{"$f":"ROUND( I$2+(('coded NOLH for 23-29 factors'!I52-1)*(I$3-I$2)/256), I$4)","v":141},{"$f":"ROUND( J$2+(('coded NOLH for 23-29 factors'!J52-1)*(J$3-J$2)/256), J$4)","v":54},{"$f":"ROUND( K$2+(('coded NOLH for 23-29 factors'!K52-1)*(K$3-K$2)/256), K$4)","v":62},{"$f":"ROUND( L$2+(('coded NOLH for 23-29 factors'!L52-1)*(L$3-L$2)/256), L$4)","v":68},{"$f":"ROUND( M$2+(('coded NOLH for 23-29 factors'!M52-1)*(M$3-M$2)/256), M$4)","v":227},{"$f":"ROUND( N$2+(('coded NOLH for 23-29 factors'!N52-1)*(N$3-N$2)/256), N$4)","v":134},{"$f":"ROUND( O$2+(('coded NOLH for 23-29 factors'!O52-1)*(O$3-O$2)/256), O$4)","v":163},{"$f":"ROUND( P$2+(('coded NOLH for 23-29 factors'!P52-1)*(P$3-P$2)/256), P$4)","v":12},{"$f":"ROUND( Q$2+(('coded NOLH for 23-29 factors'!Q52-1)*(Q$3-Q$2)/256), Q$4)","v":26},{"$f":"ROUND( R$2+(('coded NOLH for 23-29 factors'!R52-1)*(R$3-R$2)/256), R$4)","v":160},{"$f":"ROUND( S$2+(('coded NOLH for 23-29 factors'!S52-1)*(S$3-S$2)/256), S$4)","v":69},{"$f":"ROUND( T$2+(('coded NOLH for 23-29 factors'!T52-1)*(T$3-T$2)/256), T$4)","v":132},{"$f":"ROUND( U$2+(('coded NOLH for 23-29 factors'!U52-1)*(U$3-U$2)/256), U$4)","v":139},{"$f":"ROUND( V$2+(('coded NOLH for 23-29 factors'!V52-1)*(V$3-V$2)/256), V$4)","v":162},{"$f":"ROUND( W$2+(('coded NOLH for 23-29 factors'!W52-1)*(W$3-W$2)/256), W$4)","v":18},{"$f":"ROUND( X$2+(('coded NOLH for 23-29 factors'!X52-1)*(X$3-X$2)/256), X$4)","v":176},{"$f":"ROUND( Y$2+(('coded NOLH for 23-29 factors'!Y52-1)*(Y$3-Y$2)/256), Y$4)","v":243},{"$f":"ROUND( Z$2+(('coded NOLH for 23-29 factors'!Z52-1)*(Z$3-Z$2)/256), Z$4)","v":41},{"$f":"ROUND( AA$2+(('coded NOLH for 23-29 factors'!AA52-1)*(AA$3-AA$2)/256), AA$4)","v":217},{"$f":"ROUND( AB$2+(('coded NOLH for 23-29 factors'!AB52-1)*(AB$3-AB$2)/256), AB$4)","v":160},{"$f":"ROUND( AC$2+(('coded NOLH for 23-29 factors'!AC52-1)*(AC$3-AC$2)/256), AC$4)","v":139},{"$f":"ROUND( AD$2+(('coded NOLH for 23-29 factors'!AD52-1)*(AD$3-AD$2)/256), AD$4)","v":157}]
[null,{"$f":"ROUND( B$2+(('coded NOLH for 23-29 factors'!B53-1)*(B$3-B$2)/256), B$4)","v":17},{"$f":"ROUND( C$2+(('coded NOLH for 23-29 factors'!C53-1)*(C$3-C$2)/256), C$4)","v":196},{"$f":"ROUND( D$2+(('coded NOLH for 23-29 factors'!D53-1)*(D$3-D$2)/256), D$4)","v":166},{"$f":"ROUND( E$2+(('coded NOLH for 23-29 factors'!E53-1)*(E$3-E$2)/256), E$4)","v":190},{"$f":"ROUND( F$2+(('coded NOLH for 23-29 factors'!F53-1)*(F$3-F$2)/256), F$4)","v":257},{"$f":"ROUND( G$2+(('coded NOLH for 23-29 factors'!G53-1)*(G$3-G$2)/256), G$4)","v":93},{"$f":"ROUND( H$2+(('coded NOLH for 23-29 factors'!H53-1)*(H$3-H$2)/256), H$4)","v":96},{"$f":"ROUND( I$2+(('coded NOLH for 23-29 factors'!I53-1)*(I$3-I$2)/256), I$4)","v":135},{"$f":"ROUND( J$2+(('coded NOLH for 23-29 factors'!J53-1)*(J$3-J$2)/256), J$4)","v":3},{"$f":"ROUND( K$2+(('coded NOLH for 23-29 factors'!K53-1)*(K$3-K$2)/256), K$4)","v":98},{"$f":"ROUND( L$2+(('coded NOLH for 23-29 factors'!L53-1)*(L$3-L$2)/256), L$4)","v":20},{"$f":"ROUND( M$2+(('coded NOLH for 23-29 factors'!M53-1)*(M$3-M$2)/256), M$4)","v":224},{"$f":"ROUND( N$2+(('coded NOLH for 23-29 factors'!N53-1)*(N$3-N$2)/256), N$4)","v":185},{"$f":"ROUND( O$2+(('coded NOLH for 23-29 factors'!O53-1)*(O$3-O$2)/256), O$4)","v":28},{"$f":"ROUND( P$2+(('coded NOLH for 23-29 factors'!P53-1)*(P$3-P$2)/256), P$4)","v":69},{"$f":"ROUND( Q$2+(('coded NOLH for 23-29 factors'!Q53-1)*(Q$3-Q$2)/256), Q$4)","v":21},{"$f":"ROUND( R$2+(('coded NOLH for 23-29 factors'!R53-1)*(R$3-R$2)/256), R$4)","v":226},{"$f":"ROUND( S$2+(('coded NOLH for 23-29 factors'!S53-1)*(S$3-S$2)/256), S$4)","v":152},{"$f":"ROUND( T$2+(('coded NOLH for 23-29 factors'!T53-1)*(T$3-T$2)/256), T$4)","v":93},{"$f":"ROUND( U$2+(('coded NOLH for 23-29 factors'!U53-1)*(U$3-U$2)/256), U$4)","v":77},{"$f":"ROUND( V$2+(('coded NOLH for 23-29 factors'!V53-1)*(V$3-V$2)/256), V$4)","v":196},{"$f":"ROUND( W$2+(('coded NOLH for 23-29 factors'!W53-1)*(W$3-W$2)/256), W$4)","v":211},{"$f":"ROUND( X$2+(('coded NOLH for 23-29 factors'!X53-1)*(X$3-X$2)/256), X$4)","v":29},{"$f":"ROUND( Y$2+(('coded NOLH for 23-29 factors'!Y53-1)*(Y$3-Y$2)/256), Y$4)","v":145},{"$f":"ROUND( Z$2+(('coded NOLH for 23-29 factors'!Z53-1)*(Z$3-Z$2)/256), Z$4)","v":187},{"$f":"ROUND( AA$2+(('coded NOLH for 23-29 factors'!AA53-1)*(AA$3-AA$2)/256), AA$4)","v":52},{"$f":"ROUND( AB$2+(('coded NOLH for 23-29 factors'!AB53-1)*(AB$3-AB$2)/256), AB$4)","v":54},{"$f":"ROUND( AC$2+(('coded NOLH for 23-29 factors'!AC53-1)*(AC$3-AC$2)/256), AC$4)","v":165},{"$f":"ROUND( AD$2+(('coded NOLH for 23-29 factors'!AD53-1)*(AD$3-AD$2)/256), AD$4)","v":233}]
[null,{"$f":"ROUND( B$2+(('coded NOLH for 23-29 factors'!B54-1)*(B$3-B$2)/256), B$4)","v":62},{"$f":"ROUND( C$2+(('coded NOLH for 23-29 factors'!C54-1)*(C$3-C$2)/256), C$4)","v":17},{"$f":"ROUND( D$2+(('coded NOLH for 23-29 factors'!D54-1)*(D$3-D$2)/256), D$4)","v":254},{"$f":"ROUND( E$2+(('coded NOLH for 23-29 factors'!E54-1)*(E$3-E$2)/256), E$4)","v":146},{"$f":"ROUND( F$2+(('coded NOLH for 23-29 factors'!F54-1)*(F$3-F$2)/256), F$4)","v":250},{"$f":"ROUND( G$2+(('coded NOLH for 23-29 factors'!G54-1)*(G$3-G$2)/256), G$4)","v":39},{"$f":"ROUND( H$2+(('coded NOLH for 23-29 factors'!H54-1)*(H$3-H$2)/256), H$4)","v":73},{"$f":"ROUND( I$2+(('coded NOLH for 23-29 factors'!I54-1)*(I$3-I$2)/256), I$4)","v":237},{"$f":"ROUND( J$2+(('coded NOLH for 23-29 factors'!J54-1)*(J$3-J$2)/256), J$4)","v":155},{"$f":"ROUND( K$2+(('coded NOLH for 23-29 factors'!K54-1)*(K$3-K$2)/256), K$4)","v":168},{"$f":"ROUND( L$2+(('coded NOLH for 23-29 factors'!L54-1)*(L$3-L$2)/256), L$4)","v":257},{"$f":"ROUND( M$2+(('coded NOLH for 23-29 factors'!M54-1)*(M$3-M$2)/256), M$4)","v":74},{"$f":"ROUND( N$2+(('coded NOLH for 23-29 factors'!N54-1)*(N$3-N$2)/256), N$4)","v":89},{"$f":"ROUND( O$2+(('coded NOLH for 23-29 factors'!O54-1)*(O$3-O$2)/256), O$4)","v":127},{"$f":"ROUND( P$2+(('coded NOLH for 23-29 factors'!P54-1)*(P$3-P$2)/256), P$4)","v":3},{"$f":"ROUND( Q$2+(('coded NOLH for 23-29 factors'!Q54-1)*(Q$3-Q$2)/256), Q$4)","v":13},{"$f":"ROUND( R$2+(('coded NOLH for 23-29 factors'!R54-1)*(R$3-R$2)/256), R$4)","v":210},{"$f":"ROUND( S$2+(('coded NOLH for 23-29 factors'!S54-1)*(S$3-S$2)/256), S$4)","v":255},{"$f":"ROUND( T$2+(('coded NOLH for 23-29 factors'!T54-1)*(T$3-T$2)/256), T$4)","v":65},{"$f":"ROUND( U$2+(('coded NOLH for 23-29 factors'!U54-1)*(U$3-U$2)/256), U$4)","v":39},{"$f":"ROUND( V$2+(('coded NOLH for 23-29 factors'!V54-1)*(V$3-V$2)/256), V$4)","v":194},{"$f":"ROUND( W$2+(('coded NOLH for 23-29 factors'!W54-1)*(W$3-W$2)/256), W$4)","v":158},{"$f":"ROUND( X$2+(('coded NOLH for 23-29 factors'!X54-1)*(X$3-X$2)/256), X$4)","v":42},{"$f":"ROUND( Y$2+(('coded NOLH for 23-29 factors'!Y54-1)*(Y$3-Y$2)/256), Y$4)","v":213},{"$f":"ROUND( Z$2+(('coded NOLH for 23-29 factors'!Z54-1)*(Z$3-Z$2)/256), Z$4)","v":242},{"$f":"ROUND( AA$2+(('coded NOLH for 23-29 factors'!AA54-1)*(AA$3-AA$2)/256), AA$4)","v":115},{"$f":"ROUND( AB$2+(('coded NOLH for 23-29 factors'!AB54-1)*(AB$3-AB$2)/256), AB$4)","v":96},{"$f":"ROUND( AC$2+(('coded NOLH for 23-29 factors'!AC54-1)*(AC$3-AC$2)/256), AC$4)","v":161},{"$f":"ROUND( AD$2+(('coded NOLH for 23-29 factors'!AD54-1)*(AD$3-AD$2)/256), AD$4)","v":185}]
[null,{"$f":"ROUND( B$2+(('coded NOLH for 23-29 factors'!B55-1)*(B$3-B$2)/256), B$4)","v":4},{"$f":"ROUND( C$2+(('coded NOLH for 23-29 factors'!C55-1)*(C$3-C$2)/256), C$4)","v":166},{"$f":"ROUND( D$2+(('coded NOLH for 23-29 factors'!D55-1)*(D$3-D$2)/256), D$4)","v":62},{"$f":"ROUND( E$2+(('coded NOLH for 23-29 factors'!E55-1)*(E$3-E$2)/256), E$4)","v":251},{"$f":"ROUND( F$2+(('coded NOLH for 23-29 factors'!F55-1)*(F$3-F$2)/256), F$4)","v":242},{"$f":"ROUND( G$2+(('coded NOLH for 23-29 factors'!G55-1)*(G$3-G$2)/256), G$4)","v":34},{"$f":"ROUND( H$2+(('coded NOLH for 23-29 factors'!H55-1)*(H$3-H$2)/256), H$4)","v":11},{"$f":"ROUND( I$2+(('coded NOLH for 23-29 factors'!I55-1)*(I$3-I$2)/256), I$4)","v":221},{"$f":"ROUND( J$2+(('coded NOLH for 23-29 factors'!J55-1)*(J$3-J$2)/256), J$4)","v":228},{"$f":"ROUND( K$2+(('coded NOLH for 23-29 factors'!K55-1)*(K$3-K$2)/256), K$4)","v":24},{"$f":"ROUND( L$2+(('coded NOLH for 23-29 factors'!L55-1)*(L$3-L$2)/256), L$4)","v":44},{"$f":"ROUND( M$2+(('coded NOLH for 23-29 factors'!M55-1)*(M$3-M$2)/256), M$4)","v":211},{"$f":"ROUND( N$2+(('coded NOLH for 23-29 factors'!N55-1)*(N$3-N$2)/256), N$4)","v":174},{"$f":"ROUND( O$2+(('coded NOLH for 23-29 factors'!O55-1)*(O$3-O$2)/256), O$4)","v":103},{"$f":"ROUND( P$2+(('coded NOLH for 23-29 factors'!P55-1)*(P$3-P$2)/256), P$4)","v":162},{"$f":"ROUND( Q$2+(('coded NOLH for 23-29 factors'!Q55-1)*(Q$3-Q$2)/256), Q$4)","v":235},{"$f":"ROUND( R$2+(('coded NOLH for 23-29 factors'!R55-1)*(R$3-R$2)/256), R$4)","v":72},{"$f":"ROUND( S$2+(('coded NOLH for 23-29 factors'!S55-1)*(S$3-S$2)/256), S$4)","v":53},{"$f":"ROUND( T$2+(('coded NOLH for 23-29 factors'!T55-1)*(T$3-T$2)/256), T$4)","v":240},{"$f":"ROUND( U$2+(('coded NOLH for 23-29 factors'!U55-1)*(U$3-U$2)/256), U$4)","v":35},{"$f":"ROUND( V$2+(('coded NOLH for 23-29 factors'!V55-1)*(V$3-V$2)/256), V$4)","v":215},{"$f":"ROUND( W$2+(('coded NOLH for 23-29 factors'!W55-1)*(W$3-W$2)/256), W$4)","v":227},{"$f":"ROUND( X$2+(('coded NOLH for 23-29 factors'!X55-1)*(X$3-X$2)/256), X$4)","v":72},{"$f":"ROUND( Y$2+(('coded NOLH for 23-29 factors'!Y55-1)*(Y$3-Y$2)/256), Y$4)","v":230},{"$f":"ROUND( Z$2+(('coded NOLH for 23-29 factors'!Z55-1)*(Z$3-Z$2)/256), Z$4)","v":203},{"$f":"ROUND( AA$2+(('coded NOLH for 23-29 factors'!AA55-1)*(AA$3-AA$2)/256), AA$4)","v":80},{"$f":"ROUND( AB$2+(('coded NOLH for 23-29 factors'!AB55-1)*(AB$3-AB$2)/256), AB$4)","v":31},{"$f":"ROUND( AC$2+(('coded NOLH for 23-29 factors'!AC55-1)*(AC$3-AC$2)/256), AC$4)","v":254},{"$f":"ROUND( AD$2+(('coded NOLH for 23-29 factors'!AD55-1)*(AD$3-AD$2)/256), AD$4)","v":146}]
[null,{"$f":"ROUND( B$2+(('coded NOLH for 23-29 factors'!B56-1)*(B$3-B$2)/256), B$4)","v":92},{"$f":"ROUND( C$2+(('coded NOLH for 23-29 factors'!C56-1)*(C$3-C$2)/256), C$4)","v":4},{"$f":"ROUND( D$2+(('coded NOLH for 23-29 factors'!D56-1)*(D$3-D$2)/256), D$4)","v":17},{"$f":"ROUND( E$2+(('coded NOLH for 23-29 factors'!E56-1)*(E$3-E$2)/256), E$4)","v":198},{"$f":"ROUND( F$2+(('coded NOLH for 23-29 factors'!F56-1)*(F$3-F$2)/256), F$4)","v":226},{"$f":"ROUND( G$2+(('coded NOLH for 23-29 factors'!G56-1)*(G$3-G$2)/256), G$4)","v":58},{"$f":"ROUND( H$2+(('coded NOLH for 23-29 factors'!H56-1)*(H$3-H$2)/256), H$4)","v":70},{"$f":"ROUND( I$2+(('coded NOLH for 23-29 factors'!I56-1)*(I$3-I$2)/256), I$4)","v":167},{"$f":"ROUND( J$2+(('coded NOLH for 23-29 factors'!J56-1)*(J$3-J$2)/256), J$4)","v":42},{"$f":"ROUND( K$2+(('coded NOLH for 23-29 factors'!K56-1)*(K$3-K$2)/256), K$4)","v":217},{"$f":"ROUND( L$2+(('coded NOLH for 23-29 factors'!L56-1)*(L$3-L$2)/256), L$4)","v":253},{"$f":"ROUND( M$2+(('coded NOLH for 23-29 factors'!M56-1)*(M$3-M$2)/256), M$4)","v":43},{"$f":"ROUND( N$2+(('coded NOLH for 23-29 factors'!N56-1)*(N$3-N$2)/256), N$4)","v":4},{"$f":"ROUND( O$2+(('coded NOLH for 23-29 factors'!O56-1)*(O$3-O$2)/256), O$4)","v":229},{"$f":"ROUND( P$2+(('coded NOLH for 23-29 factors'!P56-1)*(P$3-P$2)/256), P$4)","v":163},{"$f":"ROUND( Q$2+(('coded NOLH for 23-29 factors'!Q56-1)*(Q$3-Q$2)/256), Q$4)","v":257},{"$f":"ROUND( R$2+(('coded NOLH for 23-29 factors'!R56-1)*(R$3-R$2)/256), R$4)","v":77},{"$f":"ROUND( S$2+(('coded NOLH for 23-29 factors'!S56-1)*(S$3-S$2)/256), S$4)","v":107},{"$f":"ROUND( T$2+(('coded NOLH for 23-29 factors'!T56-1)*(T$3-T$2)/256), T$4)","v":151},{"$f":"ROUND( U$2+(('coded NOLH for 23-29 factors'!U56-1)*(U$3-U$2)/256), U$4)","v":97},{"$f":"ROUND( V$2+(('coded NOLH for 23-29 factors'!V56-1)*(V$3-V$2)/256), V$4)","v":212},{"$f":"ROUND( W$2+(('coded NOLH for 23-29 factors'!W56-1)*(W$3-W$2)/256), W$4)","v":257},{"$f":"ROUND( X$2+(('coded NOLH for 23-29 factors'!X56-1)*(X$3-X$2)/256), X$4)","v":127},{"$f":"ROUND( Y$2+(('coded NOLH for 23-29 factors'!Y56-1)*(Y$3-Y$2)/256), Y$4)","v":216},{"$f":"ROUND( Z$2+(('coded NOLH for 23-29 factors'!Z56-1)*(Z$3-Z$2)/256), Z$4)","v":147},{"$f":"ROUND( AA$2+(('coded NOLH for 23-29 factors'!AA56-1)*(AA$3-AA$2)/256), AA$4)","v":74},{"$f":"ROUND( AB$2+(('coded NOLH for 23-29 factors'!AB56-1)*(AB$3-AB$2)/256), AB$4)","v":120},{"$f":"ROUND( AC$2+(('coded NOLH for 23-29 factors'!AC56-1)*(AC$3-AC$2)/256), AC$4)","v":127},{"$f":"ROUND( AD$2+(('coded NOLH for 23-29 factors'!AD56-1)*(AD$3-AD$2)/256), AD$4)","v":163}]
[null,{"$f":"ROUND( B$2+(('coded NOLH for 23-29 factors'!B57-1)*(B$3-B$2)/256), B$4)","v":60},{"$f":"ROUND( C$2+(('coded NOLH for 23-29 factors'!C57-1)*(C$3-C$2)/256), C$4)","v":251},{"$f":"ROUND( D$2+(('coded NOLH for 23-29 factors'!D57-1)*(D$3-D$2)/256), D$4)","v":190},{"$f":"ROUND( E$2+(('coded NOLH for 23-29 factors'!E57-1)*(E$3-E$2)/256), E$4)","v":92},{"$f":"ROUND( F$2+(('coded NOLH for 23-29 factors'!F57-1)*(F$3-F$2)/256), F$4)","v":194},{"$f":"ROUND( G$2+(('coded NOLH for 23-29 factors'!G57-1)*(G$3-G$2)/256), G$4)","v":5},{"$f":"ROUND( H$2+(('coded NOLH for 23-29 factors'!H57-1)*(H$3-H$2)/256), H$4)","v":19},{"$f":"ROUND( I$2+(('coded NOLH for 23-29 factors'!I57-1)*(I$3-I$2)/256), I$4)","v":143},{"$f":"ROUND( J$2+(('coded NOLH for 23-29 factors'!J57-1)*(J$3-J$2)/256), J$4)","v":105},{"$f":"ROUND( K$2+(('coded NOLH for 23-29 factors'!K57-1)*(K$3-K$2)/256), K$4)","v":238},{"$f":"ROUND( L$2+(('coded NOLH for 23-29 factors'!L57-1)*(L$3-L$2)/256), L$4)","v":73},{"$f":"ROUND( M$2+(('coded NOLH for 23-29 factors'!M57-1)*(M$3-M$2)/256), M$4)","v":237},{"$f":"ROUND( N$2+(('coded NOLH for 23-29 factors'!N57-1)*(N$3-N$2)/256), N$4)","v":219},{"$f":"ROUND( O$2+(('coded NOLH for 23-29 factors'!O57-1)*(O$3-O$2)/256), O$4)","v":80},{"$f":"ROUND( P$2+(('coded NOLH for 23-29 factors'!P57-1)*(P$3-P$2)/256), P$4)","v":253},{"$f":"ROUND( Q$2+(('coded NOLH for 23-29 factors'!Q57-1)*(Q$3-Q$2)/256), Q$4)","v":46},{"$f":"ROUND( R$2+(('coded NOLH for 23-29 factors'!R57-1)*(R$3-R$2)/256), R$4)","v":205},{"$f":"ROUND( S$2+(('coded NOLH for 23-29 factors'!S57-1)*(S$3-S$2)/256), S$4)","v":225},{"$f":"ROUND( T$2+(('coded NOLH for 23-29 factors'!T57-1)*(T$3-T$2)/256), T$4)","v":57},{"$f":"ROUND( U$2+(('coded NOLH for 23-29 factors'!U57-1)*(U$3-U$2)/256), U$4)","v":183},{"$f":"ROUND( V$2+(('coded NOLH for 23-29 factors'!V57-1)*(V$3-V$2)/256), V$4)","v":61},{"$f":"ROUND( W$2+(('coded NOLH for 23-29 factors'!W57-1)*(W$3-W$2)/256), W$4)","v":59},{"$f":"ROUND( X$2+(('coded NOLH for 23-29 factors'!X57-1)*(X$3-X$2)/256), X$4)","v":165},{"$f":"ROUND( Y$2+(('coded NOLH for 23-29 factors'!Y57-1)*(Y$3-Y$2)/256), Y$4)","v":188},{"$f":"ROUND( Z$2+(('coded NOLH for 23-29 factors'!Z57-1)*(Z$3-Z$2)/256), Z$4)","v":158},{"$f":"ROUND( AA$2+(('coded NOLH for 23-29 factors'!AA57-1)*(AA$3-AA$2)/256), AA$4)","v":36},{"$f":"ROUND( AB$2+(('coded NOLH for 23-29 factors'!AB57-1)*(AB$3-AB$2)/256), AB$4)","v":46},{"$f":"ROUND( AC$2+(('coded NOLH for 23-29 factors'!AC57-1)*(AC$3-AC$2)/256), AC$4)","v":124},{"$f":"ROUND( AD$2+(('coded NOLH for 23-29 factors'!AD57-1)*(AD$3-AD$2)/256), AD$4)","v":194}]
[null,{"$f":"ROUND( B$2+(('coded NOLH for 23-29 factors'!B58-1)*(B$3-B$2)/256), B$4)","v":7},{"$f":"ROUND( C$2+(('coded NOLH for 23-29 factors'!C58-1)*(C$3-C$2)/256), C$4)","v":60},{"$f":"ROUND( D$2+(('coded NOLH for 23-29 factors'!D58-1)*(D$3-D$2)/256), D$4)","v":146},{"$f":"ROUND( E$2+(('coded NOLH for 23-29 factors'!E58-1)*(E$3-E$2)/256), E$4)","v":4},{"$f":"ROUND( F$2+(('coded NOLH for 23-29 factors'!F58-1)*(F$3-F$2)/256), F$4)","v":189},{"$f":"ROUND( G$2+(('coded NOLH for 23-29 factors'!G58-1)*(G$3-G$2)/256), G$4)","v":35},{"$f":"ROUND( H$2+(('coded NOLH for 23-29 factors'!H58-1)*(H$3-H$2)/256), H$4)","v":36},{"$f":"ROUND( I$2+(('coded NOLH for 23-29 factors'!I58-1)*(I$3-I$2)/256), I$4)","v":168},{"$f":"ROUND( J$2+(('coded NOLH for 23-29 factors'!J58-1)*(J$3-J$2)/256), J$4)","v":189},{"$f":"ROUND( K$2+(('coded NOLH for 23-29 factors'!K58-1)*(K$3-K$2)/256), K$4)","v":71},{"$f":"ROUND( L$2+(('coded NOLH for 23-29 factors'!L58-1)*(L$3-L$2)/256), L$4)","v":186},{"$f":"ROUND( M$2+(('coded NOLH for 23-29 factors'!M58-1)*(M$3-M$2)/256), M$4)","v":29},{"$f":"ROUND( N$2+(('coded NOLH for 23-29 factors'!N58-1)*(N$3-N$2)/256), N$4)","v":7},{"$f":"ROUND( O$2+(('coded NOLH for 23-29 factors'!O58-1)*(O$3-O$2)/256), O$4)","v":138},{"$f":"ROUND( P$2+(('coded NOLH for 23-29 factors'!P58-1)*(P$3-P$2)/256), P$4)","v":175},{"$f":"ROUND( Q$2+(('coded NOLH for 23-29 factors'!Q58-1)*(Q$3-Q$2)/256), Q$4)","v":33},{"$f":"ROUND( R$2+(('coded NOLH for 23-29 factors'!R58-1)*(R$3-R$2)/256), R$4)","v":211},{"$f":"ROUND( S$2+(('coded NOLH for 23-29 factors'!S58-1)*(S$3-S$2)/256), S$4)","v":133},{"$f":"ROUND( T$2+(('coded NOLH for 23-29 factors'!T58-1)*(T$3-T$2)/256), T$4)","v":49},{"$f":"ROUND( U$2+(('coded NOLH for 23-29 factors'!U58-1)*(U$3-U$2)/256), U$4)","v":250},{"$f":"ROUND( V$2+(('coded NOLH for 23-29 factors'!V58-1)*(V$3-V$2)/256), V$4)","v":16},{"$f":"ROUND( W$2+(('coded NOLH for 23-29 factors'!W58-1)*(W$3-W$2)/256), W$4)","v":21},{"$f":"ROUND( X$2+(('coded NOLH for 23-29 factors'!X58-1)*(X$3-X$2)/256), X$4)","v":231},{"$f":"ROUND( Y$2+(('coded NOLH for 23-29 factors'!Y58-1)*(Y$3-Y$2)/256), Y$4)","v":166},{"$f":"ROUND( Z$2+(('coded NOLH for 23-29 factors'!Z58-1)*(Z$3-Z$2)/256), Z$4)","v":138},{"$f":"ROUND( AA$2+(('coded NOLH for 23-29 factors'!AA58-1)*(AA$3-AA$2)/256), AA$4)","v":57},{"$f":"ROUND( AB$2+(('coded NOLH for 23-29 factors'!AB58-1)*(AB$3-AB$2)/256), AB$4)","v":85},{"$f":"ROUND( AC$2+(('coded NOLH for 23-29 factors'!AC58-1)*(AC$3-AC$2)/256), AC$4)","v":247},{"$f":"ROUND( AD$2+(('coded NOLH for 23-29 factors'!AD58-1)*(AD$3-AD$2)/256), AD$4)","v":197}]
[null,{"$f":"ROUND( B$2+(('coded NOLH for 23-29 factors'!B59-1)*(B$3-B$2)/256), B$4)","v":112},{"$f":"ROUND( C$2+(('coded NOLH for 23-29 factors'!C59-1)*(C$3-C$2)/256), C$4)","v":190},{"$f":"ROUND( D$2+(('coded NOLH for 23-29 factors'!D59-1)*(D$3-D$2)/256), D$4)","v":7},{"$f":"ROUND( E$2+(('coded NOLH for 23-29 factors'!E59-1)*(E$3-E$2)/256), E$4)","v":62},{"$f":"ROUND( F$2+(('coded NOLH for 23-29 factors'!F59-1)*(F$3-F$2)/256), F$4)","v":197},{"$f":"ROUND( G$2+(('coded NOLH for 23-29 factors'!G59-1)*(G$3-G$2)/256), G$4)","v":57},{"$f":"ROUND( H$2+(('coded NOLH for 23-29 factors'!H59-1)*(H$3-H$2)/256), H$4)","v":125},{"$f":"ROUND( I$2+(('coded NOLH for 23-29 factors'!I59-1)*(I$3-I$2)/256), I$4)","v":255},{"$f":"ROUND( J$2+(('coded NOLH for 23-29 factors'!J59-1)*(J$3-J$2)/256), J$4)","v":205},{"$f":"ROUND( K$2+(('coded NOLH for 23-29 factors'!K59-1)*(K$3-K$2)/256), K$4)","v":214},{"$f":"ROUND( L$2+(('coded NOLH for 23-29 factors'!L59-1)*(L$3-L$2)/256), L$4)","v":59},{"$f":"ROUND( M$2+(('coded NOLH for 23-29 factors'!M59-1)*(M$3-M$2)/256), M$4)","v":234},{"$f":"ROUND( N$2+(('coded NOLH for 23-29 factors'!N59-1)*(N$3-N$2)/256), N$4)","v":228},{"$f":"ROUND( O$2+(('coded NOLH for 23-29 factors'!O59-1)*(O$3-O$2)/256), O$4)","v":54},{"$f":"ROUND( P$2+(('coded NOLH for 23-29 factors'!P59-1)*(P$3-P$2)/256), P$4)","v":31},{"$f":"ROUND( Q$2+(('coded NOLH for 23-29 factors'!Q59-1)*(Q$3-Q$2)/256), Q$4)","v":162},{"$f":"ROUND( R$2+(('coded NOLH for 23-29 factors'!R59-1)*(R$3-R$2)/256), R$4)","v":12},{"$f":"ROUND( S$2+(('coded NOLH for 23-29 factors'!S59-1)*(S$3-S$2)/256), S$4)","v":20},{"$f":"ROUND( T$2+(('coded NOLH for 23-29 factors'!T59-1)*(T$3-T$2)/256), T$4)","v":168},{"$f":"ROUND( U$2+(('coded NOLH for 23-29 factors'!U59-1)*(U$3-U$2)/256), U$4)","v":243},{"$f":"ROUND( V$2+(('coded NOLH for 23-29 factors'!V59-1)*(V$3-V$2)/256), V$4)","v":50},{"$f":"ROUND( W$2+(('coded NOLH for 23-29 factors'!W59-1)*(W$3-W$2)/256), W$4)","v":57},{"$f":"ROUND( X$2+(('coded NOLH for 23-29 factors'!X59-1)*(X$3-X$2)/256), X$4)","v":208},{"$f":"ROUND( Y$2+(('coded NOLH for 23-29 factors'!Y59-1)*(Y$3-Y$2)/256), Y$4)","v":143},{"$f":"ROUND( Z$2+(('coded NOLH for 23-29 factors'!Z59-1)*(Z$3-Z$2)/256), Z$4)","v":239},{"$f":"ROUND( AA$2+(('coded NOLH for 23-29 factors'!AA59-1)*(AA$3-AA$2)/256), AA$4)","v":27},{"$f":"ROUND( AB$2+(('coded NOLH for 23-29 factors'!AB59-1)*(AB$3-AB$2)/256), AB$4)","v":81},{"$f":"ROUND( AC$2+(('coded NOLH for 23-29 factors'!AC59-1)*(AC$3-AC$2)/256), AC$4)","v":149},{"$f":"ROUND( AD$2+(('coded NOLH for 23-29 factors'!AD59-1)*(AD$3-AD$2)/256), AD$4)","v":147}]
[null,{"$f":"ROUND( B$2+(('coded NOLH for 23-29 factors'!B60-1)*(B$3-B$2)/256), B$4)","v":68},{"$f":"ROUND( C$2+(('coded NOLH for 23-29 factors'!C60-1)*(C$3-C$2)/256), C$4)","v":112},{"$f":"ROUND( D$2+(('coded NOLH for 23-29 factors'!D60-1)*(D$3-D$2)/256), D$4)","v":60},{"$f":"ROUND( E$2+(('coded NOLH for 23-29 factors'!E60-1)*(E$3-E$2)/256), E$4)","v":17},{"$f":"ROUND( F$2+(('coded NOLH for 23-29 factors'!F60-1)*(F$3-F$2)/256), F$4)","v":180},{"$f":"ROUND( G$2+(('coded NOLH for 23-29 factors'!G60-1)*(G$3-G$2)/256), G$4)","v":48},{"$f":"ROUND( H$2+(('coded NOLH for 23-29 factors'!H60-1)*(H$3-H$2)/256), H$4)","v":20},{"$f":"ROUND( I$2+(('coded NOLH for 23-29 factors'!I60-1)*(I$3-I$2)/256), I$4)","v":218},{"$f":"ROUND( J$2+(('coded NOLH for 23-29 factors'!J60-1)*(J$3-J$2)/256), J$4)","v":10},{"$f":"ROUND( K$2+(('coded NOLH for 23-29 factors'!K60-1)*(K$3-K$2)/256), K$4)","v":32},{"$f":"ROUND( L$2+(('coded NOLH for 23-29 factors'!L60-1)*(L$3-L$2)/256), L$4)","v":187},{"$f":"ROUND( M$2+(('coded NOLH for 23-29 factors'!M60-1)*(M$3-M$2)/256), M$4)","v":89},{"$f":"ROUND( N$2+(('coded NOLH for 23-29 factors'!N60-1)*(N$3-N$2)/256), N$4)","v":114},{"$f":"ROUND( O$2+(('coded NOLH for 23-29 factors'!O60-1)*(O$3-O$2)/256), O$4)","v":257},{"$f":"ROUND( P$2+(('coded NOLH for 23-29 factors'!P60-1)*(P$3-P$2)/256), P$4)","v":89},{"$f":"ROUND( Q$2+(('coded NOLH for 23-29 factors'!Q60-1)*(Q$3-Q$2)/256), Q$4)","v":143},{"$f":"ROUND( R$2+(('coded NOLH for 23-29 factors'!R60-1)*(R$3-R$2)/256), R$4)","v":14},{"$f":"ROUND( S$2+(('coded NOLH for 23-29 factors'!S60-1)*(S$3-S$2)/256), S$4)","v":35},{"$f":"ROUND( T$2+(('coded NOLH for 23-29 factors'!T60-1)*(T$3-T$2)/256), T$4)","v":181},{"$f":"ROUND( U$2+(('coded NOLH for 23-29 factors'!U60-1)*(U$3-U$2)/256), U$4)","v":252},{"$f":"ROUND( V$2+(('coded NOLH for 23-29 factors'!V60-1)*(V$3-V$2)/256), V$4)","v":35},{"$f":"ROUND( W$2+(('coded NOLH for 23-29 factors'!W60-1)*(W$3-W$2)/256), W$4)","v":123},{"$f":"ROUND( X$2+(('coded NOLH for 23-29 factors'!X60-1)*(X$3-X$2)/256), X$4)","v":119},{"$f":"ROUND( Y$2+(('coded NOLH for 23-29 factors'!Y60-1)*(Y$3-Y$2)/256), Y$4)","v":126},{"$f":"ROUND( Z$2+(('coded NOLH for 23-29 factors'!Z60-1)*(Z$3-Z$2)/256), Z$4)","v":174},{"$f":"ROUND( AA$2+(('coded NOLH for 23-29 factors'!AA60-1)*(AA$3-AA$2)/256), AA$4)","v":96},{"$f":"ROUND( AB$2+(('coded NOLH for 23-29 factors'!AB60-1)*(AB$3-AB$2)/256), AB$4)","v":56},{"$f":"ROUND( AC$2+(('coded NOLH for 23-29 factors'!AC60-1)*(AC$3-AC$2)/256), AC$4)","v":188},{"$f":"ROUND( AD$2+(('coded NOLH for 23-29 factors'!AD60-1)*(AD$3-AD$2)/256), AD$4)","v":240}]
[null,{"$f":"ROUND( B$2+(('coded NOLH for 23-29 factors'!B61-1)*(B$3-B$2)/256), B$4)","v":78},{"$f":"ROUND( C$2+(('coded NOLH for 23-29 factors'!C61-1)*(C$3-C$2)/256), C$4)","v":197},{"$f":"ROUND( D$2+(('coded NOLH for 23-29 factors'!D61-1)*(D$3-D$2)/256), D$4)","v":194},{"$f":"ROUND( E$2+(('coded NOLH for 23-29 factors'!E61-1)*(E$3-E$2)/256), E$4)","v":257},{"$f":"ROUND( F$2+(('coded NOLH for 23-29 factors'!F61-1)*(F$3-F$2)/256), F$4)","v":68},{"$f":"ROUND( G$2+(('coded NOLH for 23-29 factors'!G61-1)*(G$3-G$2)/256), G$4)","v":120},{"$f":"ROUND( H$2+(('coded NOLH for 23-29 factors'!H61-1)*(H$3-H$2)/256), H$4)","v":100},{"$f":"ROUND( I$2+(('coded NOLH for 23-29 factors'!I61-1)*(I$3-I$2)/256), I$4)","v":195},{"$f":"ROUND( J$2+(('coded NOLH for 23-29 factors'!J61-1)*(J$3-J$2)/256), J$4)","v":65},{"$f":"ROUND( K$2+(('coded NOLH for 23-29 factors'!K61-1)*(K$3-K$2)/256), K$4)","v":10},{"$f":"ROUND( L$2+(('coded NOLH for 23-29 factors'!L61-1)*(L$3-L$2)/256), L$4)","v":157},{"$f":"ROUND( M$2+(('coded NOLH for 23-29 factors'!M61-1)*(M$3-M$2)/256), M$4)","v":143},{"$f":"ROUND( N$2+(('coded NOLH for 23-29 factors'!N61-1)*(N$3-N$2)/256), N$4)","v":239},{"$f":"ROUND( O$2+(('coded NOLH for 23-29 factors'!O61-1)*(O$3-O$2)/256), O$4)","v":40},{"$f":"ROUND( P$2+(('coded NOLH for 23-29 factors'!P61-1)*(P$3-P$2)/256), P$4)","v":36},{"$f":"ROUND( Q$2+(('coded NOLH for 23-29 factors'!Q61-1)*(Q$3-Q$2)/256), Q$4)","v":186},{"$f":"ROUND( R$2+(('coded NOLH for 23-29 factors'!R61-1)*(R$3-R$2)/256), R$4)","v":234},{"$f":"ROUND( S$2+(('coded NOLH for 23-29 factors'!S61-1)*(S$3-S$2)/256), S$4)","v":161},{"$f":"ROUND( T$2+(('coded NOLH for 23-29 factors'!T61-1)*(T$3-T$2)/256), T$4)","v":15},{"$f":"ROUND( U$2+(('coded NOLH for 23-29 factors'!U61-1)*(U$3-U$2)/256), U$4)","v":251},{"$f":"ROUND( V$2+(('coded NOLH for 23-29 factors'!V61-1)*(V$3-V$2)/256), V$4)","v":145},{"$f":"ROUND( W$2+(('coded NOLH for 23-29 factors'!W61-1)*(W$3-W$2)/256), W$4)","v":152},{"$f":"ROUND( X$2+(('coded NOLH for 23-29 factors'!X61-1)*(X$3-X$2)/256), X$4)","v":25},{"$f":"ROUND( Y$2+(('coded NOLH for 23-29 factors'!Y61-1)*(Y$3-Y$2)/256), Y$4)","v":91},{"$f":"ROUND( Z$2+(('coded NOLH for 23-29 factors'!Z61-1)*(Z$3-Z$2)/256), Z$4)","v":57},{"$f":"ROUND( AA$2+(('coded NOLH for 23-29 factors'!AA61-1)*(AA$3-AA$2)/256), AA$4)","v":248},{"$f":"ROUND( AB$2+(('coded NOLH for 23-29 factors'!AB61-1)*(AB$3-AB$2)/256), AB$4)","v":78},{"$f":"ROUND( AC$2+(('coded NOLH for 23-29 factors'!AC61-1)*(AC$3-AC$2)/256), AC$4)","v":177},{"$f":"ROUND( AD$2+(('coded NOLH for 23-29 factors'!AD61-1)*(AD$3-AD$2)/256), AD$4)","v":155}]
[null,{"$f":"ROUND( B$2+(('coded NOLH for 23-29 factors'!B62-1)*(B$3-B$2)/256), B$4)","v":61},{"$f":"ROUND( C$2+(('coded NOLH for 23-29 factors'!C62-1)*(C$3-C$2)/256), C$4)","v":78},{"$f":"ROUND( D$2+(('coded NOLH for 23-29 factors'!D62-1)*(D$3-D$2)/256), D$4)","v":189},{"$f":"ROUND( E$2+(('coded NOLH for 23-29 factors'!E62-1)*(E$3-E$2)/256), E$4)","v":250},{"$f":"ROUND( F$2+(('coded NOLH for 23-29 factors'!F62-1)*(F$3-F$2)/256), F$4)","v":112},{"$f":"ROUND( G$2+(('coded NOLH for 23-29 factors'!G62-1)*(G$3-G$2)/256), G$4)","v":82},{"$f":"ROUND( H$2+(('coded NOLH for 23-29 factors'!H62-1)*(H$3-H$2)/256), H$4)","v":12},{"$f":"ROUND( I$2+(('coded NOLH for 23-29 factors'!I62-1)*(I$3-I$2)/256), I$4)","v":211},{"$f":"ROUND( J$2+(('coded NOLH for 23-29 factors'!J62-1)*(J$3-J$2)/256), J$4)","v":187},{"$f":"ROUND( K$2+(('coded NOLH for 23-29 factors'!K62-1)*(K$3-K$2)/256), K$4)","v":256},{"$f":"ROUND( L$2+(('coded NOLH for 23-29 factors'!L62-1)*(L$3-L$2)/256), L$4)","v":87},{"$f":"ROUND( M$2+(('coded NOLH for 23-29 factors'!M62-1)*(M$3-M$2)/256), M$4)","v":103},{"$f":"ROUND( N$2+(('coded NOLH for 23-29 factors'!N62-1)*(N$3-N$2)/256), N$4)","v":98},{"$f":"ROUND( O$2+(('coded NOLH for 23-29 factors'!O62-1)*(O$3-O$2)/256), O$4)","v":184},{"$f":"ROUND( P$2+(('coded NOLH for 23-29 factors'!P62-1)*(P$3-P$2)/256), P$4)","v":18},{"$f":"ROUND( Q$2+(('coded NOLH for 23-29 factors'!Q62-1)*(Q$3-Q$2)/256), Q$4)","v":256},{"$f":"ROUND( R$2+(('coded NOLH for 23-29 factors'!R62-1)*(R$3-R$2)/256), R$4)","v":156},{"$f":"ROUND( S$2+(('coded NOLH for 23-29 factors'!S62-1)*(S$3-S$2)/256), S$4)","v":137},{"$f":"ROUND( T$2+(('coded NOLH for 23-29 factors'!T62-1)*(T$3-T$2)/256), T$4)","v":36},{"$f":"ROUND( U$2+(('coded NOLH for 23-29 factors'!U62-1)*(U$3-U$2)/256), U$4)","v":185},{"$f":"ROUND( V$2+(('coded NOLH for 23-29 factors'!V62-1)*(V$3-V$2)/256), V$4)","v":138},{"$f":"ROUND( W$2+(('coded NOLH for 23-29 factors'!W62-1)*(W$3-W$2)/256), W$4)","v":243},{"$f":"ROUND( X$2+(('coded NOLH for 23-29 factors'!X62-1)*(X$3-X$2)/256), X$4)","v":96},{"$f":"ROUND( Y$2+(('coded NOLH for 23-29 factors'!Y62-1)*(Y$3-Y$2)/256), Y$4)","v":74},{"$f":"ROUND( Z$2+(('coded NOLH for 23-29 factors'!Z62-1)*(Z$3-Z$2)/256), Z$4)","v":121},{"$f":"ROUND( AA$2+(('coded NOLH for 23-29 factors'!AA62-1)*(AA$3-AA$2)/256), AA$4)","v":225},{"$f":"ROUND( AB$2+(('coded NOLH for 23-29 factors'!AB62-1)*(AB$3-AB$2)/256), AB$4)","v":145},{"$f":"ROUND( AC$2+(('coded NOLH for 23-29 factors'!AC62-1)*(AC$3-AC$2)/256), AC$4)","v":163},{"$f":"ROUND( AD$2+(('coded NOLH for 23-29 factors'!AD62-1)*(AD$3-AD$2)/256), AD$4)","v":170}]
[null,{"$f":"ROUND( B$2+(('coded NOLH for 23-29 factors'!B63-1)*(B$3-B$2)/256), B$4)","v":69},{"$f":"ROUND( C$2+(('coded NOLH for 23-29 factors'!C63-1)*(C$3-C$2)/256), C$4)","v":194},{"$f":"ROUND( D$2+(('coded NOLH for 23-29 factors'!D63-1)*(D$3-D$2)/256), D$4)","v":61},{"$f":"ROUND( E$2+(('coded NOLH for 23-29 factors'!E63-1)*(E$3-E$2)/256), E$4)","v":242},{"$f":"ROUND( F$2+(('coded NOLH for 23-29 factors'!F63-1)*(F$3-F$2)/256), F$4)","v":7},{"$f":"ROUND( G$2+(('coded NOLH for 23-29 factors'!G63-1)*(G$3-G$2)/256), G$4)","v":102},{"$f":"ROUND( H$2+(('coded NOLH for 23-29 factors'!H63-1)*(H$3-H$2)/256), H$4)","v":114},{"$f":"ROUND( I$2+(('coded NOLH for 23-29 factors'!I63-1)*(I$3-I$2)/256), I$4)","v":213},{"$f":"ROUND( J$2+(('coded NOLH for 23-29 factors'!J63-1)*(J$3-J$2)/256), J$4)","v":182},{"$f":"ROUND( K$2+(('coded NOLH for 23-29 factors'!K63-1)*(K$3-K$2)/256), K$4)","v":38},{"$f":"ROUND( L$2+(('coded NOLH for 23-29 factors'!L63-1)*(L$3-L$2)/256), L$4)","v":206},{"$f":"ROUND( M$2+(('coded NOLH for 23-29 factors'!M63-1)*(M$3-M$2)/256), M$4)","v":170},{"$f":"ROUND( N$2+(('coded NOLH for 23-29 factors'!N63-1)*(N$3-N$2)/256), N$4)","v":148},{"$f":"ROUND( O$2+(('coded NOLH for 23-29 factors'!O63-1)*(O$3-O$2)/256), O$4)","v":22},{"$f":"ROUND( P$2+(('coded NOLH for 23-29 factors'!P63-1)*(P$3-P$2)/256), P$4)","v":256},{"$f":"ROUND( Q$2+(('coded NOLH for 23-29 factors'!Q63-1)*(Q$3-Q$2)/256), Q$4)","v":113},{"$f":"ROUND( R$2+(('coded NOLH for 23-29 factors'!R63-1)*(R$3-R$2)/256), R$4)","v":135},{"$f":"ROUND( S$2+(('coded NOLH for 23-29 factors'!S63-1)*(S$3-S$2)/256), S$4)","v":17},{"$f":"ROUND( T$2+(('coded NOLH for 23-29 factors'!T63-1)*(T$3-T$2)/256), T$4)","v":211},{"$f":"ROUND( U$2+(('coded NOLH for 23-29 factors'!U63-1)*(U$3-U$2)/256), U$4)","v":255},{"$f":"ROUND( V$2+(('coded NOLH for 23-29 factors'!V63-1)*(V$3-V$2)/256), V$4)","v":244},{"$f":"ROUND( W$2+(('coded NOLH for 23-29 factors'!W63-1)*(W$3-W$2)/256), W$4)","v":215},{"$f":"ROUND( X$2+(('coded NOLH for 23-29 factors'!X63-1)*(X$3-X$2)/256), X$4)","v":41},{"$f":"ROUND( Y$2+(('coded NOLH for 23-29 factors'!Y63-1)*(Y$3-Y$2)/256), Y$4)","v":67},{"$f":"ROUND( Z$2+(('coded NOLH for 23-29 factors'!Z63-1)*(Z$3-Z$2)/256), Z$4)","v":29},{"$f":"ROUND( AA$2+(('coded NOLH for 23-29 factors'!AA63-1)*(AA$3-AA$2)/256), AA$4)","v":193},{"$f":"ROUND( AB$2+(('coded NOLH for 23-29 factors'!AB63-1)*(AB$3-AB$2)/256), AB$4)","v":42},{"$f":"ROUND( AC$2+(('coded NOLH for 23-29 factors'!AC63-1)*(AC$3-AC$2)/256), AC$4)","v":141},{"$f":"ROUND( AD$2+(('coded NOLH for 23-29 factors'!AD63-1)*(AD$3-AD$2)/256), AD$4)","v":218}]
[null,{"$f":"ROUND( B$2+(('coded NOLH for 23-29 factors'!B64-1)*(B$3-B$2)/256), B$4)","v":64},{"$f":"ROUND( C$2+(('coded NOLH for 23-29 factors'!C64-1)*(C$3-C$2)/256), C$4)","v":69},{"$f":"ROUND( D$2+(('coded NOLH for 23-29 factors'!D64-1)*(D$3-D$2)/256), D$4)","v":78},{"$f":"ROUND( E$2+(('coded NOLH for 23-29 factors'!E64-1)*(E$3-E$2)/256), E$4)","v":226},{"$f":"ROUND( F$2+(('coded NOLH for 23-29 factors'!F64-1)*(F$3-F$2)/256), F$4)","v":60},{"$f":"ROUND( G$2+(('coded NOLH for 23-29 factors'!G64-1)*(G$3-G$2)/256), G$4)","v":79},{"$f":"ROUND( H$2+(('coded NOLH for 23-29 factors'!H64-1)*(H$3-H$2)/256), H$4)","v":95},{"$f":"ROUND( I$2+(('coded NOLH for 23-29 factors'!I64-1)*(I$3-I$2)/256), I$4)","v":230},{"$f":"ROUND( J$2+(('coded NOLH for 23-29 factors'!J64-1)*(J$3-J$2)/256), J$4)","v":50},{"$f":"ROUND( K$2+(('coded NOLH for 23-29 factors'!K64-1)*(K$3-K$2)/256), K$4)","v":246},{"$f":"ROUND( L$2+(('coded NOLH for 23-29 factors'!L64-1)*(L$3-L$2)/256), L$4)","v":11},{"$f":"ROUND( M$2+(('coded NOLH for 23-29 factors'!M64-1)*(M$3-M$2)/256), M$4)","v":83},{"$f":"ROUND( N$2+(('coded NOLH for 23-29 factors'!N64-1)*(N$3-N$2)/256), N$4)","v":104},{"$f":"ROUND( O$2+(('coded NOLH for 23-29 factors'!O64-1)*(O$3-O$2)/256), O$4)","v":205},{"$f":"ROUND( P$2+(('coded NOLH for 23-29 factors'!P64-1)*(P$3-P$2)/256), P$4)","v":257},{"$f":"ROUND( Q$2+(('coded NOLH for 23-29 factors'!Q64-1)*(Q$3-Q$2)/256), Q$4)","v":78},{"$f":"ROUND( R$2+(('coded NOLH for 23-29 factors'!R64-1)*(R$3-R$2)/256), R$4)","v":136},{"$f":"ROUND( S$2+(('coded NOLH for 23-29 factors'!S64-1)*(S$3-S$2)/256), S$4)","v":100},{"$f":"ROUND( T$2+(('coded NOLH for 23-29 factors'!T64-1)*(T$3-T$2)/256), T$4)","v":179},{"$f":"ROUND( U$2+(('coded NOLH for 23-29 factors'!U64-1)*(U$3-U$2)/256), U$4)","v":163},{"$f":"ROUND( V$2+(('coded NOLH for 23-29 factors'!V64-1)*(V$3-V$2)/256), V$4)","v":180},{"$f":"ROUND( W$2+(('coded NOLH for 23-29 factors'!W64-1)*(W$3-W$2)/256), W$4)","v":149},{"$f":"ROUND( X$2+(('coded NOLH for 23-29 factors'!X64-1)*(X$3-X$2)/256), X$4)","v":39},{"$f":"ROUND( Y$2+(('coded NOLH for 23-29 factors'!Y64-1)*(Y$3-Y$2)/256), Y$4)","v":18},{"$f":"ROUND( Z$2+(('coded NOLH for 23-29 factors'!Z64-1)*(Z$3-Z$2)/256), Z$4)","v":11},{"$f":"ROUND( AA$2+(('coded NOLH for 23-29 factors'!AA64-1)*(AA$3-AA$2)/256), AA$4)","v":141},{"$f":"ROUND( AB$2+(('coded NOLH for 23-29 factors'!AB64-1)*(AB$3-AB$2)/256), AB$4)","v":115},{"$f":"ROUND( AC$2+(('coded NOLH for 23-29 factors'!AC64-1)*(AC$3-AC$2)/256), AC$4)","v":199},{"$f":"ROUND( AD$2+(('coded NOLH for 23-29 factors'!AD64-1)*(AD$3-AD$2)/256), AD$4)","v":166}]
[null,{"$f":"ROUND( B$2+(('coded NOLH for 23-29 factors'!B65-1)*(B$3-B$2)/256), B$4)","v":32},{"$f":"ROUND( C$2+(('coded NOLH for 23-29 factors'!C65-1)*(C$3-C$2)/256), C$4)","v":242},{"$f":"ROUND( D$2+(('coded NOLH for 23-29 factors'!D65-1)*(D$3-D$2)/256), D$4)","v":257},{"$f":"ROUND( E$2+(('coded NOLH for 23-29 factors'!E65-1)*(E$3-E$2)/256), E$4)","v":64},{"$f":"ROUND( F$2+(('coded NOLH for 23-29 factors'!F65-1)*(F$3-F$2)/256), F$4)","v":92},{"$f":"ROUND( G$2+(('coded NOLH for 23-29 factors'!G65-1)*(G$3-G$2)/256), G$4)","v":43},{"$f":"ROUND( H$2+(('coded NOLH for 23-29 factors'!H65-1)*(H$3-H$2)/256), H$4)","v":105},{"$f":"ROUND( I$2+(('coded NOLH for 23-29 factors'!I65-1)*(I$3-I$2)/256), I$4)","v":181},{"$f":"ROUND( J$2+(('coded NOLH for 23-29 factors'!J65-1)*(J$3-J$2)/256), J$4)","v":8},{"$f":"ROUND( K$2+(('coded NOLH for 23-29 factors'!K65-1)*(K$3-K$2)/256), K$4)","v":186},{"$f":"ROUND( L$2+(('coded NOLH for 23-29 factors'!L65-1)*(L$3-L$2)/256), L$4)","v":255},{"$f":"ROUND( M$2+(('coded NOLH for 23-29 factors'!M65-1)*(M$3-M$2)/256), M$4)","v":182},{"$f":"ROUND( N$2+(('coded NOLH for 23-29 factors'!N65-1)*(N$3-N$2)/256), N$4)","v":212},{"$f":"ROUND( O$2+(('coded NOLH for 23-29 factors'!O65-1)*(O$3-O$2)/256), O$4)","v":34},{"$f":"ROUND( P$2+(('coded NOLH for 23-29 factors'!P65-1)*(P$3-P$2)/256), P$4)","v":191},{"$f":"ROUND( Q$2+(('coded NOLH for 23-29 factors'!Q65-1)*(Q$3-Q$2)/256), Q$4)","v":227},{"$f":"ROUND( R$2+(('coded NOLH for 23-29 factors'!R65-1)*(R$3-R$2)/256), R$4)","v":127},{"$f":"ROUND( S$2+(('coded NOLH for 23-29 factors'!S65-1)*(S$3-S$2)/256), S$4)","v":164},{"$f":"ROUND( T$2+(('coded NOLH for 23-29 factors'!T65-1)*(T$3-T$2)/256), T$4)","v":31},{"$f":"ROUND( U$2+(('coded NOLH for 23-29 factors'!U65-1)*(U$3-U$2)/256), U$4)","v":27},{"$f":"ROUND( V$2+(('coded NOLH for 23-29 factors'!V65-1)*(V$3-V$2)/256), V$4)","v":83},{"$f":"ROUND( W$2+(('coded NOLH for 23-29 factors'!W65-1)*(W$3-W$2)/256), W$4)","v":115},{"$f":"ROUND( X$2+(('coded NOLH for 23-29 factors'!X65-1)*(X$3-X$2)/256), X$4)","v":256},{"$f":"ROUND( Y$2+(('coded NOLH for 23-29 factors'!Y65-1)*(Y$3-Y$2)/256), Y$4)","v":55},{"$f":"ROUND( Z$2+(('coded NOLH for 23-29 factors'!Z65-1)*(Z$3-Z$2)/256), Z$4)","v":91},{"$f":"ROUND( AA$2+(('coded NOLH for 23-29 factors'!AA65-1)*(AA$3-AA$2)/256), AA$4)","v":165},{"$f":"ROUND( AB$2+(('coded NOLH for 23-29 factors'!AB65-1)*(AB$3-AB$2)/256), AB$4)","v":29},{"$f":"ROUND( AC$2+(('coded NOLH for 23-29 factors'!AC65-1)*(AC$3-AC$2)/256), AC$4)","v":244},{"$f":"ROUND( AD$2+(('coded NOLH for 23-29 factors'!AD65-1)*(AD$3-AD$2)/256), AD$4)","v":253}]
[null,{"$f":"ROUND( B$2+(('coded NOLH for 23-29 factors'!B66-1)*(B$3-B$2)/256), B$4)","v":16},{"$f":"ROUND( C$2+(('coded NOLH for 23-29 factors'!C66-1)*(C$3-C$2)/256), C$4)","v":32},{"$f":"ROUND( D$2+(('coded NOLH for 23-29 factors'!D66-1)*(D$3-D$2)/256), D$4)","v":250},{"$f":"ROUND( E$2+(('coded NOLH for 23-29 factors'!E66-1)*(E$3-E$2)/256), E$4)","v":69},{"$f":"ROUND( F$2+(('coded NOLH for 23-29 factors'!F66-1)*(F$3-F$2)/256), F$4)","v":4},{"$f":"ROUND( G$2+(('coded NOLH for 23-29 factors'!G66-1)*(G$3-G$2)/256), G$4)","v":65},{"$f":"ROUND( H$2+(('coded NOLH for 23-29 factors'!H66-1)*(H$3-H$2)/256), H$4)","v":42},{"$f":"ROUND( I$2+(('coded NOLH for 23-29 factors'!I66-1)*(I$3-I$2)/256), I$4)","v":207},{"$f":"ROUND( J$2+(('coded NOLH for 23-29 factors'!J66-1)*(J$3-J$2)/256), J$4)","v":254},{"$f":"ROUND( K$2+(('coded NOLH for 23-29 factors'!K66-1)*(K$3-K$2)/256), K$4)","v":81},{"$f":"ROUND( L$2+(('coded NOLH for 23-29 factors'!L66-1)*(L$3-L$2)/256), L$4)","v":88},{"$f":"ROUND( M$2+(('coded NOLH for 23-29 factors'!M66-1)*(M$3-M$2)/256), M$4)","v":27},{"$f":"ROUND( N$2+(('coded NOLH for 23-29 factors'!N66-1)*(N$3-N$2)/256), N$4)","v":100},{"$f":"ROUND( O$2+(('coded NOLH for 23-29 factors'!O66-1)*(O$3-O$2)/256), O$4)","v":153},{"$f":"ROUND( P$2+(('coded NOLH for 23-29 factors'!P66-1)*(P$3-P$2)/256), P$4)","v":224},{"$f":"ROUND( Q$2+(('coded NOLH for 23-29 factors'!Q66-1)*(Q$3-Q$2)/256), Q$4)","v":166},{"$f":"ROUND( R$2+(('coded NOLH for 23-29 factors'!R66-1)*(R$3-R$2)/256), R$4)","v":192},{"$f":"ROUND( S$2+(('coded NOLH for 23-29 factors'!S66-1)*(S$3-S$2)/256), S$4)","v":243},{"$f":"ROUND( T$2+(('coded NOLH for 23-29 factors'!T66-1)*(T$3-T$2)/256), T$4)","v":108},{"$f":"ROUND( U$2+(('coded NOLH for 23-29 factors'!U66-1)*(U$3-U$2)/256), U$4)","v":1},{"$f":"ROUND( V$2+(('coded NOLH for 23-29 factors'!V66-1)*(V$3-V$2)/256), V$4)","v":92},{"$f":"ROUND( W$2+(('coded NOLH for 23-29 factors'!W66-1)*(W$3-W$2)/256), W$4)","v":136},{"$f":"ROUND( X$2+(('coded NOLH for 23-29 factors'!X66-1)*(X$3-X$2)/256), X$4)","v":223},{"$f":"ROUND( Y$2+(('coded NOLH for 23-29 factors'!Y66-1)*(Y$3-Y$2)/256), Y$4)","v":86},{"$f":"ROUND( Z$2+(('coded NOLH for 23-29 factors'!Z66-1)*(Z$3-Z$2)/256), Z$4)","v":3},{"$f":"ROUND( AA$2+(('coded NOLH for 23-29 factors'!AA66-1)*(AA$3-AA$2)/256), AA$4)","v":233},{"$f":"ROUND( AB$2+(('coded NOLH for 23-29 factors'!AB66-1)*(AB$3-AB$2)/256), AB$4)","v":5},{"$f":"ROUND( AC$2+(('coded NOLH for 23-29 factors'!AC66-1)*(AC$3-AC$2)/256), AC$4)","v":147},{"$f":"ROUND( AD$2+(('coded NOLH for 23-29 factors'!AD66-1)*(AD$3-AD$2)/256), AD$4)","v":257}]
[null,{"$f":"ROUND( B$2+(('coded NOLH for 23-29 factors'!B67-1)*(B$3-B$2)/256), B$4)","v":8},{"$f":"ROUND( C$2+(('coded NOLH for 23-29 factors'!C67-1)*(C$3-C$2)/256), C$4)","v":257},{"$f":"ROUND( D$2+(('coded NOLH for 23-29 factors'!D67-1)*(D$3-D$2)/256), D$4)","v":16},{"$f":"ROUND( E$2+(('coded NOLH for 23-29 factors'!E67-1)*(E$3-E$2)/256), E$4)","v":61},{"$f":"ROUND( F$2+(('coded NOLH for 23-29 factors'!F67-1)*(F$3-F$2)/256), F$4)","v":62},{"$f":"ROUND( G$2+(('coded NOLH for 23-29 factors'!G67-1)*(G$3-G$2)/256), G$4)","v":85},{"$f":"ROUND( H$2+(('coded NOLH for 23-29 factors'!H67-1)*(H$3-H$2)/256), H$4)","v":31},{"$f":"ROUND( I$2+(('coded NOLH for 23-29 factors'!I67-1)*(I$3-I$2)/256), I$4)","v":164},{"$f":"ROUND( J$2+(('coded NOLH for 23-29 factors'!J67-1)*(J$3-J$2)/256), J$4)","v":237},{"$f":"ROUND( K$2+(('coded NOLH for 23-29 factors'!K67-1)*(K$3-K$2)/256), K$4)","v":173},{"$f":"ROUND( L$2+(('coded NOLH for 23-29 factors'!L67-1)*(L$3-L$2)/256), L$4)","v":234},{"$f":"ROUND( M$2+(('coded NOLH for 23-29 factors'!M67-1)*(M$3-M$2)/256), M$4)","v":174},{"$f":"ROUND( N$2+(('coded NOLH for 23-29 factors'!N67-1)*(N$3-N$2)/256), N$4)","v":142},{"$f":"ROUND( O$2+(('coded NOLH for 23-29 factors'!O67-1)*(O$3-O$2)/256), O$4)","v":20},{"$f":"ROUND( P$2+(('coded NOLH for 23-29 factors'!P67-1)*(P$3-P$2)/256), P$4)","v":68},{"$f":"ROUND( Q$2+(('coded NOLH for 23-29 factors'!Q67-1)*(Q$3-Q$2)/256), Q$4)","v":3},{"$f":"ROUND( R$2+(('coded NOLH for 23-29 factors'!R67-1)*(R$3-R$2)/256), R$4)","v":75},{"$f":"ROUND( S$2+(('coded NOLH for 23-29 factors'!S67-1)*(S$3-S$2)/256), S$4)","v":45},{"$f":"ROUND( T$2+(('coded NOLH for 23-29 factors'!T67-1)*(T$3-T$2)/256), T$4)","v":242},{"$f":"ROUND( U$2+(('coded NOLH for 23-29 factors'!U67-1)*(U$3-U$2)/256), U$4)","v":109},{"$f":"ROUND( V$2+(('coded NOLH for 23-29 factors'!V67-1)*(V$3-V$2)/256), V$4)","v":144},{"$f":"ROUND( W$2+(('coded NOLH for 23-29 factors'!W67-1)*(W$3-W$2)/256), W$4)","v":8},{"$f":"ROUND( X$2+(('coded NOLH for 23-29 factors'!X67-1)*(X$3-X$2)/256), X$4)","v":207},{"$f":"ROUND( Y$2+(('coded NOLH for 23-29 factors'!Y67-1)*(Y$3-Y$2)/256), Y$4)","v":10},{"$f":"ROUND( Z$2+(('coded NOLH for 23-29 factors'!Z67-1)*(Z$3-Z$2)/256), Z$4)","v":36},{"$f":"ROUND( AA$2+(('coded NOLH for 23-29 factors'!AA67-1)*(AA$3-AA$2)/256), AA$4)","v":235},{"$f":"ROUND( AB$2+(('coded NOLH for 23-29 factors'!AB67-1)*(AB$3-AB$2)/256), AB$4)","v":102},{"$f":"ROUND( AC$2+(('coded NOLH for 23-29 factors'!AC67-1)*(AC$3-AC$2)/256), AC$4)","v":126},{"$f":"ROUND( AD$2+(('coded NOLH for 23-29 factors'!AD67-1)*(AD$3-AD$2)/256), AD$4)","v":201}]
[null,{"$f":"ROUND( B$2+(('coded NOLH for 23-29 factors'!B68-1)*(B$3-B$2)/256), B$4)","v":1},{"$f":"ROUND( C$2+(('coded NOLH for 23-29 factors'!C68-1)*(C$3-C$2)/256), C$4)","v":8},{"$f":"ROUND( D$2+(('coded NOLH for 23-29 factors'!D68-1)*(D$3-D$2)/256), D$4)","v":32},{"$f":"ROUND( E$2+(('coded NOLH for 23-29 factors'!E68-1)*(E$3-E$2)/256), E$4)","v":78},{"$f":"ROUND( F$2+(('coded NOLH for 23-29 factors'!F68-1)*(F$3-F$2)/256), F$4)","v":17},{"$f":"ROUND( G$2+(('coded NOLH for 23-29 factors'!G68-1)*(G$3-G$2)/256), G$4)","v":119},{"$f":"ROUND( H$2+(('coded NOLH for 23-29 factors'!H68-1)*(H$3-H$2)/256), H$4)","v":103},{"$f":"ROUND( I$2+(('coded NOLH for 23-29 factors'!I68-1)*(I$3-I$2)/256), I$4)","v":235},{"$f":"ROUND( J$2+(('coded NOLH for 23-29 factors'!J68-1)*(J$3-J$2)/256), J$4)","v":22},{"$f":"ROUND( K$2+(('coded NOLH for 23-29 factors'!K68-1)*(K$3-K$2)/256), K$4)","v":58},{"$f":"ROUND( L$2+(('coded NOLH for 23-29 factors'!L68-1)*(L$3-L$2)/256), L$4)","v":47},{"$f":"ROUND( M$2+(('coded NOLH for 23-29 factors'!M68-1)*(M$3-M$2)/256), M$4)","v":96},{"$f":"ROUND( N$2+(('coded NOLH for 23-29 factors'!N68-1)*(N$3-N$2)/256), N$4)","v":23},{"$f":"ROUND( O$2+(('coded NOLH for 23-29 factors'!O68-1)*(O$3-O$2)/256), O$4)","v":158},{"$f":"ROUND( P$2+(('coded NOLH for 23-29 factors'!P68-1)*(P$3-P$2)/256), P$4)","v":105},{"$f":"ROUND( Q$2+(('coded NOLH for 23-29 factors'!Q68-1)*(Q$3-Q$2)/256), Q$4)","v":88},{"$f":"ROUND( R$2+(('coded NOLH for 23-29 factors'!R68-1)*(R$3-R$2)/256), R$4)","v":64},{"$f":"ROUND( S$2+(('coded NOLH for 23-29 factors'!S68-1)*(S$3-S$2)/256), S$4)","v":119},{"$f":"ROUND( T$2+(('coded NOLH for 23-29 factors'!T68-1)*(T$3-T$2)/256), T$4)","v":187},{"$f":"ROUND( U$2+(('coded NOLH for 23-29 factors'!U68-1)*(U$3-U$2)/256), U$4)","v":104},{"$f":"ROUND( V$2+(('coded NOLH for 23-29 factors'!V68-1)*(V$3-V$2)/256), V$4)","v":81},{"$f":"ROUND( W$2+(('coded NOLH for 23-29 factors'!W68-1)*(W$3-W$2)/256), W$4)","v":97},{"$f":"ROUND( X$2+(('coded NOLH for 23-29 factors'!X68-1)*(X$3-X$2)/256), X$4)","v":173},{"$f":"ROUND( Y$2+(('coded NOLH for 23-29 factors'!Y68-1)*(Y$3-Y$2)/256), Y$4)","v":101},{"$f":"ROUND( Z$2+(('coded NOLH for 23-29 factors'!Z68-1)*(Z$3-Z$2)/256), Z$4)","v":116},{"$f":"ROUND( AA$2+(('coded NOLH for 23-29 factors'!AA68-1)*(AA$3-AA$2)/256), AA$4)","v":158},{"$f":"ROUND( AB$2+(('coded NOLH for 23-29 factors'!AB68-1)*(AB$3-AB$2)/256), AB$4)","v":34},{"$f":"ROUND( AC$2+(('coded NOLH for 23-29 factors'!AC68-1)*(AC$3-AC$2)/256), AC$4)","v":181},{"$f":"ROUND( AD$2+(('coded NOLH for 23-29 factors'!AD68-1)*(AD$3-AD$2)/256), AD$4)","v":210}]
[null,{"$f":"ROUND( B$2+(('coded NOLH for 23-29 factors'!B69-1)*(B$3-B$2)/256), B$4)","v":23},{"$f":"ROUND( C$2+(('coded NOLH for 23-29 factors'!C69-1)*(C$3-C$2)/256), C$4)","v":164},{"$f":"ROUND( D$2+(('coded NOLH for 23-29 factors'!D69-1)*(D$3-D$2)/256), D$4)","v":181},{"$f":"ROUND( E$2+(('coded NOLH for 23-29 factors'!E69-1)*(E$3-E$2)/256), E$4)","v":195},{"$f":"ROUND( F$2+(('coded NOLH for 23-29 factors'!F69-1)*(F$3-F$2)/256), F$4)","v":135},{"$f":"ROUND( G$2+(('coded NOLH for 23-29 factors'!G69-1)*(G$3-G$2)/256), G$4)","v":182},{"$f":"ROUND( H$2+(('coded NOLH for 23-29 factors'!H69-1)*(H$3-H$2)/256), H$4)","v":225},{"$f":"ROUND( I$2+(('coded NOLH for 23-29 factors'!I69-1)*(I$3-I$2)/256), I$4)","v":1},{"$f":"ROUND( J$2+(('coded NOLH for 23-29 factors'!J69-1)*(J$3-J$2)/256), J$4)","v":39},{"$f":"ROUND( K$2+(('coded NOLH for 23-29 factors'!K69-1)*(K$3-K$2)/256), K$4)","v":55},{"$f":"ROUND( L$2+(('coded NOLH for 23-29 factors'!L69-1)*(L$3-L$2)/256), L$4)","v":36},{"$f":"ROUND( M$2+(('coded NOLH for 23-29 factors'!M69-1)*(M$3-M$2)/256), M$4)","v":86},{"$f":"ROUND( N$2+(('coded NOLH for 23-29 factors'!N69-1)*(N$3-N$2)/256), N$4)","v":47},{"$f":"ROUND( O$2+(('coded NOLH for 23-29 factors'!O69-1)*(O$3-O$2)/256), O$4)","v":255},{"$f":"ROUND( P$2+(('coded NOLH for 23-29 factors'!P69-1)*(P$3-P$2)/256), P$4)","v":10},{"$f":"ROUND( Q$2+(('coded NOLH for 23-29 factors'!Q69-1)*(Q$3-Q$2)/256), Q$4)","v":117},{"$f":"ROUND( R$2+(('coded NOLH for 23-29 factors'!R69-1)*(R$3-R$2)/256), R$4)","v":19},{"$f":"ROUND( S$2+(('coded NOLH for 23-29 factors'!S69-1)*(S$3-S$2)/256), S$4)","v":2},{"$f":"ROUND( T$2+(('coded NOLH for 23-29 factors'!T69-1)*(T$3-T$2)/256), T$4)","v":221},{"$f":"ROUND( U$2+(('coded NOLH for 23-29 factors'!U69-1)*(U$3-U$2)/256), U$4)","v":30},{"$f":"ROUND( V$2+(('coded NOLH for 23-29 factors'!V69-1)*(V$3-V$2)/256), V$4)","v":26},{"$f":"ROUND( W$2+(('coded NOLH for 23-29 factors'!W69-1)*(W$3-W$2)/256), W$4)","v":94},{"$f":"ROUND( X$2+(('coded NOLH for 23-29 factors'!X69-1)*(X$3-X$2)/256), X$4)","v":167},{"$f":"ROUND( Y$2+(('coded NOLH for 23-29 factors'!Y69-1)*(Y$3-Y$2)/256), Y$4)","v":90},{"$f":"ROUND( Z$2+(('coded NOLH for 23-29 factors'!Z69-1)*(Z$3-Z$2)/256), Z$4)","v":44},{"$f":"ROUND( AA$2+(('coded NOLH for 23-29 factors'!AA69-1)*(AA$3-AA$2)/256), AA$4)","v":223},{"$f":"ROUND( AB$2+(('coded NOLH for 23-29 factors'!AB69-1)*(AB$3-AB$2)/256), AB$4)","v":21},{"$f":"ROUND( AC$2+(('coded NOLH for 23-29 factors'!AC69-1)*(AC$3-AC$2)/256), AC$4)","v":190},{"$f":"ROUND( AD$2+(('coded NOLH for 23-29 factors'!AD69-1)*(AD$3-AD$2)/256), AD$4)","v":153}]
[null,{"$f":"ROUND( B$2+(('coded NOLH for 23-29 factors'!B70-1)*(B$3-B$2)/256), B$4)","v":94},{"$f":"ROUND( C$2+(('coded NOLH for 23-29 factors'!C70-1)*(C$3-C$2)/256), C$4)","v":23},{"$f":"ROUND( D$2+(('coded NOLH for 23-29 factors'!D70-1)*(D$3-D$2)/256), D$4)","v":207},{"$f":"ROUND( E$2+(('coded NOLH for 23-29 factors'!E70-1)*(E$3-E$2)/256), E$4)","v":211},{"$f":"ROUND( F$2+(('coded NOLH for 23-29 factors'!F70-1)*(F$3-F$2)/256), F$4)","v":237},{"$f":"ROUND( G$2+(('coded NOLH for 23-29 factors'!G70-1)*(G$3-G$2)/256), G$4)","v":149},{"$f":"ROUND( H$2+(('coded NOLH for 23-29 factors'!H70-1)*(H$3-H$2)/256), H$4)","v":217},{"$f":"ROUND( I$2+(('coded NOLH for 23-29 factors'!I70-1)*(I$3-I$2)/256), I$4)","v":8},{"$f":"ROUND( J$2+(('coded NOLH for 23-29 factors'!J70-1)*(J$3-J$2)/256), J$4)","v":164},{"$f":"ROUND( K$2+(('coded NOLH for 23-29 factors'!K70-1)*(K$3-K$2)/256), K$4)","v":197},{"$f":"ROUND( L$2+(('coded NOLH for 23-29 factors'!L70-1)*(L$3-L$2)/256), L$4)","v":148},{"$f":"ROUND( M$2+(('coded NOLH for 23-29 factors'!M70-1)*(M$3-M$2)/256), M$4)","v":165},{"$f":"ROUND( N$2+(('coded NOLH for 23-29 factors'!N70-1)*(N$3-N$2)/256), N$4)","v":233},{"$f":"ROUND( O$2+(('coded NOLH for 23-29 factors'!O70-1)*(O$3-O$2)/256), O$4)","v":4},{"$f":"ROUND( P$2+(('coded NOLH for 23-29 factors'!P70-1)*(P$3-P$2)/256), P$4)","v":24},{"$f":"ROUND( Q$2+(('coded NOLH for 23-29 factors'!Q70-1)*(Q$3-Q$2)/256), Q$4)","v":58},{"$f":"ROUND( R$2+(('coded NOLH for 23-29 factors'!R70-1)*(R$3-R$2)/256), R$4)","v":44},{"$f":"ROUND( S$2+(('coded NOLH for 23-29 factors'!S70-1)*(S$3-S$2)/256), S$4)","v":4},{"$f":"ROUND( T$2+(('coded NOLH for 23-29 factors'!T70-1)*(T$3-T$2)/256), T$4)","v":212},{"$f":"ROUND( U$2+(('coded NOLH for 23-29 factors'!U70-1)*(U$3-U$2)/256), U$4)","v":20},{"$f":"ROUND( V$2+(('coded NOLH for 23-29 factors'!V70-1)*(V$3-V$2)/256), V$4)","v":86},{"$f":"ROUND( W$2+(('coded NOLH for 23-29 factors'!W70-1)*(W$3-W$2)/256), W$4)","v":101},{"$f":"ROUND( X$2+(('coded NOLH for 23-29 factors'!X70-1)*(X$3-X$2)/256), X$4)","v":203},{"$f":"ROUND( Y$2+(('coded NOLH for 23-29 factors'!Y70-1)*(Y$3-Y$2)/256), Y$4)","v":95},{"$f":"ROUND( Z$2+(('coded NOLH for 23-29 factors'!Z70-1)*(Z$3-Z$2)/256), Z$4)","v":125},{"$f":"ROUND( AA$2+(('coded NOLH for 23-29 factors'!AA70-1)*(AA$3-AA$2)/256), AA$4)","v":174},{"$f":"ROUND( AB$2+(('coded NOLH for 23-29 factors'!AB70-1)*(AB$3-AB$2)/256), AB$4)","v":30},{"$f":"ROUND( AC$2+(('coded NOLH for 23-29 factors'!AC70-1)*(AC$3-AC$2)/256), AC$4)","v":240},{"$f":"ROUND( AD$2+(('coded NOLH for 23-29 factors'!AD70-1)*(AD$3-AD$2)/256), AD$4)","v":252}]
[null,{"$f":"ROUND( B$2+(('coded NOLH for 23-29 factors'!B71-1)*(B$3-B$2)/256), B$4)","v":51},{"$f":"ROUND( C$2+(('coded NOLH for 23-29 factors'!C71-1)*(C$3-C$2)/256), C$4)","v":181},{"$f":"ROUND( D$2+(('coded NOLH for 23-29 factors'!D71-1)*(D$3-D$2)/256), D$4)","v":94},{"$f":"ROUND( E$2+(('coded NOLH for 23-29 factors'!E71-1)*(E$3-E$2)/256), E$4)","v":213},{"$f":"ROUND( F$2+(('coded NOLH for 23-29 factors'!F71-1)*(F$3-F$2)/256), F$4)","v":221},{"$f":"ROUND( G$2+(('coded NOLH for 23-29 factors'!G71-1)*(G$3-G$2)/256), G$4)","v":147},{"$f":"ROUND( H$2+(('coded NOLH for 23-29 factors'!H71-1)*(H$3-H$2)/256), H$4)","v":229},{"$f":"ROUND( I$2+(('coded NOLH for 23-29 factors'!I71-1)*(I$3-I$2)/256), I$4)","v":16},{"$f":"ROUND( J$2+(('coded NOLH for 23-29 factors'!J71-1)*(J$3-J$2)/256), J$4)","v":220},{"$f":"ROUND( K$2+(('coded NOLH for 23-29 factors'!K71-1)*(K$3-K$2)/256), K$4)","v":14},{"$f":"ROUND( L$2+(('coded NOLH for 23-29 factors'!L71-1)*(L$3-L$2)/256), L$4)","v":103},{"$f":"ROUND( M$2+(('coded NOLH for 23-29 factors'!M71-1)*(M$3-M$2)/256), M$4)","v":4},{"$f":"ROUND( N$2+(('coded NOLH for 23-29 factors'!N71-1)*(N$3-N$2)/256), N$4)","v":22},{"$f":"ROUND( O$2+(('coded NOLH for 23-29 factors'!O71-1)*(O$3-O$2)/256), O$4)","v":241},{"$f":"ROUND( P$2+(('coded NOLH for 23-29 factors'!P71-1)*(P$3-P$2)/256), P$4)","v":164},{"$f":"ROUND( Q$2+(('coded NOLH for 23-29 factors'!Q71-1)*(Q$3-Q$2)/256), Q$4)","v":252},{"$f":"ROUND( R$2+(('coded NOLH for 23-29 factors'!R71-1)*(R$3-R$2)/256), R$4)","v":172},{"$f":"ROUND( S$2+(('coded NOLH for 23-29 factors'!S71-1)*(S$3-S$2)/256), S$4)","v":200},{"$f":"ROUND( T$2+(('coded NOLH for 23-29 factors'!T71-1)*(T$3-T$2)/256), T$4)","v":8},{"$f":"ROUND( U$2+(('coded NOLH for 23-29 factors'!U71-1)*(U$3-U$2)/256), U$4)","v":101},{"$f":"ROUND( V$2+(('coded NOLH for 23-29 factors'!V71-1)*(V$3-V$2)/256), V$4)","v":121},{"$f":"ROUND( W$2+(('coded NOLH for 23-29 factors'!W71-1)*(W$3-W$2)/256), W$4)","v":29},{"$f":"ROUND( X$2+(('coded NOLH for 23-29 factors'!X71-1)*(X$3-X$2)/256), X$4)","v":195},{"$f":"ROUND( Y$2+(('coded NOLH for 23-29 factors'!Y71-1)*(Y$3-Y$2)/256), Y$4)","v":25},{"$f":"ROUND( Z$2+(('coded NOLH for 23-29 factors'!Z71-1)*(Z$3-Z$2)/256), Z$4)","v":103},{"$f":"ROUND( AA$2+(('coded NOLH for 23-29 factors'!AA71-1)*(AA$3-AA$2)/256), AA$4)","v":240},{"$f":"ROUND( AB$2+(('coded NOLH for 23-29 factors'!AB71-1)*(AB$3-AB$2)/256), AB$4)","v":105},{"$f":"ROUND( AC$2+(('coded NOLH for 23-29 factors'!AC71-1)*(AC$3-AC$2)/256), AC$4)","v":198},{"$f":"ROUND( AD$2+(('coded NOLH for 23-29 factors'!AD71-1)*(AD$3-AD$2)/256), AD$4)","v":220}]
[null,{"$f":"ROUND( B$2+(('coded NOLH for 23-29 factors'!B72-1)*(B$3-B$2)/256), B$4)","v":77},{"$f":"ROUND( C$2+(('coded NOLH for 23-29 factors'!C72-1)*(C$3-C$2)/256), C$4)","v":51},{"$f":"ROUND( D$2+(('coded NOLH for 23-29 factors'!D72-1)*(D$3-D$2)/256), D$4)","v":23},{"$f":"ROUND( E$2+(('coded NOLH for 23-29 factors'!E72-1)*(E$3-E$2)/256), E$4)","v":230},{"$f":"ROUND( F$2+(('coded NOLH for 23-29 factors'!F72-1)*(F$3-F$2)/256), F$4)","v":167},{"$f":"ROUND( G$2+(('coded NOLH for 23-29 factors'!G72-1)*(G$3-G$2)/256), G$4)","v":249},{"$f":"ROUND( H$2+(('coded NOLH for 23-29 factors'!H72-1)*(H$3-H$2)/256), H$4)","v":244},{"$f":"ROUND( I$2+(('coded NOLH for 23-29 factors'!I72-1)*(I$3-I$2)/256), I$4)","v":32},{"$f":"ROUND( J$2+(('coded NOLH for 23-29 factors'!J72-1)*(J$3-J$2)/256), J$4)","v":93},{"$f":"ROUND( K$2+(('coded NOLH for 23-29 factors'!K72-1)*(K$3-K$2)/256), K$4)","v":215},{"$f":"ROUND( L$2+(('coded NOLH for 23-29 factors'!L72-1)*(L$3-L$2)/256), L$4)","v":229},{"$f":"ROUND( M$2+(('coded NOLH for 23-29 factors'!M72-1)*(M$3-M$2)/256), M$4)","v":139},{"$f":"ROUND( N$2+(('coded NOLH for 23-29 factors'!N72-1)*(N$3-N$2)/256), N$4)","v":242},{"$f":"ROUND( O$2+(('coded NOLH for 23-29 factors'!O72-1)*(O$3-O$2)/256), O$4)","v":37},{"$f":"ROUND( P$2+(('coded NOLH for 23-29 factors'!P72-1)*(P$3-P$2)/256), P$4)","v":174},{"$f":"ROUND( Q$2+(('coded NOLH for 23-29 factors'!Q72-1)*(Q$3-Q$2)/256), Q$4)","v":173},{"$f":"ROUND( R$2+(('coded NOLH for 23-29 factors'!R72-1)*(R$3-R$2)/256), R$4)","v":126},{"$f":"ROUND( S$2+(('coded NOLH for 23-29 factors'!S72-1)*(S$3-S$2)/256), S$4)","v":232},{"$f":"ROUND( T$2+(('coded NOLH for 23-29 factors'!T72-1)*(T$3-T$2)/256), T$4)","v":1},{"$f":"ROUND( U$2+(('coded NOLH for 23-29 factors'!U72-1)*(U$3-U$2)/256), U$4)","v":155},{"$f":"ROUND( V$2+(('coded NOLH for 23-29 factors'!V72-1)*(V$3-V$2)/256), V$4)","v":94},{"$f":"ROUND( W$2+(('coded NOLH for 23-29 factors'!W72-1)*(W$3-W$2)/256), W$4)","v":61},{"$f":"ROUND( X$2+(('coded NOLH for 23-29 factors'!X72-1)*(X$3-X$2)/256), X$4)","v":206},{"$f":"ROUND( Y$2+(('coded NOLH for 23-29 factors'!Y72-1)*(Y$3-Y$2)/256), Y$4)","v":114},{"$f":"ROUND( Z$2+(('coded NOLH for 23-29 factors'!Z72-1)*(Z$3-Z$2)/256), Z$4)","v":96},{"$f":"ROUND( AA$2+(('coded NOLH for 23-29 factors'!AA72-1)*(AA$3-AA$2)/256), AA$4)","v":140},{"$f":"ROUND( AB$2+(('coded NOLH for 23-29 factors'!AB72-1)*(AB$3-AB$2)/256), AB$4)","v":111},{"$f":"ROUND( AC$2+(('coded NOLH for 23-29 factors'!AC72-1)*(AC$3-AC$2)/256), AC$4)","v":191},{"$f":"ROUND( AD$2+(('coded NOLH for 23-29 factors'!AD72-1)*(AD$3-AD$2)/256), AD$4)","v":126}]
[null,{"$f":"ROUND( B$2+(('coded NOLH for 23-29 factors'!B73-1)*(B$3-B$2)/256), B$4)","v":28},{"$f":"ROUND( C$2+(('coded NOLH for 23-29 factors'!C73-1)*(C$3-C$2)/256), C$4)","v":213},{"$f":"ROUND( D$2+(('coded NOLH for 23-29 factors'!D73-1)*(D$3-D$2)/256), D$4)","v":195},{"$f":"ROUND( E$2+(('coded NOLH for 23-29 factors'!E73-1)*(E$3-E$2)/256), E$4)","v":77},{"$f":"ROUND( F$2+(('coded NOLH for 23-29 factors'!F73-1)*(F$3-F$2)/256), F$4)","v":143},{"$f":"ROUND( G$2+(('coded NOLH for 23-29 factors'!G73-1)*(G$3-G$2)/256), G$4)","v":214},{"$f":"ROUND( H$2+(('coded NOLH for 23-29 factors'!H73-1)*(H$3-H$2)/256), H$4)","v":177},{"$f":"ROUND( I$2+(('coded NOLH for 23-29 factors'!I73-1)*(I$3-I$2)/256), I$4)","v":64},{"$f":"ROUND( J$2+(('coded NOLH for 23-29 factors'!J73-1)*(J$3-J$2)/256), J$4)","v":48},{"$f":"ROUND( K$2+(('coded NOLH for 23-29 factors'!K73-1)*(K$3-K$2)/256), K$4)","v":219},{"$f":"ROUND( L$2+(('coded NOLH for 23-29 factors'!L73-1)*(L$3-L$2)/256), L$4)","v":90},{"$f":"ROUND( M$2+(('coded NOLH for 23-29 factors'!M73-1)*(M$3-M$2)/256), M$4)","v":107},{"$f":"ROUND( N$2+(('coded NOLH for 23-29 factors'!N73-1)*(N$3-N$2)/256), N$4)","v":28},{"$f":"ROUND( O$2+(('coded NOLH for 23-29 factors'!O73-1)*(O$3-O$2)/256), O$4)","v":188},{"$f":"ROUND( P$2+(('coded NOLH for 23-29 factors'!P73-1)*(P$3-P$2)/256), P$4)","v":219},{"$f":"ROUND( Q$2+(('coded NOLH for 23-29 factors'!Q73-1)*(Q$3-Q$2)/256), Q$4)","v":60},{"$f":"ROUND( R$2+(('coded NOLH for 23-29 factors'!R73-1)*(R$3-R$2)/256), R$4)","v":68},{"$f":"ROUND( S$2+(('coded NOLH for 23-29 factors'!S73-1)*(S$3-S$2)/256), S$4)","v":68},{"$f":"ROUND( T$2+(('coded NOLH for 23-29 factors'!T73-1)*(T$3-T$2)/256), T$4)","v":188},{"$f":"ROUND( U$2+(('coded NOLH for 23-29 factors'!U73-1)*(U$3-U$2)/256), U$4)","v":152},{"$f":"ROUND( V$2+(('coded NOLH for 23-29 factors'!V73-1)*(V$3-V$2)/256), V$4)","v":239},{"$f":"ROUND( W$2+(('coded NOLH for 23-29 factors'!W73-1)*(W$3-W$2)/256), W$4)","v":244},{"$f":"ROUND( X$2+(('coded NOLH for 23-29 factors'!X73-1)*(X$3-X$2)/256), X$4)","v":26},{"$f":"ROUND( Y$2+(('coded NOLH for 23-29 factors'!Y73-1)*(Y$3-Y$2)/256), Y$4)","v":77},{"$f":"ROUND( Z$2+(('coded NOLH for 23-29 factors'!Z73-1)*(Z$3-Z$2)/256), Z$4)","v":92},{"$f":"ROUND( AA$2+(('coded NOLH for 23-29 factors'!AA73-1)*(AA$3-AA$2)/256), AA$4)","v":171},{"$f":"ROUND( AB$2+(('coded NOLH for 23-29 factors'!AB73-1)*(AB$3-AB$2)/256), AB$4)","v":136},{"$f":"ROUND( AC$2+(('coded NOLH for 23-29 factors'!AC73-1)*(AC$3-AC$2)/256), AC$4)","v":187},{"$f":"ROUND( AD$2+(('coded NOLH for 23-29 factors'!AD73-1)*(AD$3-AD$2)/256), AD$4)","v":152}]
[null,{"$f":"ROUND( B$2+(('coded NOLH for 23-29 factors'!B74-1)*(B$3-B$2)/256), B$4)","v":45},{"$f":"ROUND( C$2+(('coded NOLH for 23-29 factors'!C74-1)*(C$3-C$2)/256), C$4)","v":28},{"$f":"ROUND( D$2+(('coded NOLH for 23-29 factors'!D74-1)*(D$3-D$2)/256), D$4)","v":211},{"$f":"ROUND( E$2+(('coded NOLH for 23-29 factors'!E74-1)*(E$3-E$2)/256), E$4)","v":51},{"$f":"ROUND( F$2+(('coded NOLH for 23-29 factors'!F74-1)*(F$3-F$2)/256), F$4)","v":168},{"$f":"ROUND( G$2+(('coded NOLH for 23-29 factors'!G74-1)*(G$3-G$2)/256), G$4)","v":150},{"$f":"ROUND( H$2+(('coded NOLH for 23-29 factors'!H74-1)*(H$3-H$2)/256), H$4)","v":245},{"$f":"ROUND( I$2+(('coded NOLH for 23-29 factors'!I74-1)*(I$3-I$2)/256), I$4)","v":69},{"$f":"ROUND( J$2+(('coded NOLH for 23-29 factors'!J74-1)*(J$3-J$2)/256), J$4)","v":196},{"$f":"ROUND( K$2+(('coded NOLH for 23-29 factors'!K74-1)*(K$3-K$2)/256), K$4)","v":89},{"$f":"ROUND( L$2+(('coded NOLH for 23-29 factors'!L74-1)*(L$3-L$2)/256), L$4)","v":134},{"$f":"ROUND( M$2+(('coded NOLH for 23-29 factors'!M74-1)*(M$3-M$2)/256), M$4)","v":207},{"$f":"ROUND( N$2+(('coded NOLH for 23-29 factors'!N74-1)*(N$3-N$2)/256), N$4)","v":186},{"$f":"ROUND( O$2+(('coded NOLH for 23-29 factors'!O74-1)*(O$3-O$2)/256), O$4)","v":66},{"$f":"ROUND( P$2+(('coded NOLH for 23-29 factors'!P74-1)*(P$3-P$2)/256), P$4)","v":177},{"$f":"ROUND( Q$2+(('coded NOLH for 23-29 factors'!Q74-1)*(Q$3-Q$2)/256), Q$4)","v":4},{"$f":"ROUND( R$2+(('coded NOLH for 23-29 factors'!R74-1)*(R$3-R$2)/256), R$4)","v":20},{"$f":"ROUND( S$2+(('coded NOLH for 23-29 factors'!S74-1)*(S$3-S$2)/256), S$4)","v":116},{"$f":"ROUND( T$2+(('coded NOLH for 23-29 factors'!T74-1)*(T$3-T$2)/256), T$4)","v":174},{"$f":"ROUND( U$2+(('coded NOLH for 23-29 factors'!U74-1)*(U$3-U$2)/256), U$4)","v":220},{"$f":"ROUND( V$2+(('coded NOLH for 23-29 factors'!V74-1)*(V$3-V$2)/256), V$4)","v":160},{"$f":"ROUND( W$2+(('coded NOLH for 23-29 factors'!W74-1)*(W$3-W$2)/256), W$4)","v":220},{"$f":"ROUND( X$2+(('coded NOLH for 23-29 factors'!X74-1)*(X$3-X$2)/256), X$4)","v":16},{"$f":"ROUND( Y$2+(('coded NOLH for 23-29 factors'!Y74-1)*(Y$3-Y$2)/256), Y$4)","v":21},{"$f":"ROUND( Z$2+(('coded NOLH for 23-29 factors'!Z74-1)*(Z$3-Z$2)/256), Z$4)","v":99},{"$f":"ROUND( AA$2+(('coded NOLH for 23-29 factors'!AA74-1)*(AA$3-AA$2)/256), AA$4)","v":256},{"$f":"ROUND( AB$2+(('coded NOLH for 23-29 factors'!AB74-1)*(AB$3-AB$2)/256), AB$4)","v":63},{"$f":"ROUND( AC$2+(('coded NOLH for 23-29 factors'!AC74-1)*(AC$3-AC$2)/256), AC$4)","v":200},{"$f":"ROUND( AD$2+(('coded NOLH for 23-29 factors'!AD74-1)*(AD$3-AD$2)/256), AD$4)","v":137}]
[null,{"$f":"ROUND( B$2+(('coded NOLH for 23-29 factors'!B75-1)*(B$3-B$2)/256), B$4)","v":47},{"$f":"ROUND( C$2+(('coded NOLH for 23-29 factors'!C75-1)*(C$3-C$2)/256), C$4)","v":195},{"$f":"ROUND( D$2+(('coded NOLH for 23-29 factors'!D75-1)*(D$3-D$2)/256), D$4)","v":45},{"$f":"ROUND( E$2+(('coded NOLH for 23-29 factors'!E75-1)*(E$3-E$2)/256), E$4)","v":94},{"$f":"ROUND( F$2+(('coded NOLH for 23-29 factors'!F75-1)*(F$3-F$2)/256), F$4)","v":255},{"$f":"ROUND( G$2+(('coded NOLH for 23-29 factors'!G75-1)*(G$3-G$2)/256), G$4)","v":178},{"$f":"ROUND( H$2+(('coded NOLH for 23-29 factors'!H75-1)*(H$3-H$2)/256), H$4)","v":151},{"$f":"ROUND( I$2+(('coded NOLH for 23-29 factors'!I75-1)*(I$3-I$2)/256), I$4)","v":61},{"$f":"ROUND( J$2+(('coded NOLH for 23-29 factors'!J75-1)*(J$3-J$2)/256), J$4)","v":235},{"$f":"ROUND( K$2+(('coded NOLH for 23-29 factors'!K75-1)*(K$3-K$2)/256), K$4)","v":228},{"$f":"ROUND( L$2+(('coded NOLH for 23-29 factors'!L75-1)*(L$3-L$2)/256), L$4)","v":33},{"$f":"ROUND( M$2+(('coded NOLH for 23-29 factors'!M75-1)*(M$3-M$2)/256), M$4)","v":98},{"$f":"ROUND( N$2+(('coded NOLH for 23-29 factors'!N75-1)*(N$3-N$2)/256), N$4)","v":95},{"$f":"ROUND( O$2+(('coded NOLH for 23-29 factors'!O75-1)*(O$3-O$2)/256), O$4)","v":197},{"$f":"ROUND( P$2+(('coded NOLH for 23-29 factors'!P75-1)*(P$3-P$2)/256), P$4)","v":15},{"$f":"ROUND( Q$2+(('coded NOLH for 23-29 factors'!Q75-1)*(Q$3-Q$2)/256), Q$4)","v":184},{"$f":"ROUND( R$2+(('coded NOLH for 23-29 factors'!R75-1)*(R$3-R$2)/256), R$4)","v":130},{"$f":"ROUND( S$2+(('coded NOLH for 23-29 factors'!S75-1)*(S$3-S$2)/256), S$4)","v":230},{"$f":"ROUND( T$2+(('coded NOLH for 23-29 factors'!T75-1)*(T$3-T$2)/256), T$4)","v":73},{"$f":"ROUND( U$2+(('coded NOLH for 23-29 factors'!U75-1)*(U$3-U$2)/256), U$4)","v":237},{"$f":"ROUND( V$2+(('coded NOLH for 23-29 factors'!V75-1)*(V$3-V$2)/256), V$4)","v":161},{"$f":"ROUND( W$2+(('coded NOLH for 23-29 factors'!W75-1)*(W$3-W$2)/256), W$4)","v":213},{"$f":"ROUND( X$2+(('coded NOLH for 23-29 factors'!X75-1)*(X$3-X$2)/256), X$4)","v":1},{"$f":"ROUND( Y$2+(('coded NOLH for 23-29 factors'!Y75-1)*(Y$3-Y$2)/256), Y$4)","v":68},{"$f":"ROUND( Z$2+(('coded NOLH for 23-29 factors'!Z75-1)*(Z$3-Z$2)/256), Z$4)","v":85},{"$f":"ROUND( AA$2+(('coded NOLH for 23-29 factors'!AA75-1)*(AA$3-AA$2)/256), AA$4)","v":109},{"$f":"ROUND( AB$2+(('coded NOLH for 23-29 factors'!AB75-1)*(AB$3-AB$2)/256), AB$4)","v":20},{"$f":"ROUND( AC$2+(('coded NOLH for 23-29 factors'!AC75-1)*(AC$3-AC$2)/256), AC$4)","v":175},{"$f":"ROUND( AD$2+(('coded NOLH for 23-29 factors'!AD75-1)*(AD$3-AD$2)/256), AD$4)","v":251}]
[null,{"$f":"ROUND( B$2+(('coded NOLH for 23-29 factors'!B76-1)*(B$3-B$2)/256), B$4)","v":63},{"$f":"ROUND( C$2+(('coded NOLH for 23-29 factors'!C76-1)*(C$3-C$2)/256), C$4)","v":47},{"$f":"ROUND( D$2+(('coded NOLH for 23-29 factors'!D76-1)*(D$3-D$2)/256), D$4)","v":28},{"$f":"ROUND( E$2+(('coded NOLH for 23-29 factors'!E76-1)*(E$3-E$2)/256), E$4)","v":23},{"$f":"ROUND( F$2+(('coded NOLH for 23-29 factors'!F76-1)*(F$3-F$2)/256), F$4)","v":218},{"$f":"ROUND( G$2+(('coded NOLH for 23-29 factors'!G76-1)*(G$3-G$2)/256), G$4)","v":184},{"$f":"ROUND( H$2+(('coded NOLH for 23-29 factors'!H76-1)*(H$3-H$2)/256), H$4)","v":175},{"$f":"ROUND( I$2+(('coded NOLH for 23-29 factors'!I76-1)*(I$3-I$2)/256), I$4)","v":78},{"$f":"ROUND( J$2+(('coded NOLH for 23-29 factors'!J76-1)*(J$3-J$2)/256), J$4)","v":45},{"$f":"ROUND( K$2+(('coded NOLH for 23-29 factors'!K76-1)*(K$3-K$2)/256), K$4)","v":84},{"$f":"ROUND( L$2+(('coded NOLH for 23-29 factors'!L76-1)*(L$3-L$2)/256), L$4)","v":244},{"$f":"ROUND( M$2+(('coded NOLH for 23-29 factors'!M76-1)*(M$3-M$2)/256), M$4)","v":213},{"$f":"ROUND( N$2+(('coded NOLH for 23-29 factors'!N76-1)*(N$3-N$2)/256), N$4)","v":155},{"$f":"ROUND( O$2+(('coded NOLH for 23-29 factors'!O76-1)*(O$3-O$2)/256), O$4)","v":77},{"$f":"ROUND( P$2+(('coded NOLH for 23-29 factors'!P76-1)*(P$3-P$2)/256), P$4)","v":64},{"$f":"ROUND( Q$2+(('coded NOLH for 23-29 factors'!Q76-1)*(Q$3-Q$2)/256), Q$4)","v":135},{"$f":"ROUND( R$2+(('coded NOLH for 23-29 factors'!R76-1)*(R$3-R$2)/256), R$4)","v":171},{"$f":"ROUND( S$2+(('coded NOLH for 23-29 factors'!S76-1)*(S$3-S$2)/256), S$4)","v":199},{"$f":"ROUND( T$2+(('coded NOLH for 23-29 factors'!T76-1)*(T$3-T$2)/256), T$4)","v":69},{"$f":"ROUND( U$2+(('coded NOLH for 23-29 factors'!U76-1)*(U$3-U$2)/256), U$4)","v":169},{"$f":"ROUND( V$2+(('coded NOLH for 23-29 factors'!V76-1)*(V$3-V$2)/256), V$4)","v":193},{"$f":"ROUND( W$2+(('coded NOLH for 23-29 factors'!W76-1)*(W$3-W$2)/256), W$4)","v":205},{"$f":"ROUND( X$2+(('coded NOLH for 23-29 factors'!X76-1)*(X$3-X$2)/256), X$4)","v":20},{"$f":"ROUND( Y$2+(('coded NOLH for 23-29 factors'!Y76-1)*(Y$3-Y$2)/256), Y$4)","v":53},{"$f":"ROUND( Z$2+(('coded NOLH for 23-29 factors'!Z76-1)*(Z$3-Z$2)/256), Z$4)","v":12},{"$f":"ROUND( AA$2+(('coded NOLH for 23-29 factors'!AA76-1)*(AA$3-AA$2)/256), AA$4)","v":226},{"$f":"ROUND( AB$2+(('coded NOLH for 23-29 factors'!AB76-1)*(AB$3-AB$2)/256), AB$4)","v":16},{"$f":"ROUND( AC$2+(('coded NOLH for 23-29 factors'!AC76-1)*(AC$3-AC$2)/256), AC$4)","v":155},{"$f":"ROUND( AD$2+(('coded NOLH for 23-29 factors'!AD76-1)*(AD$3-AD$2)/256), AD$4)","v":123}]
[null,{"$f":"ROUND( B$2+(('coded NOLH for 23-29 factors'!B77-1)*(B$3-B$2)/256), B$4)","v":40},{"$f":"ROUND( C$2+(('coded NOLH for 23-29 factors'!C77-1)*(C$3-C$2)/256), C$4)","v":255},{"$f":"ROUND( D$2+(('coded NOLH for 23-29 factors'!D77-1)*(D$3-D$2)/256), D$4)","v":143},{"$f":"ROUND( E$2+(('coded NOLH for 23-29 factors'!E77-1)*(E$3-E$2)/256), E$4)","v":135},{"$f":"ROUND( F$2+(('coded NOLH for 23-29 factors'!F77-1)*(F$3-F$2)/256), F$4)","v":63},{"$f":"ROUND( G$2+(('coded NOLH for 23-29 factors'!G77-1)*(G$3-G$2)/256), G$4)","v":183},{"$f":"ROUND( H$2+(('coded NOLH for 23-29 factors'!H77-1)*(H$3-H$2)/256), H$4)","v":252},{"$f":"ROUND( I$2+(('coded NOLH for 23-29 factors'!I77-1)*(I$3-I$2)/256), I$4)","v":68},{"$f":"ROUND( J$2+(('coded NOLH for 23-29 factors'!J77-1)*(J$3-J$2)/256), J$4)","v":89},{"$f":"ROUND( K$2+(('coded NOLH for 23-29 factors'!K77-1)*(K$3-K$2)/256), K$4)","v":36},{"$f":"ROUND( L$2+(('coded NOLH for 23-29 factors'!L77-1)*(L$3-L$2)/256), L$4)","v":213},{"$f":"ROUND( M$2+(('coded NOLH for 23-29 factors'!M77-1)*(M$3-M$2)/256), M$4)","v":79},{"$f":"ROUND( N$2+(('coded NOLH for 23-29 factors'!N77-1)*(N$3-N$2)/256), N$4)","v":119},{"$f":"ROUND( O$2+(('coded NOLH for 23-29 factors'!O77-1)*(O$3-O$2)/256), O$4)","v":145},{"$f":"ROUND( P$2+(('coded NOLH for 23-29 factors'!P77-1)*(P$3-P$2)/256), P$4)","v":70},{"$f":"ROUND( Q$2+(('coded NOLH for 23-29 factors'!Q77-1)*(Q$3-Q$2)/256), Q$4)","v":236},{"$f":"ROUND( R$2+(('coded NOLH for 23-29 factors'!R77-1)*(R$3-R$2)/256), R$4)","v":119},{"$f":"ROUND( S$2+(('coded NOLH for 23-29 factors'!S77-1)*(S$3-S$2)/256), S$4)","v":108},{"$f":"ROUND( T$2+(('coded NOLH for 23-29 factors'!T77-1)*(T$3-T$2)/256), T$4)","v":199},{"$f":"ROUND( U$2+(('coded NOLH for 23-29 factors'!U77-1)*(U$3-U$2)/256), U$4)","v":248},{"$f":"ROUND( V$2+(('coded NOLH for 23-29 factors'!V77-1)*(V$3-V$2)/256), V$4)","v":136},{"$f":"ROUND( W$2+(('coded NOLH for 23-29 factors'!W77-1)*(W$3-W$2)/256), W$4)","v":49},{"$f":"ROUND( X$2+(('coded NOLH for 23-29 factors'!X77-1)*(X$3-X$2)/256), X$4)","v":251},{"$f":"ROUND( Y$2+(('coded NOLH for 23-29 factors'!Y77-1)*(Y$3-Y$2)/256), Y$4)","v":153},{"$f":"ROUND( Z$2+(('coded NOLH for 23-29 factors'!Z77-1)*(Z$3-Z$2)/256), Z$4)","v":186},{"$f":"ROUND( AA$2+(('coded NOLH for 23-29 factors'!AA77-1)*(AA$3-AA$2)/256), AA$4)","v":60},{"$f":"ROUND( AB$2+(('coded NOLH for 23-29 factors'!AB77-1)*(AB$3-AB$2)/256), AB$4)","v":84},{"$f":"ROUND( AC$2+(('coded NOLH for 23-29 factors'!AC77-1)*(AC$3-AC$2)/256), AC$4)","v":197},{"$f":"ROUND( AD$2+(('coded NOLH for 23-29 factors'!AD77-1)*(AD$3-AD$2)/256), AD$4)","v":219}]
[null,{"$f":"ROUND( B$2+(('coded NOLH for 23-29 factors'!B78-1)*(B$3-B$2)/256), B$4)","v":3},{"$f":"ROUND( C$2+(('coded NOLH for 23-29 factors'!C78-1)*(C$3-C$2)/256), C$4)","v":40},{"$f":"ROUND( D$2+(('coded NOLH for 23-29 factors'!D78-1)*(D$3-D$2)/256), D$4)","v":168},{"$f":"ROUND( E$2+(('coded NOLH for 23-29 factors'!E78-1)*(E$3-E$2)/256), E$4)","v":237},{"$f":"ROUND( F$2+(('coded NOLH for 23-29 factors'!F78-1)*(F$3-F$2)/256), F$4)","v":47},{"$f":"ROUND( G$2+(('coded NOLH for 23-29 factors'!G78-1)*(G$3-G$2)/256), G$4)","v":159},{"$f":"ROUND( H$2+(('coded NOLH for 23-29 factors'!H78-1)*(H$3-H$2)/256), H$4)","v":142},{"$f":"ROUND( I$2+(('coded NOLH for 23-29 factors'!I78-1)*(I$3-I$2)/256), I$4)","v":112},{"$f":"ROUND( J$2+(('coded NOLH for 23-29 factors'!J78-1)*(J$3-J$2)/256), J$4)","v":134},{"$f":"ROUND( K$2+(('coded NOLH for 23-29 factors'!K78-1)*(K$3-K$2)/256), K$4)","v":149},{"$f":"ROUND( L$2+(('coded NOLH for 23-29 factors'!L78-1)*(L$3-L$2)/256), L$4)","v":75},{"$f":"ROUND( M$2+(('coded NOLH for 23-29 factors'!M78-1)*(M$3-M$2)/256), M$4)","v":157},{"$f":"ROUND( N$2+(('coded NOLH for 23-29 factors'!N78-1)*(N$3-N$2)/256), N$4)","v":253},{"$f":"ROUND( O$2+(('coded NOLH for 23-29 factors'!O78-1)*(O$3-O$2)/256), O$4)","v":63},{"$f":"ROUND( P$2+(('coded NOLH for 23-29 factors'!P78-1)*(P$3-P$2)/256), P$4)","v":56},{"$f":"ROUND( Q$2+(('coded NOLH for 23-29 factors'!Q78-1)*(Q$3-Q$2)/256), Q$4)","v":230},{"$f":"ROUND( R$2+(('coded NOLH for 23-29 factors'!R78-1)*(R$3-R$2)/256), R$4)","v":5},{"$f":"ROUND( S$2+(('coded NOLH for 23-29 factors'!S78-1)*(S$3-S$2)/256), S$4)","v":95},{"$f":"ROUND( T$2+(('coded NOLH for 23-29 factors'!T78-1)*(T$3-T$2)/256), T$4)","v":203},{"$f":"ROUND( U$2+(('coded NOLH for 23-29 factors'!U78-1)*(U$3-U$2)/256), U$4)","v":165},{"$f":"ROUND( V$2+(('coded NOLH for 23-29 factors'!V78-1)*(V$3-V$2)/256), V$4)","v":103},{"$f":"ROUND( W$2+(('coded NOLH for 23-29 factors'!W78-1)*(W$3-W$2)/256), W$4)","v":107},{"$f":"ROUND( X$2+(('coded NOLH for 23-29 factors'!X78-1)*(X$3-X$2)/256), X$4)","v":183},{"$f":"ROUND( Y$2+(('coded NOLH for 23-29 factors'!Y78-1)*(Y$3-Y$2)/256), Y$4)","v":170},{"$f":"ROUND( Z$2+(('coded NOLH for 23-29 factors'!Z78-1)*(Z$3-Z$2)/256), Z$4)","v":168},{"$f":"ROUND( AA$2+(('coded NOLH for 23-29 factors'!AA78-1)*(AA$3-AA$2)/256), AA$4)","v":43},{"$f":"ROUND( AB$2+(('coded NOLH for 23-29 factors'!AB78-1)*(AB$3-AB$2)/256), AB$4)","v":101},{"$f":"ROUND( AC$2+(('coded NOLH for 23-29 factors'!AC78-1)*(AC$3-AC$2)/256), AC$4)","v":202},{"$f":"ROUND( AD$2+(('coded NOLH for 23-29 factors'!AD78-1)*(AD$3-AD$2)/256), AD$4)","v":130}]
[null,{"$f":"ROUND( B$2+(('coded NOLH for 23-29 factors'!B79-1)*(B$3-B$2)/256), B$4)","v":90},{"$f":"ROUND( C$2+(('coded NOLH for 23-29 factors'!C79-1)*(C$3-C$2)/256), C$4)","v":143},{"$f":"ROUND( D$2+(('coded NOLH for 23-29 factors'!D79-1)*(D$3-D$2)/256), D$4)","v":3},{"$f":"ROUND( E$2+(('coded NOLH for 23-29 factors'!E79-1)*(E$3-E$2)/256), E$4)","v":221},{"$f":"ROUND( F$2+(('coded NOLH for 23-29 factors'!F79-1)*(F$3-F$2)/256), F$4)","v":45},{"$f":"ROUND( G$2+(('coded NOLH for 23-29 factors'!G79-1)*(G$3-G$2)/256), G$4)","v":243},{"$f":"ROUND( H$2+(('coded NOLH for 23-29 factors'!H79-1)*(H$3-H$2)/256), H$4)","v":154},{"$f":"ROUND( I$2+(('coded NOLH for 23-29 factors'!I79-1)*(I$3-I$2)/256), I$4)","v":7},{"$f":"ROUND( J$2+(('coded NOLH for 23-29 factors'!J79-1)*(J$3-J$2)/256), J$4)","v":222},{"$f":"ROUND( K$2+(('coded NOLH for 23-29 factors'!K79-1)*(K$3-K$2)/256), K$4)","v":110},{"$f":"ROUND( L$2+(('coded NOLH for 23-29 factors'!L79-1)*(L$3-L$2)/256), L$4)","v":242},{"$f":"ROUND( M$2+(('coded NOLH for 23-29 factors'!M79-1)*(M$3-M$2)/256), M$4)","v":102},{"$f":"ROUND( N$2+(('coded NOLH for 23-29 factors'!N79-1)*(N$3-N$2)/256), N$4)","v":109},{"$f":"ROUND( O$2+(('coded NOLH for 23-29 factors'!O79-1)*(O$3-O$2)/256), O$4)","v":206},{"$f":"ROUND( P$2+(('coded NOLH for 23-29 factors'!P79-1)*(P$3-P$2)/256), P$4)","v":215},{"$f":"ROUND( Q$2+(('coded NOLH for 23-29 factors'!Q79-1)*(Q$3-Q$2)/256), Q$4)","v":69},{"$f":"ROUND( R$2+(('coded NOLH for 23-29 factors'!R79-1)*(R$3-R$2)/256), R$4)","v":170},{"$f":"ROUND( S$2+(('coded NOLH for 23-29 factors'!S79-1)*(S$3-S$2)/256), S$4)","v":178},{"$f":"ROUND( T$2+(('coded NOLH for 23-29 factors'!T79-1)*(T$3-T$2)/256), T$4)","v":99},{"$f":"ROUND( U$2+(('coded NOLH for 23-29 factors'!U79-1)*(U$3-U$2)/256), U$4)","v":230},{"$f":"ROUND( V$2+(('coded NOLH for 23-29 factors'!V79-1)*(V$3-V$2)/256), V$4)","v":84},{"$f":"ROUND( W$2+(('coded NOLH for 23-29 factors'!W79-1)*(W$3-W$2)/256), W$4)","v":126},{"$f":"ROUND( X$2+(('coded NOLH for 23-29 factors'!X79-1)*(X$3-X$2)/256), X$4)","v":255},{"$f":"ROUND( Y$2+(('coded NOLH for 23-29 factors'!Y79-1)*(Y$3-Y$2)/256), Y$4)","v":135},{"$f":"ROUND( Z$2+(('coded NOLH for 23-29 factors'!Z79-1)*(Z$3-Z$2)/256), Z$4)","v":225},{"$f":"ROUND( AA$2+(('coded NOLH for 23-29 factors'!AA79-1)*(AA$3-AA$2)/256), AA$4)","v":48},{"$f":"ROUND( AB$2+(('coded NOLH for 23-29 factors'!AB79-1)*(AB$3-AB$2)/256), AB$4)","v":47},{"$f":"ROUND( AC$2+(('coded NOLH for 23-29 factors'!AC79-1)*(AC$3-AC$2)/256), AC$4)","v":185},{"$f":"ROUND( AD$2+(('coded NOLH for 23-29 factors'!AD79-1)*(AD$3-AD$2)/256), AD$4)","v":202}]
[null,{"$f":"ROUND( B$2+(('coded NOLH for 23-29 factors'!B80-1)*(B$3-B$2)/256), B$4)","v":115},{"$f":"ROUND( C$2+(('coded NOLH for 23-29 factors'!C80-1)*(C$3-C$2)/256), C$4)","v":90},{"$f":"ROUND( D$2+(('coded NOLH for 23-29 factors'!D80-1)*(D$3-D$2)/256), D$4)","v":40},{"$f":"ROUND( E$2+(('coded NOLH for 23-29 factors'!E80-1)*(E$3-E$2)/256), E$4)","v":167},{"$f":"ROUND( F$2+(('coded NOLH for 23-29 factors'!F80-1)*(F$3-F$2)/256), F$4)","v":28},{"$f":"ROUND( G$2+(('coded NOLH for 23-29 factors'!G80-1)*(G$3-G$2)/256), G$4)","v":161},{"$f":"ROUND( H$2+(('coded NOLH for 23-29 factors'!H80-1)*(H$3-H$2)/256), H$4)","v":160},{"$f":"ROUND( I$2+(('coded NOLH for 23-29 factors'!I80-1)*(I$3-I$2)/256), I$4)","v":60},{"$f":"ROUND( J$2+(('coded NOLH for 23-29 factors'!J80-1)*(J$3-J$2)/256), J$4)","v":6},{"$f":"ROUND( K$2+(('coded NOLH for 23-29 factors'!K80-1)*(K$3-K$2)/256), K$4)","v":235},{"$f":"ROUND( L$2+(('coded NOLH for 23-29 factors'!L80-1)*(L$3-L$2)/256), L$4)","v":50},{"$f":"ROUND( M$2+(('coded NOLH for 23-29 factors'!M80-1)*(M$3-M$2)/256), M$4)","v":249},{"$f":"ROUND( N$2+(('coded NOLH for 23-29 factors'!N80-1)*(N$3-N$2)/256), N$4)","v":151},{"$f":"ROUND( O$2+(('coded NOLH for 23-29 factors'!O80-1)*(O$3-O$2)/256), O$4)","v":6},{"$f":"ROUND( P$2+(('coded NOLH for 23-29 factors'!P80-1)*(P$3-P$2)/256), P$4)","v":168},{"$f":"ROUND( Q$2+(('coded NOLH for 23-29 factors'!Q80-1)*(Q$3-Q$2)/256), Q$4)","v":99},{"$f":"ROUND( R$2+(('coded NOLH for 23-29 factors'!R80-1)*(R$3-R$2)/256), R$4)","v":163},{"$f":"ROUND( S$2+(('coded NOLH for 23-29 factors'!S80-1)*(S$3-S$2)/256), S$4)","v":244},{"$f":"ROUND( T$2+(('coded NOLH for 23-29 factors'!T80-1)*(T$3-T$2)/256), T$4)","v":32},{"$f":"ROUND( U$2+(('coded NOLH for 23-29 factors'!U80-1)*(U$3-U$2)/256), U$4)","v":227},{"$f":"ROUND( V$2+(('coded NOLH for 23-29 factors'!V80-1)*(V$3-V$2)/256), V$4)","v":139},{"$f":"ROUND( W$2+(('coded NOLH for 23-29 factors'!W80-1)*(W$3-W$2)/256), W$4)","v":50},{"$f":"ROUND( X$2+(('coded NOLH for 23-29 factors'!X80-1)*(X$3-X$2)/256), X$4)","v":155},{"$f":"ROUND( Y$2+(('coded NOLH for 23-29 factors'!Y80-1)*(Y$3-Y$2)/256), Y$4)","v":200},{"$f":"ROUND( Z$2+(('coded NOLH for 23-29 factors'!Z80-1)*(Z$3-Z$2)/256), Z$4)","v":198},{"$f":"ROUND( AA$2+(('coded NOLH for 23-29 factors'!AA80-1)*(AA$3-AA$2)/256), AA$4)","v":68},{"$f":"ROUND( AB$2+(('coded NOLH for 23-29 factors'!AB80-1)*(AB$3-AB$2)/256), AB$4)","v":48},{"$f":"ROUND( AC$2+(('coded NOLH for 23-29 factors'!AC80-1)*(AC$3-AC$2)/256), AC$4)","v":205},{"$f":"ROUND( AD$2+(('coded NOLH for 23-29 factors'!AD80-1)*(AD$3-AD$2)/256), AD$4)","v":229}]
[null,{"$f":"ROUND( B$2+(('coded NOLH for 23-29 factors'!B81-1)*(B$3-B$2)/256), B$4)","v":91},{"$f":"ROUND( C$2+(('coded NOLH for 23-29 factors'!C81-1)*(C$3-C$2)/256), C$4)","v":221},{"$f":"ROUND( D$2+(('coded NOLH for 23-29 factors'!D81-1)*(D$3-D$2)/256), D$4)","v":135},{"$f":"ROUND( E$2+(('coded NOLH for 23-29 factors'!E81-1)*(E$3-E$2)/256), E$4)","v":115},{"$f":"ROUND( F$2+(('coded NOLH for 23-29 factors'!F81-1)*(F$3-F$2)/256), F$4)","v":77},{"$f":"ROUND( G$2+(('coded NOLH for 23-29 factors'!G81-1)*(G$3-G$2)/256), G$4)","v":131},{"$f":"ROUND( H$2+(('coded NOLH for 23-29 factors'!H81-1)*(H$3-H$2)/256), H$4)","v":171},{"$f":"ROUND( I$2+(('coded NOLH for 23-29 factors'!I81-1)*(I$3-I$2)/256), I$4)","v":92},{"$f":"ROUND( J$2+(('coded NOLH for 23-29 factors'!J81-1)*(J$3-J$2)/256), J$4)","v":15},{"$f":"ROUND( K$2+(('coded NOLH for 23-29 factors'!K81-1)*(K$3-K$2)/256), K$4)","v":167},{"$f":"ROUND( L$2+(('coded NOLH for 23-29 factors'!L81-1)*(L$3-L$2)/256), L$4)","v":212},{"$f":"ROUND( M$2+(('coded NOLH for 23-29 factors'!M81-1)*(M$3-M$2)/256), M$4)","v":17},{"$f":"ROUND( N$2+(('coded NOLH for 23-29 factors'!N81-1)*(N$3-N$2)/256), N$4)","v":122},{"$f":"ROUND( O$2+(('coded NOLH for 23-29 factors'!O81-1)*(O$3-O$2)/256), O$4)","v":250},{"$f":"ROUND( P$2+(('coded NOLH for 23-29 factors'!P81-1)*(P$3-P$2)/256), P$4)","v":195},{"$f":"ROUND( Q$2+(('coded NOLH for 23-29 factors'!Q81-1)*(Q$3-Q$2)/256), Q$4)","v":239},{"$f":"ROUND( R$2+(('coded NOLH for 23-29 factors'!R81-1)*(R$3-R$2)/256), R$4)","v":118},{"$f":"ROUND( S$2+(('coded NOLH for 23-29 factors'!S81-1)*(S$3-S$2)/256), S$4)","v":49},{"$f":"ROUND( T$2+(('coded NOLH for 23-29 factors'!T81-1)*(T$3-T$2)/256), T$4)","v":245},{"$f":"ROUND( U$2+(('coded NOLH for 23-29 factors'!U81-1)*(U$3-U$2)/256), U$4)","v":22},{"$f":"ROUND( V$2+(('coded NOLH for 23-29 factors'!V81-1)*(V$3-V$2)/256), V$4)","v":142},{"$f":"ROUND( W$2+(('coded NOLH for 23-29 factors'!W81-1)*(W$3-W$2)/256), W$4)","v":190},{"$f":"ROUND( X$2+(('coded NOLH for 23-29 factors'!X81-1)*(X$3-X$2)/256), X$4)","v":67},{"$f":"ROUND( Y$2+(('coded NOLH for 23-29 factors'!Y81-1)*(Y$3-Y$2)/256), Y$4)","v":232},{"$f":"ROUND( Z$2+(('coded NOLH for 23-29 factors'!Z81-1)*(Z$3-Z$2)/256), Z$4)","v":245},{"$f":"ROUND( AA$2+(('coded NOLH for 23-29 factors'!AA81-1)*(AA$3-AA$2)/256), AA$4)","v":12},{"$f":"ROUND( AB$2+(('coded NOLH for 23-29 factors'!AB81-1)*(AB$3-AB$2)/256), AB$4)","v":36},{"$f":"ROUND( AC$2+(('coded NOLH for 23-29 factors'!AC81-1)*(AC$3-AC$2)/256), AC$4)","v":195},{"$f":"ROUND( AD$2+(('coded NOLH for 23-29 factors'!AD81-1)*(AD$3-AD$2)/256), AD$4)","v":177}]
[null,{"$f":"ROUND( B$2+(('coded NOLH for 23-29 factors'!B82-1)*(B$3-B$2)/256), B$4)","v":37},{"$f":"ROUND( C$2+(('coded NOLH for 23-29 factors'!C82-1)*(C$3-C$2)/256), C$4)","v":91},{"$f":"ROUND( D$2+(('coded NOLH for 23-29 factors'!D82-1)*(D$3-D$2)/256), D$4)","v":237},{"$f":"ROUND( E$2+(('coded NOLH for 23-29 factors'!E82-1)*(E$3-E$2)/256), E$4)","v":90},{"$f":"ROUND( F$2+(('coded NOLH for 23-29 factors'!F82-1)*(F$3-F$2)/256), F$4)","v":51},{"$f":"ROUND( G$2+(('coded NOLH for 23-29 factors'!G82-1)*(G$3-G$2)/256), G$4)","v":232},{"$f":"ROUND( H$2+(('coded NOLH for 23-29 factors'!H82-1)*(H$3-H$2)/256), H$4)","v":132},{"$f":"ROUND( I$2+(('coded NOLH for 23-29 factors'!I82-1)*(I$3-I$2)/256), I$4)","v":4},{"$f":"ROUND( J$2+(('coded NOLH for 23-29 factors'!J82-1)*(J$3-J$2)/256), J$4)","v":139},{"$f":"ROUND( K$2+(('coded NOLH for 23-29 factors'!K82-1)*(K$3-K$2)/256), K$4)","v":142},{"$f":"ROUND( L$2+(('coded NOLH for 23-29 factors'!L82-1)*(L$3-L$2)/256), L$4)","v":77},{"$f":"ROUND( M$2+(('coded NOLH for 23-29 factors'!M82-1)*(M$3-M$2)/256), M$4)","v":126},{"$f":"ROUND( N$2+(('coded NOLH for 23-29 factors'!N82-1)*(N$3-N$2)/256), N$4)","v":188},{"$f":"ROUND( O$2+(('coded NOLH for 23-29 factors'!O82-1)*(O$3-O$2)/256), O$4)","v":82},{"$f":"ROUND( P$2+(('coded NOLH for 23-29 factors'!P82-1)*(P$3-P$2)/256), P$4)","v":250},{"$f":"ROUND( Q$2+(('coded NOLH for 23-29 factors'!Q82-1)*(Q$3-Q$2)/256), Q$4)","v":165},{"$f":"ROUND( R$2+(('coded NOLH for 23-29 factors'!R82-1)*(R$3-R$2)/256), R$4)","v":89},{"$f":"ROUND( S$2+(('coded NOLH for 23-29 factors'!S82-1)*(S$3-S$2)/256), S$4)","v":110},{"$f":"ROUND( T$2+(('coded NOLH for 23-29 factors'!T82-1)*(T$3-T$2)/256), T$4)","v":169},{"$f":"ROUND( U$2+(('coded NOLH for 23-29 factors'!U82-1)*(U$3-U$2)/256), U$4)","v":41},{"$f":"ROUND( V$2+(('coded NOLH for 23-29 factors'!V82-1)*(V$3-V$2)/256), V$4)","v":246},{"$f":"ROUND( W$2+(('coded NOLH for 23-29 factors'!W82-1)*(W$3-W$2)/256), W$4)","v":150},{"$f":"ROUND( X$2+(('coded NOLH for 23-29 factors'!X82-1)*(X$3-X$2)/256), X$4)","v":4},{"$f":"ROUND( Y$2+(('coded NOLH for 23-29 factors'!Y82-1)*(Y$3-Y$2)/256), Y$4)","v":154},{"$f":"ROUND( Z$2+(('coded NOLH for 23-29 factors'!Z82-1)*(Z$3-Z$2)/256), Z$4)","v":228},{"$f":"ROUND( AA$2+(('coded NOLH for 23-29 factors'!AA82-1)*(AA$3-AA$2)/256), AA$4)","v":8},{"$f":"ROUND( AB$2+(('coded NOLH for 23-29 factors'!AB82-1)*(AB$3-AB$2)/256), AB$4)","v":66},{"$f":"ROUND( AC$2+(('coded NOLH for 23-29 factors'!AC82-1)*(AC$3-AC$2)/256), AC$4)","v":233},{"$f":"ROUND( AD$2+(('coded NOLH for 23-29 factors'!AD82-1)*(AD$3-AD$2)/256), AD$4)","v":254}]
[null,{"$f":"ROUND( B$2+(('coded NOLH for 23-29 factors'!B83-1)*(B$3-B$2)/256), B$4)","v":21},{"$f":"ROUND( C$2+(('coded NOLH for 23-29 factors'!C83-1)*(C$3-C$2)/256), C$4)","v":135},{"$f":"ROUND( D$2+(('coded NOLH for 23-29 factors'!D83-1)*(D$3-D$2)/256), D$4)","v":37},{"$f":"ROUND( E$2+(('coded NOLH for 23-29 factors'!E83-1)*(E$3-E$2)/256), E$4)","v":3},{"$f":"ROUND( F$2+(('coded NOLH for 23-29 factors'!F83-1)*(F$3-F$2)/256), F$4)","v":94},{"$f":"ROUND( G$2+(('coded NOLH for 23-29 factors'!G83-1)*(G$3-G$2)/256), G$4)","v":152},{"$f":"ROUND( H$2+(('coded NOLH for 23-29 factors'!H83-1)*(H$3-H$2)/256), H$4)","v":145},{"$f":"ROUND( I$2+(('coded NOLH for 23-29 factors'!I83-1)*(I$3-I$2)/256), I$4)","v":62},{"$f":"ROUND( J$2+(('coded NOLH for 23-29 factors'!J83-1)*(J$3-J$2)/256), J$4)","v":179},{"$f":"ROUND( K$2+(('coded NOLH for 23-29 factors'!K83-1)*(K$3-K$2)/256), K$4)","v":218},{"$f":"ROUND( L$2+(('coded NOLH for 23-29 factors'!L83-1)*(L$3-L$2)/256), L$4)","v":220},{"$f":"ROUND( M$2+(('coded NOLH for 23-29 factors'!M83-1)*(M$3-M$2)/256), M$4)","v":141},{"$f":"ROUND( N$2+(('coded NOLH for 23-29 factors'!N83-1)*(N$3-N$2)/256), N$4)","v":35},{"$f":"ROUND( O$2+(('coded NOLH for 23-29 factors'!O83-1)*(O$3-O$2)/256), O$4)","v":249},{"$f":"ROUND( P$2+(('coded NOLH for 23-29 factors'!P83-1)*(P$3-P$2)/256), P$4)","v":79},{"$f":"ROUND( Q$2+(('coded NOLH for 23-29 factors'!Q83-1)*(Q$3-Q$2)/256), Q$4)","v":50},{"$f":"ROUND( R$2+(('coded NOLH for 23-29 factors'!R83-1)*(R$3-R$2)/256), R$4)","v":220},{"$f":"ROUND( S$2+(('coded NOLH for 23-29 factors'!S83-1)*(S$3-S$2)/256), S$4)","v":165},{"$f":"ROUND( T$2+(('coded NOLH for 23-29 factors'!T83-1)*(T$3-T$2)/256), T$4)","v":28},{"$f":"ROUND( U$2+(('coded NOLH for 23-29 factors'!U83-1)*(U$3-U$2)/256), U$4)","v":43},{"$f":"ROUND( V$2+(('coded NOLH for 23-29 factors'!V83-1)*(V$3-V$2)/256), V$4)","v":195},{"$f":"ROUND( W$2+(('coded NOLH for 23-29 factors'!W83-1)*(W$3-W$2)/256), W$4)","v":155},{"$f":"ROUND( X$2+(('coded NOLH for 23-29 factors'!X83-1)*(X$3-X$2)/256), X$4)","v":132},{"$f":"ROUND( Y$2+(('coded NOLH for 23-29 factors'!Y83-1)*(Y$3-Y$2)/256), Y$4)","v":108},{"$f":"ROUND( Z$2+(('coded NOLH for 23-29 factors'!Z83-1)*(Z$3-Z$2)/256), Z$4)","v":182},{"$f":"ROUND( AA$2+(('coded NOLH for 23-29 factors'!AA83-1)*(AA$3-AA$2)/256), AA$4)","v":3},{"$f":"ROUND( AB$2+(('coded NOLH for 23-29 factors'!AB83-1)*(AB$3-AB$2)/256), AB$4)","v":51},{"$f":"ROUND( AC$2+(('coded NOLH for 23-29 factors'!AC83-1)*(AC$3-AC$2)/256), AC$4)","v":211},{"$f":"ROUND( AD$2+(('coded NOLH for 23-29 factors'!AD83-1)*(AD$3-AD$2)/256), AD$4)","v":190}]
[null,{"$f":"ROUND( B$2+(('coded NOLH for 23-29 factors'!B84-1)*(B$3-B$2)/256), B$4)","v":123},{"$f":"ROUND( C$2+(('coded NOLH for 23-29 factors'!C84-1)*(C$3-C$2)/256), C$4)","v":21},{"$f":"ROUND( D$2+(('coded NOLH for 23-29 factors'!D84-1)*(D$3-D$2)/256), D$4)","v":91},{"$f":"ROUND( E$2+(('coded NOLH for 23-29 factors'!E84-1)*(E$3-E$2)/256), E$4)","v":40},{"$f":"ROUND( F$2+(('coded NOLH for 23-29 factors'!F84-1)*(F$3-F$2)/256), F$4)","v":23},{"$f":"ROUND( G$2+(('coded NOLH for 23-29 factors'!G84-1)*(G$3-G$2)/256), G$4)","v":141},{"$f":"ROUND( H$2+(('coded NOLH for 23-29 factors'!H84-1)*(H$3-H$2)/256), H$4)","v":220},{"$f":"ROUND( I$2+(('coded NOLH for 23-29 factors'!I84-1)*(I$3-I$2)/256), I$4)","v":17},{"$f":"ROUND( J$2+(('coded NOLH for 23-29 factors'!J84-1)*(J$3-J$2)/256), J$4)","v":34},{"$f":"ROUND( K$2+(('coded NOLH for 23-29 factors'!K84-1)*(K$3-K$2)/256), K$4)","v":6},{"$f":"ROUND( L$2+(('coded NOLH for 23-29 factors'!L84-1)*(L$3-L$2)/256), L$4)","v":94},{"$f":"ROUND( M$2+(('coded NOLH for 23-29 factors'!M84-1)*(M$3-M$2)/256), M$4)","v":163},{"$f":"ROUND( N$2+(('coded NOLH for 23-29 factors'!N84-1)*(N$3-N$2)/256), N$4)","v":141},{"$f":"ROUND( O$2+(('coded NOLH for 23-29 factors'!O84-1)*(O$3-O$2)/256), O$4)","v":60},{"$f":"ROUND( P$2+(('coded NOLH for 23-29 factors'!P84-1)*(P$3-P$2)/256), P$4)","v":139},{"$f":"ROUND( Q$2+(('coded NOLH for 23-29 factors'!Q84-1)*(Q$3-Q$2)/256), Q$4)","v":67},{"$f":"ROUND( R$2+(('coded NOLH for 23-29 factors'!R84-1)*(R$3-R$2)/256), R$4)","v":121},{"$f":"ROUND( S$2+(('coded NOLH for 23-29 factors'!S84-1)*(S$3-S$2)/256), S$4)","v":173},{"$f":"ROUND( T$2+(('coded NOLH for 23-29 factors'!T84-1)*(T$3-T$2)/256), T$4)","v":74},{"$f":"ROUND( U$2+(('coded NOLH for 23-29 factors'!U84-1)*(U$3-U$2)/256), U$4)","v":105},{"$f":"ROUND( V$2+(('coded NOLH for 23-29 factors'!V84-1)*(V$3-V$2)/256), V$4)","v":191},{"$f":"ROUND( W$2+(('coded NOLH for 23-29 factors'!W84-1)*(W$3-W$2)/256), W$4)","v":241},{"$f":"ROUND( X$2+(('coded NOLH for 23-29 factors'!X84-1)*(X$3-X$2)/256), X$4)","v":58},{"$f":"ROUND( Y$2+(('coded NOLH for 23-29 factors'!Y84-1)*(Y$3-Y$2)/256), Y$4)","v":177},{"$f":"ROUND( Z$2+(('coded NOLH for 23-29 factors'!Z84-1)*(Z$3-Z$2)/256), Z$4)","v":244},{"$f":"ROUND( AA$2+(('coded NOLH for 23-29 factors'!AA84-1)*(AA$3-AA$2)/256), AA$4)","v":50},{"$f":"ROUND( AB$2+(('coded NOLH for 23-29 factors'!AB84-1)*(AB$3-AB$2)/256), AB$4)","v":103},{"$f":"ROUND( AC$2+(('coded NOLH for 23-29 factors'!AC84-1)*(AC$3-AC$2)/256), AC$4)","v":179},{"$f":"ROUND( AD$2+(('coded NOLH for 23-29 factors'!AD84-1)*(AD$3-AD$2)/256), AD$4)","v":133}]
[null,{"$f":"ROUND( B$2+(('coded NOLH for 23-29 factors'!B85-1)*(B$3-B$2)/256), B$4)","v":117},{"$f":"ROUND( C$2+(('coded NOLH for 23-29 factors'!C85-1)*(C$3-C$2)/256), C$4)","v":152},{"$f":"ROUND( D$2+(('coded NOLH for 23-29 factors'!D85-1)*(D$3-D$2)/256), D$4)","v":131},{"$f":"ROUND( E$2+(('coded NOLH for 23-29 factors'!E85-1)*(E$3-E$2)/256), E$4)","v":183},{"$f":"ROUND( F$2+(('coded NOLH for 23-29 factors'!F85-1)*(F$3-F$2)/256), F$4)","v":182},{"$f":"ROUND( G$2+(('coded NOLH for 23-29 factors'!G85-1)*(G$3-G$2)/256), G$4)","v":123},{"$f":"ROUND( H$2+(('coded NOLH for 23-29 factors'!H85-1)*(H$3-H$2)/256), H$4)","v":170},{"$f":"ROUND( I$2+(('coded NOLH for 23-29 factors'!I85-1)*(I$3-I$2)/256), I$4)","v":93},{"$f":"ROUND( J$2+(('coded NOLH for 23-29 factors'!J85-1)*(J$3-J$2)/256), J$4)","v":13},{"$f":"ROUND( K$2+(('coded NOLH for 23-29 factors'!K85-1)*(K$3-K$2)/256), K$4)","v":97},{"$f":"ROUND( L$2+(('coded NOLH for 23-29 factors'!L85-1)*(L$3-L$2)/256), L$4)","v":117},{"$f":"ROUND( M$2+(('coded NOLH for 23-29 factors'!M85-1)*(M$3-M$2)/256), M$4)","v":236},{"$f":"ROUND( N$2+(('coded NOLH for 23-29 factors'!N85-1)*(N$3-N$2)/256), N$4)","v":87},{"$f":"ROUND( O$2+(('coded NOLH for 23-29 factors'!O85-1)*(O$3-O$2)/256), O$4)","v":223},{"$f":"ROUND( P$2+(('coded NOLH for 23-29 factors'!P85-1)*(P$3-P$2)/256), P$4)","v":111},{"$f":"ROUND( Q$2+(('coded NOLH for 23-29 factors'!Q85-1)*(Q$3-Q$2)/256), Q$4)","v":12},{"$f":"ROUND( R$2+(('coded NOLH for 23-29 factors'!R85-1)*(R$3-R$2)/256), R$4)","v":180},{"$f":"ROUND( S$2+(('coded NOLH for 23-29 factors'!S85-1)*(S$3-S$2)/256), S$4)","v":27},{"$f":"ROUND( T$2+(('coded NOLH for 23-29 factors'!T85-1)*(T$3-T$2)/256), T$4)","v":214},{"$f":"ROUND( U$2+(('coded NOLH for 23-29 factors'!U85-1)*(U$3-U$2)/256), U$4)","v":67},{"$f":"ROUND( V$2+(('coded NOLH for 23-29 factors'!V85-1)*(V$3-V$2)/256), V$4)","v":192},{"$f":"ROUND( W$2+(('coded NOLH for 23-29 factors'!W85-1)*(W$3-W$2)/256), W$4)","v":82},{"$f":"ROUND( X$2+(('coded NOLH for 23-29 factors'!X85-1)*(X$3-X$2)/256), X$4)","v":224},{"$f":"ROUND( Y$2+(('coded NOLH for 23-29 factors'!Y85-1)*(Y$3-Y$2)/256), Y$4)","v":221},{"$f":"ROUND( Z$2+(('coded NOLH for 23-29 factors'!Z85-1)*(Z$3-Z$2)/256), Z$4)","v":24},{"$f":"ROUND( AA$2+(('coded NOLH for 23-29 factors'!AA85-1)*(AA$3-AA$2)/256), AA$4)","v":161},{"$f":"ROUND( AB$2+(('coded NOLH for 23-29 factors'!AB85-1)*(AB$3-AB$2)/256), AB$4)","v":235},{"$f":"ROUND( AC$2+(('coded NOLH for 23-29 factors'!AC85-1)*(AC$3-AC$2)/256), AC$4)","v":39},{"$f":"ROUND( AD$2+(('coded NOLH for 23-29 factors'!AD85-1)*(AD$3-AD$2)/256), AD$4)","v":179}]
[null,{"$f":"ROUND( B$2+(('coded NOLH for 23-29 factors'!B86-1)*(B$3-B$2)/256), B$4)","v":106},{"$f":"ROUND( C$2+(('coded NOLH for 23-29 factors'!C86-1)*(C$3-C$2)/256), C$4)","v":117},{"$f":"ROUND( D$2+(('coded NOLH for 23-29 factors'!D86-1)*(D$3-D$2)/256), D$4)","v":232},{"$f":"ROUND( E$2+(('coded NOLH for 23-29 factors'!E86-1)*(E$3-E$2)/256), E$4)","v":159},{"$f":"ROUND( F$2+(('coded NOLH for 23-29 factors'!F86-1)*(F$3-F$2)/256), F$4)","v":149},{"$f":"ROUND( G$2+(('coded NOLH for 23-29 factors'!G86-1)*(G$3-G$2)/256), G$4)","v":21},{"$f":"ROUND( H$2+(('coded NOLH for 23-29 factors'!H86-1)*(H$3-H$2)/256), H$4)","v":174},{"$f":"ROUND( I$2+(('coded NOLH for 23-29 factors'!I86-1)*(I$3-I$2)/256), I$4)","v":39},{"$f":"ROUND( J$2+(('coded NOLH for 23-29 factors'!J86-1)*(J$3-J$2)/256), J$4)","v":112},{"$f":"ROUND( K$2+(('coded NOLH for 23-29 factors'!K86-1)*(K$3-K$2)/256), K$4)","v":170},{"$f":"ROUND( L$2+(('coded NOLH for 23-29 factors'!L86-1)*(L$3-L$2)/256), L$4)","v":200},{"$f":"ROUND( M$2+(('coded NOLH for 23-29 factors'!M86-1)*(M$3-M$2)/256), M$4)","v":108},{"$f":"ROUND( N$2+(('coded NOLH for 23-29 factors'!N86-1)*(N$3-N$2)/256), N$4)","v":165},{"$f":"ROUND( O$2+(('coded NOLH for 23-29 factors'!O86-1)*(O$3-O$2)/256), O$4)","v":78},{"$f":"ROUND( P$2+(('coded NOLH for 23-29 factors'!P86-1)*(P$3-P$2)/256), P$4)","v":7},{"$f":"ROUND( Q$2+(('coded NOLH for 23-29 factors'!Q86-1)*(Q$3-Q$2)/256), Q$4)","v":119},{"$f":"ROUND( R$2+(('coded NOLH for 23-29 factors'!R86-1)*(R$3-R$2)/256), R$4)","v":199},{"$f":"ROUND( S$2+(('coded NOLH for 23-29 factors'!S86-1)*(S$3-S$2)/256), S$4)","v":25},{"$f":"ROUND( T$2+(('coded NOLH for 23-29 factors'!T86-1)*(T$3-T$2)/256), T$4)","v":236},{"$f":"ROUND( U$2+(('coded NOLH for 23-29 factors'!U86-1)*(U$3-U$2)/256), U$4)","v":84},{"$f":"ROUND( V$2+(('coded NOLH for 23-29 factors'!V86-1)*(V$3-V$2)/256), V$4)","v":249},{"$f":"ROUND( W$2+(('coded NOLH for 23-29 factors'!W86-1)*(W$3-W$2)/256), W$4)","v":91},{"$f":"ROUND( X$2+(('coded NOLH for 23-29 factors'!X86-1)*(X$3-X$2)/256), X$4)","v":225},{"$f":"ROUND( Y$2+(('coded NOLH for 23-29 factors'!Y86-1)*(Y$3-Y$2)/256), Y$4)","v":140},{"$f":"ROUND( Z$2+(('coded NOLH for 23-29 factors'!Z86-1)*(Z$3-Z$2)/256), Z$4)","v":21},{"$f":"ROUND( AA$2+(('coded NOLH for 23-29 factors'!AA86-1)*(AA$3-AA$2)/256), AA$4)","v":177},{"$f":"ROUND( AB$2+(('coded NOLH for 23-29 factors'!AB86-1)*(AB$3-AB$2)/256), AB$4)","v":139},{"$f":"ROUND( AC$2+(('coded NOLH for 23-29 factors'!AC86-1)*(AC$3-AC$2)/256), AC$4)","v":91},{"$f":"ROUND( AD$2+(('coded NOLH for 23-29 factors'!AD86-1)*(AD$3-AD$2)/256), AD$4)","v":158}]
[null,{"$f":"ROUND( B$2+(('coded NOLH for 23-29 factors'!B87-1)*(B$3-B$2)/256), B$4)","v":26},{"$f":"ROUND( C$2+(('coded NOLH for 23-29 factors'!C87-1)*(C$3-C$2)/256), C$4)","v":131},{"$f":"ROUND( D$2+(('coded NOLH for 23-29 factors'!D87-1)*(D$3-D$2)/256), D$4)","v":106},{"$f":"ROUND( E$2+(('coded NOLH for 23-29 factors'!E87-1)*(E$3-E$2)/256), E$4)","v":243},{"$f":"ROUND( F$2+(('coded NOLH for 23-29 factors'!F87-1)*(F$3-F$2)/256), F$4)","v":147},{"$f":"ROUND( G$2+(('coded NOLH for 23-29 factors'!G87-1)*(G$3-G$2)/256), G$4)","v":37},{"$f":"ROUND( H$2+(('coded NOLH for 23-29 factors'!H87-1)*(H$3-H$2)/256), H$4)","v":203},{"$f":"ROUND( I$2+(('coded NOLH for 23-29 factors'!I87-1)*(I$3-I$2)/256), I$4)","v":34},{"$f":"ROUND( J$2+(('coded NOLH for 23-29 factors'!J87-1)*(J$3-J$2)/256), J$4)","v":116},{"$f":"ROUND( K$2+(('coded NOLH for 23-29 factors'!K87-1)*(K$3-K$2)/256), K$4)","v":83},{"$f":"ROUND( L$2+(('coded NOLH for 23-29 factors'!L87-1)*(L$3-L$2)/256), L$4)","v":32},{"$f":"ROUND( M$2+(('coded NOLH for 23-29 factors'!M87-1)*(M$3-M$2)/256), M$4)","v":152},{"$f":"ROUND( N$2+(('coded NOLH for 23-29 factors'!N87-1)*(N$3-N$2)/256), N$4)","v":11},{"$f":"ROUND( O$2+(('coded NOLH for 23-29 factors'!O87-1)*(O$3-O$2)/256), O$4)","v":202},{"$f":"ROUND( P$2+(('coded NOLH for 23-29 factors'!P87-1)*(P$3-P$2)/256), P$4)","v":171},{"$f":"ROUND( Q$2+(('coded NOLH for 23-29 factors'!Q87-1)*(Q$3-Q$2)/256), Q$4)","v":168},{"$f":"ROUND( R$2+(('coded NOLH for 23-29 factors'!R87-1)*(R$3-R$2)/256), R$4)","v":33},{"$f":"ROUND( S$2+(('coded NOLH for 23-29 factors'!S87-1)*(S$3-S$2)/256), S$4)","v":141},{"$f":"ROUND( T$2+(('coded NOLH for 23-29 factors'!T87-1)*(T$3-T$2)/256), T$4)","v":26},{"$f":"ROUND( U$2+(('coded NOLH for 23-29 factors'!U87-1)*(U$3-U$2)/256), U$4)","v":107},{"$f":"ROUND( V$2+(('coded NOLH for 23-29 factors'!V87-1)*(V$3-V$2)/256), V$4)","v":151},{"$f":"ROUND( W$2+(('coded NOLH for 23-29 factors'!W87-1)*(W$3-W$2)/256), W$4)","v":60},{"$f":"ROUND( X$2+(('coded NOLH for 23-29 factors'!X87-1)*(X$3-X$2)/256), X$4)","v":215},{"$f":"ROUND( Y$2+(('coded NOLH for 23-29 factors'!Y87-1)*(Y$3-Y$2)/256), Y$4)","v":209},{"$f":"ROUND( Z$2+(('coded NOLH for 23-29 factors'!Z87-1)*(Z$3-Z$2)/256), Z$4)","v":105},{"$f":"ROUND( AA$2+(('coded NOLH for 23-29 factors'!AA87-1)*(AA$3-AA$2)/256), AA$4)","v":204},{"$f":"ROUND( AB$2+(('coded NOLH for 23-29 factors'!AB87-1)*(AB$3-AB$2)/256), AB$4)","v":137},{"$f":"ROUND( AC$2+(('coded NOLH for 23-29 factors'!AC87-1)*(AC$3-AC$2)/256), AC$4)","v":5},{"$f":"ROUND( AD$2+(('coded NOLH for 23-29 factors'!AD87-1)*(AD$3-AD$2)/256), AD$4)","v":199}]
[null,{"$f":"ROUND( B$2+(('coded NOLH for 23-29 factors'!B88-1)*(B$3-B$2)/256), B$4)","v":127},{"$f":"ROUND( C$2+(('coded NOLH for 23-29 factors'!C88-1)*(C$3-C$2)/256), C$4)","v":26},{"$f":"ROUND( D$2+(('coded NOLH for 23-29 factors'!D88-1)*(D$3-D$2)/256), D$4)","v":117},{"$f":"ROUND( E$2+(('coded NOLH for 23-29 factors'!E88-1)*(E$3-E$2)/256), E$4)","v":161},{"$f":"ROUND( F$2+(('coded NOLH for 23-29 factors'!F88-1)*(F$3-F$2)/256), F$4)","v":249},{"$f":"ROUND( G$2+(('coded NOLH for 23-29 factors'!G88-1)*(G$3-G$2)/256), G$4)","v":91},{"$f":"ROUND( H$2+(('coded NOLH for 23-29 factors'!H88-1)*(H$3-H$2)/256), H$4)","v":236},{"$f":"ROUND( I$2+(('coded NOLH for 23-29 factors'!I88-1)*(I$3-I$2)/256), I$4)","v":58},{"$f":"ROUND( J$2+(('coded NOLH for 23-29 factors'!J88-1)*(J$3-J$2)/256), J$4)","v":83},{"$f":"ROUND( K$2+(('coded NOLH for 23-29 factors'!K88-1)*(K$3-K$2)/256), K$4)","v":225},{"$f":"ROUND( L$2+(('coded NOLH for 23-29 factors'!L88-1)*(L$3-L$2)/256), L$4)","v":153},{"$f":"ROUND( M$2+(('coded NOLH for 23-29 factors'!M88-1)*(M$3-M$2)/256), M$4)","v":30},{"$f":"ROUND( N$2+(('coded NOLH for 23-29 factors'!N88-1)*(N$3-N$2)/256), N$4)","v":207},{"$f":"ROUND( O$2+(('coded NOLH for 23-29 factors'!O88-1)*(O$3-O$2)/256), O$4)","v":43},{"$f":"ROUND( P$2+(('coded NOLH for 23-29 factors'!P88-1)*(P$3-P$2)/256), P$4)","v":154},{"$f":"ROUND( Q$2+(('coded NOLH for 23-29 factors'!Q88-1)*(Q$3-Q$2)/256), Q$4)","v":205},{"$f":"ROUND( R$2+(('coded NOLH for 23-29 factors'!R88-1)*(R$3-R$2)/256), R$4)","v":56},{"$f":"ROUND( S$2+(('coded NOLH for 23-29 factors'!S88-1)*(S$3-S$2)/256), S$4)","v":131},{"$f":"ROUND( T$2+(('coded NOLH for 23-29 factors'!T88-1)*(T$3-T$2)/256), T$4)","v":54},{"$f":"ROUND( U$2+(('coded NOLH for 23-29 factors'!U88-1)*(U$3-U$2)/256), U$4)","v":80},{"$f":"ROUND( V$2+(('coded NOLH for 23-29 factors'!V88-1)*(V$3-V$2)/256), V$4)","v":141},{"$f":"ROUND( W$2+(('coded NOLH for 23-29 factors'!W88-1)*(W$3-W$2)/256), W$4)","v":20},{"$f":"ROUND( X$2+(('coded NOLH for 23-29 factors'!X88-1)*(X$3-X$2)/256), X$4)","v":249},{"$f":"ROUND( Y$2+(('coded NOLH for 23-29 factors'!Y88-1)*(Y$3-Y$2)/256), Y$4)","v":160},{"$f":"ROUND( Z$2+(('coded NOLH for 23-29 factors'!Z88-1)*(Z$3-Z$2)/256), Z$4)","v":61},{"$f":"ROUND( AA$2+(('coded NOLH for 23-29 factors'!AA88-1)*(AA$3-AA$2)/256), AA$4)","v":202},{"$f":"ROUND( AB$2+(('coded NOLH for 23-29 factors'!AB88-1)*(AB$3-AB$2)/256), AB$4)","v":201},{"$f":"ROUND( AC$2+(('coded NOLH for 23-29 factors'!AC88-1)*(AC$3-AC$2)/256), AC$4)","v":106},{"$f":"ROUND( AD$2+(('coded NOLH for 23-29 factors'!AD88-1)*(AD$3-AD$2)/256), AD$4)","v":213}]
[null,{"$f":"ROUND( B$2+(('coded NOLH for 23-29 factors'!B89-1)*(B$3-B$2)/256), B$4)","v":97},{"$f":"ROUND( C$2+(('coded NOLH for 23-29 factors'!C89-1)*(C$3-C$2)/256), C$4)","v":243},{"$f":"ROUND( D$2+(('coded NOLH for 23-29 factors'!D89-1)*(D$3-D$2)/256), D$4)","v":183},{"$f":"ROUND( E$2+(('coded NOLH for 23-29 factors'!E89-1)*(E$3-E$2)/256), E$4)","v":127},{"$f":"ROUND( F$2+(('coded NOLH for 23-29 factors'!F89-1)*(F$3-F$2)/256), F$4)","v":214},{"$f":"ROUND( G$2+(('coded NOLH for 23-29 factors'!G89-1)*(G$3-G$2)/256), G$4)","v":115},{"$f":"ROUND( H$2+(('coded NOLH for 23-29 factors'!H89-1)*(H$3-H$2)/256), H$4)","v":248},{"$f":"ROUND( I$2+(('coded NOLH for 23-29 factors'!I89-1)*(I$3-I$2)/256), I$4)","v":5},{"$f":"ROUND( J$2+(('coded NOLH for 23-29 factors'!J89-1)*(J$3-J$2)/256), J$4)","v":77},{"$f":"ROUND( K$2+(('coded NOLH for 23-29 factors'!K89-1)*(K$3-K$2)/256), K$4)","v":229},{"$f":"ROUND( L$2+(('coded NOLH for 23-29 factors'!L89-1)*(L$3-L$2)/256), L$4)","v":115},{"$f":"ROUND( M$2+(('coded NOLH for 23-29 factors'!M89-1)*(M$3-M$2)/256), M$4)","v":159},{"$f":"ROUND( N$2+(('coded NOLH for 23-29 factors'!N89-1)*(N$3-N$2)/256), N$4)","v":49},{"$f":"ROUND( O$2+(('coded NOLH for 23-29 factors'!O89-1)*(O$3-O$2)/256), O$4)","v":225},{"$f":"ROUND( P$2+(('coded NOLH for 23-29 factors'!P89-1)*(P$3-P$2)/256), P$4)","v":120},{"$f":"ROUND( Q$2+(('coded NOLH for 23-29 factors'!Q89-1)*(Q$3-Q$2)/256), Q$4)","v":107},{"$f":"ROUND( R$2+(('coded NOLH for 23-29 factors'!R89-1)*(R$3-R$2)/256), R$4)","v":208},{"$f":"ROUND( S$2+(('coded NOLH for 23-29 factors'!S89-1)*(S$3-S$2)/256), S$4)","v":67},{"$f":"ROUND( T$2+(('coded NOLH for 23-29 factors'!T89-1)*(T$3-T$2)/256), T$4)","v":231},{"$f":"ROUND( U$2+(('coded NOLH for 23-29 factors'!U89-1)*(U$3-U$2)/256), U$4)","v":241},{"$f":"ROUND( V$2+(('coded NOLH for 23-29 factors'!V89-1)*(V$3-V$2)/256), V$4)","v":79},{"$f":"ROUND( W$2+(('coded NOLH for 23-29 factors'!W89-1)*(W$3-W$2)/256), W$4)","v":242},{"$f":"ROUND( X$2+(('coded NOLH for 23-29 factors'!X89-1)*(X$3-X$2)/256), X$4)","v":70},{"$f":"ROUND( Y$2+(('coded NOLH for 23-29 factors'!Y89-1)*(Y$3-Y$2)/256), Y$4)","v":193},{"$f":"ROUND( Z$2+(('coded NOLH for 23-29 factors'!Z89-1)*(Z$3-Z$2)/256), Z$4)","v":112},{"$f":"ROUND( AA$2+(('coded NOLH for 23-29 factors'!AA89-1)*(AA$3-AA$2)/256), AA$4)","v":146},{"$f":"ROUND( AB$2+(('coded NOLH for 23-29 factors'!AB89-1)*(AB$3-AB$2)/256), AB$4)","v":193},{"$f":"ROUND( AC$2+(('coded NOLH for 23-29 factors'!AC89-1)*(AC$3-AC$2)/256), AC$4)","v":78},{"$f":"ROUND( AD$2+(('coded NOLH for 23-29 factors'!AD89-1)*(AD$3-AD$2)/256), AD$4)","v":195}]
[null,{"$f":"ROUND( B$2+(('coded NOLH for 23-29 factors'!B90-1)*(B$3-B$2)/256), B$4)","v":15},{"$f":"ROUND( C$2+(('coded NOLH for 23-29 factors'!C90-1)*(C$3-C$2)/256), C$4)","v":97},{"$f":"ROUND( D$2+(('coded NOLH for 23-29 factors'!D90-1)*(D$3-D$2)/256), D$4)","v":159},{"$f":"ROUND( E$2+(('coded NOLH for 23-29 factors'!E90-1)*(E$3-E$2)/256), E$4)","v":26},{"$f":"ROUND( F$2+(('coded NOLH for 23-29 factors'!F90-1)*(F$3-F$2)/256), F$4)","v":150},{"$f":"ROUND( G$2+(('coded NOLH for 23-29 factors'!G90-1)*(G$3-G$2)/256), G$4)","v":90},{"$f":"ROUND( H$2+(('coded NOLH for 23-29 factors'!H90-1)*(H$3-H$2)/256), H$4)","v":212},{"$f":"ROUND( I$2+(('coded NOLH for 23-29 factors'!I90-1)*(I$3-I$2)/256), I$4)","v":35},{"$f":"ROUND( J$2+(('coded NOLH for 23-29 factors'!J90-1)*(J$3-J$2)/256), J$4)","v":180},{"$f":"ROUND( K$2+(('coded NOLH for 23-29 factors'!K90-1)*(K$3-K$2)/256), K$4)","v":125},{"$f":"ROUND( L$2+(('coded NOLH for 23-29 factors'!L90-1)*(L$3-L$2)/256), L$4)","v":210},{"$f":"ROUND( M$2+(('coded NOLH for 23-29 factors'!M90-1)*(M$3-M$2)/256), M$4)","v":123},{"$f":"ROUND( N$2+(('coded NOLH for 23-29 factors'!N90-1)*(N$3-N$2)/256), N$4)","v":249},{"$f":"ROUND( O$2+(('coded NOLH for 23-29 factors'!O90-1)*(O$3-O$2)/256), O$4)","v":2},{"$f":"ROUND( P$2+(('coded NOLH for 23-29 factors'!P90-1)*(P$3-P$2)/256), P$4)","v":144},{"$f":"ROUND( Q$2+(('coded NOLH for 23-29 factors'!Q90-1)*(Q$3-Q$2)/256), Q$4)","v":56},{"$f":"ROUND( R$2+(('coded NOLH for 23-29 factors'!R90-1)*(R$3-R$2)/256), R$4)","v":212},{"$f":"ROUND( S$2+(('coded NOLH for 23-29 factors'!S90-1)*(S$3-S$2)/256), S$4)","v":54},{"$f":"ROUND( T$2+(('coded NOLH for 23-29 factors'!T90-1)*(T$3-T$2)/256), T$4)","v":202},{"$f":"ROUND( U$2+(('coded NOLH for 23-29 factors'!U90-1)*(U$3-U$2)/256), U$4)","v":156},{"$f":"ROUND( V$2+(('coded NOLH for 23-29 factors'!V90-1)*(V$3-V$2)/256), V$4)","v":73},{"$f":"ROUND( W$2+(('coded NOLH for 23-29 factors'!W90-1)*(W$3-W$2)/256), W$4)","v":202},{"$f":"ROUND( X$2+(('coded NOLH for 23-29 factors'!X90-1)*(X$3-X$2)/256), X$4)","v":40},{"$f":"ROUND( Y$2+(('coded NOLH for 23-29 factors'!Y90-1)*(Y$3-Y$2)/256), Y$4)","v":215},{"$f":"ROUND( Z$2+(('coded NOLH for 23-29 factors'!Z90-1)*(Z$3-Z$2)/256), Z$4)","v":42},{"$f":"ROUND( AA$2+(('coded NOLH for 23-29 factors'!AA90-1)*(AA$3-AA$2)/256), AA$4)","v":175},{"$f":"ROUND( AB$2+(('coded NOLH for 23-29 factors'!AB90-1)*(AB$3-AB$2)/256), AB$4)","v":163},{"$f":"ROUND( AC$2+(('coded NOLH for 23-29 factors'!AC90-1)*(AC$3-AC$2)/256), AC$4)","v":35},{"$f":"ROUND( AD$2+(('coded NOLH for 23-29 factors'!AD90-1)*(AD$3-AD$2)/256), AD$4)","v":161}]
[null,{"$f":"ROUND( B$2+(('coded NOLH for 23-29 factors'!B91-1)*(B$3-B$2)/256), B$4)","v":99},{"$f":"ROUND( C$2+(('coded NOLH for 23-29 factors'!C91-1)*(C$3-C$2)/256), C$4)","v":183},{"$f":"ROUND( D$2+(('coded NOLH for 23-29 factors'!D91-1)*(D$3-D$2)/256), D$4)","v":15},{"$f":"ROUND( E$2+(('coded NOLH for 23-29 factors'!E91-1)*(E$3-E$2)/256), E$4)","v":106},{"$f":"ROUND( F$2+(('coded NOLH for 23-29 factors'!F91-1)*(F$3-F$2)/256), F$4)","v":178},{"$f":"ROUND( G$2+(('coded NOLH for 23-29 factors'!G91-1)*(G$3-G$2)/256), G$4)","v":3},{"$f":"ROUND( H$2+(('coded NOLH for 23-29 factors'!H91-1)*(H$3-H$2)/256), H$4)","v":187},{"$f":"ROUND( I$2+(('coded NOLH for 23-29 factors'!I91-1)*(I$3-I$2)/256), I$4)","v":57},{"$f":"ROUND( J$2+(('coded NOLH for 23-29 factors'!J91-1)*(J$3-J$2)/256), J$4)","v":130},{"$f":"ROUND( K$2+(('coded NOLH for 23-29 factors'!K91-1)*(K$3-K$2)/256), K$4)","v":115},{"$f":"ROUND( L$2+(('coded NOLH for 23-29 factors'!L91-1)*(L$3-L$2)/256), L$4)","v":80},{"$f":"ROUND( M$2+(('coded NOLH for 23-29 factors'!M91-1)*(M$3-M$2)/256), M$4)","v":242},{"$f":"ROUND( N$2+(('coded NOLH for 23-29 factors'!N91-1)*(N$3-N$2)/256), N$4)","v":77},{"$f":"ROUND( O$2+(('coded NOLH for 23-29 factors'!O91-1)*(O$3-O$2)/256), O$4)","v":216},{"$f":"ROUND( P$2+(('coded NOLH for 23-29 factors'!P91-1)*(P$3-P$2)/256), P$4)","v":41},{"$f":"ROUND( Q$2+(('coded NOLH for 23-29 factors'!Q91-1)*(Q$3-Q$2)/256), Q$4)","v":140},{"$f":"ROUND( R$2+(('coded NOLH for 23-29 factors'!R91-1)*(R$3-R$2)/256), R$4)","v":96},{"$f":"ROUND( S$2+(('coded NOLH for 23-29 factors'!S91-1)*(S$3-S$2)/256), S$4)","v":207},{"$f":"ROUND( T$2+(('coded NOLH for 23-29 factors'!T91-1)*(T$3-T$2)/256), T$4)","v":42},{"$f":"ROUND( U$2+(('coded NOLH for 23-29 factors'!U91-1)*(U$3-U$2)/256), U$4)","v":126},{"$f":"ROUND( V$2+(('coded NOLH for 23-29 factors'!V91-1)*(V$3-V$2)/256), V$4)","v":27},{"$f":"ROUND( W$2+(('coded NOLH for 23-29 factors'!W91-1)*(W$3-W$2)/256), W$4)","v":171},{"$f":"ROUND( X$2+(('coded NOLH for 23-29 factors'!X91-1)*(X$3-X$2)/256), X$4)","v":30},{"$f":"ROUND( Y$2+(('coded NOLH for 23-29 factors'!Y91-1)*(Y$3-Y$2)/256), Y$4)","v":180},{"$f":"ROUND( Z$2+(('coded NOLH for 23-29 factors'!Z91-1)*(Z$3-Z$2)/256), Z$4)","v":10},{"$f":"ROUND( AA$2+(('coded NOLH for 23-29 factors'!AA91-1)*(AA$3-AA$2)/256), AA$4)","v":188},{"$f":"ROUND( AB$2+(('coded NOLH for 23-29 factors'!AB91-1)*(AB$3-AB$2)/256), AB$4)","v":150},{"$f":"ROUND( AC$2+(('coded NOLH for 23-29 factors'!AC91-1)*(AC$3-AC$2)/256), AC$4)","v":123},{"$f":"ROUND( AD$2+(('coded NOLH for 23-29 factors'!AD91-1)*(AD$3-AD$2)/256), AD$4)","v":164}]
[null,{"$f":"ROUND( B$2+(('coded NOLH for 23-29 factors'!B92-1)*(B$3-B$2)/256), B$4)","v":75},{"$f":"ROUND( C$2+(('coded NOLH for 23-29 factors'!C92-1)*(C$3-C$2)/256), C$4)","v":99},{"$f":"ROUND( D$2+(('coded NOLH for 23-29 factors'!D92-1)*(D$3-D$2)/256), D$4)","v":97},{"$f":"ROUND( E$2+(('coded NOLH for 23-29 factors'!E92-1)*(E$3-E$2)/256), E$4)","v":117},{"$f":"ROUND( F$2+(('coded NOLH for 23-29 factors'!F92-1)*(F$3-F$2)/256), F$4)","v":184},{"$f":"ROUND( G$2+(('coded NOLH for 23-29 factors'!G92-1)*(G$3-G$2)/256), G$4)","v":40},{"$f":"ROUND( H$2+(('coded NOLH for 23-29 factors'!H92-1)*(H$3-H$2)/256), H$4)","v":169},{"$f":"ROUND( I$2+(('coded NOLH for 23-29 factors'!I92-1)*(I$3-I$2)/256), I$4)","v":48},{"$f":"ROUND( J$2+(('coded NOLH for 23-29 factors'!J92-1)*(J$3-J$2)/256), J$4)","v":5},{"$f":"ROUND( K$2+(('coded NOLH for 23-29 factors'!K92-1)*(K$3-K$2)/256), K$4)","v":86},{"$f":"ROUND( L$2+(('coded NOLH for 23-29 factors'!L92-1)*(L$3-L$2)/256), L$4)","v":189},{"$f":"ROUND( M$2+(('coded NOLH for 23-29 factors'!M92-1)*(M$3-M$2)/256), M$4)","v":11},{"$f":"ROUND( N$2+(('coded NOLH for 23-29 factors'!N92-1)*(N$3-N$2)/256), N$4)","v":176},{"$f":"ROUND( O$2+(('coded NOLH for 23-29 factors'!O92-1)*(O$3-O$2)/256), O$4)","v":55},{"$f":"ROUND( P$2+(('coded NOLH for 23-29 factors'!P92-1)*(P$3-P$2)/256), P$4)","v":107},{"$f":"ROUND( Q$2+(('coded NOLH for 23-29 factors'!Q92-1)*(Q$3-Q$2)/256), Q$4)","v":209},{"$f":"ROUND( R$2+(('coded NOLH for 23-29 factors'!R92-1)*(R$3-R$2)/256), R$4)","v":103},{"$f":"ROUND( S$2+(('coded NOLH for 23-29 factors'!S92-1)*(S$3-S$2)/256), S$4)","v":215},{"$f":"ROUND( T$2+(('coded NOLH for 23-29 factors'!T92-1)*(T$3-T$2)/256), T$4)","v":7},{"$f":"ROUND( U$2+(('coded NOLH for 23-29 factors'!U92-1)*(U$3-U$2)/256), U$4)","v":221},{"$f":"ROUND( V$2+(('coded NOLH for 23-29 factors'!V92-1)*(V$3-V$2)/256), V$4)","v":118},{"$f":"ROUND( W$2+(('coded NOLH for 23-29 factors'!W92-1)*(W$3-W$2)/256), W$4)","v":193},{"$f":"ROUND( X$2+(('coded NOLH for 23-29 factors'!X92-1)*(X$3-X$2)/256), X$4)","v":86},{"$f":"ROUND( Y$2+(('coded NOLH for 23-29 factors'!Y92-1)*(Y$3-Y$2)/256), Y$4)","v":195},{"$f":"ROUND( Z$2+(('coded NOLH for 23-29 factors'!Z92-1)*(Z$3-Z$2)/256), Z$4)","v":23},{"$f":"ROUND( AA$2+(('coded NOLH for 23-29 factors'!AA92-1)*(AA$3-AA$2)/256), AA$4)","v":159},{"$f":"ROUND( AB$2+(('coded NOLH for 23-29 factors'!AB92-1)*(AB$3-AB$2)/256), AB$4)","v":255},{"$f":"ROUND( AC$2+(('coded NOLH for 23-29 factors'!AC92-1)*(AC$3-AC$2)/256), AC$4)","v":80},{"$f":"ROUND( AD$2+(('coded NOLH for 23-29 factors'!AD92-1)*(AD$3-AD$2)/256), AD$4)","v":181}]
[null,{"$f":"ROUND( B$2+(('coded NOLH for 23-29 factors'!B93-1)*(B$3-B$2)/256), B$4)","v":74},{"$f":"ROUND( C$2+(('coded NOLH for 23-29 factors'!C93-1)*(C$3-C$2)/256), C$4)","v":178},{"$f":"ROUND( D$2+(('coded NOLH for 23-29 factors'!D93-1)*(D$3-D$2)/256), D$4)","v":214},{"$f":"ROUND( E$2+(('coded NOLH for 23-29 factors'!E93-1)*(E$3-E$2)/256), E$4)","v":182},{"$f":"ROUND( F$2+(('coded NOLH for 23-29 factors'!F93-1)*(F$3-F$2)/256), F$4)","v":75},{"$f":"ROUND( G$2+(('coded NOLH for 23-29 factors'!G93-1)*(G$3-G$2)/256), G$4)","v":63},{"$f":"ROUND( H$2+(('coded NOLH for 23-29 factors'!H93-1)*(H$3-H$2)/256), H$4)","v":256},{"$f":"ROUND( I$2+(('coded NOLH for 23-29 factors'!I93-1)*(I$3-I$2)/256), I$4)","v":120},{"$f":"ROUND( J$2+(('coded NOLH for 23-29 factors'!J93-1)*(J$3-J$2)/256), J$4)","v":91},{"$f":"ROUND( K$2+(('coded NOLH for 23-29 factors'!K93-1)*(K$3-K$2)/256), K$4)","v":113},{"$f":"ROUND( L$2+(('coded NOLH for 23-29 factors'!L93-1)*(L$3-L$2)/256), L$4)","v":162},{"$f":"ROUND( M$2+(('coded NOLH for 23-29 factors'!M93-1)*(M$3-M$2)/256), M$4)","v":180},{"$f":"ROUND( N$2+(('coded NOLH for 23-29 factors'!N93-1)*(N$3-N$2)/256), N$4)","v":26},{"$f":"ROUND( O$2+(('coded NOLH for 23-29 factors'!O93-1)*(O$3-O$2)/256), O$4)","v":165},{"$f":"ROUND( P$2+(('coded NOLH for 23-29 factors'!P93-1)*(P$3-P$2)/256), P$4)","v":16},{"$f":"ROUND( Q$2+(('coded NOLH for 23-29 factors'!Q93-1)*(Q$3-Q$2)/256), Q$4)","v":185},{"$f":"ROUND( R$2+(('coded NOLH for 23-29 factors'!R93-1)*(R$3-R$2)/256), R$4)","v":245},{"$f":"ROUND( S$2+(('coded NOLH for 23-29 factors'!S93-1)*(S$3-S$2)/256), S$4)","v":132},{"$f":"ROUND( T$2+(('coded NOLH for 23-29 factors'!T93-1)*(T$3-T$2)/256), T$4)","v":195},{"$f":"ROUND( U$2+(('coded NOLH for 23-29 factors'!U93-1)*(U$3-U$2)/256), U$4)","v":134},{"$f":"ROUND( V$2+(('coded NOLH for 23-29 factors'!V93-1)*(V$3-V$2)/256), V$4)","v":234},{"$f":"ROUND( W$2+(('coded NOLH for 23-29 factors'!W93-1)*(W$3-W$2)/256), W$4)","v":26},{"$f":"ROUND( X$2+(('coded NOLH for 23-29 factors'!X93-1)*(X$3-X$2)/256), X$4)","v":175},{"$f":"ROUND( Y$2+(('coded NOLH for 23-29 factors'!Y93-1)*(Y$3-Y$2)/256), Y$4)","v":23},{"$f":"ROUND( Z$2+(('coded NOLH for 23-29 factors'!Z93-1)*(Z$3-Z$2)/256), Z$4)","v":171},{"$f":"ROUND( AA$2+(('coded NOLH for 23-29 factors'!AA93-1)*(AA$3-AA$2)/256), AA$4)","v":44},{"$f":"ROUND( AB$2+(('coded NOLH for 23-29 factors'!AB93-1)*(AB$3-AB$2)/256), AB$4)","v":161},{"$f":"ROUND( AC$2+(('coded NOLH for 23-29 factors'!AC93-1)*(AC$3-AC$2)/256), AC$4)","v":69},{"$f":"ROUND( AD$2+(('coded NOLH for 23-29 factors'!AD93-1)*(AD$3-AD$2)/256), AD$4)","v":180}]
[null,{"$f":"ROUND( B$2+(('coded NOLH for 23-29 factors'!B94-1)*(B$3-B$2)/256), B$4)","v":80},{"$f":"ROUND( C$2+(('coded NOLH for 23-29 factors'!C94-1)*(C$3-C$2)/256), C$4)","v":74},{"$f":"ROUND( D$2+(('coded NOLH for 23-29 factors'!D94-1)*(D$3-D$2)/256), D$4)","v":150},{"$f":"ROUND( E$2+(('coded NOLH for 23-29 factors'!E94-1)*(E$3-E$2)/256), E$4)","v":149},{"$f":"ROUND( F$2+(('coded NOLH for 23-29 factors'!F94-1)*(F$3-F$2)/256), F$4)","v":99},{"$f":"ROUND( G$2+(('coded NOLH for 23-29 factors'!G94-1)*(G$3-G$2)/256), G$4)","v":47},{"$f":"ROUND( H$2+(('coded NOLH for 23-29 factors'!H94-1)*(H$3-H$2)/256), H$4)","v":228},{"$f":"ROUND( I$2+(('coded NOLH for 23-29 factors'!I94-1)*(I$3-I$2)/256), I$4)","v":82},{"$f":"ROUND( J$2+(('coded NOLH for 23-29 factors'!J94-1)*(J$3-J$2)/256), J$4)","v":198},{"$f":"ROUND( K$2+(('coded NOLH for 23-29 factors'!K94-1)*(K$3-K$2)/256), K$4)","v":178},{"$f":"ROUND( L$2+(('coded NOLH for 23-29 factors'!L94-1)*(L$3-L$2)/256), L$4)","v":83},{"$f":"ROUND( M$2+(('coded NOLH for 23-29 factors'!M94-1)*(M$3-M$2)/256), M$4)","v":42},{"$f":"ROUND( N$2+(('coded NOLH for 23-29 factors'!N94-1)*(N$3-N$2)/256), N$4)","v":250},{"$f":"ROUND( O$2+(('coded NOLH for 23-29 factors'!O94-1)*(O$3-O$2)/256), O$4)","v":115},{"$f":"ROUND( P$2+(('coded NOLH for 23-29 factors'!P94-1)*(P$3-P$2)/256), P$4)","v":122},{"$f":"ROUND( Q$2+(('coded NOLH for 23-29 factors'!Q94-1)*(Q$3-Q$2)/256), Q$4)","v":241},{"$f":"ROUND( R$2+(('coded NOLH for 23-29 factors'!R94-1)*(R$3-R$2)/256), R$4)","v":174},{"$f":"ROUND( S$2+(('coded NOLH for 23-29 factors'!S94-1)*(S$3-S$2)/256), S$4)","v":18},{"$f":"ROUND( T$2+(('coded NOLH for 23-29 factors'!T94-1)*(T$3-T$2)/256), T$4)","v":125},{"$f":"ROUND( U$2+(('coded NOLH for 23-29 factors'!U94-1)*(U$3-U$2)/256), U$4)","v":160},{"$f":"ROUND( V$2+(('coded NOLH for 23-29 factors'!V94-1)*(V$3-V$2)/256), V$4)","v":170},{"$f":"ROUND( W$2+(('coded NOLH for 23-29 factors'!W94-1)*(W$3-W$2)/256), W$4)","v":33},{"$f":"ROUND( X$2+(('coded NOLH for 23-29 factors'!X94-1)*(X$3-X$2)/256), X$4)","v":152},{"$f":"ROUND( Y$2+(('coded NOLH for 23-29 factors'!Y94-1)*(Y$3-Y$2)/256), Y$4)","v":3},{"$f":"ROUND( Z$2+(('coded NOLH for 23-29 factors'!Z94-1)*(Z$3-Z$2)/256), Z$4)","v":172},{"$f":"ROUND( AA$2+(('coded NOLH for 23-29 factors'!AA94-1)*(AA$3-AA$2)/256), AA$4)","v":39},{"$f":"ROUND( AB$2+(('coded NOLH for 23-29 factors'!AB94-1)*(AB$3-AB$2)/256), AB$4)","v":158},{"$f":"ROUND( AC$2+(('coded NOLH for 23-29 factors'!AC94-1)*(AC$3-AC$2)/256), AC$4)","v":66},{"$f":"ROUND( AD$2+(('coded NOLH for 23-29 factors'!AD94-1)*(AD$3-AD$2)/256), AD$4)","v":144}]
[null,{"$f":"ROUND( B$2+(('coded NOLH for 23-29 factors'!B95-1)*(B$3-B$2)/256), B$4)","v":108},{"$f":"ROUND( C$2+(('coded NOLH for 23-29 factors'!C95-1)*(C$3-C$2)/256), C$4)","v":214},{"$f":"ROUND( D$2+(('coded NOLH for 23-29 factors'!D95-1)*(D$3-D$2)/256), D$4)","v":80},{"$f":"ROUND( E$2+(('coded NOLH for 23-29 factors'!E95-1)*(E$3-E$2)/256), E$4)","v":147},{"$f":"ROUND( F$2+(('coded NOLH for 23-29 factors'!F95-1)*(F$3-F$2)/256), F$4)","v":15},{"$f":"ROUND( G$2+(('coded NOLH for 23-29 factors'!G95-1)*(G$3-G$2)/256), G$4)","v":45},{"$f":"ROUND( H$2+(('coded NOLH for 23-29 factors'!H95-1)*(H$3-H$2)/256), H$4)","v":208},{"$f":"ROUND( I$2+(('coded NOLH for 23-29 factors'!I95-1)*(I$3-I$2)/256), I$4)","v":102},{"$f":"ROUND( J$2+(('coded NOLH for 23-29 factors'!J95-1)*(J$3-J$2)/256), J$4)","v":168},{"$f":"ROUND( K$2+(('coded NOLH for 23-29 factors'!K95-1)*(K$3-K$2)/256), K$4)","v":5},{"$f":"ROUND( L$2+(('coded NOLH for 23-29 factors'!L95-1)*(L$3-L$2)/256), L$4)","v":159},{"$f":"ROUND( M$2+(('coded NOLH for 23-29 factors'!M95-1)*(M$3-M$2)/256), M$4)","v":226},{"$f":"ROUND( N$2+(('coded NOLH for 23-29 factors'!N95-1)*(N$3-N$2)/256), N$4)","v":105},{"$f":"ROUND( O$2+(('coded NOLH for 23-29 factors'!O95-1)*(O$3-O$2)/256), O$4)","v":172},{"$f":"ROUND( P$2+(('coded NOLH for 23-29 factors'!P95-1)*(P$3-P$2)/256), P$4)","v":183},{"$f":"ROUND( Q$2+(('coded NOLH for 23-29 factors'!Q95-1)*(Q$3-Q$2)/256), Q$4)","v":91},{"$f":"ROUND( R$2+(('coded NOLH for 23-29 factors'!R95-1)*(R$3-R$2)/256), R$4)","v":85},{"$f":"ROUND( S$2+(('coded NOLH for 23-29 factors'!S95-1)*(S$3-S$2)/256), S$4)","v":247},{"$f":"ROUND( T$2+(('coded NOLH for 23-29 factors'!T95-1)*(T$3-T$2)/256), T$4)","v":85},{"$f":"ROUND( U$2+(('coded NOLH for 23-29 factors'!U95-1)*(U$3-U$2)/256), U$4)","v":197},{"$f":"ROUND( V$2+(('coded NOLH for 23-29 factors'!V95-1)*(V$3-V$2)/256), V$4)","v":254},{"$f":"ROUND( W$2+(('coded NOLH for 23-29 factors'!W95-1)*(W$3-W$2)/256), W$4)","v":119},{"$f":"ROUND( X$2+(('coded NOLH for 23-29 factors'!X95-1)*(X$3-X$2)/256), X$4)","v":197},{"$f":"ROUND( Y$2+(('coded NOLH for 23-29 factors'!Y95-1)*(Y$3-Y$2)/256), Y$4)","v":99},{"$f":"ROUND( Z$2+(('coded NOLH for 23-29 factors'!Z95-1)*(Z$3-Z$2)/256), Z$4)","v":192},{"$f":"ROUND( AA$2+(('coded NOLH for 23-29 factors'!AA95-1)*(AA$3-AA$2)/256), AA$4)","v":62},{"$f":"ROUND( AB$2+(('coded NOLH for 23-29 factors'!AB95-1)*(AB$3-AB$2)/256), AB$4)","v":233},{"$f":"ROUND( AC$2+(('coded NOLH for 23-29 factors'!AC95-1)*(AC$3-AC$2)/256), AC$4)","v":29},{"$f":"ROUND( AD$2+(('coded NOLH for 23-29 factors'!AD95-1)*(AD$3-AD$2)/256), AD$4)","v":193}]
[null,{"$f":"ROUND( B$2+(('coded NOLH for 23-29 factors'!B96-1)*(B$3-B$2)/256), B$4)","v":44},{"$f":"ROUND( C$2+(('coded NOLH for 23-29 factors'!C96-1)*(C$3-C$2)/256), C$4)","v":108},{"$f":"ROUND( D$2+(('coded NOLH for 23-29 factors'!D96-1)*(D$3-D$2)/256), D$4)","v":74},{"$f":"ROUND( E$2+(('coded NOLH for 23-29 factors'!E96-1)*(E$3-E$2)/256), E$4)","v":249},{"$f":"ROUND( F$2+(('coded NOLH for 23-29 factors'!F96-1)*(F$3-F$2)/256), F$4)","v":97},{"$f":"ROUND( G$2+(('coded NOLH for 23-29 factors'!G96-1)*(G$3-G$2)/256), G$4)","v":28},{"$f":"ROUND( H$2+(('coded NOLH for 23-29 factors'!H96-1)*(H$3-H$2)/256), H$4)","v":140},{"$f":"ROUND( I$2+(('coded NOLH for 23-29 factors'!I96-1)*(I$3-I$2)/256), I$4)","v":79},{"$f":"ROUND( J$2+(('coded NOLH for 23-29 factors'!J96-1)*(J$3-J$2)/256), J$4)","v":44},{"$f":"ROUND( K$2+(('coded NOLH for 23-29 factors'!K96-1)*(K$3-K$2)/256), K$4)","v":131},{"$f":"ROUND( L$2+(('coded NOLH for 23-29 factors'!L96-1)*(L$3-L$2)/256), L$4)","v":40},{"$f":"ROUND( M$2+(('coded NOLH for 23-29 factors'!M96-1)*(M$3-M$2)/256), M$4)","v":35},{"$f":"ROUND( N$2+(('coded NOLH for 23-29 factors'!N96-1)*(N$3-N$2)/256), N$4)","v":196},{"$f":"ROUND( O$2+(('coded NOLH for 23-29 factors'!O96-1)*(O$3-O$2)/256), O$4)","v":101},{"$f":"ROUND( P$2+(('coded NOLH for 23-29 factors'!P96-1)*(P$3-P$2)/256), P$4)","v":193},{"$f":"ROUND( Q$2+(('coded NOLH for 23-29 factors'!Q96-1)*(Q$3-Q$2)/256), Q$4)","v":70},{"$f":"ROUND( R$2+(('coded NOLH for 23-29 factors'!R96-1)*(R$3-R$2)/256), R$4)","v":62},{"$f":"ROUND( S$2+(('coded NOLH for 23-29 factors'!S96-1)*(S$3-S$2)/256), S$4)","v":217},{"$f":"ROUND( T$2+(('coded NOLH for 23-29 factors'!T96-1)*(T$3-T$2)/256), T$4)","v":97},{"$f":"ROUND( U$2+(('coded NOLH for 23-29 factors'!U96-1)*(U$3-U$2)/256), U$4)","v":135},{"$f":"ROUND( V$2+(('coded NOLH for 23-29 factors'!V96-1)*(V$3-V$2)/256), V$4)","v":184},{"$f":"ROUND( W$2+(('coded NOLH for 23-29 factors'!W96-1)*(W$3-W$2)/256), W$4)","v":70},{"$f":"ROUND( X$2+(('coded NOLH for 23-29 factors'!X96-1)*(X$3-X$2)/256), X$4)","v":181},{"$f":"ROUND( Y$2+(('coded NOLH for 23-29 factors'!Y96-1)*(Y$3-Y$2)/256), Y$4)","v":121},{"$f":"ROUND( Z$2+(('coded NOLH for 23-29 factors'!Z96-1)*(Z$3-Z$2)/256), Z$4)","v":252},{"$f":"ROUND( AA$2+(('coded NOLH for 23-29 factors'!AA96-1)*(AA$3-AA$2)/256), AA$4)","v":22},{"$f":"ROUND( AB$2+(('coded NOLH for 23-29 factors'!AB96-1)*(AB$3-AB$2)/256), AB$4)","v":196},{"$f":"ROUND( AC$2+(('coded NOLH for 23-29 factors'!AC96-1)*(AC$3-AC$2)/256), AC$4)","v":28},{"$f":"ROUND( AD$2+(('coded NOLH for 23-29 factors'!AD96-1)*(AD$3-AD$2)/256), AD$4)","v":184}]
[null,{"$f":"ROUND( B$2+(('coded NOLH for 23-29 factors'!B97-1)*(B$3-B$2)/256), B$4)","v":9},{"$f":"ROUND( C$2+(('coded NOLH for 23-29 factors'!C97-1)*(C$3-C$2)/256), C$4)","v":147},{"$f":"ROUND( D$2+(('coded NOLH for 23-29 factors'!D97-1)*(D$3-D$2)/256), D$4)","v":182},{"$f":"ROUND( E$2+(('coded NOLH for 23-29 factors'!E97-1)*(E$3-E$2)/256), E$4)","v":44},{"$f":"ROUND( F$2+(('coded NOLH for 23-29 factors'!F97-1)*(F$3-F$2)/256), F$4)","v":127},{"$f":"ROUND( G$2+(('coded NOLH for 23-29 factors'!G97-1)*(G$3-G$2)/256), G$4)","v":77},{"$f":"ROUND( H$2+(('coded NOLH for 23-29 factors'!H97-1)*(H$3-H$2)/256), H$4)","v":199},{"$f":"ROUND( I$2+(('coded NOLH for 23-29 factors'!I97-1)*(I$3-I$2)/256), I$4)","v":43},{"$f":"ROUND( J$2+(('coded NOLH for 23-29 factors'!J97-1)*(J$3-J$2)/256), J$4)","v":104},{"$f":"ROUND( K$2+(('coded NOLH for 23-29 factors'!K97-1)*(K$3-K$2)/256), K$4)","v":147},{"$f":"ROUND( L$2+(('coded NOLH for 23-29 factors'!L97-1)*(L$3-L$2)/256), L$4)","v":232},{"$f":"ROUND( M$2+(('coded NOLH for 23-29 factors'!M97-1)*(M$3-M$2)/256), M$4)","v":208},{"$f":"ROUND( N$2+(('coded NOLH for 23-29 factors'!N97-1)*(N$3-N$2)/256), N$4)","v":111},{"$f":"ROUND( O$2+(('coded NOLH for 23-29 factors'!O97-1)*(O$3-O$2)/256), O$4)","v":185},{"$f":"ROUND( P$2+(('coded NOLH for 23-29 factors'!P97-1)*(P$3-P$2)/256), P$4)","v":186},{"$f":"ROUND( Q$2+(('coded NOLH for 23-29 factors'!Q97-1)*(Q$3-Q$2)/256), Q$4)","v":134},{"$f":"ROUND( R$2+(('coded NOLH for 23-29 factors'!R97-1)*(R$3-R$2)/256), R$4)","v":221},{"$f":"ROUND( S$2+(('coded NOLH for 23-29 factors'!S97-1)*(S$3-S$2)/256), S$4)","v":34},{"$f":"ROUND( T$2+(('coded NOLH for 23-29 factors'!T97-1)*(T$3-T$2)/256), T$4)","v":155},{"$f":"ROUND( U$2+(('coded NOLH for 23-29 factors'!U97-1)*(U$3-U$2)/256), U$4)","v":88},{"$f":"ROUND( V$2+(('coded NOLH for 23-29 factors'!V97-1)*(V$3-V$2)/256), V$4)","v":17},{"$f":"ROUND( W$2+(('coded NOLH for 23-29 factors'!W97-1)*(W$3-W$2)/256), W$4)","v":148},{"$f":"ROUND( X$2+(('coded NOLH for 23-29 factors'!X97-1)*(X$3-X$2)/256), X$4)","v":110},{"$f":"ROUND( Y$2+(('coded NOLH for 23-29 factors'!Y97-1)*(Y$3-Y$2)/256), Y$4)","v":72},{"$f":"ROUND( Z$2+(('coded NOLH for 23-29 factors'!Z97-1)*(Z$3-Z$2)/256), Z$4)","v":230},{"$f":"ROUND( AA$2+(('coded NOLH for 23-29 factors'!AA97-1)*(AA$3-AA$2)/256), AA$4)","v":58},{"$f":"ROUND( AB$2+(('coded NOLH for 23-29 factors'!AB97-1)*(AB$3-AB$2)/256), AB$4)","v":250},{"$f":"ROUND( AC$2+(('coded NOLH for 23-29 factors'!AC97-1)*(AC$3-AC$2)/256), AC$4)","v":24},{"$f":"ROUND( AD$2+(('coded NOLH for 23-29 factors'!AD97-1)*(AD$3-AD$2)/256), AD$4)","v":205}]
[null,{"$f":"ROUND( B$2+(('coded NOLH for 23-29 factors'!B98-1)*(B$3-B$2)/256), B$4)","v":111},{"$f":"ROUND( C$2+(('coded NOLH for 23-29 factors'!C98-1)*(C$3-C$2)/256), C$4)","v":9},{"$f":"ROUND( D$2+(('coded NOLH for 23-29 factors'!D98-1)*(D$3-D$2)/256), D$4)","v":149},{"$f":"ROUND( E$2+(('coded NOLH for 23-29 factors'!E98-1)*(E$3-E$2)/256), E$4)","v":108},{"$f":"ROUND( F$2+(('coded NOLH for 23-29 factors'!F98-1)*(F$3-F$2)/256), F$4)","v":26},{"$f":"ROUND( G$2+(('coded NOLH for 23-29 factors'!G98-1)*(G$3-G$2)/256), G$4)","v":51},{"$f":"ROUND( H$2+(('coded NOLH for 23-29 factors'!H98-1)*(H$3-H$2)/256), H$4)","v":148},{"$f":"ROUND( I$2+(('coded NOLH for 23-29 factors'!I98-1)*(I$3-I$2)/256), I$4)","v":65},{"$f":"ROUND( J$2+(('coded NOLH for 23-29 factors'!J98-1)*(J$3-J$2)/256), J$4)","v":171},{"$f":"ROUND( K$2+(('coded NOLH for 23-29 factors'!K98-1)*(K$3-K$2)/256), K$4)","v":49},{"$f":"ROUND( L$2+(('coded NOLH for 23-29 factors'!L98-1)*(L$3-L$2)/256), L$4)","v":132},{"$f":"ROUND( M$2+(('coded NOLH for 23-29 factors'!M98-1)*(M$3-M$2)/256), M$4)","v":68},{"$f":"ROUND( N$2+(('coded NOLH for 23-29 factors'!N98-1)*(N$3-N$2)/256), N$4)","v":187},{"$f":"ROUND( O$2+(('coded NOLH for 23-29 factors'!O98-1)*(O$3-O$2)/256), O$4)","v":31},{"$f":"ROUND( P$2+(('coded NOLH for 23-29 factors'!P98-1)*(P$3-P$2)/256), P$4)","v":205},{"$f":"ROUND( Q$2+(('coded NOLH for 23-29 factors'!Q98-1)*(Q$3-Q$2)/256), Q$4)","v":131},{"$f":"ROUND( R$2+(('coded NOLH for 23-29 factors'!R98-1)*(R$3-R$2)/256), R$4)","v":147},{"$f":"ROUND( S$2+(('coded NOLH for 23-29 factors'!S98-1)*(S$3-S$2)/256), S$4)","v":6},{"$f":"ROUND( T$2+(('coded NOLH for 23-29 factors'!T98-1)*(T$3-T$2)/256), T$4)","v":157},{"$f":"ROUND( U$2+(('coded NOLH for 23-29 factors'!U98-1)*(U$3-U$2)/256), U$4)","v":33},{"$f":"ROUND( V$2+(('coded NOLH for 23-29 factors'!V98-1)*(V$3-V$2)/256), V$4)","v":41},{"$f":"ROUND( W$2+(('coded NOLH for 23-29 factors'!W98-1)*(W$3-W$2)/256), W$4)","v":228},{"$f":"ROUND( X$2+(('coded NOLH for 23-29 factors'!X98-1)*(X$3-X$2)/256), X$4)","v":87},{"$f":"ROUND( Y$2+(('coded NOLH for 23-29 factors'!Y98-1)*(Y$3-Y$2)/256), Y$4)","v":50},{"$f":"ROUND( Z$2+(('coded NOLH for 23-29 factors'!Z98-1)*(Z$3-Z$2)/256), Z$4)","v":212},{"$f":"ROUND( AA$2+(('coded NOLH for 23-29 factors'!AA98-1)*(AA$3-AA$2)/256), AA$4)","v":55},{"$f":"ROUND( AB$2+(('coded NOLH for 23-29 factors'!AB98-1)*(AB$3-AB$2)/256), AB$4)","v":247},{"$f":"ROUND( AC$2+(('coded NOLH for 23-29 factors'!AC98-1)*(AC$3-AC$2)/256), AC$4)","v":31},{"$f":"ROUND( AD$2+(('coded NOLH for 23-29 factors'!AD98-1)*(AD$3-AD$2)/256), AD$4)","v":232}]
[null,{"$f":"ROUND( B$2+(('coded NOLH for 23-29 factors'!B99-1)*(B$3-B$2)/256), B$4)","v":109},{"$f":"ROUND( C$2+(('coded NOLH for 23-29 factors'!C99-1)*(C$3-C$2)/256), C$4)","v":182},{"$f":"ROUND( D$2+(('coded NOLH for 23-29 factors'!D99-1)*(D$3-D$2)/256), D$4)","v":111},{"$f":"ROUND( E$2+(('coded NOLH for 23-29 factors'!E99-1)*(E$3-E$2)/256), E$4)","v":80},{"$f":"ROUND( F$2+(('coded NOLH for 23-29 factors'!F99-1)*(F$3-F$2)/256), F$4)","v":106},{"$f":"ROUND( G$2+(('coded NOLH for 23-29 factors'!G99-1)*(G$3-G$2)/256), G$4)","v":94},{"$f":"ROUND( H$2+(('coded NOLH for 23-29 factors'!H99-1)*(H$3-H$2)/256), H$4)","v":234},{"$f":"ROUND( I$2+(('coded NOLH for 23-29 factors'!I99-1)*(I$3-I$2)/256), I$4)","v":85},{"$f":"ROUND( J$2+(('coded NOLH for 23-29 factors'!J99-1)*(J$3-J$2)/256), J$4)","v":244},{"$f":"ROUND( K$2+(('coded NOLH for 23-29 factors'!K99-1)*(K$3-K$2)/256), K$4)","v":189},{"$f":"ROUND( L$2+(('coded NOLH for 23-29 factors'!L99-1)*(L$3-L$2)/256), L$4)","v":136},{"$f":"ROUND( M$2+(('coded NOLH for 23-29 factors'!M99-1)*(M$3-M$2)/256), M$4)","v":239},{"$f":"ROUND( N$2+(('coded NOLH for 23-29 factors'!N99-1)*(N$3-N$2)/256), N$4)","v":18},{"$f":"ROUND( O$2+(('coded NOLH for 23-29 factors'!O99-1)*(O$3-O$2)/256), O$4)","v":139},{"$f":"ROUND( P$2+(('coded NOLH for 23-29 factors'!P99-1)*(P$3-P$2)/256), P$4)","v":124},{"$f":"ROUND( Q$2+(('coded NOLH for 23-29 factors'!Q99-1)*(Q$3-Q$2)/256), Q$4)","v":43},{"$f":"ROUND( R$2+(('coded NOLH for 23-29 factors'!R99-1)*(R$3-R$2)/256), R$4)","v":31},{"$f":"ROUND( S$2+(('coded NOLH for 23-29 factors'!S99-1)*(S$3-S$2)/256), S$4)","v":157},{"$f":"ROUND( T$2+(('coded NOLH for 23-29 factors'!T99-1)*(T$3-T$2)/256), T$4)","v":76},{"$f":"ROUND( U$2+(('coded NOLH for 23-29 factors'!U99-1)*(U$3-U$2)/256), U$4)","v":70},{"$f":"ROUND( V$2+(('coded NOLH for 23-29 factors'!V99-1)*(V$3-V$2)/256), V$4)","v":95},{"$f":"ROUND( W$2+(('coded NOLH for 23-29 factors'!W99-1)*(W$3-W$2)/256), W$4)","v":234},{"$f":"ROUND( X$2+(('coded NOLH for 23-29 factors'!X99-1)*(X$3-X$2)/256), X$4)","v":97},{"$f":"ROUND( Y$2+(('coded NOLH for 23-29 factors'!Y99-1)*(Y$3-Y$2)/256), Y$4)","v":4},{"$f":"ROUND( Z$2+(('coded NOLH for 23-29 factors'!Z99-1)*(Z$3-Z$2)/256), Z$4)","v":136},{"$f":"ROUND( AA$2+(('coded NOLH for 23-29 factors'!AA99-1)*(AA$3-AA$2)/256), AA$4)","v":9},{"$f":"ROUND( AB$2+(('coded NOLH for 23-29 factors'!AB99-1)*(AB$3-AB$2)/256), AB$4)","v":185},{"$f":"ROUND( AC$2+(('coded NOLH for 23-29 factors'!AC99-1)*(AC$3-AC$2)/256), AC$4)","v":6},{"$f":"ROUND( AD$2+(('coded NOLH for 23-29 factors'!AD99-1)*(AD$3-AD$2)/256), AD$4)","v":138}]
[null,{"$f":"ROUND( B$2+(('coded NOLH for 23-29 factors'!B100-1)*(B$3-B$2)/256), B$4)","v":76},{"$f":"ROUND( C$2+(('coded NOLH for 23-29 factors'!C100-1)*(C$3-C$2)/256), C$4)","v":109},{"$f":"ROUND( D$2+(('coded NOLH for 23-29 factors'!D100-1)*(D$3-D$2)/256), D$4)","v":9},{"$f":"ROUND( E$2+(('coded NOLH for 23-29 factors'!E100-1)*(E$3-E$2)/256), E$4)","v":74},{"$f":"ROUND( F$2+(('coded NOLH for 23-29 factors'!F100-1)*(F$3-F$2)/256), F$4)","v":117},{"$f":"ROUND( G$2+(('coded NOLH for 23-29 factors'!G100-1)*(G$3-G$2)/256), G$4)","v":23},{"$f":"ROUND( H$2+(('coded NOLH for 23-29 factors'!H100-1)*(H$3-H$2)/256), H$4)","v":240},{"$f":"ROUND( I$2+(('coded NOLH for 23-29 factors'!I100-1)*(I$3-I$2)/256), I$4)","v":119},{"$f":"ROUND( J$2+(('coded NOLH for 23-29 factors'!J100-1)*(J$3-J$2)/256), J$4)","v":98},{"$f":"ROUND( K$2+(('coded NOLH for 23-29 factors'!K100-1)*(K$3-K$2)/256), K$4)","v":57},{"$f":"ROUND( L$2+(('coded NOLH for 23-29 factors'!L100-1)*(L$3-L$2)/256), L$4)","v":102},{"$f":"ROUND( M$2+(('coded NOLH for 23-29 factors'!M100-1)*(M$3-M$2)/256), M$4)","v":114},{"$f":"ROUND( N$2+(('coded NOLH for 23-29 factors'!N100-1)*(N$3-N$2)/256), N$4)","v":225},{"$f":"ROUND( O$2+(('coded NOLH for 23-29 factors'!O100-1)*(O$3-O$2)/256), O$4)","v":89},{"$f":"ROUND( P$2+(('coded NOLH for 23-29 factors'!P100-1)*(P$3-P$2)/256), P$4)","v":62},{"$f":"ROUND( Q$2+(('coded NOLH for 23-29 factors'!Q100-1)*(Q$3-Q$2)/256), Q$4)","v":103},{"$f":"ROUND( R$2+(('coded NOLH for 23-29 factors'!R100-1)*(R$3-R$2)/256), R$4)","v":54},{"$f":"ROUND( S$2+(('coded NOLH for 23-29 factors'!S100-1)*(S$3-S$2)/256), S$4)","v":192},{"$f":"ROUND( T$2+(('coded NOLH for 23-29 factors'!T100-1)*(T$3-T$2)/256), T$4)","v":23},{"$f":"ROUND( U$2+(('coded NOLH for 23-29 factors'!U100-1)*(U$3-U$2)/256), U$4)","v":86},{"$f":"ROUND( V$2+(('coded NOLH for 23-29 factors'!V100-1)*(V$3-V$2)/256), V$4)","v":104},{"$f":"ROUND( W$2+(('coded NOLH for 23-29 factors'!W100-1)*(W$3-W$2)/256), W$4)","v":255},{"$f":"ROUND( X$2+(('coded NOLH for 23-29 factors'!X100-1)*(X$3-X$2)/256), X$4)","v":98},{"$f":"ROUND( Y$2+(('coded NOLH for 23-29 factors'!Y100-1)*(Y$3-Y$2)/256), Y$4)","v":109},{"$f":"ROUND( Z$2+(('coded NOLH for 23-29 factors'!Z100-1)*(Z$3-Z$2)/256), Z$4)","v":169},{"$f":"ROUND( AA$2+(('coded NOLH for 23-29 factors'!AA100-1)*(AA$3-AA$2)/256), AA$4)","v":123},{"$f":"ROUND( AB$2+(('coded NOLH for 23-29 factors'!AB100-1)*(AB$3-AB$2)/256), AB$4)","v":236},{"$f":"ROUND( AC$2+(('coded NOLH for 23-29 factors'!AC100-1)*(AC$3-AC$2)/256), AC$4)","v":17},{"$f":"ROUND( AD$2+(('coded NOLH for 23-29 factors'!AD100-1)*(AD$3-AD$2)/256), AD$4)","v":224}]
[null,{"$f":"ROUND( B$2+(('coded NOLH for 23-29 factors'!B101-1)*(B$3-B$2)/256), B$4)","v":18},{"$f":"ROUND( C$2+(('coded NOLH for 23-29 factors'!C101-1)*(C$3-C$2)/256), C$4)","v":234},{"$f":"ROUND( D$2+(('coded NOLH for 23-29 factors'!D101-1)*(D$3-D$2)/256), D$4)","v":199},{"$f":"ROUND( E$2+(('coded NOLH for 23-29 factors'!E101-1)*(E$3-E$2)/256), E$4)","v":256},{"$f":"ROUND( F$2+(('coded NOLH for 23-29 factors'!F101-1)*(F$3-F$2)/256), F$4)","v":170},{"$f":"ROUND( G$2+(('coded NOLH for 23-29 factors'!G101-1)*(G$3-G$2)/256), G$4)","v":225},{"$f":"ROUND( H$2+(('coded NOLH for 23-29 factors'!H101-1)*(H$3-H$2)/256), H$4)","v":76},{"$f":"ROUND( I$2+(('coded NOLH for 23-29 factors'!I101-1)*(I$3-I$2)/256), I$4)","v":27},{"$f":"ROUND( J$2+(('coded NOLH for 23-29 factors'!J101-1)*(J$3-J$2)/256), J$4)","v":115},{"$f":"ROUND( K$2+(('coded NOLH for 23-29 factors'!K101-1)*(K$3-K$2)/256), K$4)","v":45},{"$f":"ROUND( L$2+(('coded NOLH for 23-29 factors'!L101-1)*(L$3-L$2)/256), L$4)","v":107},{"$f":"ROUND( M$2+(('coded NOLH for 23-29 factors'!M101-1)*(M$3-M$2)/256), M$4)","v":25},{"$f":"ROUND( N$2+(('coded NOLH for 23-29 factors'!N101-1)*(N$3-N$2)/256), N$4)","v":159},{"$f":"ROUND( O$2+(('coded NOLH for 23-29 factors'!O101-1)*(O$3-O$2)/256), O$4)","v":142},{"$f":"ROUND( P$2+(('coded NOLH for 23-29 factors'!P101-1)*(P$3-P$2)/256), P$4)","v":71},{"$f":"ROUND( Q$2+(('coded NOLH for 23-29 factors'!Q101-1)*(Q$3-Q$2)/256), Q$4)","v":20},{"$f":"ROUND( R$2+(('coded NOLH for 23-29 factors'!R101-1)*(R$3-R$2)/256), R$4)","v":35},{"$f":"ROUND( S$2+(('coded NOLH for 23-29 factors'!S101-1)*(S$3-S$2)/256), S$4)","v":227},{"$f":"ROUND( T$2+(('coded NOLH for 23-29 factors'!T101-1)*(T$3-T$2)/256), T$4)","v":180},{"$f":"ROUND( U$2+(('coded NOLH for 23-29 factors'!U101-1)*(U$3-U$2)/256), U$4)","v":69},{"$f":"ROUND( V$2+(('coded NOLH for 23-29 factors'!V101-1)*(V$3-V$2)/256), V$4)","v":91},{"$f":"ROUND( W$2+(('coded NOLH for 23-29 factors'!W101-1)*(W$3-W$2)/256), W$4)","v":191},{"$f":"ROUND( X$2+(('coded NOLH for 23-29 factors'!X101-1)*(X$3-X$2)/256), X$4)","v":184},{"$f":"ROUND( Y$2+(('coded NOLH for 23-29 factors'!Y101-1)*(Y$3-Y$2)/256), Y$4)","v":34},{"$f":"ROUND( Z$2+(('coded NOLH for 23-29 factors'!Z101-1)*(Z$3-Z$2)/256), Z$4)","v":150},{"$f":"ROUND( AA$2+(('coded NOLH for 23-29 factors'!AA101-1)*(AA$3-AA$2)/256), AA$4)","v":180},{"$f":"ROUND( AB$2+(('coded NOLH for 23-29 factors'!AB101-1)*(AB$3-AB$2)/256), AB$4)","v":232},{"$f":"ROUND( AC$2+(('coded NOLH for 23-29 factors'!AC101-1)*(AC$3-AC$2)/256), AC$4)","v":160},{"$f":"ROUND( AD$2+(('coded NOLH for 23-29 factors'!AD101-1)*(AD$3-AD$2)/256), AD$4)","v":98}]
[null,{"$f":"ROUND( B$2+(('coded NOLH for 23-29 factors'!B102-1)*(B$3-B$2)/256), B$4)","v":24},{"$f":"ROUND( C$2+(('coded NOLH for 23-29 factors'!C102-1)*(C$3-C$2)/256), C$4)","v":18},{"$f":"ROUND( D$2+(('coded NOLH for 23-29 factors'!D102-1)*(D$3-D$2)/256), D$4)","v":148},{"$f":"ROUND( E$2+(('coded NOLH for 23-29 factors'!E102-1)*(E$3-E$2)/256), E$4)","v":228},{"$f":"ROUND( F$2+(('coded NOLH for 23-29 factors'!F102-1)*(F$3-F$2)/256), F$4)","v":174},{"$f":"ROUND( G$2+(('coded NOLH for 23-29 factors'!G102-1)*(G$3-G$2)/256), G$4)","v":217},{"$f":"ROUND( H$2+(('coded NOLH for 23-29 factors'!H102-1)*(H$3-H$2)/256), H$4)","v":109},{"$f":"ROUND( I$2+(('coded NOLH for 23-29 factors'!I102-1)*(I$3-I$2)/256), I$4)","v":121},{"$f":"ROUND( J$2+(('coded NOLH for 23-29 factors'!J102-1)*(J$3-J$2)/256), J$4)","v":211},{"$f":"ROUND( K$2+(('coded NOLH for 23-29 factors'!K102-1)*(K$3-K$2)/256), K$4)","v":257},{"$f":"ROUND( L$2+(('coded NOLH for 23-29 factors'!L102-1)*(L$3-L$2)/256), L$4)","v":174},{"$f":"ROUND( M$2+(('coded NOLH for 23-29 factors'!M102-1)*(M$3-M$2)/256), M$4)","v":219},{"$f":"ROUND( N$2+(('coded NOLH for 23-29 factors'!N102-1)*(N$3-N$2)/256), N$4)","v":90},{"$f":"ROUND( O$2+(('coded NOLH for 23-29 factors'!O102-1)*(O$3-O$2)/256), O$4)","v":36},{"$f":"ROUND( P$2+(('coded NOLH for 23-29 factors'!P102-1)*(P$3-P$2)/256), P$4)","v":47},{"$f":"ROUND( Q$2+(('coded NOLH for 23-29 factors'!Q102-1)*(Q$3-Q$2)/256), Q$4)","v":111},{"$f":"ROUND( R$2+(('coded NOLH for 23-29 factors'!R102-1)*(R$3-R$2)/256), R$4)","v":8},{"$f":"ROUND( S$2+(('coded NOLH for 23-29 factors'!S102-1)*(S$3-S$2)/256), S$4)","v":146},{"$f":"ROUND( T$2+(('coded NOLH for 23-29 factors'!T102-1)*(T$3-T$2)/256), T$4)","v":191},{"$f":"ROUND( U$2+(('coded NOLH for 23-29 factors'!U102-1)*(U$3-U$2)/256), U$4)","v":78},{"$f":"ROUND( V$2+(('coded NOLH for 23-29 factors'!V102-1)*(V$3-V$2)/256), V$4)","v":112},{"$f":"ROUND( W$2+(('coded NOLH for 23-29 factors'!W102-1)*(W$3-W$2)/256), W$4)","v":166},{"$f":"ROUND( X$2+(('coded NOLH for 23-29 factors'!X102-1)*(X$3-X$2)/256), X$4)","v":157},{"$f":"ROUND( Y$2+(('coded NOLH for 23-29 factors'!Y102-1)*(Y$3-Y$2)/256), Y$4)","v":112},{"$f":"ROUND( Z$2+(('coded NOLH for 23-29 factors'!Z102-1)*(Z$3-Z$2)/256), Z$4)","v":151},{"$f":"ROUND( AA$2+(('coded NOLH for 23-29 factors'!AA102-1)*(AA$3-AA$2)/256), AA$4)","v":95},{"$f":"ROUND( AB$2+(('coded NOLH for 23-29 factors'!AB102-1)*(AB$3-AB$2)/256), AB$4)","v":189},{"$f":"ROUND( AC$2+(('coded NOLH for 23-29 factors'!AC102-1)*(AC$3-AC$2)/256), AC$4)","v":232},{"$f":"ROUND( AD$2+(('coded NOLH for 23-29 factors'!AD102-1)*(AD$3-AD$2)/256), AD$4)","v":89}]
[null,{"$f":"ROUND( B$2+(('coded NOLH for 23-29 factors'!B103-1)*(B$3-B$2)/256), B$4)","v":110},{"$f":"ROUND( C$2+(('coded NOLH for 23-29 factors'!C103-1)*(C$3-C$2)/256), C$4)","v":199},{"$f":"ROUND( D$2+(('coded NOLH for 23-29 factors'!D103-1)*(D$3-D$2)/256), D$4)","v":24},{"$f":"ROUND( E$2+(('coded NOLH for 23-29 factors'!E103-1)*(E$3-E$2)/256), E$4)","v":208},{"$f":"ROUND( F$2+(('coded NOLH for 23-29 factors'!F103-1)*(F$3-F$2)/256), F$4)","v":203},{"$f":"ROUND( G$2+(('coded NOLH for 23-29 factors'!G103-1)*(G$3-G$2)/256), G$4)","v":229},{"$f":"ROUND( H$2+(('coded NOLH for 23-29 factors'!H103-1)*(H$3-H$2)/256), H$4)","v":111},{"$f":"ROUND( I$2+(('coded NOLH for 23-29 factors'!I103-1)*(I$3-I$2)/256), I$4)","v":49},{"$f":"ROUND( J$2+(('coded NOLH for 23-29 factors'!J103-1)*(J$3-J$2)/256), J$4)","v":242},{"$f":"ROUND( K$2+(('coded NOLH for 23-29 factors'!K103-1)*(K$3-K$2)/256), K$4)","v":123},{"$f":"ROUND( L$2+(('coded NOLH for 23-29 factors'!L103-1)*(L$3-L$2)/256), L$4)","v":27},{"$f":"ROUND( M$2+(('coded NOLH for 23-29 factors'!M103-1)*(M$3-M$2)/256), M$4)","v":26},{"$f":"ROUND( N$2+(('coded NOLH for 23-29 factors'!N103-1)*(N$3-N$2)/256), N$4)","v":256},{"$f":"ROUND( O$2+(('coded NOLH for 23-29 factors'!O103-1)*(O$3-O$2)/256), O$4)","v":211},{"$f":"ROUND( P$2+(('coded NOLH for 23-29 factors'!P103-1)*(P$3-P$2)/256), P$4)","v":198},{"$f":"ROUND( Q$2+(('coded NOLH for 23-29 factors'!Q103-1)*(Q$3-Q$2)/256), Q$4)","v":160},{"$f":"ROUND( R$2+(('coded NOLH for 23-29 factors'!R103-1)*(R$3-R$2)/256), R$4)","v":232},{"$f":"ROUND( S$2+(('coded NOLH for 23-29 factors'!S103-1)*(S$3-S$2)/256), S$4)","v":82},{"$f":"ROUND( T$2+(('coded NOLH for 23-29 factors'!T103-1)*(T$3-T$2)/256), T$4)","v":87},{"$f":"ROUND( U$2+(('coded NOLH for 23-29 factors'!U103-1)*(U$3-U$2)/256), U$4)","v":44},{"$f":"ROUND( V$2+(('coded NOLH for 23-29 factors'!V103-1)*(V$3-V$2)/256), V$4)","v":36},{"$f":"ROUND( W$2+(('coded NOLH for 23-29 factors'!W103-1)*(W$3-W$2)/256), W$4)","v":137},{"$f":"ROUND( X$2+(('coded NOLH for 23-29 factors'!X103-1)*(X$3-X$2)/256), X$4)","v":198},{"$f":"ROUND( Y$2+(('coded NOLH for 23-29 factors'!Y103-1)*(Y$3-Y$2)/256), Y$4)","v":122},{"$f":"ROUND( Z$2+(('coded NOLH for 23-29 factors'!Z103-1)*(Z$3-Z$2)/256), Z$4)","v":206},{"$f":"ROUND( AA$2+(('coded NOLH for 23-29 factors'!AA103-1)*(AA$3-AA$2)/256), AA$4)","v":186},{"$f":"ROUND( AB$2+(('coded NOLH for 23-29 factors'!AB103-1)*(AB$3-AB$2)/256), AB$4)","v":208},{"$f":"ROUND( AC$2+(('coded NOLH for 23-29 factors'!AC103-1)*(AC$3-AC$2)/256), AC$4)","v":226},{"$f":"ROUND( AD$2+(('coded NOLH for 23-29 factors'!AD103-1)*(AD$3-AD$2)/256), AD$4)","v":90}]
[null,{"$f":"ROUND( B$2+(('coded NOLH for 23-29 factors'!B104-1)*(B$3-B$2)/256), B$4)","v":59},{"$f":"ROUND( C$2+(('coded NOLH for 23-29 factors'!C104-1)*(C$3-C$2)/256), C$4)","v":110},{"$f":"ROUND( D$2+(('coded NOLH for 23-29 factors'!D104-1)*(D$3-D$2)/256), D$4)","v":18},{"$f":"ROUND( E$2+(('coded NOLH for 23-29 factors'!E104-1)*(E$3-E$2)/256), E$4)","v":140},{"$f":"ROUND( F$2+(('coded NOLH for 23-29 factors'!F104-1)*(F$3-F$2)/256), F$4)","v":236},{"$f":"ROUND( G$2+(('coded NOLH for 23-29 factors'!G104-1)*(G$3-G$2)/256), G$4)","v":244},{"$f":"ROUND( H$2+(('coded NOLH for 23-29 factors'!H104-1)*(H$3-H$2)/256), H$4)","v":9},{"$f":"ROUND( I$2+(('coded NOLH for 23-29 factors'!I104-1)*(I$3-I$2)/256), I$4)","v":66},{"$f":"ROUND( J$2+(('coded NOLH for 23-29 factors'!J104-1)*(J$3-J$2)/256), J$4)","v":31},{"$f":"ROUND( K$2+(('coded NOLH for 23-29 factors'!K104-1)*(K$3-K$2)/256), K$4)","v":199},{"$f":"ROUND( L$2+(('coded NOLH for 23-29 factors'!L104-1)*(L$3-L$2)/256), L$4)","v":209},{"$f":"ROUND( M$2+(('coded NOLH for 23-29 factors'!M104-1)*(M$3-M$2)/256), M$4)","v":257},{"$f":"ROUND( N$2+(('coded NOLH for 23-29 factors'!N104-1)*(N$3-N$2)/256), N$4)","v":126},{"$f":"ROUND( O$2+(('coded NOLH for 23-29 factors'!O104-1)*(O$3-O$2)/256), O$4)","v":72},{"$f":"ROUND( P$2+(('coded NOLH for 23-29 factors'!P104-1)*(P$3-P$2)/256), P$4)","v":244},{"$f":"ROUND( Q$2+(('coded NOLH for 23-29 factors'!Q104-1)*(Q$3-Q$2)/256), Q$4)","v":193},{"$f":"ROUND( R$2+(('coded NOLH for 23-29 factors'!R104-1)*(R$3-R$2)/256), R$4)","v":215},{"$f":"ROUND( S$2+(('coded NOLH for 23-29 factors'!S104-1)*(S$3-S$2)/256), S$4)","v":84},{"$f":"ROUND( T$2+(('coded NOLH for 23-29 factors'!T104-1)*(T$3-T$2)/256), T$4)","v":30},{"$f":"ROUND( U$2+(('coded NOLH for 23-29 factors'!U104-1)*(U$3-U$2)/256), U$4)","v":42},{"$f":"ROUND( V$2+(('coded NOLH for 23-29 factors'!V104-1)*(V$3-V$2)/256), V$4)","v":57},{"$f":"ROUND( W$2+(('coded NOLH for 23-29 factors'!W104-1)*(W$3-W$2)/256), W$4)","v":172},{"$f":"ROUND( X$2+(('coded NOLH for 23-29 factors'!X104-1)*(X$3-X$2)/256), X$4)","v":235},{"$f":"ROUND( Y$2+(('coded NOLH for 23-29 factors'!Y104-1)*(Y$3-Y$2)/256), Y$4)","v":75},{"$f":"ROUND( Z$2+(('coded NOLH for 23-29 factors'!Z104-1)*(Z$3-Z$2)/256), Z$4)","v":131},{"$f":"ROUND( AA$2+(('coded NOLH for 23-29 factors'!AA104-1)*(AA$3-AA$2)/256), AA$4)","v":211},{"$f":"ROUND( AB$2+(('coded NOLH for 23-29 factors'!AB104-1)*(AB$3-AB$2)/256), AB$4)","v":223},{"$f":"ROUND( AC$2+(('coded NOLH for 23-29 factors'!AC104-1)*(AC$3-AC$2)/256), AC$4)","v":133},{"$f":"ROUND( AD$2+(('coded NOLH for 23-29 factors'!AD104-1)*(AD$3-AD$2)/256), AD$4)","v":14}]
[null,{"$f":"ROUND( B$2+(('coded NOLH for 23-29 factors'!B105-1)*(B$3-B$2)/256), B$4)","v":118},{"$f":"ROUND( C$2+(('coded NOLH for 23-29 factors'!C105-1)*(C$3-C$2)/256), C$4)","v":208},{"$f":"ROUND( D$2+(('coded NOLH for 23-29 factors'!D105-1)*(D$3-D$2)/256), D$4)","v":256},{"$f":"ROUND( E$2+(('coded NOLH for 23-29 factors'!E105-1)*(E$3-E$2)/256), E$4)","v":59},{"$f":"ROUND( F$2+(('coded NOLH for 23-29 factors'!F105-1)*(F$3-F$2)/256), F$4)","v":248},{"$f":"ROUND( G$2+(('coded NOLH for 23-29 factors'!G105-1)*(G$3-G$2)/256), G$4)","v":177},{"$f":"ROUND( H$2+(('coded NOLH for 23-29 factors'!H105-1)*(H$3-H$2)/256), H$4)","v":44},{"$f":"ROUND( I$2+(('coded NOLH for 23-29 factors'!I105-1)*(I$3-I$2)/256), I$4)","v":54},{"$f":"ROUND( J$2+(('coded NOLH for 23-29 factors'!J105-1)*(J$3-J$2)/256), J$4)","v":35},{"$f":"ROUND( K$2+(('coded NOLH for 23-29 factors'!K105-1)*(K$3-K$2)/256), K$4)","v":144},{"$f":"ROUND( L$2+(('coded NOLH for 23-29 factors'!L105-1)*(L$3-L$2)/256), L$4)","v":43},{"$f":"ROUND( M$2+(('coded NOLH for 23-29 factors'!M105-1)*(M$3-M$2)/256), M$4)","v":20},{"$f":"ROUND( N$2+(('coded NOLH for 23-29 factors'!N105-1)*(N$3-N$2)/256), N$4)","v":166},{"$f":"ROUND( O$2+(('coded NOLH for 23-29 factors'!O105-1)*(O$3-O$2)/256), O$4)","v":233},{"$f":"ROUND( P$2+(('coded NOLH for 23-29 factors'!P105-1)*(P$3-P$2)/256), P$4)","v":197},{"$f":"ROUND( Q$2+(('coded NOLH for 23-29 factors'!Q105-1)*(Q$3-Q$2)/256), Q$4)","v":68},{"$f":"ROUND( R$2+(('coded NOLH for 23-29 factors'!R105-1)*(R$3-R$2)/256), R$4)","v":73},{"$f":"ROUND( S$2+(('coded NOLH for 23-29 factors'!S105-1)*(S$3-S$2)/256), S$4)","v":159},{"$f":"ROUND( T$2+(('coded NOLH for 23-29 factors'!T105-1)*(T$3-T$2)/256), T$4)","v":210},{"$f":"ROUND( U$2+(('coded NOLH for 23-29 factors'!U105-1)*(U$3-U$2)/256), U$4)","v":211},{"$f":"ROUND( V$2+(('coded NOLH for 23-29 factors'!V105-1)*(V$3-V$2)/256), V$4)","v":207},{"$f":"ROUND( W$2+(('coded NOLH for 23-29 factors'!W105-1)*(W$3-W$2)/256), W$4)","v":10},{"$f":"ROUND( X$2+(('coded NOLH for 23-29 factors'!X105-1)*(X$3-X$2)/256), X$4)","v":45},{"$f":"ROUND( Y$2+(('coded NOLH for 23-29 factors'!Y105-1)*(Y$3-Y$2)/256), Y$4)","v":100},{"$f":"ROUND( Z$2+(('coded NOLH for 23-29 factors'!Z105-1)*(Z$3-Z$2)/256), Z$4)","v":163},{"$f":"ROUND( AA$2+(('coded NOLH for 23-29 factors'!AA105-1)*(AA$3-AA$2)/256), AA$4)","v":170},{"$f":"ROUND( AB$2+(('coded NOLH for 23-29 factors'!AB105-1)*(AB$3-AB$2)/256), AB$4)","v":243},{"$f":"ROUND( AC$2+(('coded NOLH for 23-29 factors'!AC105-1)*(AC$3-AC$2)/256), AC$4)","v":148},{"$f":"ROUND( AD$2+(('coded NOLH for 23-29 factors'!AD105-1)*(AD$3-AD$2)/256), AD$4)","v":71}]
[null,{"$f":"ROUND( B$2+(('coded NOLH for 23-29 factors'!B106-1)*(B$3-B$2)/256), B$4)","v":50},{"$f":"ROUND( C$2+(('coded NOLH for 23-29 factors'!C106-1)*(C$3-C$2)/256), C$4)","v":118},{"$f":"ROUND( D$2+(('coded NOLH for 23-29 factors'!D106-1)*(D$3-D$2)/256), D$4)","v":228},{"$f":"ROUND( E$2+(('coded NOLH for 23-29 factors'!E106-1)*(E$3-E$2)/256), E$4)","v":110},{"$f":"ROUND( F$2+(('coded NOLH for 23-29 factors'!F106-1)*(F$3-F$2)/256), F$4)","v":212},{"$f":"ROUND( G$2+(('coded NOLH for 23-29 factors'!G106-1)*(G$3-G$2)/256), G$4)","v":245},{"$f":"ROUND( H$2+(('coded NOLH for 23-29 factors'!H106-1)*(H$3-H$2)/256), H$4)","v":108},{"$f":"ROUND( I$2+(('coded NOLH for 23-29 factors'!I106-1)*(I$3-I$2)/256), I$4)","v":25},{"$f":"ROUND( J$2+(('coded NOLH for 23-29 factors'!J106-1)*(J$3-J$2)/256), J$4)","v":256},{"$f":"ROUND( K$2+(('coded NOLH for 23-29 factors'!K106-1)*(K$3-K$2)/256), K$4)","v":76},{"$f":"ROUND( L$2+(('coded NOLH for 23-29 factors'!L106-1)*(L$3-L$2)/256), L$4)","v":251},{"$f":"ROUND( M$2+(('coded NOLH for 23-29 factors'!M106-1)*(M$3-M$2)/256), M$4)","v":181},{"$f":"ROUND( N$2+(('coded NOLH for 23-29 factors'!N106-1)*(N$3-N$2)/256), N$4)","v":64},{"$f":"ROUND( O$2+(('coded NOLH for 23-29 factors'!O106-1)*(O$3-O$2)/256), O$4)","v":62},{"$f":"ROUND( P$2+(('coded NOLH for 23-29 factors'!P106-1)*(P$3-P$2)/256), P$4)","v":203},{"$f":"ROUND( Q$2+(('coded NOLH for 23-29 factors'!Q106-1)*(Q$3-Q$2)/256), Q$4)","v":97},{"$f":"ROUND( R$2+(('coded NOLH for 23-29 factors'!R106-1)*(R$3-R$2)/256), R$4)","v":106},{"$f":"ROUND( S$2+(('coded NOLH for 23-29 factors'!S106-1)*(S$3-S$2)/256), S$4)","v":196},{"$f":"ROUND( T$2+(('coded NOLH for 23-29 factors'!T106-1)*(T$3-T$2)/256), T$4)","v":148},{"$f":"ROUND( U$2+(('coded NOLH for 23-29 factors'!U106-1)*(U$3-U$2)/256), U$4)","v":193},{"$f":"ROUND( V$2+(('coded NOLH for 23-29 factors'!V106-1)*(V$3-V$2)/256), V$4)","v":252},{"$f":"ROUND( W$2+(('coded NOLH for 23-29 factors'!W106-1)*(W$3-W$2)/256), W$4)","v":99},{"$f":"ROUND( X$2+(('coded NOLH for 23-29 factors'!X106-1)*(X$3-X$2)/256), X$4)","v":89},{"$f":"ROUND( Y$2+(('coded NOLH for 23-29 factors'!Y106-1)*(Y$3-Y$2)/256), Y$4)","v":128},{"$f":"ROUND( Z$2+(('coded NOLH for 23-29 factors'!Z106-1)*(Z$3-Z$2)/256), Z$4)","v":232},{"$f":"ROUND( AA$2+(('coded NOLH for 23-29 factors'!AA106-1)*(AA$3-AA$2)/256), AA$4)","v":124},{"$f":"ROUND( AB$2+(('coded NOLH for 23-29 factors'!AB106-1)*(AB$3-AB$2)/256), AB$4)","v":200},{"$f":"ROUND( AC$2+(('coded NOLH for 23-29 factors'!AC106-1)*(AC$3-AC$2)/256), AC$4)","v":136},{"$f":"ROUND( AD$2+(('coded NOLH for 23-29 factors'!AD106-1)*(AD$3-AD$2)/256), AD$4)","v":91}]
[null,{"$f":"ROUND( B$2+(('coded NOLH for 23-29 factors'!B107-1)*(B$3-B$2)/256), B$4)","v":30},{"$f":"ROUND( C$2+(('coded NOLH for 23-29 factors'!C107-1)*(C$3-C$2)/256), C$4)","v":256},{"$f":"ROUND( D$2+(('coded NOLH for 23-29 factors'!D107-1)*(D$3-D$2)/256), D$4)","v":50},{"$f":"ROUND( E$2+(('coded NOLH for 23-29 factors'!E107-1)*(E$3-E$2)/256), E$4)","v":24},{"$f":"ROUND( F$2+(('coded NOLH for 23-29 factors'!F107-1)*(F$3-F$2)/256), F$4)","v":187},{"$f":"ROUND( G$2+(('coded NOLH for 23-29 factors'!G107-1)*(G$3-G$2)/256), G$4)","v":151},{"$f":"ROUND( H$2+(('coded NOLH for 23-29 factors'!H107-1)*(H$3-H$2)/256), H$4)","v":80},{"$f":"ROUND( I$2+(('coded NOLH for 23-29 factors'!I107-1)*(I$3-I$2)/256), I$4)","v":124},{"$f":"ROUND( J$2+(('coded NOLH for 23-29 factors'!J107-1)*(J$3-J$2)/256), J$4)","v":141},{"$f":"ROUND( K$2+(('coded NOLH for 23-29 factors'!K107-1)*(K$3-K$2)/256), K$4)","v":236},{"$f":"ROUND( L$2+(('coded NOLH for 23-29 factors'!L107-1)*(L$3-L$2)/256), L$4)","v":74},{"$f":"ROUND( M$2+(('coded NOLH for 23-29 factors'!M107-1)*(M$3-M$2)/256), M$4)","v":120},{"$f":"ROUND( N$2+(('coded NOLH for 23-29 factors'!N107-1)*(N$3-N$2)/256), N$4)","v":190},{"$f":"ROUND( O$2+(('coded NOLH for 23-29 factors'!O107-1)*(O$3-O$2)/256), O$4)","v":201},{"$f":"ROUND( P$2+(('coded NOLH for 23-29 factors'!P107-1)*(P$3-P$2)/256), P$4)","v":101},{"$f":"ROUND( Q$2+(('coded NOLH for 23-29 factors'!Q107-1)*(Q$3-Q$2)/256), Q$4)","v":194},{"$f":"ROUND( R$2+(('coded NOLH for 23-29 factors'!R107-1)*(R$3-R$2)/256), R$4)","v":237},{"$f":"ROUND( S$2+(('coded NOLH for 23-29 factors'!S107-1)*(S$3-S$2)/256), S$4)","v":105},{"$f":"ROUND( T$2+(('coded NOLH for 23-29 factors'!T107-1)*(T$3-T$2)/256), T$4)","v":33},{"$f":"ROUND( U$2+(('coded NOLH for 23-29 factors'!U107-1)*(U$3-U$2)/256), U$4)","v":164},{"$f":"ROUND( V$2+(('coded NOLH for 23-29 factors'!V107-1)*(V$3-V$2)/256), V$4)","v":238},{"$f":"ROUND( W$2+(('coded NOLH for 23-29 factors'!W107-1)*(W$3-W$2)/256), W$4)","v":102},{"$f":"ROUND( X$2+(('coded NOLH for 23-29 factors'!X107-1)*(X$3-X$2)/256), X$4)","v":104},{"$f":"ROUND( Y$2+(('coded NOLH for 23-29 factors'!Y107-1)*(Y$3-Y$2)/256), Y$4)","v":85},{"$f":"ROUND( Z$2+(('coded NOLH for 23-29 factors'!Z107-1)*(Z$3-Z$2)/256), Z$4)","v":130},{"$f":"ROUND( AA$2+(('coded NOLH for 23-29 factors'!AA107-1)*(AA$3-AA$2)/256), AA$4)","v":138},{"$f":"ROUND( AB$2+(('coded NOLH for 23-29 factors'!AB107-1)*(AB$3-AB$2)/256), AB$4)","v":191},{"$f":"ROUND( AC$2+(('coded NOLH for 23-29 factors'!AC107-1)*(AC$3-AC$2)/256), AC$4)","v":237},{"$f":"ROUND( AD$2+(('coded NOLH for 23-29 factors'!AD107-1)*(AD$3-AD$2)/256), AD$4)","v":86}]
[null,{"$f":"ROUND( B$2+(('coded NOLH for 23-29 factors'!B108-1)*(B$3-B$2)/256), B$4)","v":2},{"$f":"ROUND( C$2+(('coded NOLH for 23-29 factors'!C108-1)*(C$3-C$2)/256), C$4)","v":30},{"$f":"ROUND( D$2+(('coded NOLH for 23-29 factors'!D108-1)*(D$3-D$2)/256), D$4)","v":118},{"$f":"ROUND( E$2+(('coded NOLH for 23-29 factors'!E108-1)*(E$3-E$2)/256), E$4)","v":18},{"$f":"ROUND( F$2+(('coded NOLH for 23-29 factors'!F108-1)*(F$3-F$2)/256), F$4)","v":169},{"$f":"ROUND( G$2+(('coded NOLH for 23-29 factors'!G108-1)*(G$3-G$2)/256), G$4)","v":175},{"$f":"ROUND( H$2+(('coded NOLH for 23-29 factors'!H108-1)*(H$3-H$2)/256), H$4)","v":74},{"$f":"ROUND( I$2+(('coded NOLH for 23-29 factors'!I108-1)*(I$3-I$2)/256), I$4)","v":67},{"$f":"ROUND( J$2+(('coded NOLH for 23-29 factors'!J108-1)*(J$3-J$2)/256), J$4)","v":57},{"$f":"ROUND( K$2+(('coded NOLH for 23-29 factors'!K108-1)*(K$3-K$2)/256), K$4)","v":16},{"$f":"ROUND( L$2+(('coded NOLH for 23-29 factors'!L108-1)*(L$3-L$2)/256), L$4)","v":179},{"$f":"ROUND( M$2+(('coded NOLH for 23-29 factors'!M108-1)*(M$3-M$2)/256), M$4)","v":183},{"$f":"ROUND( N$2+(('coded NOLH for 23-29 factors'!N108-1)*(N$3-N$2)/256), N$4)","v":86},{"$f":"ROUND( O$2+(('coded NOLH for 23-29 factors'!O108-1)*(O$3-O$2)/256), O$4)","v":128},{"$f":"ROUND( P$2+(('coded NOLH for 23-29 factors'!P108-1)*(P$3-P$2)/256), P$4)","v":45},{"$f":"ROUND( Q$2+(('coded NOLH for 23-29 factors'!Q108-1)*(Q$3-Q$2)/256), Q$4)","v":244},{"$f":"ROUND( R$2+(('coded NOLH for 23-29 factors'!R108-1)*(R$3-R$2)/256), R$4)","v":165},{"$f":"ROUND( S$2+(('coded NOLH for 23-29 factors'!S108-1)*(S$3-S$2)/256), S$4)","v":57},{"$f":"ROUND( T$2+(('coded NOLH for 23-29 factors'!T108-1)*(T$3-T$2)/256), T$4)","v":75},{"$f":"ROUND( U$2+(('coded NOLH for 23-29 factors'!U108-1)*(U$3-U$2)/256), U$4)","v":203},{"$f":"ROUND( V$2+(('coded NOLH for 23-29 factors'!V108-1)*(V$3-V$2)/256), V$4)","v":182},{"$f":"ROUND( W$2+(('coded NOLH for 23-29 factors'!W108-1)*(W$3-W$2)/256), W$4)","v":69},{"$f":"ROUND( X$2+(('coded NOLH for 23-29 factors'!X108-1)*(X$3-X$2)/256), X$4)","v":38},{"$f":"ROUND( Y$2+(('coded NOLH for 23-29 factors'!Y108-1)*(Y$3-Y$2)/256), Y$4)","v":2},{"$f":"ROUND( Z$2+(('coded NOLH for 23-29 factors'!Z108-1)*(Z$3-Z$2)/256), Z$4)","v":200},{"$f":"ROUND( AA$2+(('coded NOLH for 23-29 factors'!AA108-1)*(AA$3-AA$2)/256), AA$4)","v":238},{"$f":"ROUND( AB$2+(('coded NOLH for 23-29 factors'!AB108-1)*(AB$3-AB$2)/256), AB$4)","v":231},{"$f":"ROUND( AC$2+(('coded NOLH for 23-29 factors'!AC108-1)*(AC$3-AC$2)/256), AC$4)","v":157},{"$f":"ROUND( AD$2+(('coded NOLH for 23-29 factors'!AD108-1)*(AD$3-AD$2)/256), AD$4)","v":87}]
[null,{"$f":"ROUND( B$2+(('coded NOLH for 23-29 factors'!B109-1)*(B$3-B$2)/256), B$4)","v":89},{"$f":"ROUND( C$2+(('coded NOLH for 23-29 factors'!C109-1)*(C$3-C$2)/256), C$4)","v":187},{"$f":"ROUND( D$2+(('coded NOLH for 23-29 factors'!D109-1)*(D$3-D$2)/256), D$4)","v":248},{"$f":"ROUND( E$2+(('coded NOLH for 23-29 factors'!E109-1)*(E$3-E$2)/256), E$4)","v":170},{"$f":"ROUND( F$2+(('coded NOLH for 23-29 factors'!F109-1)*(F$3-F$2)/256), F$4)","v":2},{"$f":"ROUND( G$2+(('coded NOLH for 23-29 factors'!G109-1)*(G$3-G$2)/256), G$4)","v":252},{"$f":"ROUND( H$2+(('coded NOLH for 23-29 factors'!H109-1)*(H$3-H$2)/256), H$4)","v":75},{"$f":"ROUND( I$2+(('coded NOLH for 23-29 factors'!I109-1)*(I$3-I$2)/256), I$4)","v":56},{"$f":"ROUND( J$2+(('coded NOLH for 23-29 factors'!J109-1)*(J$3-J$2)/256), J$4)","v":58},{"$f":"ROUND( K$2+(('coded NOLH for 23-29 factors'!K109-1)*(K$3-K$2)/256), K$4)","v":124},{"$f":"ROUND( L$2+(('coded NOLH for 23-29 factors'!L109-1)*(L$3-L$2)/256), L$4)","v":240},{"$f":"ROUND( M$2+(('coded NOLH for 23-29 factors'!M109-1)*(M$3-M$2)/256), M$4)","v":94},{"$f":"ROUND( N$2+(('coded NOLH for 23-29 factors'!N109-1)*(N$3-N$2)/256), N$4)","v":170},{"$f":"ROUND( O$2+(('coded NOLH for 23-29 factors'!O109-1)*(O$3-O$2)/256), O$4)","v":144},{"$f":"ROUND( P$2+(('coded NOLH for 23-29 factors'!P109-1)*(P$3-P$2)/256), P$4)","v":4},{"$f":"ROUND( Q$2+(('coded NOLH for 23-29 factors'!Q109-1)*(Q$3-Q$2)/256), Q$4)","v":142},{"$f":"ROUND( R$2+(('coded NOLH for 23-29 factors'!R109-1)*(R$3-R$2)/256), R$4)","v":116},{"$f":"ROUND( S$2+(('coded NOLH for 23-29 factors'!S109-1)*(S$3-S$2)/256), S$4)","v":186},{"$f":"ROUND( T$2+(('coded NOLH for 23-29 factors'!T109-1)*(T$3-T$2)/256), T$4)","v":167},{"$f":"ROUND( U$2+(('coded NOLH for 23-29 factors'!U109-1)*(U$3-U$2)/256), U$4)","v":240},{"$f":"ROUND( V$2+(('coded NOLH for 23-29 factors'!V109-1)*(V$3-V$2)/256), V$4)","v":30},{"$f":"ROUND( W$2+(('coded NOLH for 23-29 factors'!W109-1)*(W$3-W$2)/256), W$4)","v":153},{"$f":"ROUND( X$2+(('coded NOLH for 23-29 factors'!X109-1)*(X$3-X$2)/256), X$4)","v":209},{"$f":"ROUND( Y$2+(('coded NOLH for 23-29 factors'!Y109-1)*(Y$3-Y$2)/256), Y$4)","v":155},{"$f":"ROUND( Z$2+(('coded NOLH for 23-29 factors'!Z109-1)*(Z$3-Z$2)/256), Z$4)","v":106},{"$f":"ROUND( AA$2+(('coded NOLH for 23-29 factors'!AA109-1)*(AA$3-AA$2)/256), AA$4)","v":38},{"$f":"ROUND( AB$2+(('coded NOLH for 23-29 factors'!AB109-1)*(AB$3-AB$2)/256), AB$4)","v":234},{"$f":"ROUND( AC$2+(('coded NOLH for 23-29 factors'!AC109-1)*(AC$3-AC$2)/256), AC$4)","v":218},{"$f":"ROUND( AD$2+(('coded NOLH for 23-29 factors'!AD109-1)*(AD$3-AD$2)/256), AD$4)","v":20}]
[null,{"$f":"ROUND( B$2+(('coded NOLH for 23-29 factors'!B110-1)*(B$3-B$2)/256), B$4)","v":71},{"$f":"ROUND( C$2+(('coded NOLH for 23-29 factors'!C110-1)*(C$3-C$2)/256), C$4)","v":89},{"$f":"ROUND( D$2+(('coded NOLH for 23-29 factors'!D110-1)*(D$3-D$2)/256), D$4)","v":212},{"$f":"ROUND( E$2+(('coded NOLH for 23-29 factors'!E110-1)*(E$3-E$2)/256), E$4)","v":174},{"$f":"ROUND( F$2+(('coded NOLH for 23-29 factors'!F110-1)*(F$3-F$2)/256), F$4)","v":30},{"$f":"ROUND( G$2+(('coded NOLH for 23-29 factors'!G110-1)*(G$3-G$2)/256), G$4)","v":142},{"$f":"ROUND( H$2+(('coded NOLH for 23-29 factors'!H110-1)*(H$3-H$2)/256), H$4)","v":99},{"$f":"ROUND( I$2+(('coded NOLH for 23-29 factors'!I110-1)*(I$3-I$2)/256), I$4)","v":101},{"$f":"ROUND( J$2+(('coded NOLH for 23-29 factors'!J110-1)*(J$3-J$2)/256), J$4)","v":249},{"$f":"ROUND( K$2+(('coded NOLH for 23-29 factors'!K110-1)*(K$3-K$2)/256), K$4)","v":194},{"$f":"ROUND( L$2+(('coded NOLH for 23-29 factors'!L110-1)*(L$3-L$2)/256), L$4)","v":6},{"$f":"ROUND( M$2+(('coded NOLH for 23-29 factors'!M110-1)*(M$3-M$2)/256), M$4)","v":235},{"$f":"ROUND( N$2+(('coded NOLH for 23-29 factors'!N110-1)*(N$3-N$2)/256), N$4)","v":78},{"$f":"ROUND( O$2+(('coded NOLH for 23-29 factors'!O110-1)*(O$3-O$2)/256), O$4)","v":46},{"$f":"ROUND( P$2+(('coded NOLH for 23-29 factors'!P110-1)*(P$3-P$2)/256), P$4)","v":100},{"$f":"ROUND( Q$2+(('coded NOLH for 23-29 factors'!Q110-1)*(Q$3-Q$2)/256), Q$4)","v":243},{"$f":"ROUND( R$2+(('coded NOLH for 23-29 factors'!R110-1)*(R$3-R$2)/256), R$4)","v":113},{"$f":"ROUND( S$2+(('coded NOLH for 23-29 factors'!S110-1)*(S$3-S$2)/256), S$4)","v":236},{"$f":"ROUND( T$2+(('coded NOLH for 23-29 factors'!T110-1)*(T$3-T$2)/256), T$4)","v":119},{"$f":"ROUND( U$2+(('coded NOLH for 23-29 factors'!U110-1)*(U$3-U$2)/256), U$4)","v":232},{"$f":"ROUND( V$2+(('coded NOLH for 23-29 factors'!V110-1)*(V$3-V$2)/256), V$4)","v":110},{"$f":"ROUND( W$2+(('coded NOLH for 23-29 factors'!W110-1)*(W$3-W$2)/256), W$4)","v":133},{"$f":"ROUND( X$2+(('coded NOLH for 23-29 factors'!X110-1)*(X$3-X$2)/256), X$4)","v":137},{"$f":"ROUND( Y$2+(('coded NOLH for 23-29 factors'!Y110-1)*(Y$3-Y$2)/256), Y$4)","v":156},{"$f":"ROUND( Z$2+(('coded NOLH for 23-29 factors'!Z110-1)*(Z$3-Z$2)/256), Z$4)","v":74},{"$f":"ROUND( AA$2+(('coded NOLH for 23-29 factors'!AA110-1)*(AA$3-AA$2)/256), AA$4)","v":101},{"$f":"ROUND( AB$2+(('coded NOLH for 23-29 factors'!AB110-1)*(AB$3-AB$2)/256), AB$4)","v":254},{"$f":"ROUND( AC$2+(('coded NOLH for 23-29 factors'!AC110-1)*(AC$3-AC$2)/256), AC$4)","v":107},{"$f":"ROUND( AD$2+(('coded NOLH for 23-29 factors'!AD110-1)*(AD$3-AD$2)/256), AD$4)","v":75}]
[null,{"$f":"ROUND( B$2+(('coded NOLH for 23-29 factors'!B111-1)*(B$3-B$2)/256), B$4)","v":46},{"$f":"ROUND( C$2+(('coded NOLH for 23-29 factors'!C111-1)*(C$3-C$2)/256), C$4)","v":248},{"$f":"ROUND( D$2+(('coded NOLH for 23-29 factors'!D111-1)*(D$3-D$2)/256), D$4)","v":71},{"$f":"ROUND( E$2+(('coded NOLH for 23-29 factors'!E111-1)*(E$3-E$2)/256), E$4)","v":203},{"$f":"ROUND( F$2+(('coded NOLH for 23-29 factors'!F111-1)*(F$3-F$2)/256), F$4)","v":50},{"$f":"ROUND( G$2+(('coded NOLH for 23-29 factors'!G111-1)*(G$3-G$2)/256), G$4)","v":154},{"$f":"ROUND( H$2+(('coded NOLH for 23-29 factors'!H111-1)*(H$3-H$2)/256), H$4)","v":15},{"$f":"ROUND( I$2+(('coded NOLH for 23-29 factors'!I111-1)*(I$3-I$2)/256), I$4)","v":128},{"$f":"ROUND( J$2+(('coded NOLH for 23-29 factors'!J111-1)*(J$3-J$2)/256), J$4)","v":176},{"$f":"ROUND( K$2+(('coded NOLH for 23-29 factors'!K111-1)*(K$3-K$2)/256), K$4)","v":25},{"$f":"ROUND( L$2+(('coded NOLH for 23-29 factors'!L111-1)*(L$3-L$2)/256), L$4)","v":147},{"$f":"ROUND( M$2+(('coded NOLH for 23-29 factors'!M111-1)*(M$3-M$2)/256), M$4)","v":110},{"$f":"ROUND( N$2+(('coded NOLH for 23-29 factors'!N111-1)*(N$3-N$2)/256), N$4)","v":156},{"$f":"ROUND( O$2+(('coded NOLH for 23-29 factors'!O111-1)*(O$3-O$2)/256), O$4)","v":171},{"$f":"ROUND( P$2+(('coded NOLH for 23-29 factors'!P111-1)*(P$3-P$2)/256), P$4)","v":156},{"$f":"ROUND( Q$2+(('coded NOLH for 23-29 factors'!Q111-1)*(Q$3-Q$2)/256), Q$4)","v":9},{"$f":"ROUND( R$2+(('coded NOLH for 23-29 factors'!R111-1)*(R$3-R$2)/256), R$4)","v":206},{"$f":"ROUND( S$2+(('coded NOLH for 23-29 factors'!S111-1)*(S$3-S$2)/256), S$4)","v":115},{"$f":"ROUND( T$2+(('coded NOLH for 23-29 factors'!T111-1)*(T$3-T$2)/256), T$4)","v":115},{"$f":"ROUND( U$2+(('coded NOLH for 23-29 factors'!U111-1)*(U$3-U$2)/256), U$4)","v":131},{"$f":"ROUND( V$2+(('coded NOLH for 23-29 factors'!V111-1)*(V$3-V$2)/256), V$4)","v":158},{"$f":"ROUND( W$2+(('coded NOLH for 23-29 factors'!W111-1)*(W$3-W$2)/256), W$4)","v":236},{"$f":"ROUND( X$2+(('coded NOLH for 23-29 factors'!X111-1)*(X$3-X$2)/256), X$4)","v":194},{"$f":"ROUND( Y$2+(('coded NOLH for 23-29 factors'!Y111-1)*(Y$3-Y$2)/256), Y$4)","v":251},{"$f":"ROUND( Z$2+(('coded NOLH for 23-29 factors'!Z111-1)*(Z$3-Z$2)/256), Z$4)","v":98},{"$f":"ROUND( AA$2+(('coded NOLH for 23-29 factors'!AA111-1)*(AA$3-AA$2)/256), AA$4)","v":40},{"$f":"ROUND( AB$2+(('coded NOLH for 23-29 factors'!AB111-1)*(AB$3-AB$2)/256), AB$4)","v":132},{"$f":"ROUND( AC$2+(('coded NOLH for 23-29 factors'!AC111-1)*(AC$3-AC$2)/256), AC$4)","v":217},{"$f":"ROUND( AD$2+(('coded NOLH for 23-29 factors'!AD111-1)*(AD$3-AD$2)/256), AD$4)","v":28}]
[null,{"$f":"ROUND( B$2+(('coded NOLH for 23-29 factors'!B112-1)*(B$3-B$2)/256), B$4)","v":10},{"$f":"ROUND( C$2+(('coded NOLH for 23-29 factors'!C112-1)*(C$3-C$2)/256), C$4)","v":46},{"$f":"ROUND( D$2+(('coded NOLH for 23-29 factors'!D112-1)*(D$3-D$2)/256), D$4)","v":89},{"$f":"ROUND( E$2+(('coded NOLH for 23-29 factors'!E112-1)*(E$3-E$2)/256), E$4)","v":236},{"$f":"ROUND( F$2+(('coded NOLH for 23-29 factors'!F112-1)*(F$3-F$2)/256), F$4)","v":118},{"$f":"ROUND( G$2+(('coded NOLH for 23-29 factors'!G112-1)*(G$3-G$2)/256), G$4)","v":160},{"$f":"ROUND( H$2+(('coded NOLH for 23-29 factors'!H112-1)*(H$3-H$2)/256), H$4)","v":97},{"$f":"ROUND( I$2+(('coded NOLH for 23-29 factors'!I112-1)*(I$3-I$2)/256), I$4)","v":86},{"$f":"ROUND( J$2+(('coded NOLH for 23-29 factors'!J112-1)*(J$3-J$2)/256), J$4)","v":66},{"$f":"ROUND( K$2+(('coded NOLH for 23-29 factors'!K112-1)*(K$3-K$2)/256), K$4)","v":205},{"$f":"ROUND( L$2+(('coded NOLH for 23-29 factors'!L112-1)*(L$3-L$2)/256), L$4)","v":66},{"$f":"ROUND( M$2+(('coded NOLH for 23-29 factors'!M112-1)*(M$3-M$2)/256), M$4)","v":145},{"$f":"ROUND( N$2+(('coded NOLH for 23-29 factors'!N112-1)*(N$3-N$2)/256), N$4)","v":20},{"$f":"ROUND( O$2+(('coded NOLH for 23-29 factors'!O112-1)*(O$3-O$2)/256), O$4)","v":132},{"$f":"ROUND( P$2+(('coded NOLH for 23-29 factors'!P112-1)*(P$3-P$2)/256), P$4)","v":173},{"$f":"ROUND( Q$2+(('coded NOLH for 23-29 factors'!Q112-1)*(Q$3-Q$2)/256), Q$4)","v":38},{"$f":"ROUND( R$2+(('coded NOLH for 23-29 factors'!R112-1)*(R$3-R$2)/256), R$4)","v":252},{"$f":"ROUND( S$2+(('coded NOLH for 23-29 factors'!S112-1)*(S$3-S$2)/256), S$4)","v":60},{"$f":"ROUND( T$2+(('coded NOLH for 23-29 factors'!T112-1)*(T$3-T$2)/256), T$4)","v":45},{"$f":"ROUND( U$2+(('coded NOLH for 23-29 factors'!U112-1)*(U$3-U$2)/256), U$4)","v":242},{"$f":"ROUND( V$2+(('coded NOLH for 23-29 factors'!V112-1)*(V$3-V$2)/256), V$4)","v":52},{"$f":"ROUND( W$2+(('coded NOLH for 23-29 factors'!W112-1)*(W$3-W$2)/256), W$4)","v":116},{"$f":"ROUND( X$2+(('coded NOLH for 23-29 factors'!X112-1)*(X$3-X$2)/256), X$4)","v":196},{"$f":"ROUND( Y$2+(('coded NOLH for 23-29 factors'!Y112-1)*(Y$3-Y$2)/256), Y$4)","v":169},{"$f":"ROUND( Z$2+(('coded NOLH for 23-29 factors'!Z112-1)*(Z$3-Z$2)/256), Z$4)","v":48},{"$f":"ROUND( AA$2+(('coded NOLH for 23-29 factors'!AA112-1)*(AA$3-AA$2)/256), AA$4)","v":42},{"$f":"ROUND( AB$2+(('coded NOLH for 23-29 factors'!AB112-1)*(AB$3-AB$2)/256), AB$4)","v":172},{"$f":"ROUND( AC$2+(('coded NOLH for 23-29 factors'!AC112-1)*(AC$3-AC$2)/256), AC$4)","v":239},{"$f":"ROUND( AD$2+(('coded NOLH for 23-29 factors'!AD112-1)*(AD$3-AD$2)/256), AD$4)","v":17}]
[null,{"$f":"ROUND( B$2+(('coded NOLH for 23-29 factors'!B113-1)*(B$3-B$2)/256), B$4)","v":22},{"$f":"ROUND( C$2+(('coded NOLH for 23-29 factors'!C113-1)*(C$3-C$2)/256), C$4)","v":203},{"$f":"ROUND( D$2+(('coded NOLH for 23-29 factors'!D113-1)*(D$3-D$2)/256), D$4)","v":170},{"$f":"ROUND( E$2+(('coded NOLH for 23-29 factors'!E113-1)*(E$3-E$2)/256), E$4)","v":10},{"$f":"ROUND( F$2+(('coded NOLH for 23-29 factors'!F113-1)*(F$3-F$2)/256), F$4)","v":59},{"$f":"ROUND( G$2+(('coded NOLH for 23-29 factors'!G113-1)*(G$3-G$2)/256), G$4)","v":171},{"$f":"ROUND( H$2+(('coded NOLH for 23-29 factors'!H113-1)*(H$3-H$2)/256), H$4)","v":127},{"$f":"ROUND( I$2+(('coded NOLH for 23-29 factors'!I113-1)*(I$3-I$2)/256), I$4)","v":53},{"$f":"ROUND( J$2+(('coded NOLH for 23-29 factors'!J113-1)*(J$3-J$2)/256), J$4)","v":99},{"$f":"ROUND( K$2+(('coded NOLH for 23-29 factors'!K113-1)*(K$3-K$2)/256), K$4)","v":231},{"$f":"ROUND( L$2+(('coded NOLH for 23-29 factors'!L113-1)*(L$3-L$2)/256), L$4)","v":142},{"$f":"ROUND( M$2+(('coded NOLH for 23-29 factors'!M113-1)*(M$3-M$2)/256), M$4)","v":133},{"$f":"ROUND( N$2+(('coded NOLH for 23-29 factors'!N113-1)*(N$3-N$2)/256), N$4)","v":237},{"$f":"ROUND( O$2+(('coded NOLH for 23-29 factors'!O113-1)*(O$3-O$2)/256), O$4)","v":199},{"$f":"ROUND( P$2+(('coded NOLH for 23-29 factors'!P113-1)*(P$3-P$2)/256), P$4)","v":159},{"$f":"ROUND( Q$2+(('coded NOLH for 23-29 factors'!Q113-1)*(Q$3-Q$2)/256), Q$4)","v":228},{"$f":"ROUND( R$2+(('coded NOLH for 23-29 factors'!R113-1)*(R$3-R$2)/256), R$4)","v":7},{"$f":"ROUND( S$2+(('coded NOLH for 23-29 factors'!S113-1)*(S$3-S$2)/256), S$4)","v":155},{"$f":"ROUND( T$2+(('coded NOLH for 23-29 factors'!T113-1)*(T$3-T$2)/256), T$4)","v":175},{"$f":"ROUND( U$2+(('coded NOLH for 23-29 factors'!U113-1)*(U$3-U$2)/256), U$4)","v":87},{"$f":"ROUND( V$2+(('coded NOLH for 23-29 factors'!V113-1)*(V$3-V$2)/256), V$4)","v":159},{"$f":"ROUND( W$2+(('coded NOLH for 23-29 factors'!W113-1)*(W$3-W$2)/256), W$4)","v":112},{"$f":"ROUND( X$2+(('coded NOLH for 23-29 factors'!X113-1)*(X$3-X$2)/256), X$4)","v":79},{"$f":"ROUND( Y$2+(('coded NOLH for 23-29 factors'!Y113-1)*(Y$3-Y$2)/256), Y$4)","v":219},{"$f":"ROUND( Z$2+(('coded NOLH for 23-29 factors'!Z113-1)*(Z$3-Z$2)/256), Z$4)","v":4},{"$f":"ROUND( AA$2+(('coded NOLH for 23-29 factors'!AA113-1)*(AA$3-AA$2)/256), AA$4)","v":30},{"$f":"ROUND( AB$2+(('coded NOLH for 23-29 factors'!AB113-1)*(AB$3-AB$2)/256), AB$4)","v":175},{"$f":"ROUND( AC$2+(('coded NOLH for 23-29 factors'!AC113-1)*(AC$3-AC$2)/256), AC$4)","v":171},{"$f":"ROUND( AD$2+(('coded NOLH for 23-29 factors'!AD113-1)*(AD$3-AD$2)/256), AD$4)","v":51}]
[null,{"$f":"ROUND( B$2+(('coded NOLH for 23-29 factors'!B114-1)*(B$3-B$2)/256), B$4)","v":55},{"$f":"ROUND( C$2+(('coded NOLH for 23-29 factors'!C114-1)*(C$3-C$2)/256), C$4)","v":22},{"$f":"ROUND( D$2+(('coded NOLH for 23-29 factors'!D114-1)*(D$3-D$2)/256), D$4)","v":174},{"$f":"ROUND( E$2+(('coded NOLH for 23-29 factors'!E114-1)*(E$3-E$2)/256), E$4)","v":46},{"$f":"ROUND( F$2+(('coded NOLH for 23-29 factors'!F114-1)*(F$3-F$2)/256), F$4)","v":110},{"$f":"ROUND( G$2+(('coded NOLH for 23-29 factors'!G114-1)*(G$3-G$2)/256), G$4)","v":132},{"$f":"ROUND( H$2+(('coded NOLH for 23-29 factors'!H114-1)*(H$3-H$2)/256), H$4)","v":26},{"$f":"ROUND( I$2+(('coded NOLH for 23-29 factors'!I114-1)*(I$3-I$2)/256), I$4)","v":52},{"$f":"ROUND( J$2+(('coded NOLH for 23-29 factors'!J114-1)*(J$3-J$2)/256), J$4)","v":178},{"$f":"ROUND( K$2+(('coded NOLH for 23-29 factors'!K114-1)*(K$3-K$2)/256), K$4)","v":9},{"$f":"ROUND( L$2+(('coded NOLH for 23-29 factors'!L114-1)*(L$3-L$2)/256), L$4)","v":54},{"$f":"ROUND( M$2+(('coded NOLH for 23-29 factors'!M114-1)*(M$3-M$2)/256), M$4)","v":197},{"$f":"ROUND( N$2+(('coded NOLH for 23-29 factors'!N114-1)*(N$3-N$2)/256), N$4)","v":131},{"$f":"ROUND( O$2+(('coded NOLH for 23-29 factors'!O114-1)*(O$3-O$2)/256), O$4)","v":49},{"$f":"ROUND( P$2+(('coded NOLH for 23-29 factors'!P114-1)*(P$3-P$2)/256), P$4)","v":207},{"$f":"ROUND( Q$2+(('coded NOLH for 23-29 factors'!Q114-1)*(Q$3-Q$2)/256), Q$4)","v":222},{"$f":"ROUND( R$2+(('coded NOLH for 23-29 factors'!R114-1)*(R$3-R$2)/256), R$4)","v":117},{"$f":"ROUND( S$2+(('coded NOLH for 23-29 factors'!S114-1)*(S$3-S$2)/256), S$4)","v":135},{"$f":"ROUND( T$2+(('coded NOLH for 23-29 factors'!T114-1)*(T$3-T$2)/256), T$4)","v":138},{"$f":"ROUND( U$2+(('coded NOLH for 23-29 factors'!U114-1)*(U$3-U$2)/256), U$4)","v":50},{"$f":"ROUND( V$2+(('coded NOLH for 23-29 factors'!V114-1)*(V$3-V$2)/256), V$4)","v":123},{"$f":"ROUND( W$2+(('coded NOLH for 23-29 factors'!W114-1)*(W$3-W$2)/256), W$4)","v":6},{"$f":"ROUND( X$2+(('coded NOLH for 23-29 factors'!X114-1)*(X$3-X$2)/256), X$4)","v":125},{"$f":"ROUND( Y$2+(('coded NOLH for 23-29 factors'!Y114-1)*(Y$3-Y$2)/256), Y$4)","v":253},{"$f":"ROUND( Z$2+(('coded NOLH for 23-29 factors'!Z114-1)*(Z$3-Z$2)/256), Z$4)","v":117},{"$f":"ROUND( AA$2+(('coded NOLH for 23-29 factors'!AA114-1)*(AA$3-AA$2)/256), AA$4)","v":79},{"$f":"ROUND( AB$2+(('coded NOLH for 23-29 factors'!AB114-1)*(AB$3-AB$2)/256), AB$4)","v":220},{"$f":"ROUND( AC$2+(('coded NOLH for 23-29 factors'!AC114-1)*(AC$3-AC$2)/256), AC$4)","v":251},{"$f":"ROUND( AD$2+(('coded NOLH for 23-29 factors'!AD114-1)*(AD$3-AD$2)/256), AD$4)","v":47}]
[null,{"$f":"ROUND( B$2+(('coded NOLH for 23-29 factors'!B115-1)*(B$3-B$2)/256), B$4)","v":84},{"$f":"ROUND( C$2+(('coded NOLH for 23-29 factors'!C115-1)*(C$3-C$2)/256), C$4)","v":170},{"$f":"ROUND( D$2+(('coded NOLH for 23-29 factors'!D115-1)*(D$3-D$2)/256), D$4)","v":55},{"$f":"ROUND( E$2+(('coded NOLH for 23-29 factors'!E115-1)*(E$3-E$2)/256), E$4)","v":71},{"$f":"ROUND( F$2+(('coded NOLH for 23-29 factors'!F115-1)*(F$3-F$2)/256), F$4)","v":24},{"$f":"ROUND( G$2+(('coded NOLH for 23-29 factors'!G115-1)*(G$3-G$2)/256), G$4)","v":145},{"$f":"ROUND( H$2+(('coded NOLH for 23-29 factors'!H115-1)*(H$3-H$2)/256), H$4)","v":106},{"$f":"ROUND( I$2+(('coded NOLH for 23-29 factors'!I115-1)*(I$3-I$2)/256), I$4)","v":122},{"$f":"ROUND( J$2+(('coded NOLH for 23-29 factors'!J115-1)*(J$3-J$2)/256), J$4)","v":247},{"$f":"ROUND( K$2+(('coded NOLH for 23-29 factors'!K115-1)*(K$3-K$2)/256), K$4)","v":180},{"$f":"ROUND( L$2+(('coded NOLH for 23-29 factors'!L115-1)*(L$3-L$2)/256), L$4)","v":230},{"$f":"ROUND( M$2+(('coded NOLH for 23-29 factors'!M115-1)*(M$3-M$2)/256), M$4)","v":52},{"$f":"ROUND( N$2+(('coded NOLH for 23-29 factors'!N115-1)*(N$3-N$2)/256), N$4)","v":137},{"$f":"ROUND( O$2+(('coded NOLH for 23-29 factors'!O115-1)*(O$3-O$2)/256), O$4)","v":183},{"$f":"ROUND( P$2+(('coded NOLH for 23-29 factors'!P115-1)*(P$3-P$2)/256), P$4)","v":22},{"$f":"ROUND( Q$2+(('coded NOLH for 23-29 factors'!Q115-1)*(Q$3-Q$2)/256), Q$4)","v":104},{"$f":"ROUND( R$2+(('coded NOLH for 23-29 factors'!R115-1)*(R$3-R$2)/256), R$4)","v":134},{"$f":"ROUND( S$2+(('coded NOLH for 23-29 factors'!S115-1)*(S$3-S$2)/256), S$4)","v":46},{"$f":"ROUND( T$2+(('coded NOLH for 23-29 factors'!T115-1)*(T$3-T$2)/256), T$4)","v":60},{"$f":"ROUND( U$2+(('coded NOLH for 23-29 factors'!U115-1)*(U$3-U$2)/256), U$4)","v":23},{"$f":"ROUND( V$2+(('coded NOLH for 23-29 factors'!V115-1)*(V$3-V$2)/256), V$4)","v":200},{"$f":"ROUND( W$2+(('coded NOLH for 23-29 factors'!W115-1)*(W$3-W$2)/256), W$4)","v":128},{"$f":"ROUND( X$2+(('coded NOLH for 23-29 factors'!X115-1)*(X$3-X$2)/256), X$4)","v":102},{"$f":"ROUND( Y$2+(('coded NOLH for 23-29 factors'!Y115-1)*(Y$3-Y$2)/256), Y$4)","v":201},{"$f":"ROUND( Z$2+(('coded NOLH for 23-29 factors'!Z115-1)*(Z$3-Z$2)/256), Z$4)","v":75},{"$f":"ROUND( AA$2+(('coded NOLH for 23-29 factors'!AA115-1)*(AA$3-AA$2)/256), AA$4)","v":105},{"$f":"ROUND( AB$2+(('coded NOLH for 23-29 factors'!AB115-1)*(AB$3-AB$2)/256), AB$4)","v":221},{"$f":"ROUND( AC$2+(('coded NOLH for 23-29 factors'!AC115-1)*(AC$3-AC$2)/256), AC$4)","v":176},{"$f":"ROUND( AD$2+(('coded NOLH for 23-29 factors'!AD115-1)*(AD$3-AD$2)/256), AD$4)","v":43}]
[null,{"$f":"ROUND( B$2+(('coded NOLH for 23-29 factors'!B116-1)*(B$3-B$2)/256), B$4)","v":88},{"$f":"ROUND( C$2+(('coded NOLH for 23-29 factors'!C116-1)*(C$3-C$2)/256), C$4)","v":84},{"$f":"ROUND( D$2+(('coded NOLH for 23-29 factors'!D116-1)*(D$3-D$2)/256), D$4)","v":22},{"$f":"ROUND( E$2+(('coded NOLH for 23-29 factors'!E116-1)*(E$3-E$2)/256), E$4)","v":89},{"$f":"ROUND( F$2+(('coded NOLH for 23-29 factors'!F116-1)*(F$3-F$2)/256), F$4)","v":18},{"$f":"ROUND( G$2+(('coded NOLH for 23-29 factors'!G116-1)*(G$3-G$2)/256), G$4)","v":220},{"$f":"ROUND( H$2+(('coded NOLH for 23-29 factors'!H116-1)*(H$3-H$2)/256), H$4)","v":117},{"$f":"ROUND( I$2+(('coded NOLH for 23-29 factors'!I116-1)*(I$3-I$2)/256), I$4)","v":72},{"$f":"ROUND( J$2+(('coded NOLH for 23-29 factors'!J116-1)*(J$3-J$2)/256), J$4)","v":70},{"$f":"ROUND( K$2+(('coded NOLH for 23-29 factors'!K116-1)*(K$3-K$2)/256), K$4)","v":93},{"$f":"ROUND( L$2+(('coded NOLH for 23-29 factors'!L116-1)*(L$3-L$2)/256), L$4)","v":12},{"$f":"ROUND( M$2+(('coded NOLH for 23-29 factors'!M116-1)*(M$3-M$2)/256), M$4)","v":171},{"$f":"ROUND( N$2+(('coded NOLH for 23-29 factors'!N116-1)*(N$3-N$2)/256), N$4)","v":113},{"$f":"ROUND( O$2+(('coded NOLH for 23-29 factors'!O116-1)*(O$3-O$2)/256), O$4)","v":125},{"$f":"ROUND( P$2+(('coded NOLH for 23-29 factors'!P116-1)*(P$3-P$2)/256), P$4)","v":21},{"$f":"ROUND( Q$2+(('coded NOLH for 23-29 factors'!Q116-1)*(Q$3-Q$2)/256), Q$4)","v":62},{"$f":"ROUND( R$2+(('coded NOLH for 23-29 factors'!R116-1)*(R$3-R$2)/256), R$4)","v":187},{"$f":"ROUND( S$2+(('coded NOLH for 23-29 factors'!S116-1)*(S$3-S$2)/256), S$4)","v":128},{"$f":"ROUND( T$2+(('coded NOLH for 23-29 factors'!T116-1)*(T$3-T$2)/256), T$4)","v":35},{"$f":"ROUND( U$2+(('coded NOLH for 23-29 factors'!U116-1)*(U$3-U$2)/256), U$4)","v":24},{"$f":"ROUND( V$2+(('coded NOLH for 23-29 factors'!V116-1)*(V$3-V$2)/256), V$4)","v":253},{"$f":"ROUND( W$2+(('coded NOLH for 23-29 factors'!W116-1)*(W$3-W$2)/256), W$4)","v":54},{"$f":"ROUND( X$2+(('coded NOLH for 23-29 factors'!X116-1)*(X$3-X$2)/256), X$4)","v":28},{"$f":"ROUND( Y$2+(('coded NOLH for 23-29 factors'!Y116-1)*(Y$3-Y$2)/256), Y$4)","v":214},{"$f":"ROUND( Z$2+(('coded NOLH for 23-29 factors'!Z116-1)*(Z$3-Z$2)/256), Z$4)","v":78},{"$f":"ROUND( AA$2+(('coded NOLH for 23-29 factors'!AA116-1)*(AA$3-AA$2)/256), AA$4)","v":46},{"$f":"ROUND( AB$2+(('coded NOLH for 23-29 factors'!AB116-1)*(AB$3-AB$2)/256), AB$4)","v":133},{"$f":"ROUND( AC$2+(('coded NOLH for 23-29 factors'!AC116-1)*(AC$3-AC$2)/256), AC$4)","v":159},{"$f":"ROUND( AD$2+(('coded NOLH for 23-29 factors'!AD116-1)*(AD$3-AD$2)/256), AD$4)","v":76}]
[null,{"$f":"ROUND( B$2+(('coded NOLH for 23-29 factors'!B117-1)*(B$3-B$2)/256), B$4)","v":38},{"$f":"ROUND( C$2+(('coded NOLH for 23-29 factors'!C117-1)*(C$3-C$2)/256), C$4)","v":145},{"$f":"ROUND( D$2+(('coded NOLH for 23-29 factors'!D117-1)*(D$3-D$2)/256), D$4)","v":171},{"$f":"ROUND( E$2+(('coded NOLH for 23-29 factors'!E117-1)*(E$3-E$2)/256), E$4)","v":252},{"$f":"ROUND( F$2+(('coded NOLH for 23-29 factors'!F117-1)*(F$3-F$2)/256), F$4)","v":225},{"$f":"ROUND( G$2+(('coded NOLH for 23-29 factors'!G117-1)*(G$3-G$2)/256), G$4)","v":88},{"$f":"ROUND( H$2+(('coded NOLH for 23-29 factors'!H117-1)*(H$3-H$2)/256), H$4)","v":123},{"$f":"ROUND( I$2+(('coded NOLH for 23-29 factors'!I117-1)*(I$3-I$2)/256), I$4)","v":96},{"$f":"ROUND( J$2+(('coded NOLH for 23-29 factors'!J117-1)*(J$3-J$2)/256), J$4)","v":113},{"$f":"ROUND( K$2+(('coded NOLH for 23-29 factors'!K117-1)*(K$3-K$2)/256), K$4)","v":106},{"$f":"ROUND( L$2+(('coded NOLH for 23-29 factors'!L117-1)*(L$3-L$2)/256), L$4)","v":60},{"$f":"ROUND( M$2+(('coded NOLH for 23-29 factors'!M117-1)*(M$3-M$2)/256), M$4)","v":161},{"$f":"ROUND( N$2+(('coded NOLH for 23-29 factors'!N117-1)*(N$3-N$2)/256), N$4)","v":234},{"$f":"ROUND( O$2+(('coded NOLH for 23-29 factors'!O117-1)*(O$3-O$2)/256), O$4)","v":187},{"$f":"ROUND( P$2+(('coded NOLH for 23-29 factors'!P117-1)*(P$3-P$2)/256), P$4)","v":109},{"$f":"ROUND( Q$2+(('coded NOLH for 23-29 factors'!Q117-1)*(Q$3-Q$2)/256), Q$4)","v":8},{"$f":"ROUND( R$2+(('coded NOLH for 23-29 factors'!R117-1)*(R$3-R$2)/256), R$4)","v":242},{"$f":"ROUND( S$2+(('coded NOLH for 23-29 factors'!S117-1)*(S$3-S$2)/256), S$4)","v":149},{"$f":"ROUND( T$2+(('coded NOLH for 23-29 factors'!T117-1)*(T$3-T$2)/256), T$4)","v":176},{"$f":"ROUND( U$2+(('coded NOLH for 23-29 factors'!U117-1)*(U$3-U$2)/256), U$4)","v":57},{"$f":"ROUND( V$2+(('coded NOLH for 23-29 factors'!V117-1)*(V$3-V$2)/256), V$4)","v":152},{"$f":"ROUND( W$2+(('coded NOLH for 23-29 factors'!W117-1)*(W$3-W$2)/256), W$4)","v":212},{"$f":"ROUND( X$2+(('coded NOLH for 23-29 factors'!X117-1)*(X$3-X$2)/256), X$4)","v":239},{"$f":"ROUND( Y$2+(('coded NOLH for 23-29 factors'!Y117-1)*(Y$3-Y$2)/256), Y$4)","v":246},{"$f":"ROUND( Z$2+(('coded NOLH for 23-29 factors'!Z117-1)*(Z$3-Z$2)/256), Z$4)","v":241},{"$f":"ROUND( AA$2+(('coded NOLH for 23-29 factors'!AA117-1)*(AA$3-AA$2)/256), AA$4)","v":185},{"$f":"ROUND( AB$2+(('coded NOLH for 23-29 factors'!AB117-1)*(AB$3-AB$2)/256), AB$4)","v":109},{"$f":"ROUND( AC$2+(('coded NOLH for 23-29 factors'!AC117-1)*(AC$3-AC$2)/256), AC$4)","v":96},{"$f":"ROUND( AD$2+(('coded NOLH for 23-29 factors'!AD117-1)*(AD$3-AD$2)/256), AD$4)","v":41}]
[null,{"$f":"ROUND( B$2+(('coded NOLH for 23-29 factors'!B118-1)*(B$3-B$2)/256), B$4)","v":113},{"$f":"ROUND( C$2+(('coded NOLH for 23-29 factors'!C118-1)*(C$3-C$2)/256), C$4)","v":38},{"$f":"ROUND( D$2+(('coded NOLH for 23-29 factors'!D118-1)*(D$3-D$2)/256), D$4)","v":132},{"$f":"ROUND( E$2+(('coded NOLH for 23-29 factors'!E118-1)*(E$3-E$2)/256), E$4)","v":142},{"$f":"ROUND( F$2+(('coded NOLH for 23-29 factors'!F118-1)*(F$3-F$2)/256), F$4)","v":217},{"$f":"ROUND( G$2+(('coded NOLH for 23-29 factors'!G118-1)*(G$3-G$2)/256), G$4)","v":84},{"$f":"ROUND( H$2+(('coded NOLH for 23-29 factors'!H118-1)*(H$3-H$2)/256), H$4)","v":21},{"$f":"ROUND( I$2+(('coded NOLH for 23-29 factors'!I118-1)*(I$3-I$2)/256), I$4)","v":73},{"$f":"ROUND( J$2+(('coded NOLH for 23-29 factors'!J118-1)*(J$3-J$2)/256), J$4)","v":158},{"$f":"ROUND( K$2+(('coded NOLH for 23-29 factors'!K118-1)*(K$3-K$2)/256), K$4)","v":243},{"$f":"ROUND( L$2+(('coded NOLH for 23-29 factors'!L118-1)*(L$3-L$2)/256), L$4)","v":237},{"$f":"ROUND( M$2+(('coded NOLH for 23-29 factors'!M118-1)*(M$3-M$2)/256), M$4)","v":104},{"$f":"ROUND( N$2+(('coded NOLH for 23-29 factors'!N118-1)*(N$3-N$2)/256), N$4)","v":120},{"$f":"ROUND( O$2+(('coded NOLH for 23-29 factors'!O118-1)*(O$3-O$2)/256), O$4)","v":99},{"$f":"ROUND( P$2+(('coded NOLH for 23-29 factors'!P118-1)*(P$3-P$2)/256), P$4)","v":82},{"$f":"ROUND( Q$2+(('coded NOLH for 23-29 factors'!Q118-1)*(Q$3-Q$2)/256), Q$4)","v":32},{"$f":"ROUND( R$2+(('coded NOLH for 23-29 factors'!R118-1)*(R$3-R$2)/256), R$4)","v":166},{"$f":"ROUND( S$2+(('coded NOLH for 23-29 factors'!S118-1)*(S$3-S$2)/256), S$4)","v":219},{"$f":"ROUND( T$2+(('coded NOLH for 23-29 factors'!T118-1)*(T$3-T$2)/256), T$4)","v":255},{"$f":"ROUND( U$2+(('coded NOLH for 23-29 factors'!U118-1)*(U$3-U$2)/256), U$4)","v":117},{"$f":"ROUND( V$2+(('coded NOLH for 23-29 factors'!V118-1)*(V$3-V$2)/256), V$4)","v":176},{"$f":"ROUND( W$2+(('coded NOLH for 23-29 factors'!W118-1)*(W$3-W$2)/256), W$4)","v":256},{"$f":"ROUND( X$2+(('coded NOLH for 23-29 factors'!X118-1)*(X$3-X$2)/256), X$4)","v":159},{"$f":"ROUND( Y$2+(('coded NOLH for 23-29 factors'!Y118-1)*(Y$3-Y$2)/256), Y$4)","v":231},{"$f":"ROUND( Z$2+(('coded NOLH for 23-29 factors'!Z118-1)*(Z$3-Z$2)/256), Z$4)","v":148},{"$f":"ROUND( AA$2+(('coded NOLH for 23-29 factors'!AA118-1)*(AA$3-AA$2)/256), AA$4)","v":242},{"$f":"ROUND( AB$2+(('coded NOLH for 23-29 factors'!AB118-1)*(AB$3-AB$2)/256), AB$4)","v":134},{"$f":"ROUND( AC$2+(('coded NOLH for 23-29 factors'!AC118-1)*(AC$3-AC$2)/256), AC$4)","v":118},{"$f":"ROUND( AD$2+(('coded NOLH for 23-29 factors'!AD118-1)*(AD$3-AD$2)/256), AD$4)","v":85}]
[null,{"$f":"ROUND( B$2+(('coded NOLH for 23-29 factors'!B119-1)*(B$3-B$2)/256), B$4)","v":126},{"$f":"ROUND( C$2+(('coded NOLH for 23-29 factors'!C119-1)*(C$3-C$2)/256), C$4)","v":171},{"$f":"ROUND( D$2+(('coded NOLH for 23-29 factors'!D119-1)*(D$3-D$2)/256), D$4)","v":113},{"$f":"ROUND( E$2+(('coded NOLH for 23-29 factors'!E119-1)*(E$3-E$2)/256), E$4)","v":154},{"$f":"ROUND( F$2+(('coded NOLH for 23-29 factors'!F119-1)*(F$3-F$2)/256), F$4)","v":229},{"$f":"ROUND( G$2+(('coded NOLH for 23-29 factors'!G119-1)*(G$3-G$2)/256), G$4)","v":55},{"$f":"ROUND( H$2+(('coded NOLH for 23-29 factors'!H119-1)*(H$3-H$2)/256), H$4)","v":37},{"$f":"ROUND( I$2+(('coded NOLH for 23-29 factors'!I119-1)*(I$3-I$2)/256), I$4)","v":11},{"$f":"ROUND( J$2+(('coded NOLH for 23-29 factors'!J119-1)*(J$3-J$2)/256), J$4)","v":202},{"$f":"ROUND( K$2+(('coded NOLH for 23-29 factors'!K119-1)*(K$3-K$2)/256), K$4)","v":77},{"$f":"ROUND( L$2+(('coded NOLH for 23-29 factors'!L119-1)*(L$3-L$2)/256), L$4)","v":31},{"$f":"ROUND( M$2+(('coded NOLH for 23-29 factors'!M119-1)*(M$3-M$2)/256), M$4)","v":253},{"$f":"ROUND( N$2+(('coded NOLH for 23-29 factors'!N119-1)*(N$3-N$2)/256), N$4)","v":167},{"$f":"ROUND( O$2+(('coded NOLH for 23-29 factors'!O119-1)*(O$3-O$2)/256), O$4)","v":194},{"$f":"ROUND( P$2+(('coded NOLH for 23-29 factors'!P119-1)*(P$3-P$2)/256), P$4)","v":146},{"$f":"ROUND( Q$2+(('coded NOLH for 23-29 factors'!Q119-1)*(Q$3-Q$2)/256), Q$4)","v":201},{"$f":"ROUND( R$2+(('coded NOLH for 23-29 factors'!R119-1)*(R$3-R$2)/256), R$4)","v":97},{"$f":"ROUND( S$2+(('coded NOLH for 23-29 factors'!S119-1)*(S$3-S$2)/256), S$4)","v":5},{"$f":"ROUND( T$2+(('coded NOLH for 23-29 factors'!T119-1)*(T$3-T$2)/256), T$4)","v":81},{"$f":"ROUND( U$2+(('coded NOLH for 23-29 factors'!U119-1)*(U$3-U$2)/256), U$4)","v":2},{"$f":"ROUND( V$2+(('coded NOLH for 23-29 factors'!V119-1)*(V$3-V$2)/256), V$4)","v":205},{"$f":"ROUND( W$2+(('coded NOLH for 23-29 factors'!W119-1)*(W$3-W$2)/256), W$4)","v":169},{"$f":"ROUND( X$2+(('coded NOLH for 23-29 factors'!X119-1)*(X$3-X$2)/256), X$4)","v":212},{"$f":"ROUND( Y$2+(('coded NOLH for 23-29 factors'!Y119-1)*(Y$3-Y$2)/256), Y$4)","v":131},{"$f":"ROUND( Z$2+(('coded NOLH for 23-29 factors'!Z119-1)*(Z$3-Z$2)/256), Z$4)","v":179},{"$f":"ROUND( AA$2+(('coded NOLH for 23-29 factors'!AA119-1)*(AA$3-AA$2)/256), AA$4)","v":237},{"$f":"ROUND( AB$2+(('coded NOLH for 23-29 factors'!AB119-1)*(AB$3-AB$2)/256), AB$4)","v":7},{"$f":"ROUND( AC$2+(('coded NOLH for 23-29 factors'!AC119-1)*(AC$3-AC$2)/256), AC$4)","v":85},{"$f":"ROUND( AD$2+(('coded NOLH for 23-29 factors'!AD119-1)*(AD$3-AD$2)/256), AD$4)","v":11}]
[null,{"$f":"ROUND( B$2+(('coded NOLH for 23-29 factors'!B120-1)*(B$3-B$2)/256), B$4)","v":87},{"$f":"ROUND( C$2+(('coded NOLH for 23-29 factors'!C120-1)*(C$3-C$2)/256), C$4)","v":126},{"$f":"ROUND( D$2+(('coded NOLH for 23-29 factors'!D120-1)*(D$3-D$2)/256), D$4)","v":38},{"$f":"ROUND( E$2+(('coded NOLH for 23-29 factors'!E120-1)*(E$3-E$2)/256), E$4)","v":160},{"$f":"ROUND( F$2+(('coded NOLH for 23-29 factors'!F120-1)*(F$3-F$2)/256), F$4)","v":244},{"$f":"ROUND( G$2+(('coded NOLH for 23-29 factors'!G120-1)*(G$3-G$2)/256), G$4)","v":22},{"$f":"ROUND( H$2+(('coded NOLH for 23-29 factors'!H120-1)*(H$3-H$2)/256), H$4)","v":91},{"$f":"ROUND( I$2+(('coded NOLH for 23-29 factors'!I120-1)*(I$3-I$2)/256), I$4)","v":70},{"$f":"ROUND( J$2+(('coded NOLH for 23-29 factors'!J120-1)*(J$3-J$2)/256), J$4)","v":88},{"$f":"ROUND( K$2+(('coded NOLH for 23-29 factors'!K120-1)*(K$3-K$2)/256), K$4)","v":121},{"$f":"ROUND( L$2+(('coded NOLH for 23-29 factors'!L120-1)*(L$3-L$2)/256), L$4)","v":248},{"$f":"ROUND( M$2+(('coded NOLH for 23-29 factors'!M120-1)*(M$3-M$2)/256), M$4)","v":73},{"$f":"ROUND( N$2+(('coded NOLH for 23-29 factors'!N120-1)*(N$3-N$2)/256), N$4)","v":27},{"$f":"ROUND( O$2+(('coded NOLH for 23-29 factors'!O120-1)*(O$3-O$2)/256), O$4)","v":12},{"$f":"ROUND( P$2+(('coded NOLH for 23-29 factors'!P120-1)*(P$3-P$2)/256), P$4)","v":232},{"$f":"ROUND( Q$2+(('coded NOLH for 23-29 factors'!Q120-1)*(Q$3-Q$2)/256), Q$4)","v":247},{"$f":"ROUND( R$2+(('coded NOLH for 23-29 factors'!R120-1)*(R$3-R$2)/256), R$4)","v":90},{"$f":"ROUND( S$2+(('coded NOLH for 23-29 factors'!S120-1)*(S$3-S$2)/256), S$4)","v":87},{"$f":"ROUND( T$2+(('coded NOLH for 23-29 factors'!T120-1)*(T$3-T$2)/256), T$4)","v":127},{"$f":"ROUND( U$2+(('coded NOLH for 23-29 factors'!U120-1)*(U$3-U$2)/256), U$4)","v":121},{"$f":"ROUND( V$2+(('coded NOLH for 23-29 factors'!V120-1)*(V$3-V$2)/256), V$4)","v":248},{"$f":"ROUND( W$2+(('coded NOLH for 23-29 factors'!W120-1)*(W$3-W$2)/256), W$4)","v":165},{"$f":"ROUND( X$2+(('coded NOLH for 23-29 factors'!X120-1)*(X$3-X$2)/256), X$4)","v":253},{"$f":"ROUND( Y$2+(('coded NOLH for 23-29 factors'!Y120-1)*(Y$3-Y$2)/256), Y$4)","v":198},{"$f":"ROUND( Z$2+(('coded NOLH for 23-29 factors'!Z120-1)*(Z$3-Z$2)/256), Z$4)","v":175},{"$f":"ROUND( AA$2+(('coded NOLH for 23-29 factors'!AA120-1)*(AA$3-AA$2)/256), AA$4)","v":167},{"$f":"ROUND( AB$2+(('coded NOLH for 23-29 factors'!AB120-1)*(AB$3-AB$2)/256), AB$4)","v":146},{"$f":"ROUND( AC$2+(('coded NOLH for 23-29 factors'!AC120-1)*(AC$3-AC$2)/256), AC$4)","v":42},{"$f":"ROUND( AD$2+(('coded NOLH for 23-29 factors'!AD120-1)*(AD$3-AD$2)/256), AD$4)","v":80}]
[null,{"$f":"ROUND( B$2+(('coded NOLH for 23-29 factors'!B121-1)*(B$3-B$2)/256), B$4)","v":98},{"$f":"ROUND( C$2+(('coded NOLH for 23-29 factors'!C121-1)*(C$3-C$2)/256), C$4)","v":154},{"$f":"ROUND( D$2+(('coded NOLH for 23-29 factors'!D121-1)*(D$3-D$2)/256), D$4)","v":252},{"$f":"ROUND( E$2+(('coded NOLH for 23-29 factors'!E121-1)*(E$3-E$2)/256), E$4)","v":87},{"$f":"ROUND( F$2+(('coded NOLH for 23-29 factors'!F121-1)*(F$3-F$2)/256), F$4)","v":177},{"$f":"ROUND( G$2+(('coded NOLH for 23-29 factors'!G121-1)*(G$3-G$2)/256), G$4)","v":10},{"$f":"ROUND( H$2+(('coded NOLH for 23-29 factors'!H121-1)*(H$3-H$2)/256), H$4)","v":115},{"$f":"ROUND( I$2+(('coded NOLH for 23-29 factors'!I121-1)*(I$3-I$2)/256), I$4)","v":19},{"$f":"ROUND( J$2+(('coded NOLH for 23-29 factors'!J121-1)*(J$3-J$2)/256), J$4)","v":95},{"$f":"ROUND( K$2+(('coded NOLH for 23-29 factors'!K121-1)*(K$3-K$2)/256), K$4)","v":120},{"$f":"ROUND( L$2+(('coded NOLH for 23-29 factors'!L121-1)*(L$3-L$2)/256), L$4)","v":22},{"$f":"ROUND( M$2+(('coded NOLH for 23-29 factors'!M121-1)*(M$3-M$2)/256), M$4)","v":220},{"$f":"ROUND( N$2+(('coded NOLH for 23-29 factors'!N121-1)*(N$3-N$2)/256), N$4)","v":162},{"$f":"ROUND( O$2+(('coded NOLH for 23-29 factors'!O121-1)*(O$3-O$2)/256), O$4)","v":213},{"$f":"ROUND( P$2+(('coded NOLH for 23-29 factors'!P121-1)*(P$3-P$2)/256), P$4)","v":247},{"$f":"ROUND( Q$2+(('coded NOLH for 23-29 factors'!Q121-1)*(Q$3-Q$2)/256), Q$4)","v":55},{"$f":"ROUND( R$2+(('coded NOLH for 23-29 factors'!R121-1)*(R$3-R$2)/256), R$4)","v":151},{"$f":"ROUND( S$2+(('coded NOLH for 23-29 factors'!S121-1)*(S$3-S$2)/256), S$4)","v":203},{"$f":"ROUND( T$2+(('coded NOLH for 23-29 factors'!T121-1)*(T$3-T$2)/256), T$4)","v":246},{"$f":"ROUND( U$2+(('coded NOLH for 23-29 factors'!U121-1)*(U$3-U$2)/256), U$4)","v":192},{"$f":"ROUND( V$2+(('coded NOLH for 23-29 factors'!V121-1)*(V$3-V$2)/256), V$4)","v":1},{"$f":"ROUND( W$2+(('coded NOLH for 23-29 factors'!W121-1)*(W$3-W$2)/256), W$4)","v":88},{"$f":"ROUND( X$2+(('coded NOLH for 23-29 factors'!X121-1)*(X$3-X$2)/256), X$4)","v":65},{"$f":"ROUND( Y$2+(('coded NOLH for 23-29 factors'!Y121-1)*(Y$3-Y$2)/256), Y$4)","v":141},{"$f":"ROUND( Z$2+(('coded NOLH for 23-29 factors'!Z121-1)*(Z$3-Z$2)/256), Z$4)","v":227},{"$f":"ROUND( AA$2+(('coded NOLH for 23-29 factors'!AA121-1)*(AA$3-AA$2)/256), AA$4)","v":195},{"$f":"ROUND( AB$2+(('coded NOLH for 23-29 factors'!AB121-1)*(AB$3-AB$2)/256), AB$4)","v":117},{"$f":"ROUND( AC$2+(('coded NOLH for 23-29 factors'!AC121-1)*(AC$3-AC$2)/256), AC$4)","v":84},{"$f":"ROUND( AD$2+(('coded NOLH for 23-29 factors'!AD121-1)*(AD$3-AD$2)/256), AD$4)","v":93}]
[null,{"$f":"ROUND( B$2+(('coded NOLH for 23-29 factors'!B122-1)*(B$3-B$2)/256), B$4)","v":104},{"$f":"ROUND( C$2+(('coded NOLH for 23-29 factors'!C122-1)*(C$3-C$2)/256), C$4)","v":98},{"$f":"ROUND( D$2+(('coded NOLH for 23-29 factors'!D122-1)*(D$3-D$2)/256), D$4)","v":142},{"$f":"ROUND( E$2+(('coded NOLH for 23-29 factors'!E122-1)*(E$3-E$2)/256), E$4)","v":126},{"$f":"ROUND( F$2+(('coded NOLH for 23-29 factors'!F122-1)*(F$3-F$2)/256), F$4)","v":245},{"$f":"ROUND( G$2+(('coded NOLH for 23-29 factors'!G122-1)*(G$3-G$2)/256), G$4)","v":46},{"$f":"ROUND( H$2+(('coded NOLH for 23-29 factors'!H122-1)*(H$3-H$2)/256), H$4)","v":90},{"$f":"ROUND( I$2+(('coded NOLH for 23-29 factors'!I122-1)*(I$3-I$2)/256), I$4)","v":36},{"$f":"ROUND( J$2+(('coded NOLH for 23-29 factors'!J122-1)*(J$3-J$2)/256), J$4)","v":238},{"$f":"ROUND( K$2+(('coded NOLH for 23-29 factors'!K122-1)*(K$3-K$2)/256), K$4)","v":66},{"$f":"ROUND( L$2+(('coded NOLH for 23-29 factors'!L122-1)*(L$3-L$2)/256), L$4)","v":188},{"$f":"ROUND( M$2+(('coded NOLH for 23-29 factors'!M122-1)*(M$3-M$2)/256), M$4)","v":18},{"$f":"ROUND( N$2+(('coded NOLH for 23-29 factors'!N122-1)*(N$3-N$2)/256), N$4)","v":115},{"$f":"ROUND( O$2+(('coded NOLH for 23-29 factors'!O122-1)*(O$3-O$2)/256), O$4)","v":18},{"$f":"ROUND( P$2+(('coded NOLH for 23-29 factors'!P122-1)*(P$3-P$2)/256), P$4)","v":108},{"$f":"ROUND( Q$2+(('coded NOLH for 23-29 factors'!Q122-1)*(Q$3-Q$2)/256), Q$4)","v":105},{"$f":"ROUND( R$2+(('coded NOLH for 23-29 factors'!R122-1)*(R$3-R$2)/256), R$4)","v":177},{"$f":"ROUND( S$2+(('coded NOLH for 23-29 factors'!S122-1)*(S$3-S$2)/256), S$4)","v":220},{"$f":"ROUND( T$2+(('coded NOLH for 23-29 factors'!T122-1)*(T$3-T$2)/256), T$4)","v":154},{"$f":"ROUND( U$2+(('coded NOLH for 23-29 factors'!U122-1)*(U$3-U$2)/256), U$4)","v":249},{"$f":"ROUND( V$2+(('coded NOLH for 23-29 factors'!V122-1)*(V$3-V$2)/256), V$4)","v":70},{"$f":"ROUND( W$2+(('coded NOLH for 23-29 factors'!W122-1)*(W$3-W$2)/256), W$4)","v":52},{"$f":"ROUND( X$2+(('coded NOLH for 23-29 factors'!X122-1)*(X$3-X$2)/256), X$4)","v":15},{"$f":"ROUND( Y$2+(('coded NOLH for 23-29 factors'!Y122-1)*(Y$3-Y$2)/256), Y$4)","v":234},{"$f":"ROUND( Z$2+(('coded NOLH for 23-29 factors'!Z122-1)*(Z$3-Z$2)/256), Z$4)","v":219},{"$f":"ROUND( AA$2+(('coded NOLH for 23-29 factors'!AA122-1)*(AA$3-AA$2)/256), AA$4)","v":151},{"$f":"ROUND( AB$2+(('coded NOLH for 23-29 factors'!AB122-1)*(AB$3-AB$2)/256), AB$4)","v":10},{"$f":"ROUND( AC$2+(('coded NOLH for 23-29 factors'!AC122-1)*(AC$3-AC$2)/256), AC$4)","v":120},{"$f":"ROUND( AD$2+(('coded NOLH for 23-29 factors'!AD122-1)*(AD$3-AD$2)/256), AD$4)","v":27}]
[null,{"$f":"ROUND( B$2+(('coded NOLH for 23-29 factors'!B123-1)*(B$3-B$2)/256), B$4)","v":116},{"$f":"ROUND( C$2+(('coded NOLH for 23-29 factors'!C123-1)*(C$3-C$2)/256), C$4)","v":252},{"$f":"ROUND( D$2+(('coded NOLH for 23-29 factors'!D123-1)*(D$3-D$2)/256), D$4)","v":104},{"$f":"ROUND( E$2+(('coded NOLH for 23-29 factors'!E123-1)*(E$3-E$2)/256), E$4)","v":113},{"$f":"ROUND( F$2+(('coded NOLH for 23-29 factors'!F123-1)*(F$3-F$2)/256), F$4)","v":151},{"$f":"ROUND( G$2+(('coded NOLH for 23-29 factors'!G123-1)*(G$3-G$2)/256), G$4)","v":71},{"$f":"ROUND( H$2+(('coded NOLH for 23-29 factors'!H123-1)*(H$3-H$2)/256), H$4)","v":3},{"$f":"ROUND( I$2+(('coded NOLH for 23-29 factors'!I123-1)*(I$3-I$2)/256), I$4)","v":125},{"$f":"ROUND( J$2+(('coded NOLH for 23-29 factors'!J123-1)*(J$3-J$2)/256), J$4)","v":151},{"$f":"ROUND( K$2+(('coded NOLH for 23-29 factors'!K123-1)*(K$3-K$2)/256), K$4)","v":208},{"$f":"ROUND( L$2+(('coded NOLH for 23-29 factors'!L123-1)*(L$3-L$2)/256), L$4)","v":93},{"$f":"ROUND( M$2+(('coded NOLH for 23-29 factors'!M123-1)*(M$3-M$2)/256), M$4)","v":193},{"$f":"ROUND( N$2+(('coded NOLH for 23-29 factors'!N123-1)*(N$3-N$2)/256), N$4)","v":218},{"$f":"ROUND( O$2+(('coded NOLH for 23-29 factors'!O123-1)*(O$3-O$2)/256), O$4)","v":239},{"$f":"ROUND( P$2+(('coded NOLH for 23-29 factors'!P123-1)*(P$3-P$2)/256), P$4)","v":131},{"$f":"ROUND( Q$2+(('coded NOLH for 23-29 factors'!Q123-1)*(Q$3-Q$2)/256), Q$4)","v":224},{"$f":"ROUND( R$2+(('coded NOLH for 23-29 factors'!R123-1)*(R$3-R$2)/256), R$4)","v":36},{"$f":"ROUND( S$2+(('coded NOLH for 23-29 factors'!S123-1)*(S$3-S$2)/256), S$4)","v":90},{"$f":"ROUND( T$2+(('coded NOLH for 23-29 factors'!T123-1)*(T$3-T$2)/256), T$4)","v":39},{"$f":"ROUND( U$2+(('coded NOLH for 23-29 factors'!U123-1)*(U$3-U$2)/256), U$4)","v":168},{"$f":"ROUND( V$2+(('coded NOLH for 23-29 factors'!V123-1)*(V$3-V$2)/256), V$4)","v":85},{"$f":"ROUND( W$2+(('coded NOLH for 23-29 factors'!W123-1)*(W$3-W$2)/256), W$4)","v":23},{"$f":"ROUND( X$2+(('coded NOLH for 23-29 factors'!X123-1)*(X$3-X$2)/256), X$4)","v":54},{"$f":"ROUND( Y$2+(('coded NOLH for 23-29 factors'!Y123-1)*(Y$3-Y$2)/256), Y$4)","v":220},{"$f":"ROUND( Z$2+(('coded NOLH for 23-29 factors'!Z123-1)*(Z$3-Z$2)/256), Z$4)","v":195},{"$f":"ROUND( AA$2+(('coded NOLH for 23-29 factors'!AA123-1)*(AA$3-AA$2)/256), AA$4)","v":234},{"$f":"ROUND( AB$2+(('coded NOLH for 23-29 factors'!AB123-1)*(AB$3-AB$2)/256), AB$4)","v":116},{"$f":"ROUND( AC$2+(('coded NOLH for 23-29 factors'!AC123-1)*(AC$3-AC$2)/256), AC$4)","v":74},{"$f":"ROUND( AD$2+(('coded NOLH for 23-29 factors'!AD123-1)*(AD$3-AD$2)/256), AD$4)","v":118}]
[null,{"$f":"ROUND( B$2+(('coded NOLH for 23-29 factors'!B124-1)*(B$3-B$2)/256), B$4)","v":6},{"$f":"ROUND( C$2+(('coded NOLH for 23-29 factors'!C124-1)*(C$3-C$2)/256), C$4)","v":116},{"$f":"ROUND( D$2+(('coded NOLH for 23-29 factors'!D124-1)*(D$3-D$2)/256), D$4)","v":98},{"$f":"ROUND( E$2+(('coded NOLH for 23-29 factors'!E124-1)*(E$3-E$2)/256), E$4)","v":38},{"$f":"ROUND( F$2+(('coded NOLH for 23-29 factors'!F124-1)*(F$3-F$2)/256), F$4)","v":175},{"$f":"ROUND( G$2+(('coded NOLH for 23-29 factors'!G124-1)*(G$3-G$2)/256), G$4)","v":89},{"$f":"ROUND( H$2+(('coded NOLH for 23-29 factors'!H124-1)*(H$3-H$2)/256), H$4)","v":40},{"$f":"ROUND( I$2+(('coded NOLH for 23-29 factors'!I124-1)*(I$3-I$2)/256), I$4)","v":20},{"$f":"ROUND( J$2+(('coded NOLH for 23-29 factors'!J124-1)*(J$3-J$2)/256), J$4)","v":102},{"$f":"ROUND( K$2+(('coded NOLH for 23-29 factors'!K124-1)*(K$3-K$2)/256), K$4)","v":102},{"$f":"ROUND( L$2+(('coded NOLH for 23-29 factors'!L124-1)*(L$3-L$2)/256), L$4)","v":152},{"$f":"ROUND( M$2+(('coded NOLH for 23-29 factors'!M124-1)*(M$3-M$2)/256), M$4)","v":112},{"$f":"ROUND( N$2+(('coded NOLH for 23-29 factors'!N124-1)*(N$3-N$2)/256), N$4)","v":3},{"$f":"ROUND( O$2+(('coded NOLH for 23-29 factors'!O124-1)*(O$3-O$2)/256), O$4)","v":123},{"$f":"ROUND( P$2+(('coded NOLH for 23-29 factors'!P124-1)*(P$3-P$2)/256), P$4)","v":58},{"$f":"ROUND( Q$2+(('coded NOLH for 23-29 factors'!Q124-1)*(Q$3-Q$2)/256), Q$4)","v":178},{"$f":"ROUND( R$2+(('coded NOLH for 23-29 factors'!R124-1)*(R$3-R$2)/256), R$4)","v":9},{"$f":"ROUND( S$2+(('coded NOLH for 23-29 factors'!S124-1)*(S$3-S$2)/256), S$4)","v":98},{"$f":"ROUND( T$2+(('coded NOLH for 23-29 factors'!T124-1)*(T$3-T$2)/256), T$4)","v":51},{"$f":"ROUND( U$2+(('coded NOLH for 23-29 factors'!U124-1)*(U$3-U$2)/256), U$4)","v":244},{"$f":"ROUND( V$2+(('coded NOLH for 23-29 factors'!V124-1)*(V$3-V$2)/256), V$4)","v":54},{"$f":"ROUND( W$2+(('coded NOLH for 23-29 factors'!W124-1)*(W$3-W$2)/256), W$4)","v":134},{"$f":"ROUND( X$2+(('coded NOLH for 23-29 factors'!X124-1)*(X$3-X$2)/256), X$4)","v":94},{"$f":"ROUND( Y$2+(('coded NOLH for 23-29 factors'!Y124-1)*(Y$3-Y$2)/256), Y$4)","v":236},{"$f":"ROUND( Z$2+(('coded NOLH for 23-29 factors'!Z124-1)*(Z$3-Z$2)/256), Z$4)","v":204},{"$f":"ROUND( AA$2+(('coded NOLH for 23-29 factors'!AA124-1)*(AA$3-AA$2)/256), AA$4)","v":160},{"$f":"ROUND( AB$2+(('coded NOLH for 23-29 factors'!AB124-1)*(AB$3-AB$2)/256), AB$4)","v":99},{"$f":"ROUND( AC$2+(('coded NOLH for 23-29 factors'!AC124-1)*(AC$3-AC$2)/256), AC$4)","v":51},{"$f":"ROUND( AD$2+(('coded NOLH for 23-29 factors'!AD124-1)*(AD$3-AD$2)/256), AD$4)","v":67}]
[null,{"$f":"ROUND( B$2+(('coded NOLH for 23-29 factors'!B125-1)*(B$3-B$2)/256), B$4)","v":83},{"$f":"ROUND( C$2+(('coded NOLH for 23-29 factors'!C125-1)*(C$3-C$2)/256), C$4)","v":151},{"$f":"ROUND( D$2+(('coded NOLH for 23-29 factors'!D125-1)*(D$3-D$2)/256), D$4)","v":177},{"$f":"ROUND( E$2+(('coded NOLH for 23-29 factors'!E125-1)*(E$3-E$2)/256), E$4)","v":225},{"$f":"ROUND( F$2+(('coded NOLH for 23-29 factors'!F125-1)*(F$3-F$2)/256), F$4)","v":6},{"$f":"ROUND( G$2+(('coded NOLH for 23-29 factors'!G125-1)*(G$3-G$2)/256), G$4)","v":2},{"$f":"ROUND( H$2+(('coded NOLH for 23-29 factors'!H125-1)*(H$3-H$2)/256), H$4)","v":63},{"$f":"ROUND( I$2+(('coded NOLH for 23-29 factors'!I125-1)*(I$3-I$2)/256), I$4)","v":100},{"$f":"ROUND( J$2+(('coded NOLH for 23-29 factors'!J125-1)*(J$3-J$2)/256), J$4)","v":1},{"$f":"ROUND( K$2+(('coded NOLH for 23-29 factors'!K125-1)*(K$3-K$2)/256), K$4)","v":37},{"$f":"ROUND( L$2+(('coded NOLH for 23-29 factors'!L125-1)*(L$3-L$2)/256), L$4)","v":163},{"$f":"ROUND( M$2+(('coded NOLH for 23-29 factors'!M125-1)*(M$3-M$2)/256), M$4)","v":217},{"$f":"ROUND( N$2+(('coded NOLH for 23-29 factors'!N125-1)*(N$3-N$2)/256), N$4)","v":191},{"$f":"ROUND( O$2+(('coded NOLH for 23-29 factors'!O125-1)*(O$3-O$2)/256), O$4)","v":226},{"$f":"ROUND( P$2+(('coded NOLH for 23-29 factors'!P125-1)*(P$3-P$2)/256), P$4)","v":42},{"$f":"ROUND( Q$2+(('coded NOLH for 23-29 factors'!Q125-1)*(Q$3-Q$2)/256), Q$4)","v":130},{"$f":"ROUND( R$2+(('coded NOLH for 23-29 factors'!R125-1)*(R$3-R$2)/256), R$4)","v":175},{"$f":"ROUND( S$2+(('coded NOLH for 23-29 factors'!S125-1)*(S$3-S$2)/256), S$4)","v":251},{"$f":"ROUND( T$2+(('coded NOLH for 23-29 factors'!T125-1)*(T$3-T$2)/256), T$4)","v":172},{"$f":"ROUND( U$2+(('coded NOLH for 23-29 factors'!U125-1)*(U$3-U$2)/256), U$4)","v":184},{"$f":"ROUND( V$2+(('coded NOLH for 23-29 factors'!V125-1)*(V$3-V$2)/256), V$4)","v":226},{"$f":"ROUND( W$2+(('coded NOLH for 23-29 factors'!W125-1)*(W$3-W$2)/256), W$4)","v":251},{"$f":"ROUND( X$2+(('coded NOLH for 23-29 factors'!X125-1)*(X$3-X$2)/256), X$4)","v":168},{"$f":"ROUND( Y$2+(('coded NOLH for 23-29 factors'!Y125-1)*(Y$3-Y$2)/256), Y$4)","v":94},{"$f":"ROUND( Z$2+(('coded NOLH for 23-29 factors'!Z125-1)*(Z$3-Z$2)/256), Z$4)","v":47},{"$f":"ROUND( AA$2+(('coded NOLH for 23-29 factors'!AA125-1)*(AA$3-AA$2)/256), AA$4)","v":76},{"$f":"ROUND( AB$2+(('coded NOLH for 23-29 factors'!AB125-1)*(AB$3-AB$2)/256), AB$4)","v":88},{"$f":"ROUND( AC$2+(('coded NOLH for 23-29 factors'!AC125-1)*(AC$3-AC$2)/256), AC$4)","v":54},{"$f":"ROUND( AD$2+(('coded NOLH for 23-29 factors'!AD125-1)*(AD$3-AD$2)/256), AD$4)","v":50}]
[null,{"$f":"ROUND( B$2+(('coded NOLH for 23-29 factors'!B126-1)*(B$3-B$2)/256), B$4)","v":107},{"$f":"ROUND( C$2+(('coded NOLH for 23-29 factors'!C126-1)*(C$3-C$2)/256), C$4)","v":83},{"$f":"ROUND( D$2+(('coded NOLH for 23-29 factors'!D126-1)*(D$3-D$2)/256), D$4)","v":245},{"$f":"ROUND( E$2+(('coded NOLH for 23-29 factors'!E126-1)*(E$3-E$2)/256), E$4)","v":217},{"$f":"ROUND( F$2+(('coded NOLH for 23-29 factors'!F126-1)*(F$3-F$2)/256), F$4)","v":116},{"$f":"ROUND( G$2+(('coded NOLH for 23-29 factors'!G126-1)*(G$3-G$2)/256), G$4)","v":30},{"$f":"ROUND( H$2+(('coded NOLH for 23-29 factors'!H126-1)*(H$3-H$2)/256), H$4)","v":47},{"$f":"ROUND( I$2+(('coded NOLH for 23-29 factors'!I126-1)*(I$3-I$2)/256), I$4)","v":12},{"$f":"ROUND( J$2+(('coded NOLH for 23-29 factors'!J126-1)*(J$3-J$2)/256), J$4)","v":144},{"$f":"ROUND( K$2+(('coded NOLH for 23-29 factors'!K126-1)*(K$3-K$2)/256), K$4)","v":223},{"$f":"ROUND( L$2+(('coded NOLH for 23-29 factors'!L126-1)*(L$3-L$2)/256), L$4)","v":35},{"$f":"ROUND( M$2+(('coded NOLH for 23-29 factors'!M126-1)*(M$3-M$2)/256), M$4)","v":2},{"$f":"ROUND( N$2+(('coded NOLH for 23-29 factors'!N126-1)*(N$3-N$2)/256), N$4)","v":57},{"$f":"ROUND( O$2+(('coded NOLH for 23-29 factors'!O126-1)*(O$3-O$2)/256), O$4)","v":79},{"$f":"ROUND( P$2+(('coded NOLH for 23-29 factors'!P126-1)*(P$3-P$2)/256), P$4)","v":9},{"$f":"ROUND( Q$2+(('coded NOLH for 23-29 factors'!Q126-1)*(Q$3-Q$2)/256), Q$4)","v":176},{"$f":"ROUND( R$2+(('coded NOLH for 23-29 factors'!R126-1)*(R$3-R$2)/256), R$4)","v":217},{"$f":"ROUND( S$2+(('coded NOLH for 23-29 factors'!S126-1)*(S$3-S$2)/256), S$4)","v":154},{"$f":"ROUND( T$2+(('coded NOLH for 23-29 factors'!T126-1)*(T$3-T$2)/256), T$4)","v":153},{"$f":"ROUND( U$2+(('coded NOLH for 23-29 factors'!U126-1)*(U$3-U$2)/256), U$4)","v":150},{"$f":"ROUND( V$2+(('coded NOLH for 23-29 factors'!V126-1)*(V$3-V$2)/256), V$4)","v":210},{"$f":"ROUND( W$2+(('coded NOLH for 23-29 factors'!W126-1)*(W$3-W$2)/256), W$4)","v":185},{"$f":"ROUND( X$2+(('coded NOLH for 23-29 factors'!X126-1)*(X$3-X$2)/256), X$4)","v":226},{"$f":"ROUND( Y$2+(('coded NOLH for 23-29 factors'!Y126-1)*(Y$3-Y$2)/256), Y$4)","v":62},{"$f":"ROUND( Z$2+(('coded NOLH for 23-29 factors'!Z126-1)*(Z$3-Z$2)/256), Z$4)","v":7},{"$f":"ROUND( AA$2+(('coded NOLH for 23-29 factors'!AA126-1)*(AA$3-AA$2)/256), AA$4)","v":114},{"$f":"ROUND( AB$2+(('coded NOLH for 23-29 factors'!AB126-1)*(AB$3-AB$2)/256), AB$4)","v":89},{"$f":"ROUND( AC$2+(('coded NOLH for 23-29 factors'!AC126-1)*(AC$3-AC$2)/256), AC$4)","v":130},{"$f":"ROUND( AD$2+(('coded NOLH for 23-29 factors'!AD126-1)*(AD$3-AD$2)/256), AD$4)","v":99}]
[null,{"$f":"ROUND( B$2+(('coded NOLH for 23-29 factors'!B127-1)*(B$3-B$2)/256), B$4)","v":13},{"$f":"ROUND( C$2+(('coded NOLH for 23-29 factors'!C127-1)*(C$3-C$2)/256), C$4)","v":177},{"$f":"ROUND( D$2+(('coded NOLH for 23-29 factors'!D127-1)*(D$3-D$2)/256), D$4)","v":107},{"$f":"ROUND( E$2+(('coded NOLH for 23-29 factors'!E127-1)*(E$3-E$2)/256), E$4)","v":229},{"$f":"ROUND( F$2+(('coded NOLH for 23-29 factors'!F127-1)*(F$3-F$2)/256), F$4)","v":104},{"$f":"ROUND( G$2+(('coded NOLH for 23-29 factors'!G127-1)*(G$3-G$2)/256), G$4)","v":50},{"$f":"ROUND( H$2+(('coded NOLH for 23-29 factors'!H127-1)*(H$3-H$2)/256), H$4)","v":45},{"$f":"ROUND( I$2+(('coded NOLH for 23-29 factors'!I127-1)*(I$3-I$2)/256), I$4)","v":114},{"$f":"ROUND( J$2+(('coded NOLH for 23-29 factors'!J127-1)*(J$3-J$2)/256), J$4)","v":152},{"$f":"ROUND( K$2+(('coded NOLH for 23-29 factors'!K127-1)*(K$3-K$2)/256), K$4)","v":3},{"$f":"ROUND( L$2+(('coded NOLH for 23-29 factors'!L127-1)*(L$3-L$2)/256), L$4)","v":176},{"$f":"ROUND( M$2+(('coded NOLH for 23-29 factors'!M127-1)*(M$3-M$2)/256), M$4)","v":134},{"$f":"ROUND( N$2+(('coded NOLH for 23-29 factors'!N127-1)*(N$3-N$2)/256), N$4)","v":222},{"$f":"ROUND( O$2+(('coded NOLH for 23-29 factors'!O127-1)*(O$3-O$2)/256), O$4)","v":156},{"$f":"ROUND( P$2+(('coded NOLH for 23-29 factors'!P127-1)*(P$3-P$2)/256), P$4)","v":233},{"$f":"ROUND( Q$2+(('coded NOLH for 23-29 factors'!Q127-1)*(Q$3-Q$2)/256), Q$4)","v":84},{"$f":"ROUND( R$2+(('coded NOLH for 23-29 factors'!R127-1)*(R$3-R$2)/256), R$4)","v":58},{"$f":"ROUND( S$2+(('coded NOLH for 23-29 factors'!S127-1)*(S$3-S$2)/256), S$4)","v":47},{"$f":"ROUND( T$2+(('coded NOLH for 23-29 factors'!T127-1)*(T$3-T$2)/256), T$4)","v":9},{"$f":"ROUND( U$2+(('coded NOLH for 23-29 factors'!U127-1)*(U$3-U$2)/256), U$4)","v":111},{"$f":"ROUND( V$2+(('coded NOLH for 23-29 factors'!V127-1)*(V$3-V$2)/256), V$4)","v":171},{"$f":"ROUND( W$2+(('coded NOLH for 23-29 factors'!W127-1)*(W$3-W$2)/256), W$4)","v":224},{"$f":"ROUND( X$2+(('coded NOLH for 23-29 factors'!X127-1)*(X$3-X$2)/256), X$4)","v":201},{"$f":"ROUND( Y$2+(('coded NOLH for 23-29 factors'!Y127-1)*(Y$3-Y$2)/256), Y$4)","v":64},{"$f":"ROUND( Z$2+(('coded NOLH for 23-29 factors'!Z127-1)*(Z$3-Z$2)/256), Z$4)","v":77},{"$f":"ROUND( AA$2+(('coded NOLH for 23-29 factors'!AA127-1)*(AA$3-AA$2)/256), AA$4)","v":66},{"$f":"ROUND( AB$2+(('coded NOLH for 23-29 factors'!AB127-1)*(AB$3-AB$2)/256), AB$4)","v":79},{"$f":"ROUND( AC$2+(('coded NOLH for 23-29 factors'!AC127-1)*(AC$3-AC$2)/256), AC$4)","v":33},{"$f":"ROUND( AD$2+(('coded NOLH for 23-29 factors'!AD127-1)*(AD$3-AD$2)/256), AD$4)","v":54}]
[null,{"$f":"ROUND( B$2+(('coded NOLH for 23-29 factors'!B128-1)*(B$3-B$2)/256), B$4)","v":81},{"$f":"ROUND( C$2+(('coded NOLH for 23-29 factors'!C128-1)*(C$3-C$2)/256), C$4)","v":13},{"$f":"ROUND( D$2+(('coded NOLH for 23-29 factors'!D128-1)*(D$3-D$2)/256), D$4)","v":83},{"$f":"ROUND( E$2+(('coded NOLH for 23-29 factors'!E128-1)*(E$3-E$2)/256), E$4)","v":244},{"$f":"ROUND( F$2+(('coded NOLH for 23-29 factors'!F128-1)*(F$3-F$2)/256), F$4)","v":98},{"$f":"ROUND( G$2+(('coded NOLH for 23-29 factors'!G128-1)*(G$3-G$2)/256), G$4)","v":118},{"$f":"ROUND( H$2+(('coded NOLH for 23-29 factors'!H128-1)*(H$3-H$2)/256), H$4)","v":28},{"$f":"ROUND( I$2+(('coded NOLH for 23-29 factors'!I128-1)*(I$3-I$2)/256), I$4)","v":95},{"$f":"ROUND( J$2+(('coded NOLH for 23-29 factors'!J128-1)*(J$3-J$2)/256), J$4)","v":101},{"$f":"ROUND( K$2+(('coded NOLH for 23-29 factors'!K128-1)*(K$3-K$2)/256), K$4)","v":230},{"$f":"ROUND( L$2+(('coded NOLH for 23-29 factors'!L128-1)*(L$3-L$2)/256), L$4)","v":121},{"$f":"ROUND( M$2+(('coded NOLH for 23-29 factors'!M128-1)*(M$3-M$2)/256), M$4)","v":48},{"$f":"ROUND( N$2+(('coded NOLH for 23-29 factors'!N128-1)*(N$3-N$2)/256), N$4)","v":37},{"$f":"ROUND( O$2+(('coded NOLH for 23-29 factors'!O128-1)*(O$3-O$2)/256), O$4)","v":112},{"$f":"ROUND( P$2+(('coded NOLH for 23-29 factors'!P128-1)*(P$3-P$2)/256), P$4)","v":225},{"$f":"ROUND( Q$2+(('coded NOLH for 23-29 factors'!Q128-1)*(Q$3-Q$2)/256), Q$4)","v":29},{"$f":"ROUND( R$2+(('coded NOLH for 23-29 factors'!R128-1)*(R$3-R$2)/256), R$4)","v":10},{"$f":"ROUND( S$2+(('coded NOLH for 23-29 factors'!S128-1)*(S$3-S$2)/256), S$4)","v":37},{"$f":"ROUND( T$2+(('coded NOLH for 23-29 factors'!T128-1)*(T$3-T$2)/256), T$4)","v":95},{"$f":"ROUND( U$2+(('coded NOLH for 23-29 factors'!U128-1)*(U$3-U$2)/256), U$4)","v":200},{"$f":"ROUND( V$2+(('coded NOLH for 23-29 factors'!V128-1)*(V$3-V$2)/256), V$4)","v":178},{"$f":"ROUND( W$2+(('coded NOLH for 23-29 factors'!W128-1)*(W$3-W$2)/256), W$4)","v":186},{"$f":"ROUND( X$2+(('coded NOLH for 23-29 factors'!X128-1)*(X$3-X$2)/256), X$4)","v":130},{"$f":"ROUND( Y$2+(('coded NOLH for 23-29 factors'!Y128-1)*(Y$3-Y$2)/256), Y$4)","v":9},{"$f":"ROUND( Z$2+(('coded NOLH for 23-29 factors'!Z128-1)*(Z$3-Z$2)/256), Z$4)","v":118},{"$f":"ROUND( AA$2+(('coded NOLH for 23-29 factors'!AA128-1)*(AA$3-AA$2)/256), AA$4)","v":4},{"$f":"ROUND( AB$2+(('coded NOLH for 23-29 factors'!AB128-1)*(AB$3-AB$2)/256), AB$4)","v":90},{"$f":"ROUND( AC$2+(('coded NOLH for 23-29 factors'!AC128-1)*(AC$3-AC$2)/256), AC$4)","v":43},{"$f":"ROUND( AD$2+(('coded NOLH for 23-29 factors'!AD128-1)*(AD$3-AD$2)/256), AD$4)","v":37}]
[null,{"$f":"ROUND( B$2+(('coded NOLH for 23-29 factors'!B129-1)*(B$3-B$2)/256), B$4)","v":14},{"$f":"ROUND( C$2+(('coded NOLH for 23-29 factors'!C129-1)*(C$3-C$2)/256), C$4)","v":229},{"$f":"ROUND( D$2+(('coded NOLH for 23-29 factors'!D129-1)*(D$3-D$2)/256), D$4)","v":225},{"$f":"ROUND( E$2+(('coded NOLH for 23-29 factors'!E129-1)*(E$3-E$2)/256), E$4)","v":81},{"$f":"ROUND( F$2+(('coded NOLH for 23-29 factors'!F129-1)*(F$3-F$2)/256), F$4)","v":87},{"$f":"ROUND( G$2+(('coded NOLH for 23-29 factors'!G129-1)*(G$3-G$2)/256), G$4)","v":59},{"$f":"ROUND( H$2+(('coded NOLH for 23-29 factors'!H129-1)*(H$3-H$2)/256), H$4)","v":77},{"$f":"ROUND( I$2+(('coded NOLH for 23-29 factors'!I129-1)*(I$3-I$2)/256), I$4)","v":105},{"$f":"ROUND( J$2+(('coded NOLH for 23-29 factors'!J129-1)*(J$3-J$2)/256), J$4)","v":32},{"$f":"ROUND( K$2+(('coded NOLH for 23-29 factors'!K129-1)*(K$3-K$2)/256), K$4)","v":247},{"$f":"ROUND( L$2+(('coded NOLH for 23-29 factors'!L129-1)*(L$3-L$2)/256), L$4)","v":140},{"$f":"ROUND( M$2+(('coded NOLH for 23-29 factors'!M129-1)*(M$3-M$2)/256), M$4)","v":140},{"$f":"ROUND( N$2+(('coded NOLH for 23-29 factors'!N129-1)*(N$3-N$2)/256), N$4)","v":206},{"$f":"ROUND( O$2+(('coded NOLH for 23-29 factors'!O129-1)*(O$3-O$2)/256), O$4)","v":200},{"$f":"ROUND( P$2+(('coded NOLH for 23-29 factors'!P129-1)*(P$3-P$2)/256), P$4)","v":182},{"$f":"ROUND( Q$2+(('coded NOLH for 23-29 factors'!Q129-1)*(Q$3-Q$2)/256), Q$4)","v":206},{"$f":"ROUND( R$2+(('coded NOLH for 23-29 factors'!R129-1)*(R$3-R$2)/256), R$4)","v":233},{"$f":"ROUND( S$2+(('coded NOLH for 23-29 factors'!S129-1)*(S$3-S$2)/256), S$4)","v":248},{"$f":"ROUND( T$2+(('coded NOLH for 23-29 factors'!T129-1)*(T$3-T$2)/256), T$4)","v":166},{"$f":"ROUND( U$2+(('coded NOLH for 23-29 factors'!U129-1)*(U$3-U$2)/256), U$4)","v":59},{"$f":"ROUND( V$2+(('coded NOLH for 23-29 factors'!V129-1)*(V$3-V$2)/256), V$4)","v":101},{"$f":"ROUND( W$2+(('coded NOLH for 23-29 factors'!W129-1)*(W$3-W$2)/256), W$4)","v":35},{"$f":"ROUND( X$2+(('coded NOLH for 23-29 factors'!X129-1)*(X$3-X$2)/256), X$4)","v":111},{"$f":"ROUND( Y$2+(('coded NOLH for 23-29 factors'!Y129-1)*(Y$3-Y$2)/256), Y$4)","v":8},{"$f":"ROUND( Z$2+(('coded NOLH for 23-29 factors'!Z129-1)*(Z$3-Z$2)/256), Z$4)","v":80},{"$f":"ROUND( AA$2+(('coded NOLH for 23-29 factors'!AA129-1)*(AA$3-AA$2)/256), AA$4)","v":53},{"$f":"ROUND( AB$2+(('coded NOLH for 23-29 factors'!AB129-1)*(AB$3-AB$2)/256), AB$4)","v":6},{"$f":"ROUND( AC$2+(('coded NOLH for 23-29 factors'!AC129-1)*(AC$3-AC$2)/256), AC$4)","v":16},{"$f":"ROUND( AD$2+(('coded NOLH for 23-29 factors'!AD129-1)*(AD$3-AD$2)/256), AD$4)","v":32}]
[null,{"$f":"ROUND( B$2+(('coded NOLH for 23-29 factors'!B130-1)*(B$3-B$2)/256), B$4)","v":29},{"$f":"ROUND( C$2+(('coded NOLH for 23-29 factors'!C130-1)*(C$3-C$2)/256), C$4)","v":14},{"$f":"ROUND( D$2+(('coded NOLH for 23-29 factors'!D130-1)*(D$3-D$2)/256), D$4)","v":217},{"$f":"ROUND( E$2+(('coded NOLH for 23-29 factors'!E130-1)*(E$3-E$2)/256), E$4)","v":13},{"$f":"ROUND( F$2+(('coded NOLH for 23-29 factors'!F130-1)*(F$3-F$2)/256), F$4)","v":126},{"$f":"ROUND( G$2+(('coded NOLH for 23-29 factors'!G130-1)*(G$3-G$2)/256), G$4)","v":110},{"$f":"ROUND( H$2+(('coded NOLH for 23-29 factors'!H130-1)*(H$3-H$2)/256), H$4)","v":51},{"$f":"ROUND( I$2+(('coded NOLH for 23-29 factors'!I130-1)*(I$3-I$2)/256), I$4)","v":42},{"$f":"ROUND( J$2+(('coded NOLH for 23-29 factors'!J130-1)*(J$3-J$2)/256), J$4)","v":229},{"$f":"ROUND( K$2+(('coded NOLH for 23-29 factors'!K130-1)*(K$3-K$2)/256), K$4)","v":92},{"$f":"ROUND( L$2+(('coded NOLH for 23-29 factors'!L130-1)*(L$3-L$2)/256), L$4)","v":86},{"$f":"ROUND( M$2+(('coded NOLH for 23-29 factors'!M130-1)*(M$3-M$2)/256), M$4)","v":71},{"$f":"ROUND( N$2+(('coded NOLH for 23-29 factors'!N130-1)*(N$3-N$2)/256), N$4)","v":81},{"$f":"ROUND( O$2+(('coded NOLH for 23-29 factors'!O130-1)*(O$3-O$2)/256), O$4)","v":97},{"$f":"ROUND( P$2+(('coded NOLH for 23-29 factors'!P130-1)*(P$3-P$2)/256), P$4)","v":141},{"$f":"ROUND( Q$2+(('coded NOLH for 23-29 factors'!Q130-1)*(Q$3-Q$2)/256), Q$4)","v":133},{"$f":"ROUND( R$2+(('coded NOLH for 23-29 factors'!R130-1)*(R$3-R$2)/256), R$4)","v":230},{"$f":"ROUND( S$2+(('coded NOLH for 23-29 factors'!S130-1)*(S$3-S$2)/256), S$4)","v":147},{"$f":"ROUND( T$2+(('coded NOLH for 23-29 factors'!T130-1)*(T$3-T$2)/256), T$4)","v":247},{"$f":"ROUND( U$2+(('coded NOLH for 23-29 factors'!U130-1)*(U$3-U$2)/256), U$4)","v":115},{"$f":"ROUND( V$2+(('coded NOLH for 23-29 factors'!V130-1)*(V$3-V$2)/256), V$4)","v":8},{"$f":"ROUND( W$2+(('coded NOLH for 23-29 factors'!W130-1)*(W$3-W$2)/256), W$4)","v":51},{"$f":"ROUND( X$2+(('coded NOLH for 23-29 factors'!X130-1)*(X$3-X$2)/256), X$4)","v":116},{"$f":"ROUND( Y$2+(('coded NOLH for 23-29 factors'!Y130-1)*(Y$3-Y$2)/256), Y$4)","v":66},{"$f":"ROUND( Z$2+(('coded NOLH for 23-29 factors'!Z130-1)*(Z$3-Z$2)/256), Z$4)","v":22},{"$f":"ROUND( AA$2+(('coded NOLH for 23-29 factors'!AA130-1)*(AA$3-AA$2)/256), AA$4)","v":15},{"$f":"ROUND( AB$2+(('coded NOLH for 23-29 factors'!AB130-1)*(AB$3-AB$2)/256), AB$4)","v":94},{"$f":"ROUND( AC$2+(('coded NOLH for 23-29 factors'!AC130-1)*(AC$3-AC$2)/256), AC$4)","v":57},{"$f":"ROUND( AD$2+(('coded NOLH for 23-29 factors'!AD130-1)*(AD$3-AD$2)/256), AD$4)","v":60}]
[null,{"$f":"ROUND( B$2+(('coded NOLH for 23-29 factors'!B131-1)*(B$3-B$2)/256), B$4)","v":41},{"$f":"ROUND( C$2+(('coded NOLH for 23-29 factors'!C131-1)*(C$3-C$2)/256), C$4)","v":225},{"$f":"ROUND( D$2+(('coded NOLH for 23-29 factors'!D131-1)*(D$3-D$2)/256), D$4)","v":29},{"$f":"ROUND( E$2+(('coded NOLH for 23-29 factors'!E131-1)*(E$3-E$2)/256), E$4)","v":107},{"$f":"ROUND( F$2+(('coded NOLH for 23-29 factors'!F131-1)*(F$3-F$2)/256), F$4)","v":113},{"$f":"ROUND( G$2+(('coded NOLH for 23-29 factors'!G131-1)*(G$3-G$2)/256), G$4)","v":24},{"$f":"ROUND( H$2+(('coded NOLH for 23-29 factors'!H131-1)*(H$3-H$2)/256), H$4)","v":94},{"$f":"ROUND( I$2+(('coded NOLH for 23-29 factors'!I131-1)*(I$3-I$2)/256), I$4)","v":31},{"$f":"ROUND( J$2+(('coded NOLH for 23-29 factors'!J131-1)*(J$3-J$2)/256), J$4)","v":225},{"$f":"ROUND( K$2+(('coded NOLH for 23-29 factors'!K131-1)*(K$3-K$2)/256), K$4)","v":153},{"$f":"ROUND( L$2+(('coded NOLH for 23-29 factors'!L131-1)*(L$3-L$2)/256), L$4)","v":228},{"$f":"ROUND( M$2+(('coded NOLH for 23-29 factors'!M131-1)*(M$3-M$2)/256), M$4)","v":255},{"$f":"ROUND( N$2+(('coded NOLH for 23-29 factors'!N131-1)*(N$3-N$2)/256), N$4)","v":227},{"$f":"ROUND( O$2+(('coded NOLH for 23-29 factors'!O131-1)*(O$3-O$2)/256), O$4)","v":151},{"$f":"ROUND( P$2+(('coded NOLH for 23-29 factors'!P131-1)*(P$3-P$2)/256), P$4)","v":19},{"$f":"ROUND( Q$2+(('coded NOLH for 23-29 factors'!Q131-1)*(Q$3-Q$2)/256), Q$4)","v":106},{"$f":"ROUND( R$2+(('coded NOLH for 23-29 factors'!R131-1)*(R$3-R$2)/256), R$4)","v":101},{"$f":"ROUND( S$2+(('coded NOLH for 23-29 factors'!S131-1)*(S$3-S$2)/256), S$4)","v":56},{"$f":"ROUND( T$2+(('coded NOLH for 23-29 factors'!T131-1)*(T$3-T$2)/256), T$4)","v":50},{"$f":"ROUND( U$2+(('coded NOLH for 23-29 factors'!U131-1)*(U$3-U$2)/256), U$4)","v":81},{"$f":"ROUND( V$2+(('coded NOLH for 23-29 factors'!V131-1)*(V$3-V$2)/256), V$4)","v":93},{"$f":"ROUND( W$2+(('coded NOLH for 23-29 factors'!W131-1)*(W$3-W$2)/256), W$4)","v":58},{"$f":"ROUND( X$2+(('coded NOLH for 23-29 factors'!X131-1)*(X$3-X$2)/256), X$4)","v":13},{"$f":"ROUND( Y$2+(('coded NOLH for 23-29 factors'!Y131-1)*(Y$3-Y$2)/256), Y$4)","v":41},{"$f":"ROUND( Z$2+(('coded NOLH for 23-29 factors'!Z131-1)*(Z$3-Z$2)/256), Z$4)","v":2},{"$f":"ROUND( AA$2+(('coded NOLH for 23-29 factors'!AA131-1)*(AA$3-AA$2)/256), AA$4)","v":71},{"$f":"ROUND( AB$2+(('coded NOLH for 23-29 factors'!AB131-1)*(AB$3-AB$2)/256), AB$4)","v":106},{"$f":"ROUND( AC$2+(('coded NOLH for 23-29 factors'!AC131-1)*(AC$3-AC$2)/256), AC$4)","v":121},{"$f":"ROUND( AD$2+(('coded NOLH for 23-29 factors'!AD131-1)*(AD$3-AD$2)/256), AD$4)","v":3}]
[null,{"$f":"ROUND( B$2+(('coded NOLH for 23-29 factors'!B132-1)*(B$3-B$2)/256), B$4)","v":33},{"$f":"ROUND( C$2+(('coded NOLH for 23-29 factors'!C132-1)*(C$3-C$2)/256), C$4)","v":41},{"$f":"ROUND( D$2+(('coded NOLH for 23-29 factors'!D132-1)*(D$3-D$2)/256), D$4)","v":14},{"$f":"ROUND( E$2+(('coded NOLH for 23-29 factors'!E132-1)*(E$3-E$2)/256), E$4)","v":83},{"$f":"ROUND( F$2+(('coded NOLH for 23-29 factors'!F132-1)*(F$3-F$2)/256), F$4)","v":38},{"$f":"ROUND( G$2+(('coded NOLH for 23-29 factors'!G132-1)*(G$3-G$2)/256), G$4)","v":18},{"$f":"ROUND( H$2+(('coded NOLH for 23-29 factors'!H132-1)*(H$3-H$2)/256), H$4)","v":23},{"$f":"ROUND( I$2+(('coded NOLH for 23-29 factors'!I132-1)*(I$3-I$2)/256), I$4)","v":103},{"$f":"ROUND( J$2+(('coded NOLH for 23-29 factors'!J132-1)*(J$3-J$2)/256), J$4)","v":17},{"$f":"ROUND( K$2+(('coded NOLH for 23-29 factors'!K132-1)*(K$3-K$2)/256), K$4)","v":96},{"$f":"ROUND( L$2+(('coded NOLH for 23-29 factors'!L132-1)*(L$3-L$2)/256), L$4)","v":114},{"$f":"ROUND( M$2+(('coded NOLH for 23-29 factors'!M132-1)*(M$3-M$2)/256), M$4)","v":56},{"$f":"ROUND( N$2+(('coded NOLH for 23-29 factors'!N132-1)*(N$3-N$2)/256), N$4)","v":74},{"$f":"ROUND( O$2+(('coded NOLH for 23-29 factors'!O132-1)*(O$3-O$2)/256), O$4)","v":23},{"$f":"ROUND( P$2+(('coded NOLH for 23-29 factors'!P132-1)*(P$3-P$2)/256), P$4)","v":97},{"$f":"ROUND( Q$2+(('coded NOLH for 23-29 factors'!Q132-1)*(Q$3-Q$2)/256), Q$4)","v":76},{"$f":"ROUND( R$2+(('coded NOLH for 23-29 factors'!R132-1)*(R$3-R$2)/256), R$4)","v":65},{"$f":"ROUND( S$2+(('coded NOLH for 23-29 factors'!S132-1)*(S$3-S$2)/256), S$4)","v":42},{"$f":"ROUND( T$2+(('coded NOLH for 23-29 factors'!T132-1)*(T$3-T$2)/256), T$4)","v":128},{"$f":"ROUND( U$2+(('coded NOLH for 23-29 factors'!U132-1)*(U$3-U$2)/256), U$4)","v":48},{"$f":"ROUND( V$2+(('coded NOLH for 23-29 factors'!V132-1)*(V$3-V$2)/256), V$4)","v":2},{"$f":"ROUND( W$2+(('coded NOLH for 23-29 factors'!W132-1)*(W$3-W$2)/256), W$4)","v":79},{"$f":"ROUND( X$2+(('coded NOLH for 23-29 factors'!X132-1)*(X$3-X$2)/256), X$4)","v":68},{"$f":"ROUND( Y$2+(('coded NOLH for 23-29 factors'!Y132-1)*(Y$3-Y$2)/256), Y$4)","v":84},{"$f":"ROUND( Z$2+(('coded NOLH for 23-29 factors'!Z132-1)*(Z$3-Z$2)/256), Z$4)","v":143},{"$f":"ROUND( AA$2+(('coded NOLH for 23-29 factors'!AA132-1)*(AA$3-AA$2)/256), AA$4)","v":126},{"$f":"ROUND( AB$2+(('coded NOLH for 23-29 factors'!AB132-1)*(AB$3-AB$2)/256), AB$4)","v":118},{"$f":"ROUND( AC$2+(('coded NOLH for 23-29 factors'!AC132-1)*(AC$3-AC$2)/256), AC$4)","v":15},{"$f":"ROUND( AD$2+(('coded NOLH for 23-29 factors'!AD132-1)*(AD$3-AD$2)/256), AD$4)","v":2}]
[null,{"$f":"ROUND( B$2+(('coded NOLH for 23-29 factors'!B133-1)*(B$3-B$2)/256), B$4)","v":129},{"$f":"ROUND( C$2+(('coded NOLH for 23-29 factors'!C133-1)*(C$3-C$2)/256), C$4)","v":129},{"$f":"ROUND( D$2+(('coded NOLH for 23-29 factors'!D133-1)*(D$3-D$2)/256), D$4)","v":129},{"$f":"ROUND( E$2+(('coded NOLH for 23-29 factors'!E133-1)*(E$3-E$2)/256), E$4)","v":129},{"$f":"ROUND( F$2+(('coded NOLH for 23-29 factors'!F133-1)*(F$3-F$2)/256), F$4)","v":129},{"$f":"ROUND( G$2+(('coded NOLH for 23-29 factors'!G133-1)*(G$3-G$2)/256), G$4)","v":129},{"$f":"ROUND( H$2+(('coded NOLH for 23-29 factors'!H133-1)*(H$3-H$2)/256), H$4)","v":129},{"$f":"ROUND( I$2+(('coded NOLH for 23-29 factors'!I133-1)*(I$3-I$2)/256), I$4)","v":129},{"$f":"ROUND( J$2+(('coded NOLH for 23-29 factors'!J133-1)*(J$3-J$2)/256), J$4)","v":129},{"$f":"ROUND( K$2+(('coded NOLH for 23-29 factors'!K133-1)*(K$3-K$2)/256), K$4)","v":129},{"$f":"ROUND( L$2+(('coded NOLH for 23-29 factors'!L133-1)*(L$3-L$2)/256), L$4)","v":129},{"$f":"ROUND( M$2+(('coded NOLH for 23-29 factors'!M133-1)*(M$3-M$2)/256), M$4)","v":129},{"$f":"ROUND( N$2+(('coded NOLH for 23-29 factors'!N133-1)*(N$3-N$2)/256), N$4)","v":129},{"$f":"ROUND( O$2+(('coded NOLH for 23-29 factors'!O133-1)*(O$3-O$2)/256), O$4)","v":129},{"$f":"ROUND( P$2+(('coded NOLH for 23-29 factors'!P133-1)*(P$3-P$2)/256), P$4)","v":129},{"$f":"ROUND( Q$2+(('coded NOLH for 23-29 factors'!Q133-1)*(Q$3-Q$2)/256), Q$4)","v":129},{"$f":"ROUND( R$2+(('coded NOLH for 23-29 factors'!R133-1)*(R$3-R$2)/256), R$4)","v":129},{"$f":"ROUND( S$2+(('coded NOLH for 23-29 factors'!S133-1)*(S$3-S$2)/256), S$4)","v":129},{"$f":"ROUND( T$2+(('coded NOLH for 23-29 factors'!T133-1)*(T$3-T$2)/256), T$4)","v":129},{"$f":"ROUND( U$2+(('coded NOLH for 23-29 factors'!U133-1)*(U$3-U$2)/256), U$4)","v":129},{"$f":"ROUND( V$2+(('coded NOLH for 23-29 factors'!V133-1)*(V$3-V$2)/256), V$4)","v":129},{"$f":"ROUND( W$2+(('coded NOLH for 23-29 factors'!W133-1)*(W$3-W$2)/256), W$4)","v":129},{"$f":"ROUND( X$2+(('coded NOLH for 23-29 factors'!X133-1)*(X$3-X$2)/256), X$4)","v":129},{"$f":"ROUND( Y$2+(('coded NOLH for 23-29 factors'!Y133-1)*(Y$3-Y$2)/256), Y$4)","v":129},{"$f":"ROUND( Z$2+(('coded NOLH for 23-29 factors'!Z133-1)*(Z$3-Z$2)/256), Z$4)","v":129},{"$f":"ROUND( AA$2+(('coded NOLH for 23-29 factors'!AA133-1)*(AA$3-AA$2)/256), AA$4)","v":129},{"$f":"ROUND( AB$2+(('coded NOLH for 23-29 factors'!AB133-1)*(AB$3-AB$2)/256), AB$4)","v":129},{"$f":"ROUND( AC$2+(('coded NOLH for 23-29 factors'!AC133-1)*(AC$3-AC$2)/256), AC$4)","v":129},{"$f":"ROUND( AD$2+(('coded NOLH for 23-29 factors'!AD133-1)*(AD$3-AD$2)/256), AD$4)","v":129}]
[null,{"$f":"ROUND( B$2+(('coded NOLH for 23-29 factors'!B134-1)*(B$3-B$2)/256), B$4)","v":155},{"$f":"ROUND( C$2+(('coded NOLH for 23-29 factors'!C134-1)*(C$3-C$2)/256), C$4)","v":31},{"$f":"ROUND( D$2+(('coded NOLH for 23-29 factors'!D134-1)*(D$3-D$2)/256), D$4)","v":105},{"$f":"ROUND( E$2+(('coded NOLH for 23-29 factors'!E134-1)*(E$3-E$2)/256), E$4)","v":100},{"$f":"ROUND( F$2+(('coded NOLH for 23-29 factors'!F134-1)*(F$3-F$2)/256), F$4)","v":96},{"$f":"ROUND( G$2+(('coded NOLH for 23-29 factors'!G134-1)*(G$3-G$2)/256), G$4)","v":27},{"$f":"ROUND( H$2+(('coded NOLH for 23-29 factors'!H134-1)*(H$3-H$2)/256), H$4)","v":1},{"$f":"ROUND( I$2+(('coded NOLH for 23-29 factors'!I134-1)*(I$3-I$2)/256), I$4)","v":33},{"$f":"ROUND( J$2+(('coded NOLH for 23-29 factors'!J134-1)*(J$3-J$2)/256), J$4)","v":209},{"$f":"ROUND( K$2+(('coded NOLH for 23-29 factors'!K134-1)*(K$3-K$2)/256), K$4)","v":240},{"$f":"ROUND( L$2+(('coded NOLH for 23-29 factors'!L134-1)*(L$3-L$2)/256), L$4)","v":196},{"$f":"ROUND( M$2+(('coded NOLH for 23-29 factors'!M134-1)*(M$3-M$2)/256), M$4)","v":158},{"$f":"ROUND( N$2+(('coded NOLH for 23-29 factors'!N134-1)*(N$3-N$2)/256), N$4)","v":241},{"$f":"ROUND( O$2+(('coded NOLH for 23-29 factors'!O134-1)*(O$3-O$2)/256), O$4)","v":210},{"$f":"ROUND( P$2+(('coded NOLH for 23-29 factors'!P134-1)*(P$3-P$2)/256), P$4)","v":170},{"$f":"ROUND( Q$2+(('coded NOLH for 23-29 factors'!Q134-1)*(Q$3-Q$2)/256), Q$4)","v":156},{"$f":"ROUND( R$2+(('coded NOLH for 23-29 factors'!R134-1)*(R$3-R$2)/256), R$4)","v":143},{"$f":"ROUND( S$2+(('coded NOLH for 23-29 factors'!S134-1)*(S$3-S$2)/256), S$4)","v":242},{"$f":"ROUND( T$2+(('coded NOLH for 23-29 factors'!T134-1)*(T$3-T$2)/256), T$4)","v":248},{"$f":"ROUND( U$2+(('coded NOLH for 23-29 factors'!U134-1)*(U$3-U$2)/256), U$4)","v":213},{"$f":"ROUND( V$2+(('coded NOLH for 23-29 factors'!V134-1)*(V$3-V$2)/256), V$4)","v":186},{"$f":"ROUND( W$2+(('coded NOLH for 23-29 factors'!W134-1)*(W$3-W$2)/256), W$4)","v":195},{"$f":"ROUND( X$2+(('coded NOLH for 23-29 factors'!X134-1)*(X$3-X$2)/256), X$4)","v":182},{"$f":"ROUND( Y$2+(('coded NOLH for 23-29 factors'!Y134-1)*(Y$3-Y$2)/256), Y$4)","v":161},{"$f":"ROUND( Z$2+(('coded NOLH for 23-29 factors'!Z134-1)*(Z$3-Z$2)/256), Z$4)","v":208},{"$f":"ROUND( AA$2+(('coded NOLH for 23-29 factors'!AA134-1)*(AA$3-AA$2)/256), AA$4)","v":244},{"$f":"ROUND( AB$2+(('coded NOLH for 23-29 factors'!AB134-1)*(AB$3-AB$2)/256), AB$4)","v":181},{"$f":"ROUND( AC$2+(('coded NOLH for 23-29 factors'!AC134-1)*(AC$3-AC$2)/256), AC$4)","v":196},{"$f":"ROUND( AD$2+(('coded NOLH for 23-29 factors'!AD134-1)*(AD$3-AD$2)/256), AD$4)","v":250}]
[null,{"$f":"ROUND( B$2+(('coded NOLH for 23-29 factors'!B135-1)*(B$3-B$2)/256), B$4)","v":227},{"$f":"ROUND( C$2+(('coded NOLH for 23-29 factors'!C135-1)*(C$3-C$2)/256), C$4)","v":155},{"$f":"ROUND( D$2+(('coded NOLH for 23-29 factors'!D135-1)*(D$3-D$2)/256), D$4)","v":42},{"$f":"ROUND( E$2+(('coded NOLH for 23-29 factors'!E135-1)*(E$3-E$2)/256), E$4)","v":12},{"$f":"ROUND( F$2+(('coded NOLH for 23-29 factors'!F135-1)*(F$3-F$2)/256), F$4)","v":73},{"$f":"ROUND( G$2+(('coded NOLH for 23-29 factors'!G135-1)*(G$3-G$2)/256), G$4)","v":121},{"$f":"ROUND( H$2+(('coded NOLH for 23-29 factors'!H135-1)*(H$3-H$2)/256), H$4)","v":8},{"$f":"ROUND( I$2+(('coded NOLH for 23-29 factors'!I135-1)*(I$3-I$2)/256), I$4)","v":41},{"$f":"ROUND( J$2+(('coded NOLH for 23-29 factors'!J135-1)*(J$3-J$2)/256), J$4)","v":118},{"$f":"ROUND( K$2+(('coded NOLH for 23-29 factors'!K135-1)*(K$3-K$2)/256), K$4)","v":101},{"$f":"ROUND( L$2+(('coded NOLH for 23-29 factors'!L135-1)*(L$3-L$2)/256), L$4)","v":97},{"$f":"ROUND( M$2+(('coded NOLH for 23-29 factors'!M135-1)*(M$3-M$2)/256), M$4)","v":67},{"$f":"ROUND( N$2+(('coded NOLH for 23-29 factors'!N135-1)*(N$3-N$2)/256), N$4)","v":1},{"$f":"ROUND( O$2+(('coded NOLH for 23-29 factors'!O135-1)*(O$3-O$2)/256), O$4)","v":30},{"$f":"ROUND( P$2+(('coded NOLH for 23-29 factors'!P135-1)*(P$3-P$2)/256), P$4)","v":126},{"$f":"ROUND( Q$2+(('coded NOLH for 23-29 factors'!Q135-1)*(Q$3-Q$2)/256), Q$4)","v":251},{"$f":"ROUND( R$2+(('coded NOLH for 23-29 factors'!R135-1)*(R$3-R$2)/256), R$4)","v":241},{"$f":"ROUND( S$2+(('coded NOLH for 23-29 factors'!S135-1)*(S$3-S$2)/256), S$4)","v":222},{"$f":"ROUND( T$2+(('coded NOLH for 23-29 factors'!T135-1)*(T$3-T$2)/256), T$4)","v":256},{"$f":"ROUND( U$2+(('coded NOLH for 23-29 factors'!U135-1)*(U$3-U$2)/256), U$4)","v":167},{"$f":"ROUND( V$2+(('coded NOLH for 23-29 factors'!V135-1)*(V$3-V$2)/256), V$4)","v":109},{"$f":"ROUND( W$2+(('coded NOLH for 23-29 factors'!W135-1)*(W$3-W$2)/256), W$4)","v":196},{"$f":"ROUND( X$2+(('coded NOLH for 23-29 factors'!X135-1)*(X$3-X$2)/256), X$4)","v":151},{"$f":"ROUND( Y$2+(('coded NOLH for 23-29 factors'!Y135-1)*(Y$3-Y$2)/256), Y$4)","v":124},{"$f":"ROUND( Z$2+(('coded NOLH for 23-29 factors'!Z135-1)*(Z$3-Z$2)/256), Z$4)","v":193},{"$f":"ROUND( AA$2+(('coded NOLH for 23-29 factors'!AA135-1)*(AA$3-AA$2)/256), AA$4)","v":156},{"$f":"ROUND( AB$2+(('coded NOLH for 23-29 factors'!AB135-1)*(AB$3-AB$2)/256), AB$4)","v":194},{"$f":"ROUND( AC$2+(('coded NOLH for 23-29 factors'!AC135-1)*(AC$3-AC$2)/256), AC$4)","v":193},{"$f":"ROUND( AD$2+(('coded NOLH for 23-29 factors'!AD135-1)*(AD$3-AD$2)/256), AD$4)","v":156}]
[null,{"$f":"ROUND( B$2+(('coded NOLH for 23-29 factors'!B136-1)*(B$3-B$2)/256), B$4)","v":216},{"$f":"ROUND( C$2+(('coded NOLH for 23-29 factors'!C136-1)*(C$3-C$2)/256), C$4)","v":105},{"$f":"ROUND( D$2+(('coded NOLH for 23-29 factors'!D136-1)*(D$3-D$2)/256), D$4)","v":227},{"$f":"ROUND( E$2+(('coded NOLH for 23-29 factors'!E136-1)*(E$3-E$2)/256), E$4)","v":114},{"$f":"ROUND( F$2+(('coded NOLH for 23-29 factors'!F136-1)*(F$3-F$2)/256), F$4)","v":11},{"$f":"ROUND( G$2+(('coded NOLH for 23-29 factors'!G136-1)*(G$3-G$2)/256), G$4)","v":49},{"$f":"ROUND( H$2+(('coded NOLH for 23-29 factors'!H136-1)*(H$3-H$2)/256), H$4)","v":16},{"$f":"ROUND( I$2+(('coded NOLH for 23-29 factors'!I136-1)*(I$3-I$2)/256), I$4)","v":29},{"$f":"ROUND( J$2+(('coded NOLH for 23-29 factors'!J136-1)*(J$3-J$2)/256), J$4)","v":92},{"$f":"ROUND( K$2+(('coded NOLH for 23-29 factors'!K136-1)*(K$3-K$2)/256), K$4)","v":164},{"$f":"ROUND( L$2+(('coded NOLH for 23-29 factors'!L136-1)*(L$3-L$2)/256), L$4)","v":205},{"$f":"ROUND( M$2+(('coded NOLH for 23-29 factors'!M136-1)*(M$3-M$2)/256), M$4)","v":194},{"$f":"ROUND( N$2+(('coded NOLH for 23-29 factors'!N136-1)*(N$3-N$2)/256), N$4)","v":224},{"$f":"ROUND( O$2+(('coded NOLH for 23-29 factors'!O136-1)*(O$3-O$2)/256), O$4)","v":220},{"$f":"ROUND( P$2+(('coded NOLH for 23-29 factors'!P136-1)*(P$3-P$2)/256), P$4)","v":17},{"$f":"ROUND( Q$2+(('coded NOLH for 23-29 factors'!Q136-1)*(Q$3-Q$2)/256), Q$4)","v":44},{"$f":"ROUND( R$2+(('coded NOLH for 23-29 factors'!R136-1)*(R$3-R$2)/256), R$4)","v":112},{"$f":"ROUND( S$2+(('coded NOLH for 23-29 factors'!S136-1)*(S$3-S$2)/256), S$4)","v":19},{"$f":"ROUND( T$2+(('coded NOLH for 23-29 factors'!T136-1)*(T$3-T$2)/256), T$4)","v":41},{"$f":"ROUND( U$2+(('coded NOLH for 23-29 factors'!U136-1)*(U$3-U$2)/256), U$4)","v":195},{"$f":"ROUND( V$2+(('coded NOLH for 23-29 factors'!V136-1)*(V$3-V$2)/256), V$4)","v":236},{"$f":"ROUND( W$2+(('coded NOLH for 23-29 factors'!W136-1)*(W$3-W$2)/256), W$4)","v":218},{"$f":"ROUND( X$2+(('coded NOLH for 23-29 factors'!X136-1)*(X$3-X$2)/256), X$4)","v":248},{"$f":"ROUND( Y$2+(('coded NOLH for 23-29 factors'!Y136-1)*(Y$3-Y$2)/256), Y$4)","v":178},{"$f":"ROUND( Z$2+(('coded NOLH for 23-29 factors'!Z136-1)*(Z$3-Z$2)/256), Z$4)","v":253},{"$f":"ROUND( AA$2+(('coded NOLH for 23-29 factors'!AA136-1)*(AA$3-AA$2)/256), AA$4)","v":147},{"$f":"ROUND( AB$2+(('coded NOLH for 23-29 factors'!AB136-1)*(AB$3-AB$2)/256), AB$4)","v":182},{"$f":"ROUND( AC$2+(('coded NOLH for 23-29 factors'!AC136-1)*(AC$3-AC$2)/256), AC$4)","v":144},{"$f":"ROUND( AD$2+(('coded NOLH for 23-29 factors'!AD136-1)*(AD$3-AD$2)/256), AD$4)","v":209}]
[null,{"$f":"ROUND( B$2+(('coded NOLH for 23-29 factors'!B137-1)*(B$3-B$2)/256), B$4)","v":153},{"$f":"ROUND( C$2+(('coded NOLH for 23-29 factors'!C137-1)*(C$3-C$2)/256), C$4)","v":216},{"$f":"ROUND( D$2+(('coded NOLH for 23-29 factors'!D137-1)*(D$3-D$2)/256), D$4)","v":155},{"$f":"ROUND( E$2+(('coded NOLH for 23-29 factors'!E137-1)*(E$3-E$2)/256), E$4)","v":95},{"$f":"ROUND( F$2+(('coded NOLH for 23-29 factors'!F137-1)*(F$3-F$2)/256), F$4)","v":70},{"$f":"ROUND( G$2+(('coded NOLH for 23-29 factors'!G137-1)*(G$3-G$2)/256), G$4)","v":66},{"$f":"ROUND( H$2+(('coded NOLH for 23-29 factors'!H137-1)*(H$3-H$2)/256), H$4)","v":32},{"$f":"ROUND( I$2+(('coded NOLH for 23-29 factors'!I137-1)*(I$3-I$2)/256), I$4)","v":14},{"$f":"ROUND( J$2+(('coded NOLH for 23-29 factors'!J137-1)*(J$3-J$2)/256), J$4)","v":218},{"$f":"ROUND( K$2+(('coded NOLH for 23-29 factors'!K137-1)*(K$3-K$2)/256), K$4)","v":117},{"$f":"ROUND( L$2+(('coded NOLH for 23-29 factors'!L137-1)*(L$3-L$2)/256), L$4)","v":17},{"$f":"ROUND( M$2+(('coded NOLH for 23-29 factors'!M137-1)*(M$3-M$2)/256), M$4)","v":57},{"$f":"ROUND( N$2+(('coded NOLH for 23-29 factors'!N137-1)*(N$3-N$2)/256), N$4)","v":10},{"$f":"ROUND( O$2+(('coded NOLH for 23-29 factors'!O137-1)*(O$3-O$2)/256), O$4)","v":13},{"$f":"ROUND( P$2+(('coded NOLH for 23-29 factors'!P137-1)*(P$3-P$2)/256), P$4)","v":92},{"$f":"ROUND( Q$2+(('coded NOLH for 23-29 factors'!Q137-1)*(Q$3-Q$2)/256), Q$4)","v":108},{"$f":"ROUND( R$2+(('coded NOLH for 23-29 factors'!R137-1)*(R$3-R$2)/256), R$4)","v":55},{"$f":"ROUND( S$2+(('coded NOLH for 23-29 factors'!S137-1)*(S$3-S$2)/256), S$4)","v":1},{"$f":"ROUND( T$2+(('coded NOLH for 23-29 factors'!T137-1)*(T$3-T$2)/256), T$4)","v":58},{"$f":"ROUND( U$2+(('coded NOLH for 23-29 factors'!U137-1)*(U$3-U$2)/256), U$4)","v":253},{"$f":"ROUND( V$2+(('coded NOLH for 23-29 factors'!V137-1)*(V$3-V$2)/256), V$4)","v":221},{"$f":"ROUND( W$2+(('coded NOLH for 23-29 factors'!W137-1)*(W$3-W$2)/256), W$4)","v":203},{"$f":"ROUND( X$2+(('coded NOLH for 23-29 factors'!X137-1)*(X$3-X$2)/256), X$4)","v":143},{"$f":"ROUND( Y$2+(('coded NOLH for 23-29 factors'!Y137-1)*(Y$3-Y$2)/256), Y$4)","v":197},{"$f":"ROUND( Z$2+(('coded NOLH for 23-29 factors'!Z137-1)*(Z$3-Z$2)/256), Z$4)","v":156},{"$f":"ROUND( AA$2+(('coded NOLH for 23-29 factors'!AA137-1)*(AA$3-AA$2)/256), AA$4)","v":154},{"$f":"ROUND( AB$2+(('coded NOLH for 23-29 factors'!AB137-1)*(AB$3-AB$2)/256), AB$4)","v":205},{"$f":"ROUND( AC$2+(('coded NOLH for 23-29 factors'!AC137-1)*(AC$3-AC$2)/256), AC$4)","v":208},{"$f":"ROUND( AD$2+(('coded NOLH for 23-29 factors'!AD137-1)*(AD$3-AD$2)/256), AD$4)","v":196}]
[null,{"$f":"ROUND( B$2+(('coded NOLH for 23-29 factors'!B138-1)*(B$3-B$2)/256), B$4)","v":163},{"$f":"ROUND( C$2+(('coded NOLH for 23-29 factors'!C138-1)*(C$3-C$2)/256), C$4)","v":114},{"$f":"ROUND( D$2+(('coded NOLH for 23-29 factors'!D138-1)*(D$3-D$2)/256), D$4)","v":100},{"$f":"ROUND( E$2+(('coded NOLH for 23-29 factors'!E138-1)*(E$3-E$2)/256), E$4)","v":153},{"$f":"ROUND( F$2+(('coded NOLH for 23-29 factors'!F138-1)*(F$3-F$2)/256), F$4)","v":19},{"$f":"ROUND( G$2+(('coded NOLH for 23-29 factors'!G138-1)*(G$3-G$2)/256), G$4)","v":54},{"$f":"ROUND( H$2+(('coded NOLH for 23-29 factors'!H138-1)*(H$3-H$2)/256), H$4)","v":64},{"$f":"ROUND( I$2+(('coded NOLH for 23-29 factors'!I138-1)*(I$3-I$2)/256), I$4)","v":81},{"$f":"ROUND( J$2+(('coded NOLH for 23-29 factors'!J138-1)*(J$3-J$2)/256), J$4)","v":240},{"$f":"ROUND( K$2+(('coded NOLH for 23-29 factors'!K138-1)*(K$3-K$2)/256), K$4)","v":48},{"$f":"ROUND( L$2+(('coded NOLH for 23-29 factors'!L138-1)*(L$3-L$2)/256), L$4)","v":235},{"$f":"ROUND( M$2+(('coded NOLH for 23-29 factors'!M138-1)*(M$3-M$2)/256), M$4)","v":243},{"$f":"ROUND( N$2+(('coded NOLH for 23-29 factors'!N138-1)*(N$3-N$2)/256), N$4)","v":175},{"$f":"ROUND( O$2+(('coded NOLH for 23-29 factors'!O138-1)*(O$3-O$2)/256), O$4)","v":237},{"$f":"ROUND( P$2+(('coded NOLH for 23-29 factors'!P138-1)*(P$3-P$2)/256), P$4)","v":128},{"$f":"ROUND( Q$2+(('coded NOLH for 23-29 factors'!Q138-1)*(Q$3-Q$2)/256), Q$4)","v":216},{"$f":"ROUND( R$2+(('coded NOLH for 23-29 factors'!R138-1)*(R$3-R$2)/256), R$4)","v":219},{"$f":"ROUND( S$2+(('coded NOLH for 23-29 factors'!S138-1)*(S$3-S$2)/256), S$4)","v":228},{"$f":"ROUND( T$2+(('coded NOLH for 23-29 factors'!T138-1)*(T$3-T$2)/256), T$4)","v":186},{"$f":"ROUND( U$2+(('coded NOLH for 23-29 factors'!U138-1)*(U$3-U$2)/256), U$4)","v":19},{"$f":"ROUND( V$2+(('coded NOLH for 23-29 factors'!V138-1)*(V$3-V$2)/256), V$4)","v":89},{"$f":"ROUND( W$2+(('coded NOLH for 23-29 factors'!W138-1)*(W$3-W$2)/256), W$4)","v":41},{"$f":"ROUND( X$2+(('coded NOLH for 23-29 factors'!X138-1)*(X$3-X$2)/256), X$4)","v":37},{"$f":"ROUND( Y$2+(('coded NOLH for 23-29 factors'!Y138-1)*(Y$3-Y$2)/256), Y$4)","v":182},{"$f":"ROUND( Z$2+(('coded NOLH for 23-29 factors'!Z138-1)*(Z$3-Z$2)/256), Z$4)","v":170},{"$f":"ROUND( AA$2+(('coded NOLH for 23-29 factors'!AA138-1)*(AA$3-AA$2)/256), AA$4)","v":197},{"$f":"ROUND( AB$2+(('coded NOLH for 23-29 factors'!AB138-1)*(AB$3-AB$2)/256), AB$4)","v":186},{"$f":"ROUND( AC$2+(('coded NOLH for 23-29 factors'!AC138-1)*(AC$3-AC$2)/256), AC$4)","v":108},{"$f":"ROUND( AD$2+(('coded NOLH for 23-29 factors'!AD138-1)*(AD$3-AD$2)/256), AD$4)","v":242}]
[null,{"$f":"ROUND( B$2+(('coded NOLH for 23-29 factors'!B139-1)*(B$3-B$2)/256), B$4)","v":144},{"$f":"ROUND( C$2+(('coded NOLH for 23-29 factors'!C139-1)*(C$3-C$2)/256), C$4)","v":163},{"$f":"ROUND( D$2+(('coded NOLH for 23-29 factors'!D139-1)*(D$3-D$2)/256), D$4)","v":12},{"$f":"ROUND( E$2+(('coded NOLH for 23-29 factors'!E139-1)*(E$3-E$2)/256), E$4)","v":216},{"$f":"ROUND( F$2+(('coded NOLH for 23-29 factors'!F139-1)*(F$3-F$2)/256), F$4)","v":36},{"$f":"ROUND( G$2+(('coded NOLH for 23-29 factors'!G139-1)*(G$3-G$2)/256), G$4)","v":25},{"$f":"ROUND( H$2+(('coded NOLH for 23-29 factors'!H139-1)*(H$3-H$2)/256), H$4)","v":69},{"$f":"ROUND( I$2+(('coded NOLH for 23-29 factors'!I139-1)*(I$3-I$2)/256), I$4)","v":13},{"$f":"ROUND( J$2+(('coded NOLH for 23-29 factors'!J139-1)*(J$3-J$2)/256), J$4)","v":72},{"$f":"ROUND( K$2+(('coded NOLH for 23-29 factors'!K139-1)*(K$3-K$2)/256), K$4)","v":140},{"$f":"ROUND( L$2+(('coded NOLH for 23-29 factors'!L139-1)*(L$3-L$2)/256), L$4)","v":42},{"$f":"ROUND( M$2+(('coded NOLH for 23-29 factors'!M139-1)*(M$3-M$2)/256), M$4)","v":62},{"$f":"ROUND( N$2+(('coded NOLH for 23-29 factors'!N139-1)*(N$3-N$2)/256), N$4)","v":42},{"$f":"ROUND( O$2+(('coded NOLH for 23-29 factors'!O139-1)*(O$3-O$2)/256), O$4)","v":76},{"$f":"ROUND( P$2+(('coded NOLH for 23-29 factors'!P139-1)*(P$3-P$2)/256), P$4)","v":23},{"$f":"ROUND( Q$2+(('coded NOLH for 23-29 factors'!Q139-1)*(Q$3-Q$2)/256), Q$4)","v":148},{"$f":"ROUND( R$2+(('coded NOLH for 23-29 factors'!R139-1)*(R$3-R$2)/256), R$4)","v":159},{"$f":"ROUND( S$2+(('coded NOLH for 23-29 factors'!S139-1)*(S$3-S$2)/256), S$4)","v":144},{"$f":"ROUND( T$2+(('coded NOLH for 23-29 factors'!T139-1)*(T$3-T$2)/256), T$4)","v":162},{"$f":"ROUND( U$2+(('coded NOLH for 23-29 factors'!U139-1)*(U$3-U$2)/256), U$4)","v":29},{"$f":"ROUND( V$2+(('coded NOLH for 23-29 factors'!V139-1)*(V$3-V$2)/256), V$4)","v":34},{"$f":"ROUND( W$2+(('coded NOLH for 23-29 factors'!W139-1)*(W$3-W$2)/256), W$4)","v":25},{"$f":"ROUND( X$2+(('coded NOLH for 23-29 factors'!X139-1)*(X$3-X$2)/256), X$4)","v":6},{"$f":"ROUND( Y$2+(('coded NOLH for 23-29 factors'!Y139-1)*(Y$3-Y$2)/256), Y$4)","v":111},{"$f":"ROUND( Z$2+(('coded NOLH for 23-29 factors'!Z139-1)*(Z$3-Z$2)/256), Z$4)","v":249},{"$f":"ROUND( AA$2+(('coded NOLH for 23-29 factors'!AA139-1)*(AA$3-AA$2)/256), AA$4)","v":155},{"$f":"ROUND( AB$2+(('coded NOLH for 23-29 factors'!AB139-1)*(AB$3-AB$2)/256), AB$4)","v":213},{"$f":"ROUND( AC$2+(('coded NOLH for 23-29 factors'!AC139-1)*(AC$3-AC$2)/256), AC$4)","v":168},{"$f":"ROUND( AD$2+(('coded NOLH for 23-29 factors'!AD139-1)*(AD$3-AD$2)/256), AD$4)","v":222}]
[null,{"$f":"ROUND( B$2+(('coded NOLH for 23-29 factors'!B140-1)*(B$3-B$2)/256), B$4)","v":246},{"$f":"ROUND( C$2+(('coded NOLH for 23-29 factors'!C140-1)*(C$3-C$2)/256), C$4)","v":100},{"$f":"ROUND( D$2+(('coded NOLH for 23-29 factors'!D140-1)*(D$3-D$2)/256), D$4)","v":144},{"$f":"ROUND( E$2+(('coded NOLH for 23-29 factors'!E140-1)*(E$3-E$2)/256), E$4)","v":227},{"$f":"ROUND( F$2+(('coded NOLH for 23-29 factors'!F140-1)*(F$3-F$2)/256), F$4)","v":125},{"$f":"ROUND( G$2+(('coded NOLH for 23-29 factors'!G140-1)*(G$3-G$2)/256), G$4)","v":124},{"$f":"ROUND( H$2+(('coded NOLH for 23-29 factors'!H140-1)*(H$3-H$2)/256), H$4)","v":61},{"$f":"ROUND( I$2+(('coded NOLH for 23-29 factors'!I140-1)*(I$3-I$2)/256), I$4)","v":107},{"$f":"ROUND( J$2+(('coded NOLH for 23-29 factors'!J140-1)*(J$3-J$2)/256), J$4)","v":85},{"$f":"ROUND( K$2+(('coded NOLH for 23-29 factors'!K140-1)*(K$3-K$2)/256), K$4)","v":107},{"$f":"ROUND( L$2+(('coded NOLH for 23-29 factors'!L140-1)*(L$3-L$2)/256), L$4)","v":256},{"$f":"ROUND( M$2+(('coded NOLH for 23-29 factors'!M140-1)*(M$3-M$2)/256), M$4)","v":188},{"$f":"ROUND( N$2+(('coded NOLH for 23-29 factors'!N140-1)*(N$3-N$2)/256), N$4)","v":178},{"$f":"ROUND( O$2+(('coded NOLH for 23-29 factors'!O140-1)*(O$3-O$2)/256), O$4)","v":175},{"$f":"ROUND( P$2+(('coded NOLH for 23-29 factors'!P140-1)*(P$3-P$2)/256), P$4)","v":220},{"$f":"ROUND( Q$2+(('coded NOLH for 23-29 factors'!Q140-1)*(Q$3-Q$2)/256), Q$4)","v":24},{"$f":"ROUND( R$2+(('coded NOLH for 23-29 factors'!R140-1)*(R$3-R$2)/256), R$4)","v":23},{"$f":"ROUND( S$2+(('coded NOLH for 23-29 factors'!S140-1)*(S$3-S$2)/256), S$4)","v":88},{"$f":"ROUND( T$2+(('coded NOLH for 23-29 factors'!T140-1)*(T$3-T$2)/256), T$4)","v":6},{"$f":"ROUND( U$2+(('coded NOLH for 23-29 factors'!U140-1)*(U$3-U$2)/256), U$4)","v":53},{"$f":"ROUND( V$2+(('coded NOLH for 23-29 factors'!V140-1)*(V$3-V$2)/256), V$4)","v":132},{"$f":"ROUND( W$2+(('coded NOLH for 23-29 factors'!W140-1)*(W$3-W$2)/256), W$4)","v":11},{"$f":"ROUND( X$2+(('coded NOLH for 23-29 factors'!X140-1)*(X$3-X$2)/256), X$4)","v":48},{"$f":"ROUND( Y$2+(('coded NOLH for 23-29 factors'!Y140-1)*(Y$3-Y$2)/256), Y$4)","v":179},{"$f":"ROUND( Z$2+(('coded NOLH for 23-29 factors'!Z140-1)*(Z$3-Z$2)/256), Z$4)","v":154},{"$f":"ROUND( AA$2+(('coded NOLH for 23-29 factors'!AA140-1)*(AA$3-AA$2)/256), AA$4)","v":148},{"$f":"ROUND( AB$2+(('coded NOLH for 23-29 factors'!AB140-1)*(AB$3-AB$2)/256), AB$4)","v":187},{"$f":"ROUND( AC$2+(('coded NOLH for 23-29 factors'!AC140-1)*(AC$3-AC$2)/256), AC$4)","v":220},{"$f":"ROUND( AD$2+(('coded NOLH for 23-29 factors'!AD140-1)*(AD$3-AD$2)/256), AD$4)","v":192}]
[null,{"$f":"ROUND( B$2+(('coded NOLH for 23-29 factors'!B141-1)*(B$3-B$2)/256), B$4)","v":158},{"$f":"ROUND( C$2+(('coded NOLH for 23-29 factors'!C141-1)*(C$3-C$2)/256), C$4)","v":246},{"$f":"ROUND( D$2+(('coded NOLH for 23-29 factors'!D141-1)*(D$3-D$2)/256), D$4)","v":163},{"$f":"ROUND( E$2+(('coded NOLH for 23-29 factors'!E141-1)*(E$3-E$2)/256), E$4)","v":155},{"$f":"ROUND( F$2+(('coded NOLH for 23-29 factors'!F141-1)*(F$3-F$2)/256), F$4)","v":20},{"$f":"ROUND( G$2+(('coded NOLH for 23-29 factors'!G141-1)*(G$3-G$2)/256), G$4)","v":67},{"$f":"ROUND( H$2+(('coded NOLH for 23-29 factors'!H141-1)*(H$3-H$2)/256), H$4)","v":78},{"$f":"ROUND( I$2+(('coded NOLH for 23-29 factors'!I141-1)*(I$3-I$2)/256), I$4)","v":83},{"$f":"ROUND( J$2+(('coded NOLH for 23-29 factors'!J141-1)*(J$3-J$2)/256), J$4)","v":133},{"$f":"ROUND( K$2+(('coded NOLH for 23-29 factors'!K141-1)*(K$3-K$2)/256), K$4)","v":239},{"$f":"ROUND( L$2+(('coded NOLH for 23-29 factors'!L141-1)*(L$3-L$2)/256), L$4)","v":138},{"$f":"ROUND( M$2+(('coded NOLH for 23-29 factors'!M141-1)*(M$3-M$2)/256), M$4)","v":121},{"$f":"ROUND( N$2+(('coded NOLH for 23-29 factors'!N141-1)*(N$3-N$2)/256), N$4)","v":50},{"$f":"ROUND( O$2+(('coded NOLH for 23-29 factors'!O141-1)*(O$3-O$2)/256), O$4)","v":90},{"$f":"ROUND( P$2+(('coded NOLH for 23-29 factors'!P141-1)*(P$3-P$2)/256), P$4)","v":148},{"$f":"ROUND( Q$2+(('coded NOLH for 23-29 factors'!Q141-1)*(Q$3-Q$2)/256), Q$4)","v":25},{"$f":"ROUND( R$2+(('coded NOLH for 23-29 factors'!R141-1)*(R$3-R$2)/256), R$4)","v":70},{"$f":"ROUND( S$2+(('coded NOLH for 23-29 factors'!S141-1)*(S$3-S$2)/256), S$4)","v":44},{"$f":"ROUND( T$2+(('coded NOLH for 23-29 factors'!T141-1)*(T$3-T$2)/256), T$4)","v":100},{"$f":"ROUND( U$2+(('coded NOLH for 23-29 factors'!U141-1)*(U$3-U$2)/256), U$4)","v":83},{"$f":"ROUND( V$2+(('coded NOLH for 23-29 factors'!V141-1)*(V$3-V$2)/256), V$4)","v":40},{"$f":"ROUND( W$2+(('coded NOLH for 23-29 factors'!W141-1)*(W$3-W$2)/256), W$4)","v":12},{"$f":"ROUND( X$2+(('coded NOLH for 23-29 factors'!X141-1)*(X$3-X$2)/256), X$4)","v":21},{"$f":"ROUND( Y$2+(('coded NOLH for 23-29 factors'!Y141-1)*(Y$3-Y$2)/256), Y$4)","v":199},{"$f":"ROUND( Z$2+(('coded NOLH for 23-29 factors'!Z141-1)*(Z$3-Z$2)/256), Z$4)","v":188},{"$f":"ROUND( AA$2+(('coded NOLH for 23-29 factors'!AA141-1)*(AA$3-AA$2)/256), AA$4)","v":227},{"$f":"ROUND( AB$2+(('coded NOLH for 23-29 factors'!AB141-1)*(AB$3-AB$2)/256), AB$4)","v":148},{"$f":"ROUND( AC$2+(('coded NOLH for 23-29 factors'!AC141-1)*(AC$3-AC$2)/256), AC$4)","v":238},{"$f":"ROUND( AD$2+(('coded NOLH for 23-29 factors'!AD141-1)*(AD$3-AD$2)/256), AD$4)","v":225}]
[null,{"$f":"ROUND( B$2+(('coded NOLH for 23-29 factors'!B142-1)*(B$3-B$2)/256), B$4)","v":238},{"$f":"ROUND( C$2+(('coded NOLH for 23-29 factors'!C142-1)*(C$3-C$2)/256), C$4)","v":125},{"$f":"ROUND( D$2+(('coded NOLH for 23-29 factors'!D142-1)*(D$3-D$2)/256), D$4)","v":19},{"$f":"ROUND( E$2+(('coded NOLH for 23-29 factors'!E142-1)*(E$3-E$2)/256), E$4)","v":96},{"$f":"ROUND( F$2+(('coded NOLH for 23-29 factors'!F142-1)*(F$3-F$2)/256), F$4)","v":158},{"$f":"ROUND( G$2+(('coded NOLH for 23-29 factors'!G142-1)*(G$3-G$2)/256), G$4)","v":56},{"$f":"ROUND( H$2+(('coded NOLH for 23-29 factors'!H142-1)*(H$3-H$2)/256), H$4)","v":68},{"$f":"ROUND( I$2+(('coded NOLH for 23-29 factors'!I142-1)*(I$3-I$2)/256), I$4)","v":6},{"$f":"ROUND( J$2+(('coded NOLH for 23-29 factors'!J142-1)*(J$3-J$2)/256), J$4)","v":212},{"$f":"ROUND( K$2+(('coded NOLH for 23-29 factors'!K142-1)*(K$3-K$2)/256), K$4)","v":159},{"$f":"ROUND( L$2+(('coded NOLH for 23-29 factors'!L142-1)*(L$3-L$2)/256), L$4)","v":15},{"$f":"ROUND( M$2+(('coded NOLH for 23-29 factors'!M142-1)*(M$3-M$2)/256), M$4)","v":198},{"$f":"ROUND( N$2+(('coded NOLH for 23-29 factors'!N142-1)*(N$3-N$2)/256), N$4)","v":140},{"$f":"ROUND( O$2+(('coded NOLH for 23-29 factors'!O142-1)*(O$3-O$2)/256), O$4)","v":147},{"$f":"ROUND( P$2+(('coded NOLH for 23-29 factors'!P142-1)*(P$3-P$2)/256), P$4)","v":210},{"$f":"ROUND( Q$2+(('coded NOLH for 23-29 factors'!Q142-1)*(Q$3-Q$2)/256), Q$4)","v":89},{"$f":"ROUND( R$2+(('coded NOLH for 23-29 factors'!R142-1)*(R$3-R$2)/256), R$4)","v":153},{"$f":"ROUND( S$2+(('coded NOLH for 23-29 factors'!S142-1)*(S$3-S$2)/256), S$4)","v":181},{"$f":"ROUND( T$2+(('coded NOLH for 23-29 factors'!T142-1)*(T$3-T$2)/256), T$4)","v":170},{"$f":"ROUND( U$2+(('coded NOLH for 23-29 factors'!U142-1)*(U$3-U$2)/256), U$4)","v":99},{"$f":"ROUND( V$2+(('coded NOLH for 23-29 factors'!V142-1)*(V$3-V$2)/256), V$4)","v":209},{"$f":"ROUND( W$2+(('coded NOLH for 23-29 factors'!W142-1)*(W$3-W$2)/256), W$4)","v":239},{"$f":"ROUND( X$2+(('coded NOLH for 23-29 factors'!X142-1)*(X$3-X$2)/256), X$4)","v":199},{"$f":"ROUND( Y$2+(('coded NOLH for 23-29 factors'!Y142-1)*(Y$3-Y$2)/256), Y$4)","v":35},{"$f":"ROUND( Z$2+(('coded NOLH for 23-29 factors'!Z142-1)*(Z$3-Z$2)/256), Z$4)","v":27},{"$f":"ROUND( AA$2+(('coded NOLH for 23-29 factors'!AA142-1)*(AA$3-AA$2)/256), AA$4)","v":106},{"$f":"ROUND( AB$2+(('coded NOLH for 23-29 factors'!AB142-1)*(AB$3-AB$2)/256), AB$4)","v":214},{"$f":"ROUND( AC$2+(('coded NOLH for 23-29 factors'!AC142-1)*(AC$3-AC$2)/256), AC$4)","v":164},{"$f":"ROUND( AD$2+(('coded NOLH for 23-29 factors'!AD142-1)*(AD$3-AD$2)/256), AD$4)","v":237}]
[null,{"$f":"ROUND( B$2+(('coded NOLH for 23-29 factors'!B143-1)*(B$3-B$2)/256), B$4)","v":133},{"$f":"ROUND( C$2+(('coded NOLH for 23-29 factors'!C143-1)*(C$3-C$2)/256), C$4)","v":238},{"$f":"ROUND( D$2+(('coded NOLH for 23-29 factors'!D143-1)*(D$3-D$2)/256), D$4)","v":36},{"$f":"ROUND( E$2+(('coded NOLH for 23-29 factors'!E143-1)*(E$3-E$2)/256), E$4)","v":73},{"$f":"ROUND( F$2+(('coded NOLH for 23-29 factors'!F143-1)*(F$3-F$2)/256), F$4)","v":246},{"$f":"ROUND( G$2+(('coded NOLH for 23-29 factors'!G143-1)*(G$3-G$2)/256), G$4)","v":101},{"$f":"ROUND( H$2+(('coded NOLH for 23-29 factors'!H143-1)*(H$3-H$2)/256), H$4)","v":112},{"$f":"ROUND( I$2+(('coded NOLH for 23-29 factors'!I143-1)*(I$3-I$2)/256), I$4)","v":116},{"$f":"ROUND( J$2+(('coded NOLH for 23-29 factors'!J143-1)*(J$3-J$2)/256), J$4)","v":12},{"$f":"ROUND( K$2+(('coded NOLH for 23-29 factors'!K143-1)*(K$3-K$2)/256), K$4)","v":65},{"$f":"ROUND( L$2+(('coded NOLH for 23-29 factors'!L143-1)*(L$3-L$2)/256), L$4)","v":154},{"$f":"ROUND( M$2+(('coded NOLH for 23-29 factors'!M143-1)*(M$3-M$2)/256), M$4)","v":82},{"$f":"ROUND( N$2+(('coded NOLH for 23-29 factors'!N143-1)*(N$3-N$2)/256), N$4)","v":63},{"$f":"ROUND( O$2+(('coded NOLH for 23-29 factors'!O143-1)*(O$3-O$2)/256), O$4)","v":14},{"$f":"ROUND( P$2+(('coded NOLH for 23-29 factors'!P143-1)*(P$3-P$2)/256), P$4)","v":223},{"$f":"ROUND( Q$2+(('coded NOLH for 23-29 factors'!Q143-1)*(Q$3-Q$2)/256), Q$4)","v":114},{"$f":"ROUND( R$2+(('coded NOLH for 23-29 factors'!R143-1)*(R$3-R$2)/256), R$4)","v":144},{"$f":"ROUND( S$2+(('coded NOLH for 23-29 factors'!S143-1)*(S$3-S$2)/256), S$4)","v":229},{"$f":"ROUND( T$2+(('coded NOLH for 23-29 factors'!T143-1)*(T$3-T$2)/256), T$4)","v":192},{"$f":"ROUND( U$2+(('coded NOLH for 23-29 factors'!U143-1)*(U$3-U$2)/256), U$4)","v":46},{"$f":"ROUND( V$2+(('coded NOLH for 23-29 factors'!V143-1)*(V$3-V$2)/256), V$4)","v":130},{"$f":"ROUND( W$2+(('coded NOLH for 23-29 factors'!W143-1)*(W$3-W$2)/256), W$4)","v":187},{"$f":"ROUND( X$2+(('coded NOLH for 23-29 factors'!X143-1)*(X$3-X$2)/256), X$4)","v":150},{"$f":"ROUND( Y$2+(('coded NOLH for 23-29 factors'!Y143-1)*(Y$3-Y$2)/256), Y$4)","v":125},{"$f":"ROUND( Z$2+(('coded NOLH for 23-29 factors'!Z143-1)*(Z$3-Z$2)/256), Z$4)","v":59},{"$f":"ROUND( AA$2+(('coded NOLH for 23-29 factors'!AA143-1)*(AA$3-AA$2)/256), AA$4)","v":133},{"$f":"ROUND( AB$2+(('coded NOLH for 23-29 factors'!AB143-1)*(AB$3-AB$2)/256), AB$4)","v":197},{"$f":"ROUND( AC$2+(('coded NOLH for 23-29 factors'!AC143-1)*(AC$3-AC$2)/256), AC$4)","v":183},{"$f":"ROUND( AD$2+(('coded NOLH for 23-29 factors'!AD143-1)*(AD$3-AD$2)/256), AD$4)","v":243}]
[null,{"$f":"ROUND( B$2+(('coded NOLH for 23-29 factors'!B144-1)*(B$3-B$2)/256), B$4)","v":222},{"$f":"ROUND( C$2+(('coded NOLH for 23-29 factors'!C144-1)*(C$3-C$2)/256), C$4)","v":19},{"$f":"ROUND( D$2+(('coded NOLH for 23-29 factors'!D144-1)*(D$3-D$2)/256), D$4)","v":133},{"$f":"ROUND( E$2+(('coded NOLH for 23-29 factors'!E144-1)*(E$3-E$2)/256), E$4)","v":11},{"$f":"ROUND( F$2+(('coded NOLH for 23-29 factors'!F144-1)*(F$3-F$2)/256), F$4)","v":144},{"$f":"ROUND( G$2+(('coded NOLH for 23-29 factors'!G144-1)*(G$3-G$2)/256), G$4)","v":128},{"$f":"ROUND( H$2+(('coded NOLH for 23-29 factors'!H144-1)*(H$3-H$2)/256), H$4)","v":7},{"$f":"ROUND( I$2+(('coded NOLH for 23-29 factors'!I144-1)*(I$3-I$2)/256), I$4)","v":104},{"$f":"ROUND( J$2+(('coded NOLH for 23-29 factors'!J144-1)*(J$3-J$2)/256), J$4)","v":26},{"$f":"ROUND( K$2+(('coded NOLH for 23-29 factors'!K144-1)*(K$3-K$2)/256), K$4)","v":184},{"$f":"ROUND( L$2+(('coded NOLH for 23-29 factors'!L144-1)*(L$3-L$2)/256), L$4)","v":92},{"$f":"ROUND( M$2+(('coded NOLH for 23-29 factors'!M144-1)*(M$3-M$2)/256), M$4)","v":203},{"$f":"ROUND( N$2+(('coded NOLH for 23-29 factors'!N144-1)*(N$3-N$2)/256), N$4)","v":203},{"$f":"ROUND( O$2+(('coded NOLH for 23-29 factors'!O144-1)*(O$3-O$2)/256), O$4)","v":154},{"$f":"ROUND( P$2+(('coded NOLH for 23-29 factors'!P144-1)*(P$3-P$2)/256), P$4)","v":91},{"$f":"ROUND( Q$2+(('coded NOLH for 23-29 factors'!Q144-1)*(Q$3-Q$2)/256), Q$4)","v":231},{"$f":"ROUND( R$2+(('coded NOLH for 23-29 factors'!R144-1)*(R$3-R$2)/256), R$4)","v":60},{"$f":"ROUND( S$2+(('coded NOLH for 23-29 factors'!S144-1)*(S$3-S$2)/256), S$4)","v":124},{"$f":"ROUND( T$2+(('coded NOLH for 23-29 factors'!T144-1)*(T$3-T$2)/256), T$4)","v":122},{"$f":"ROUND( U$2+(('coded NOLH for 23-29 factors'!U144-1)*(U$3-U$2)/256), U$4)","v":34},{"$f":"ROUND( V$2+(('coded NOLH for 23-29 factors'!V144-1)*(V$3-V$2)/256), V$4)","v":147},{"$f":"ROUND( W$2+(('coded NOLH for 23-29 factors'!W144-1)*(W$3-W$2)/256), W$4)","v":254},{"$f":"ROUND( X$2+(('coded NOLH for 23-29 factors'!X144-1)*(X$3-X$2)/256), X$4)","v":123},{"$f":"ROUND( Y$2+(('coded NOLH for 23-29 factors'!Y144-1)*(Y$3-Y$2)/256), Y$4)","v":6},{"$f":"ROUND( Z$2+(('coded NOLH for 23-29 factors'!Z144-1)*(Z$3-Z$2)/256), Z$4)","v":68},{"$f":"ROUND( AA$2+(('coded NOLH for 23-29 factors'!AA144-1)*(AA$3-AA$2)/256), AA$4)","v":26},{"$f":"ROUND( AB$2+(('coded NOLH for 23-29 factors'!AB144-1)*(AB$3-AB$2)/256), AB$4)","v":245},{"$f":"ROUND( AC$2+(('coded NOLH for 23-29 factors'!AC144-1)*(AC$3-AC$2)/256), AC$4)","v":231},{"$f":"ROUND( AD$2+(('coded NOLH for 23-29 factors'!AD144-1)*(AD$3-AD$2)/256), AD$4)","v":149}]
[null,{"$f":"ROUND( B$2+(('coded NOLH for 23-29 factors'!B145-1)*(B$3-B$2)/256), B$4)","v":239},{"$f":"ROUND( C$2+(('coded NOLH for 23-29 factors'!C145-1)*(C$3-C$2)/256), C$4)","v":222},{"$f":"ROUND( D$2+(('coded NOLH for 23-29 factors'!D145-1)*(D$3-D$2)/256), D$4)","v":238},{"$f":"ROUND( E$2+(('coded NOLH for 23-29 factors'!E145-1)*(E$3-E$2)/256), E$4)","v":70},{"$f":"ROUND( F$2+(('coded NOLH for 23-29 factors'!F145-1)*(F$3-F$2)/256), F$4)","v":163},{"$f":"ROUND( G$2+(('coded NOLH for 23-29 factors'!G145-1)*(G$3-G$2)/256), G$4)","v":86},{"$f":"ROUND( H$2+(('coded NOLH for 23-29 factors'!H145-1)*(H$3-H$2)/256), H$4)","v":60},{"$f":"ROUND( I$2+(('coded NOLH for 23-29 factors'!I145-1)*(I$3-I$2)/256), I$4)","v":98},{"$f":"ROUND( J$2+(('coded NOLH for 23-29 factors'!J145-1)*(J$3-J$2)/256), J$4)","v":131},{"$f":"ROUND( K$2+(('coded NOLH for 23-29 factors'!K145-1)*(K$3-K$2)/256), K$4)","v":4},{"$f":"ROUND( L$2+(('coded NOLH for 23-29 factors'!L145-1)*(L$3-L$2)/256), L$4)","v":145},{"$f":"ROUND( M$2+(('coded NOLH for 23-29 factors'!M145-1)*(M$3-M$2)/256), M$4)","v":131},{"$f":"ROUND( N$2+(('coded NOLH for 23-29 factors'!N145-1)*(N$3-N$2)/256), N$4)","v":6},{"$f":"ROUND( O$2+(('coded NOLH for 23-29 factors'!O145-1)*(O$3-O$2)/256), O$4)","v":94},{"$f":"ROUND( P$2+(('coded NOLH for 23-29 factors'!P145-1)*(P$3-P$2)/256), P$4)","v":73},{"$f":"ROUND( Q$2+(('coded NOLH for 23-29 factors'!Q145-1)*(Q$3-Q$2)/256), Q$4)","v":146},{"$f":"ROUND( R$2+(('coded NOLH for 23-29 factors'!R145-1)*(R$3-R$2)/256), R$4)","v":104},{"$f":"ROUND( S$2+(('coded NOLH for 23-29 factors'!S145-1)*(S$3-S$2)/256), S$4)","v":52},{"$f":"ROUND( T$2+(('coded NOLH for 23-29 factors'!T145-1)*(T$3-T$2)/256), T$4)","v":43},{"$f":"ROUND( U$2+(('coded NOLH for 23-29 factors'!U145-1)*(U$3-U$2)/256), U$4)","v":100},{"$f":"ROUND( V$2+(('coded NOLH for 23-29 factors'!V145-1)*(V$3-V$2)/256), V$4)","v":190},{"$f":"ROUND( W$2+(('coded NOLH for 23-29 factors'!W145-1)*(W$3-W$2)/256), W$4)","v":177},{"$f":"ROUND( X$2+(('coded NOLH for 23-29 factors'!X145-1)*(X$3-X$2)/256), X$4)","v":185},{"$f":"ROUND( Y$2+(('coded NOLH for 23-29 factors'!Y145-1)*(Y$3-Y$2)/256), Y$4)","v":56},{"$f":"ROUND( Z$2+(('coded NOLH for 23-29 factors'!Z145-1)*(Z$3-Z$2)/256), Z$4)","v":67},{"$f":"ROUND( AA$2+(('coded NOLH for 23-29 factors'!AA145-1)*(AA$3-AA$2)/256), AA$4)","v":89},{"$f":"ROUND( AB$2+(('coded NOLH for 23-29 factors'!AB145-1)*(AB$3-AB$2)/256), AB$4)","v":198},{"$f":"ROUND( AC$2+(('coded NOLH for 23-29 factors'!AC145-1)*(AC$3-AC$2)/256), AC$4)","v":256},{"$f":"ROUND( AD$2+(('coded NOLH for 23-29 factors'!AD145-1)*(AD$3-AD$2)/256), AD$4)","v":143}]
[null,{"$f":"ROUND( B$2+(('coded NOLH for 23-29 factors'!B146-1)*(B$3-B$2)/256), B$4)","v":188},{"$f":"ROUND( C$2+(('coded NOLH for 23-29 factors'!C146-1)*(C$3-C$2)/256), C$4)","v":11},{"$f":"ROUND( D$2+(('coded NOLH for 23-29 factors'!D146-1)*(D$3-D$2)/256), D$4)","v":96},{"$f":"ROUND( E$2+(('coded NOLH for 23-29 factors'!E146-1)*(E$3-E$2)/256), E$4)","v":239},{"$f":"ROUND( F$2+(('coded NOLH for 23-29 factors'!F146-1)*(F$3-F$2)/256), F$4)","v":153},{"$f":"ROUND( G$2+(('coded NOLH for 23-29 factors'!G146-1)*(G$3-G$2)/256), G$4)","v":53},{"$f":"ROUND( H$2+(('coded NOLH for 23-29 factors'!H146-1)*(H$3-H$2)/256), H$4)","v":92},{"$f":"ROUND( I$2+(('coded NOLH for 23-29 factors'!I146-1)*(I$3-I$2)/256), I$4)","v":87},{"$f":"ROUND( J$2+(('coded NOLH for 23-29 factors'!J146-1)*(J$3-J$2)/256), J$4)","v":162},{"$f":"ROUND( K$2+(('coded NOLH for 23-29 factors'!K146-1)*(K$3-K$2)/256), K$4)","v":17},{"$f":"ROUND( L$2+(('coded NOLH for 23-29 factors'!L146-1)*(L$3-L$2)/256), L$4)","v":61},{"$f":"ROUND( M$2+(('coded NOLH for 23-29 factors'!M146-1)*(M$3-M$2)/256), M$4)","v":204},{"$f":"ROUND( N$2+(('coded NOLH for 23-29 factors'!N146-1)*(N$3-N$2)/256), N$4)","v":246},{"$f":"ROUND( O$2+(('coded NOLH for 23-29 factors'!O146-1)*(O$3-O$2)/256), O$4)","v":136},{"$f":"ROUND( P$2+(('coded NOLH for 23-29 factors'!P146-1)*(P$3-P$2)/256), P$4)","v":49},{"$f":"ROUND( Q$2+(('coded NOLH for 23-29 factors'!Q146-1)*(Q$3-Q$2)/256), Q$4)","v":86},{"$f":"ROUND( R$2+(('coded NOLH for 23-29 factors'!R146-1)*(R$3-R$2)/256), R$4)","v":191},{"$f":"ROUND( S$2+(('coded NOLH for 23-29 factors'!S146-1)*(S$3-S$2)/256), S$4)","v":237},{"$f":"ROUND( T$2+(('coded NOLH for 23-29 factors'!T146-1)*(T$3-T$2)/256), T$4)","v":205},{"$f":"ROUND( U$2+(('coded NOLH for 23-29 factors'!U146-1)*(U$3-U$2)/256), U$4)","v":145},{"$f":"ROUND( V$2+(('coded NOLH for 23-29 factors'!V146-1)*(V$3-V$2)/256), V$4)","v":77},{"$f":"ROUND( W$2+(('coded NOLH for 23-29 factors'!W146-1)*(W$3-W$2)/256), W$4)","v":42},{"$f":"ROUND( X$2+(('coded NOLH for 23-29 factors'!X146-1)*(X$3-X$2)/256), X$4)","v":88},{"$f":"ROUND( Y$2+(('coded NOLH for 23-29 factors'!Y146-1)*(Y$3-Y$2)/256), Y$4)","v":83},{"$f":"ROUND( Z$2+(('coded NOLH for 23-29 factors'!Z146-1)*(Z$3-Z$2)/256), Z$4)","v":32},{"$f":"ROUND( AA$2+(('coded NOLH for 23-29 factors'!AA146-1)*(AA$3-AA$2)/256), AA$4)","v":51},{"$f":"ROUND( AB$2+(('coded NOLH for 23-29 factors'!AB146-1)*(AB$3-AB$2)/256), AB$4)","v":217},{"$f":"ROUND( AC$2+(('coded NOLH for 23-29 factors'!AC146-1)*(AC$3-AC$2)/256), AC$4)","v":248},{"$f":"ROUND( AD$2+(('coded NOLH for 23-29 factors'!AD146-1)*(AD$3-AD$2)/256), AD$4)","v":174}]
[null,{"$f":"ROUND( B$2+(('coded NOLH for 23-29 factors'!B147-1)*(B$3-B$2)/256), B$4)","v":247},{"$f":"ROUND( C$2+(('coded NOLH for 23-29 factors'!C147-1)*(C$3-C$2)/256), C$4)","v":188},{"$f":"ROUND( D$2+(('coded NOLH for 23-29 factors'!D147-1)*(D$3-D$2)/256), D$4)","v":73},{"$f":"ROUND( E$2+(('coded NOLH for 23-29 factors'!E147-1)*(E$3-E$2)/256), E$4)","v":222},{"$f":"ROUND( F$2+(('coded NOLH for 23-29 factors'!F147-1)*(F$3-F$2)/256), F$4)","v":216},{"$f":"ROUND( G$2+(('coded NOLH for 23-29 factors'!G147-1)*(G$3-G$2)/256), G$4)","v":52},{"$f":"ROUND( H$2+(('coded NOLH for 23-29 factors'!H147-1)*(H$3-H$2)/256), H$4)","v":4},{"$f":"ROUND( I$2+(('coded NOLH for 23-29 factors'!I147-1)*(I$3-I$2)/256), I$4)","v":126},{"$f":"ROUND( J$2+(('coded NOLH for 23-29 factors'!J147-1)*(J$3-J$2)/256), J$4)","v":74},{"$f":"ROUND( K$2+(('coded NOLH for 23-29 factors'!K147-1)*(K$3-K$2)/256), K$4)","v":211},{"$f":"ROUND( L$2+(('coded NOLH for 23-29 factors'!L147-1)*(L$3-L$2)/256), L$4)","v":167},{"$f":"ROUND( M$2+(('coded NOLH for 23-29 factors'!M147-1)*(M$3-M$2)/256), M$4)","v":58},{"$f":"ROUND( N$2+(('coded NOLH for 23-29 factors'!N147-1)*(N$3-N$2)/256), N$4)","v":85},{"$f":"ROUND( O$2+(('coded NOLH for 23-29 factors'!O147-1)*(O$3-O$2)/256), O$4)","v":88},{"$f":"ROUND( P$2+(('coded NOLH for 23-29 factors'!P147-1)*(P$3-P$2)/256), P$4)","v":103},{"$f":"ROUND( Q$2+(('coded NOLH for 23-29 factors'!Q147-1)*(Q$3-Q$2)/256), Q$4)","v":35},{"$f":"ROUND( R$2+(('coded NOLH for 23-29 factors'!R147-1)*(R$3-R$2)/256), R$4)","v":149},{"$f":"ROUND( S$2+(('coded NOLH for 23-29 factors'!S147-1)*(S$3-S$2)/256), S$4)","v":169},{"$f":"ROUND( T$2+(('coded NOLH for 23-29 factors'!T147-1)*(T$3-T$2)/256), T$4)","v":178},{"$f":"ROUND( U$2+(('coded NOLH for 23-29 factors'!U147-1)*(U$3-U$2)/256), U$4)","v":144},{"$f":"ROUND( V$2+(('coded NOLH for 23-29 factors'!V147-1)*(V$3-V$2)/256), V$4)","v":125},{"$f":"ROUND( W$2+(('coded NOLH for 23-29 factors'!W147-1)*(W$3-W$2)/256), W$4)","v":9},{"$f":"ROUND( X$2+(('coded NOLH for 23-29 factors'!X147-1)*(X$3-X$2)/256), X$4)","v":100},{"$f":"ROUND( Y$2+(('coded NOLH for 23-29 factors'!Y147-1)*(Y$3-Y$2)/256), Y$4)","v":36},{"$f":"ROUND( Z$2+(('coded NOLH for 23-29 factors'!Z147-1)*(Z$3-Z$2)/256), Z$4)","v":15},{"$f":"ROUND( AA$2+(('coded NOLH for 23-29 factors'!AA147-1)*(AA$3-AA$2)/256), AA$4)","v":13},{"$f":"ROUND( AB$2+(('coded NOLH for 23-29 factors'!AB147-1)*(AB$3-AB$2)/256), AB$4)","v":244},{"$f":"ROUND( AC$2+(('coded NOLH for 23-29 factors'!AC147-1)*(AC$3-AC$2)/256), AC$4)","v":169},{"$f":"ROUND( AD$2+(('coded NOLH for 23-29 factors'!AD147-1)*(AD$3-AD$2)/256), AD$4)","v":228}]
[null,{"$f":"ROUND( B$2+(('coded NOLH for 23-29 factors'!B148-1)*(B$3-B$2)/256), B$4)","v":185},{"$f":"ROUND( C$2+(('coded NOLH for 23-29 factors'!C148-1)*(C$3-C$2)/256), C$4)","v":96},{"$f":"ROUND( D$2+(('coded NOLH for 23-29 factors'!D148-1)*(D$3-D$2)/256), D$4)","v":247},{"$f":"ROUND( E$2+(('coded NOLH for 23-29 factors'!E148-1)*(E$3-E$2)/256), E$4)","v":133},{"$f":"ROUND( F$2+(('coded NOLH for 23-29 factors'!F148-1)*(F$3-F$2)/256), F$4)","v":227},{"$f":"ROUND( G$2+(('coded NOLH for 23-29 factors'!G148-1)*(G$3-G$2)/256), G$4)","v":122},{"$f":"ROUND( H$2+(('coded NOLH for 23-29 factors'!H148-1)*(H$3-H$2)/256), H$4)","v":62},{"$f":"ROUND( I$2+(('coded NOLH for 23-29 factors'!I148-1)*(I$3-I$2)/256), I$4)","v":113},{"$f":"ROUND( J$2+(('coded NOLH for 23-29 factors'!J148-1)*(J$3-J$2)/256), J$4)","v":68},{"$f":"ROUND( K$2+(('coded NOLH for 23-29 factors'!K148-1)*(K$3-K$2)/256), K$4)","v":8},{"$f":"ROUND( L$2+(('coded NOLH for 23-29 factors'!L148-1)*(L$3-L$2)/256), L$4)","v":112},{"$f":"ROUND( M$2+(('coded NOLH for 23-29 factors'!M148-1)*(M$3-M$2)/256), M$4)","v":189},{"$f":"ROUND( N$2+(('coded NOLH for 23-29 factors'!N148-1)*(N$3-N$2)/256), N$4)","v":245},{"$f":"ROUND( O$2+(('coded NOLH for 23-29 factors'!O148-1)*(O$3-O$2)/256), O$4)","v":219},{"$f":"ROUND( P$2+(('coded NOLH for 23-29 factors'!P148-1)*(P$3-P$2)/256), P$4)","v":229},{"$f":"ROUND( Q$2+(('coded NOLH for 23-29 factors'!Q148-1)*(Q$3-Q$2)/256), Q$4)","v":179},{"$f":"ROUND( R$2+(('coded NOLH for 23-29 factors'!R148-1)*(R$3-R$2)/256), R$4)","v":42},{"$f":"ROUND( S$2+(('coded NOLH for 23-29 factors'!S148-1)*(S$3-S$2)/256), S$4)","v":12},{"$f":"ROUND( T$2+(('coded NOLH for 23-29 factors'!T148-1)*(T$3-T$2)/256), T$4)","v":118},{"$f":"ROUND( U$2+(('coded NOLH for 23-29 factors'!U148-1)*(U$3-U$2)/256), U$4)","v":226},{"$f":"ROUND( V$2+(('coded NOLH for 23-29 factors'!V148-1)*(V$3-V$2)/256), V$4)","v":42},{"$f":"ROUND( W$2+(('coded NOLH for 23-29 factors'!W148-1)*(W$3-W$2)/256), W$4)","v":118},{"$f":"ROUND( X$2+(('coded NOLH for 23-29 factors'!X148-1)*(X$3-X$2)/256), X$4)","v":112},{"$f":"ROUND( Y$2+(('coded NOLH for 23-29 factors'!Y148-1)*(Y$3-Y$2)/256), Y$4)","v":142},{"$f":"ROUND( Z$2+(('coded NOLH for 23-29 factors'!Z148-1)*(Z$3-Z$2)/256), Z$4)","v":25},{"$f":"ROUND( AA$2+(('coded NOLH for 23-29 factors'!AA148-1)*(AA$3-AA$2)/256), AA$4)","v":59},{"$f":"ROUND( AB$2+(('coded NOLH for 23-29 factors'!AB148-1)*(AB$3-AB$2)/256), AB$4)","v":225},{"$f":"ROUND( AC$2+(('coded NOLH for 23-29 factors'!AC148-1)*(AC$3-AC$2)/256), AC$4)","v":210},{"$f":"ROUND( AD$2+(('coded NOLH for 23-29 factors'!AD148-1)*(AD$3-AD$2)/256), AD$4)","v":249}]
[null,{"$f":"ROUND( B$2+(('coded NOLH for 23-29 factors'!B149-1)*(B$3-B$2)/256), B$4)","v":162},{"$f":"ROUND( C$2+(('coded NOLH for 23-29 factors'!C149-1)*(C$3-C$2)/256), C$4)","v":185},{"$f":"ROUND( D$2+(('coded NOLH for 23-29 factors'!D149-1)*(D$3-D$2)/256), D$4)","v":188},{"$f":"ROUND( E$2+(('coded NOLH for 23-29 factors'!E149-1)*(E$3-E$2)/256), E$4)","v":238},{"$f":"ROUND( F$2+(('coded NOLH for 23-29 factors'!F149-1)*(F$3-F$2)/256), F$4)","v":155},{"$f":"ROUND( G$2+(('coded NOLH for 23-29 factors'!G149-1)*(G$3-G$2)/256), G$4)","v":72},{"$f":"ROUND( H$2+(('coded NOLH for 23-29 factors'!H149-1)*(H$3-H$2)/256), H$4)","v":17},{"$f":"ROUND( I$2+(('coded NOLH for 23-29 factors'!I149-1)*(I$3-I$2)/256), I$4)","v":38},{"$f":"ROUND( J$2+(('coded NOLH for 23-29 factors'!J149-1)*(J$3-J$2)/256), J$4)","v":230},{"$f":"ROUND( K$2+(('coded NOLH for 23-29 factors'!K149-1)*(K$3-K$2)/256), K$4)","v":128},{"$f":"ROUND( L$2+(('coded NOLH for 23-29 factors'!L149-1)*(L$3-L$2)/256), L$4)","v":254},{"$f":"ROUND( M$2+(('coded NOLH for 23-29 factors'!M149-1)*(M$3-M$2)/256), M$4)","v":122},{"$f":"ROUND( N$2+(('coded NOLH for 23-29 factors'!N149-1)*(N$3-N$2)/256), N$4)","v":59},{"$f":"ROUND( O$2+(('coded NOLH for 23-29 factors'!O149-1)*(O$3-O$2)/256), O$4)","v":109},{"$f":"ROUND( P$2+(('coded NOLH for 23-29 factors'!P149-1)*(P$3-P$2)/256), P$4)","v":212},{"$f":"ROUND( Q$2+(('coded NOLH for 23-29 factors'!Q149-1)*(Q$3-Q$2)/256), Q$4)","v":163},{"$f":"ROUND( R$2+(('coded NOLH for 23-29 factors'!R149-1)*(R$3-R$2)/256), R$4)","v":76},{"$f":"ROUND( S$2+(('coded NOLH for 23-29 factors'!S149-1)*(S$3-S$2)/256), S$4)","v":70},{"$f":"ROUND( T$2+(('coded NOLH for 23-29 factors'!T149-1)*(T$3-T$2)/256), T$4)","v":114},{"$f":"ROUND( U$2+(('coded NOLH for 23-29 factors'!U149-1)*(U$3-U$2)/256), U$4)","v":136},{"$f":"ROUND( V$2+(('coded NOLH for 23-29 factors'!V149-1)*(V$3-V$2)/256), V$4)","v":56},{"$f":"ROUND( W$2+(('coded NOLH for 23-29 factors'!W149-1)*(W$3-W$2)/256), W$4)","v":90},{"$f":"ROUND( X$2+(('coded NOLH for 23-29 factors'!X149-1)*(X$3-X$2)/256), X$4)","v":24},{"$f":"ROUND( Y$2+(('coded NOLH for 23-29 factors'!Y149-1)*(Y$3-Y$2)/256), Y$4)","v":46},{"$f":"ROUND( Z$2+(('coded NOLH for 23-29 factors'!Z149-1)*(Z$3-Z$2)/256), Z$4)","v":1},{"$f":"ROUND( AA$2+(('coded NOLH for 23-29 factors'!AA149-1)*(AA$3-AA$2)/256), AA$4)","v":7},{"$f":"ROUND( AB$2+(('coded NOLH for 23-29 factors'!AB149-1)*(AB$3-AB$2)/256), AB$4)","v":166},{"$f":"ROUND( AC$2+(('coded NOLH for 23-29 factors'!AC149-1)*(AC$3-AC$2)/256), AC$4)","v":153},{"$f":"ROUND( AD$2+(('coded NOLH for 23-29 factors'!AD149-1)*(AD$3-AD$2)/256), AD$4)","v":145}]
[null,{"$f":"ROUND( B$2+(('coded NOLH for 23-29 factors'!B150-1)*(B$3-B$2)/256), B$4)","v":186},{"$f":"ROUND( C$2+(('coded NOLH for 23-29 factors'!C150-1)*(C$3-C$2)/256), C$4)","v":122},{"$f":"ROUND( D$2+(('coded NOLH for 23-29 factors'!D150-1)*(D$3-D$2)/256), D$4)","v":53},{"$f":"ROUND( E$2+(('coded NOLH for 23-29 factors'!E150-1)*(E$3-E$2)/256), E$4)","v":56},{"$f":"ROUND( F$2+(('coded NOLH for 23-29 factors'!F150-1)*(F$3-F$2)/256), F$4)","v":27},{"$f":"ROUND( G$2+(('coded NOLH for 23-29 factors'!G150-1)*(G$3-G$2)/256), G$4)","v":162},{"$f":"ROUND( H$2+(('coded NOLH for 23-29 factors'!H150-1)*(H$3-H$2)/256), H$4)","v":93},{"$f":"ROUND( I$2+(('coded NOLH for 23-29 factors'!I150-1)*(I$3-I$2)/256), I$4)","v":88},{"$f":"ROUND( J$2+(('coded NOLH for 23-29 factors'!J150-1)*(J$3-J$2)/256), J$4)","v":217},{"$f":"ROUND( K$2+(('coded NOLH for 23-29 factors'!K150-1)*(K$3-K$2)/256), K$4)","v":163},{"$f":"ROUND( L$2+(('coded NOLH for 23-29 factors'!L150-1)*(L$3-L$2)/256), L$4)","v":127},{"$f":"ROUND( M$2+(('coded NOLH for 23-29 factors'!M150-1)*(M$3-M$2)/256), M$4)","v":90},{"$f":"ROUND( N$2+(('coded NOLH for 23-29 factors'!N150-1)*(N$3-N$2)/256), N$4)","v":226},{"$f":"ROUND( O$2+(('coded NOLH for 23-29 factors'!O150-1)*(O$3-O$2)/256), O$4)","v":173},{"$f":"ROUND( P$2+(('coded NOLH for 23-29 factors'!P150-1)*(P$3-P$2)/256), P$4)","v":172},{"$f":"ROUND( Q$2+(('coded NOLH for 23-29 factors'!Q150-1)*(Q$3-Q$2)/256), Q$4)","v":171},{"$f":"ROUND( R$2+(('coded NOLH for 23-29 factors'!R150-1)*(R$3-R$2)/256), R$4)","v":45},{"$f":"ROUND( S$2+(('coded NOLH for 23-29 factors'!S150-1)*(S$3-S$2)/256), S$4)","v":218},{"$f":"ROUND( T$2+(('coded NOLH for 23-29 factors'!T150-1)*(T$3-T$2)/256), T$4)","v":229},{"$f":"ROUND( U$2+(('coded NOLH for 23-29 factors'!U150-1)*(U$3-U$2)/256), U$4)","v":176},{"$f":"ROUND( V$2+(('coded NOLH for 23-29 factors'!V150-1)*(V$3-V$2)/256), V$4)","v":38},{"$f":"ROUND( W$2+(('coded NOLH for 23-29 factors'!W150-1)*(W$3-W$2)/256), W$4)","v":226},{"$f":"ROUND( X$2+(('coded NOLH for 23-29 factors'!X150-1)*(X$3-X$2)/256), X$4)","v":153},{"$f":"ROUND( Y$2+(('coded NOLH for 23-29 factors'!Y150-1)*(Y$3-Y$2)/256), Y$4)","v":93},{"$f":"ROUND( Z$2+(('coded NOLH for 23-29 factors'!Z150-1)*(Z$3-Z$2)/256), Z$4)","v":114},{"$f":"ROUND( AA$2+(('coded NOLH for 23-29 factors'!AA150-1)*(AA$3-AA$2)/256), AA$4)","v":229},{"$f":"ROUND( AB$2+(('coded NOLH for 23-29 factors'!AB150-1)*(AB$3-AB$2)/256), AB$4)","v":28},{"$f":"ROUND( AC$2+(('coded NOLH for 23-29 factors'!AC150-1)*(AC$3-AC$2)/256), AC$4)","v":9},{"$f":"ROUND( AD$2+(('coded NOLH for 23-29 factors'!AD150-1)*(AD$3-AD$2)/256), AD$4)","v":127}]
[null,{"$f":"ROUND( B$2+(('coded NOLH for 23-29 factors'!B151-1)*(B$3-B$2)/256), B$4)","v":136},{"$f":"ROUND( C$2+(('coded NOLH for 23-29 factors'!C151-1)*(C$3-C$2)/256), C$4)","v":186},{"$f":"ROUND( D$2+(('coded NOLH for 23-29 factors'!D151-1)*(D$3-D$2)/256), D$4)","v":52},{"$f":"ROUND( E$2+(('coded NOLH for 23-29 factors'!E151-1)*(E$3-E$2)/256), E$4)","v":101},{"$f":"ROUND( F$2+(('coded NOLH for 23-29 factors'!F151-1)*(F$3-F$2)/256), F$4)","v":121},{"$f":"ROUND( G$2+(('coded NOLH for 23-29 factors'!G151-1)*(G$3-G$2)/256), G$4)","v":185},{"$f":"ROUND( H$2+(('coded NOLH for 23-29 factors'!H151-1)*(H$3-H$2)/256), H$4)","v":39},{"$f":"ROUND( I$2+(('coded NOLH for 23-29 factors'!I151-1)*(I$3-I$2)/256), I$4)","v":84},{"$f":"ROUND( J$2+(('coded NOLH for 23-29 factors'!J151-1)*(J$3-J$2)/256), J$4)","v":59},{"$f":"ROUND( K$2+(('coded NOLH for 23-29 factors'!K151-1)*(K$3-K$2)/256), K$4)","v":56},{"$f":"ROUND( L$2+(('coded NOLH for 23-29 factors'!L151-1)*(L$3-L$2)/256), L$4)","v":25},{"$f":"ROUND( M$2+(('coded NOLH for 23-29 factors'!M151-1)*(M$3-M$2)/256), M$4)","v":195},{"$f":"ROUND( N$2+(('coded NOLH for 23-29 factors'!N151-1)*(N$3-N$2)/256), N$4)","v":101},{"$f":"ROUND( O$2+(('coded NOLH for 23-29 factors'!O151-1)*(O$3-O$2)/256), O$4)","v":96},{"$f":"ROUND( P$2+(('coded NOLH for 23-29 factors'!P151-1)*(P$3-P$2)/256), P$4)","v":135},{"$f":"ROUND( Q$2+(('coded NOLH for 23-29 factors'!Q151-1)*(Q$3-Q$2)/256), Q$4)","v":213},{"$f":"ROUND( R$2+(('coded NOLH for 23-29 factors'!R151-1)*(R$3-R$2)/256), R$4)","v":30},{"$f":"ROUND( S$2+(('coded NOLH for 23-29 factors'!S151-1)*(S$3-S$2)/256), S$4)","v":210},{"$f":"ROUND( T$2+(('coded NOLH for 23-29 factors'!T151-1)*(T$3-T$2)/256), T$4)","v":218},{"$f":"ROUND( U$2+(('coded NOLH for 23-29 factors'!U151-1)*(U$3-U$2)/256), U$4)","v":133},{"$f":"ROUND( V$2+(('coded NOLH for 23-29 factors'!V151-1)*(V$3-V$2)/256), V$4)","v":105},{"$f":"ROUND( W$2+(('coded NOLH for 23-29 factors'!W151-1)*(W$3-W$2)/256), W$4)","v":180},{"$f":"ROUND( X$2+(('coded NOLH for 23-29 factors'!X151-1)*(X$3-X$2)/256), X$4)","v":177},{"$f":"ROUND( Y$2+(('coded NOLH for 23-29 factors'!Y151-1)*(Y$3-Y$2)/256), Y$4)","v":11},{"$f":"ROUND( Z$2+(('coded NOLH for 23-29 factors'!Z151-1)*(Z$3-Z$2)/256), Z$4)","v":177},{"$f":"ROUND( AA$2+(('coded NOLH for 23-29 factors'!AA151-1)*(AA$3-AA$2)/256), AA$4)","v":252},{"$f":"ROUND( AB$2+(('coded NOLH for 23-29 factors'!AB151-1)*(AB$3-AB$2)/256), AB$4)","v":82},{"$f":"ROUND( AC$2+(('coded NOLH for 23-29 factors'!AC151-1)*(AC$3-AC$2)/256), AC$4)","v":100},{"$f":"ROUND( AD$2+(('coded NOLH for 23-29 factors'!AD151-1)*(AD$3-AD$2)/256), AD$4)","v":104}]
[null,{"$f":"ROUND( B$2+(('coded NOLH for 23-29 factors'!B152-1)*(B$3-B$2)/256), B$4)","v":206},{"$f":"ROUND( C$2+(('coded NOLH for 23-29 factors'!C152-1)*(C$3-C$2)/256), C$4)","v":53},{"$f":"ROUND( D$2+(('coded NOLH for 23-29 factors'!D152-1)*(D$3-D$2)/256), D$4)","v":136},{"$f":"ROUND( E$2+(('coded NOLH for 23-29 factors'!E152-1)*(E$3-E$2)/256), E$4)","v":128},{"$f":"ROUND( F$2+(('coded NOLH for 23-29 factors'!F152-1)*(F$3-F$2)/256), F$4)","v":49},{"$f":"ROUND( G$2+(('coded NOLH for 23-29 factors'!G152-1)*(G$3-G$2)/256), G$4)","v":247},{"$f":"ROUND( H$2+(('coded NOLH for 23-29 factors'!H152-1)*(H$3-H$2)/256), H$4)","v":34},{"$f":"ROUND( I$2+(('coded NOLH for 23-29 factors'!I152-1)*(I$3-I$2)/256), I$4)","v":55},{"$f":"ROUND( J$2+(('coded NOLH for 23-29 factors'!J152-1)*(J$3-J$2)/256), J$4)","v":84},{"$f":"ROUND( K$2+(('coded NOLH for 23-29 factors'!K152-1)*(K$3-K$2)/256), K$4)","v":198},{"$f":"ROUND( L$2+(('coded NOLH for 23-29 factors'!L152-1)*(L$3-L$2)/256), L$4)","v":195},{"$f":"ROUND( M$2+(('coded NOLH for 23-29 factors'!M152-1)*(M$3-M$2)/256), M$4)","v":72},{"$f":"ROUND( N$2+(('coded NOLH for 23-29 factors'!N152-1)*(N$3-N$2)/256), N$4)","v":217},{"$f":"ROUND( O$2+(('coded NOLH for 23-29 factors'!O152-1)*(O$3-O$2)/256), O$4)","v":232},{"$f":"ROUND( P$2+(('coded NOLH for 23-29 factors'!P152-1)*(P$3-P$2)/256), P$4)","v":80},{"$f":"ROUND( Q$2+(('coded NOLH for 23-29 factors'!Q152-1)*(Q$3-Q$2)/256), Q$4)","v":122},{"$f":"ROUND( R$2+(('coded NOLH for 23-29 factors'!R152-1)*(R$3-R$2)/256), R$4)","v":158},{"$f":"ROUND( S$2+(('coded NOLH for 23-29 factors'!S152-1)*(S$3-S$2)/256), S$4)","v":61},{"$f":"ROUND( T$2+(('coded NOLH for 23-29 factors'!T152-1)*(T$3-T$2)/256), T$4)","v":68},{"$f":"ROUND( U$2+(('coded NOLH for 23-29 factors'!U152-1)*(U$3-U$2)/256), U$4)","v":254},{"$f":"ROUND( V$2+(('coded NOLH for 23-29 factors'!V152-1)*(V$3-V$2)/256), V$4)","v":15},{"$f":"ROUND( W$2+(('coded NOLH for 23-29 factors'!W152-1)*(W$3-W$2)/256), W$4)","v":231},{"$f":"ROUND( X$2+(('coded NOLH for 23-29 factors'!X152-1)*(X$3-X$2)/256), X$4)","v":211},{"$f":"ROUND( Y$2+(('coded NOLH for 23-29 factors'!Y152-1)*(Y$3-Y$2)/256), Y$4)","v":17},{"$f":"ROUND( Z$2+(('coded NOLH for 23-29 factors'!Z152-1)*(Z$3-Z$2)/256), Z$4)","v":202},{"$f":"ROUND( AA$2+(('coded NOLH for 23-29 factors'!AA152-1)*(AA$3-AA$2)/256), AA$4)","v":136},{"$f":"ROUND( AB$2+(('coded NOLH for 23-29 factors'!AB152-1)*(AB$3-AB$2)/256), AB$4)","v":17},{"$f":"ROUND( AC$2+(('coded NOLH for 23-29 factors'!AC152-1)*(AC$3-AC$2)/256), AC$4)","v":113},{"$f":"ROUND( AD$2+(('coded NOLH for 23-29 factors'!AD152-1)*(AD$3-AD$2)/256), AD$4)","v":227}]
[null,{"$f":"ROUND( B$2+(('coded NOLH for 23-29 factors'!B153-1)*(B$3-B$2)/256), B$4)","v":205},{"$f":"ROUND( C$2+(('coded NOLH for 23-29 factors'!C153-1)*(C$3-C$2)/256), C$4)","v":206},{"$f":"ROUND( D$2+(('coded NOLH for 23-29 factors'!D153-1)*(D$3-D$2)/256), D$4)","v":186},{"$f":"ROUND( E$2+(('coded NOLH for 23-29 factors'!E153-1)*(E$3-E$2)/256), E$4)","v":86},{"$f":"ROUND( F$2+(('coded NOLH for 23-29 factors'!F153-1)*(F$3-F$2)/256), F$4)","v":66},{"$f":"ROUND( G$2+(('coded NOLH for 23-29 factors'!G153-1)*(G$3-G$2)/256), G$4)","v":188},{"$f":"ROUND( H$2+(('coded NOLH for 23-29 factors'!H153-1)*(H$3-H$2)/256), H$4)","v":58},{"$f":"ROUND( I$2+(('coded NOLH for 23-29 factors'!I153-1)*(I$3-I$2)/256), I$4)","v":22},{"$f":"ROUND( J$2+(('coded NOLH for 23-29 factors'!J153-1)*(J$3-J$2)/256), J$4)","v":138},{"$f":"ROUND( K$2+(('coded NOLH for 23-29 factors'!K153-1)*(K$3-K$2)/256), K$4)","v":146},{"$f":"ROUND( L$2+(('coded NOLH for 23-29 factors'!L153-1)*(L$3-L$2)/256), L$4)","v":51},{"$f":"ROUND( M$2+(('coded NOLH for 23-29 factors'!M153-1)*(M$3-M$2)/256), M$4)","v":252},{"$f":"ROUND( N$2+(('coded NOLH for 23-29 factors'!N153-1)*(N$3-N$2)/256), N$4)","v":38},{"$f":"ROUND( O$2+(('coded NOLH for 23-29 factors'!O153-1)*(O$3-O$2)/256), O$4)","v":50},{"$f":"ROUND( P$2+(('coded NOLH for 23-29 factors'!P153-1)*(P$3-P$2)/256), P$4)","v":59},{"$f":"ROUND( Q$2+(('coded NOLH for 23-29 factors'!Q153-1)*(Q$3-Q$2)/256), Q$4)","v":40},{"$f":"ROUND( R$2+(('coded NOLH for 23-29 factors'!R153-1)*(R$3-R$2)/256), R$4)","v":184},{"$f":"ROUND( S$2+(('coded NOLH for 23-29 factors'!S153-1)*(S$3-S$2)/256), S$4)","v":75},{"$f":"ROUND( T$2+(('coded NOLH for 23-29 factors'!T153-1)*(T$3-T$2)/256), T$4)","v":112},{"$f":"ROUND( U$2+(('coded NOLH for 23-29 factors'!U153-1)*(U$3-U$2)/256), U$4)","v":209},{"$f":"ROUND( V$2+(('coded NOLH for 23-29 factors'!V153-1)*(V$3-V$2)/256), V$4)","v":11},{"$f":"ROUND( W$2+(('coded NOLH for 23-29 factors'!W153-1)*(W$3-W$2)/256), W$4)","v":230},{"$f":"ROUND( X$2+(('coded NOLH for 23-29 factors'!X153-1)*(X$3-X$2)/256), X$4)","v":250},{"$f":"ROUND( Y$2+(('coded NOLH for 23-29 factors'!Y153-1)*(Y$3-Y$2)/256), Y$4)","v":87},{"$f":"ROUND( Z$2+(('coded NOLH for 23-29 factors'!Z153-1)*(Z$3-Z$2)/256), Z$4)","v":224},{"$f":"ROUND( AA$2+(('coded NOLH for 23-29 factors'!AA153-1)*(AA$3-AA$2)/256), AA$4)","v":191},{"$f":"ROUND( AB$2+(('coded NOLH for 23-29 factors'!AB153-1)*(AB$3-AB$2)/256), AB$4)","v":80},{"$f":"ROUND( AC$2+(('coded NOLH for 23-29 factors'!AC153-1)*(AC$3-AC$2)/256), AC$4)","v":86},{"$f":"ROUND( AD$2+(('coded NOLH for 23-29 factors'!AD153-1)*(AD$3-AD$2)/256), AD$4)","v":141}]
[null,{"$f":"ROUND( B$2+(('coded NOLH for 23-29 factors'!B154-1)*(B$3-B$2)/256), B$4)","v":172},{"$f":"ROUND( C$2+(('coded NOLH for 23-29 factors'!C154-1)*(C$3-C$2)/256), C$4)","v":128},{"$f":"ROUND( D$2+(('coded NOLH for 23-29 factors'!D154-1)*(D$3-D$2)/256), D$4)","v":56},{"$f":"ROUND( E$2+(('coded NOLH for 23-29 factors'!E154-1)*(E$3-E$2)/256), E$4)","v":205},{"$f":"ROUND( F$2+(('coded NOLH for 23-29 factors'!F154-1)*(F$3-F$2)/256), F$4)","v":54},{"$f":"ROUND( G$2+(('coded NOLH for 23-29 factors'!G154-1)*(G$3-G$2)/256), G$4)","v":239},{"$f":"ROUND( H$2+(('coded NOLH for 23-29 factors'!H154-1)*(H$3-H$2)/256), H$4)","v":5},{"$f":"ROUND( I$2+(('coded NOLH for 23-29 factors'!I154-1)*(I$3-I$2)/256), I$4)","v":10},{"$f":"ROUND( J$2+(('coded NOLH for 23-29 factors'!J154-1)*(J$3-J$2)/256), J$4)","v":161},{"$f":"ROUND( K$2+(('coded NOLH for 23-29 factors'!K154-1)*(K$3-K$2)/256), K$4)","v":67},{"$f":"ROUND( L$2+(('coded NOLH for 23-29 factors'!L154-1)*(L$3-L$2)/256), L$4)","v":250},{"$f":"ROUND( M$2+(('coded NOLH for 23-29 factors'!M154-1)*(M$3-M$2)/256), M$4)","v":53},{"$f":"ROUND( N$2+(('coded NOLH for 23-29 factors'!N154-1)*(N$3-N$2)/256), N$4)","v":229},{"$f":"ROUND( O$2+(('coded NOLH for 23-29 factors'!O154-1)*(O$3-O$2)/256), O$4)","v":214},{"$f":"ROUND( P$2+(('coded NOLH for 23-29 factors'!P154-1)*(P$3-P$2)/256), P$4)","v":20},{"$f":"ROUND( Q$2+(('coded NOLH for 23-29 factors'!Q154-1)*(Q$3-Q$2)/256), Q$4)","v":181},{"$f":"ROUND( R$2+(('coded NOLH for 23-29 factors'!R154-1)*(R$3-R$2)/256), R$4)","v":22},{"$f":"ROUND( S$2+(('coded NOLH for 23-29 factors'!S154-1)*(S$3-S$2)/256), S$4)","v":234},{"$f":"ROUND( T$2+(('coded NOLH for 23-29 factors'!T154-1)*(T$3-T$2)/256), T$4)","v":152},{"$f":"ROUND( U$2+(('coded NOLH for 23-29 factors'!U154-1)*(U$3-U$2)/256), U$4)","v":56},{"$f":"ROUND( V$2+(('coded NOLH for 23-29 factors'!V154-1)*(V$3-V$2)/256), V$4)","v":219},{"$f":"ROUND( W$2+(('coded NOLH for 23-29 factors'!W154-1)*(W$3-W$2)/256), W$4)","v":80},{"$f":"ROUND( X$2+(('coded NOLH for 23-29 factors'!X154-1)*(X$3-X$2)/256), X$4)","v":18},{"$f":"ROUND( Y$2+(('coded NOLH for 23-29 factors'!Y154-1)*(Y$3-Y$2)/256), Y$4)","v":96},{"$f":"ROUND( Z$2+(('coded NOLH for 23-29 factors'!Z154-1)*(Z$3-Z$2)/256), Z$4)","v":164},{"$f":"ROUND( AA$2+(('coded NOLH for 23-29 factors'!AA154-1)*(AA$3-AA$2)/256), AA$4)","v":142},{"$f":"ROUND( AB$2+(('coded NOLH for 23-29 factors'!AB154-1)*(AB$3-AB$2)/256), AB$4)","v":91},{"$f":"ROUND( AC$2+(('coded NOLH for 23-29 factors'!AC154-1)*(AC$3-AC$2)/256), AC$4)","v":72},{"$f":"ROUND( AD$2+(('coded NOLH for 23-29 factors'!AD154-1)*(AD$3-AD$2)/256), AD$4)","v":107}]
[null,{"$f":"ROUND( B$2+(('coded NOLH for 23-29 factors'!B155-1)*(B$3-B$2)/256), B$4)","v":130},{"$f":"ROUND( C$2+(('coded NOLH for 23-29 factors'!C155-1)*(C$3-C$2)/256), C$4)","v":172},{"$f":"ROUND( D$2+(('coded NOLH for 23-29 factors'!D155-1)*(D$3-D$2)/256), D$4)","v":101},{"$f":"ROUND( E$2+(('coded NOLH for 23-29 factors'!E155-1)*(E$3-E$2)/256), E$4)","v":206},{"$f":"ROUND( F$2+(('coded NOLH for 23-29 factors'!F155-1)*(F$3-F$2)/256), F$4)","v":25},{"$f":"ROUND( G$2+(('coded NOLH for 23-29 factors'!G155-1)*(G$3-G$2)/256), G$4)","v":222},{"$f":"ROUND( H$2+(('coded NOLH for 23-29 factors'!H155-1)*(H$3-H$2)/256), H$4)","v":35},{"$f":"ROUND( I$2+(('coded NOLH for 23-29 factors'!I155-1)*(I$3-I$2)/256), I$4)","v":46},{"$f":"ROUND( J$2+(('coded NOLH for 23-29 factors'!J155-1)*(J$3-J$2)/256), J$4)","v":61},{"$f":"ROUND( K$2+(('coded NOLH for 23-29 factors'!K155-1)*(K$3-K$2)/256), K$4)","v":227},{"$f":"ROUND( L$2+(('coded NOLH for 23-29 factors'!L155-1)*(L$3-L$2)/256), L$4)","v":67},{"$f":"ROUND( M$2+(('coded NOLH for 23-29 factors'!M155-1)*(M$3-M$2)/256), M$4)","v":246},{"$f":"ROUND( N$2+(('coded NOLH for 23-29 factors'!N155-1)*(N$3-N$2)/256), N$4)","v":14},{"$f":"ROUND( O$2+(('coded NOLH for 23-29 factors'!O155-1)*(O$3-O$2)/256), O$4)","v":5},{"$f":"ROUND( P$2+(('coded NOLH for 23-29 factors'!P155-1)*(P$3-P$2)/256), P$4)","v":133},{"$f":"ROUND( Q$2+(('coded NOLH for 23-29 factors'!Q155-1)*(Q$3-Q$2)/256), Q$4)","v":187},{"$f":"ROUND( R$2+(('coded NOLH for 23-29 factors'!R155-1)*(R$3-R$2)/256), R$4)","v":150},{"$f":"ROUND( S$2+(('coded NOLH for 23-29 factors'!S155-1)*(S$3-S$2)/256), S$4)","v":195},{"$f":"ROUND( T$2+(('coded NOLH for 23-29 factors'!T155-1)*(T$3-T$2)/256), T$4)","v":194},{"$f":"ROUND( U$2+(('coded NOLH for 23-29 factors'!U155-1)*(U$3-U$2)/256), U$4)","v":71},{"$f":"ROUND( V$2+(('coded NOLH for 23-29 factors'!V155-1)*(V$3-V$2)/256), V$4)","v":237},{"$f":"ROUND( W$2+(('coded NOLH for 23-29 factors'!W155-1)*(W$3-W$2)/256), W$4)","v":5},{"$f":"ROUND( X$2+(('coded NOLH for 23-29 factors'!X155-1)*(X$3-X$2)/256), X$4)","v":66},{"$f":"ROUND( Y$2+(('coded NOLH for 23-29 factors'!Y155-1)*(Y$3-Y$2)/256), Y$4)","v":107},{"$f":"ROUND( Z$2+(('coded NOLH for 23-29 factors'!Z155-1)*(Z$3-Z$2)/256), Z$4)","v":161},{"$f":"ROUND( AA$2+(('coded NOLH for 23-29 factors'!AA155-1)*(AA$3-AA$2)/256), AA$4)","v":194},{"$f":"ROUND( AB$2+(('coded NOLH for 23-29 factors'!AB155-1)*(AB$3-AB$2)/256), AB$4)","v":49},{"$f":"ROUND( AC$2+(('coded NOLH for 23-29 factors'!AC155-1)*(AC$3-AC$2)/256), AC$4)","v":45},{"$f":"ROUND( AD$2+(('coded NOLH for 23-29 factors'!AD155-1)*(AD$3-AD$2)/256), AD$4)","v":214}]
[null,{"$f":"ROUND( B$2+(('coded NOLH for 23-29 factors'!B156-1)*(B$3-B$2)/256), B$4)","v":157},{"$f":"ROUND( C$2+(('coded NOLH for 23-29 factors'!C156-1)*(C$3-C$2)/256), C$4)","v":56},{"$f":"ROUND( D$2+(('coded NOLH for 23-29 factors'!D156-1)*(D$3-D$2)/256), D$4)","v":130},{"$f":"ROUND( E$2+(('coded NOLH for 23-29 factors'!E156-1)*(E$3-E$2)/256), E$4)","v":136},{"$f":"ROUND( F$2+(('coded NOLH for 23-29 factors'!F156-1)*(F$3-F$2)/256), F$4)","v":124},{"$f":"ROUND( G$2+(('coded NOLH for 23-29 factors'!G156-1)*(G$3-G$2)/256), G$4)","v":133},{"$f":"ROUND( H$2+(('coded NOLH for 23-29 factors'!H156-1)*(H$3-H$2)/256), H$4)","v":57},{"$f":"ROUND( I$2+(('coded NOLH for 23-29 factors'!I156-1)*(I$3-I$2)/256), I$4)","v":71},{"$f":"ROUND( J$2+(('coded NOLH for 23-29 factors'!J156-1)*(J$3-J$2)/256), J$4)","v":81},{"$f":"ROUND( K$2+(('coded NOLH for 23-29 factors'!K156-1)*(K$3-K$2)/256), K$4)","v":68},{"$f":"ROUND( L$2+(('coded NOLH for 23-29 factors'!L156-1)*(L$3-L$2)/256), L$4)","v":201},{"$f":"ROUND( M$2+(('coded NOLH for 23-29 factors'!M156-1)*(M$3-M$2)/256), M$4)","v":28},{"$f":"ROUND( N$2+(('coded NOLH for 23-29 factors'!N156-1)*(N$3-N$2)/256), N$4)","v":213},{"$f":"ROUND( O$2+(('coded NOLH for 23-29 factors'!O156-1)*(O$3-O$2)/256), O$4)","v":166},{"$f":"ROUND( P$2+(('coded NOLH for 23-29 factors'!P156-1)*(P$3-P$2)/256), P$4)","v":181},{"$f":"ROUND( Q$2+(('coded NOLH for 23-29 factors'!Q156-1)*(Q$3-Q$2)/256), Q$4)","v":5},{"$f":"ROUND( R$2+(('coded NOLH for 23-29 factors'!R156-1)*(R$3-R$2)/256), R$4)","v":231},{"$f":"ROUND( S$2+(('coded NOLH for 23-29 factors'!S156-1)*(S$3-S$2)/256), S$4)","v":32},{"$f":"ROUND( T$2+(('coded NOLH for 23-29 factors'!T156-1)*(T$3-T$2)/256), T$4)","v":38},{"$f":"ROUND( U$2+(('coded NOLH for 23-29 factors'!U156-1)*(U$3-U$2)/256), U$4)","v":140},{"$f":"ROUND( V$2+(('coded NOLH for 23-29 factors'!V156-1)*(V$3-V$2)/256), V$4)","v":187},{"$f":"ROUND( W$2+(('coded NOLH for 23-29 factors'!W156-1)*(W$3-W$2)/256), W$4)","v":48},{"$f":"ROUND( X$2+(('coded NOLH for 23-29 factors'!X156-1)*(X$3-X$2)/256), X$4)","v":71},{"$f":"ROUND( Y$2+(('coded NOLH for 23-29 factors'!Y156-1)*(Y$3-Y$2)/256), Y$4)","v":20},{"$f":"ROUND( Z$2+(('coded NOLH for 23-29 factors'!Z156-1)*(Z$3-Z$2)/256), Z$4)","v":185},{"$f":"ROUND( AA$2+(('coded NOLH for 23-29 factors'!AA156-1)*(AA$3-AA$2)/256), AA$4)","v":257},{"$f":"ROUND( AB$2+(('coded NOLH for 23-29 factors'!AB156-1)*(AB$3-AB$2)/256), AB$4)","v":128},{"$f":"ROUND( AC$2+(('coded NOLH for 23-29 factors'!AC156-1)*(AC$3-AC$2)/256), AC$4)","v":116},{"$f":"ROUND( AD$2+(('coded NOLH for 23-29 factors'!AD156-1)*(AD$3-AD$2)/256), AD$4)","v":142}]
[null,{"$f":"ROUND( B$2+(('coded NOLH for 23-29 factors'!B157-1)*(B$3-B$2)/256), B$4)","v":202},{"$f":"ROUND( C$2+(('coded NOLH for 23-29 factors'!C157-1)*(C$3-C$2)/256), C$4)","v":157},{"$f":"ROUND( D$2+(('coded NOLH for 23-29 factors'!D157-1)*(D$3-D$2)/256), D$4)","v":172},{"$f":"ROUND( E$2+(('coded NOLH for 23-29 factors'!E157-1)*(E$3-E$2)/256), E$4)","v":186},{"$f":"ROUND( F$2+(('coded NOLH for 23-29 factors'!F157-1)*(F$3-F$2)/256), F$4)","v":67},{"$f":"ROUND( G$2+(('coded NOLH for 23-29 factors'!G157-1)*(G$3-G$2)/256), G$4)","v":238},{"$f":"ROUND( H$2+(('coded NOLH for 23-29 factors'!H157-1)*(H$3-H$2)/256), H$4)","v":48},{"$f":"ROUND( I$2+(('coded NOLH for 23-29 factors'!I157-1)*(I$3-I$2)/256), I$4)","v":89},{"$f":"ROUND( J$2+(('coded NOLH for 23-29 factors'!J157-1)*(J$3-J$2)/256), J$4)","v":135},{"$f":"ROUND( K$2+(('coded NOLH for 23-29 factors'!K157-1)*(K$3-K$2)/256), K$4)","v":158},{"$f":"ROUND( L$2+(('coded NOLH for 23-29 factors'!L157-1)*(L$3-L$2)/256), L$4)","v":133},{"$f":"ROUND( M$2+(('coded NOLH for 23-29 factors'!M157-1)*(M$3-M$2)/256), M$4)","v":128},{"$f":"ROUND( N$2+(('coded NOLH for 23-29 factors'!N157-1)*(N$3-N$2)/256), N$4)","v":69},{"$f":"ROUND( O$2+(('coded NOLH for 23-29 factors'!O157-1)*(O$3-O$2)/256), O$4)","v":67},{"$f":"ROUND( P$2+(('coded NOLH for 23-29 factors'!P157-1)*(P$3-P$2)/256), P$4)","v":192},{"$f":"ROUND( Q$2+(('coded NOLH for 23-29 factors'!Q157-1)*(Q$3-Q$2)/256), Q$4)","v":83},{"$f":"ROUND( R$2+(('coded NOLH for 23-29 factors'!R157-1)*(R$3-R$2)/256), R$4)","v":257},{"$f":"ROUND( S$2+(('coded NOLH for 23-29 factors'!S157-1)*(S$3-S$2)/256), S$4)","v":8},{"$f":"ROUND( T$2+(('coded NOLH for 23-29 factors'!T157-1)*(T$3-T$2)/256), T$4)","v":17},{"$f":"ROUND( U$2+(('coded NOLH for 23-29 factors'!U157-1)*(U$3-U$2)/256), U$4)","v":51},{"$f":"ROUND( V$2+(('coded NOLH for 23-29 factors'!V157-1)*(V$3-V$2)/256), V$4)","v":168},{"$f":"ROUND( W$2+(('coded NOLH for 23-29 factors'!W157-1)*(W$3-W$2)/256), W$4)","v":84},{"$f":"ROUND( X$2+(('coded NOLH for 23-29 factors'!X157-1)*(X$3-X$2)/256), X$4)","v":92},{"$f":"ROUND( Y$2+(('coded NOLH for 23-29 factors'!Y157-1)*(Y$3-Y$2)/256), Y$4)","v":120},{"$f":"ROUND( Z$2+(('coded NOLH for 23-29 factors'!Z157-1)*(Z$3-Z$2)/256), Z$4)","v":139},{"$f":"ROUND( AA$2+(('coded NOLH for 23-29 factors'!AA157-1)*(AA$3-AA$2)/256), AA$4)","v":247},{"$f":"ROUND( AB$2+(('coded NOLH for 23-29 factors'!AB157-1)*(AB$3-AB$2)/256), AB$4)","v":74},{"$f":"ROUND( AC$2+(('coded NOLH for 23-29 factors'!AC157-1)*(AC$3-AC$2)/256), AC$4)","v":1},{"$f":"ROUND( AD$2+(('coded NOLH for 23-29 factors'!AD157-1)*(AD$3-AD$2)/256), AD$4)","v":186}]
[null,{"$f":"ROUND( B$2+(('coded NOLH for 23-29 factors'!B158-1)*(B$3-B$2)/256), B$4)","v":191},{"$f":"ROUND( C$2+(('coded NOLH for 23-29 factors'!C158-1)*(C$3-C$2)/256), C$4)","v":124},{"$f":"ROUND( D$2+(('coded NOLH for 23-29 factors'!D158-1)*(D$3-D$2)/256), D$4)","v":54},{"$f":"ROUND( E$2+(('coded NOLH for 23-29 factors'!E158-1)*(E$3-E$2)/256), E$4)","v":27},{"$f":"ROUND( F$2+(('coded NOLH for 23-29 factors'!F158-1)*(F$3-F$2)/256), F$4)","v":202},{"$f":"ROUND( G$2+(('coded NOLH for 23-29 factors'!G158-1)*(G$3-G$2)/256), G$4)","v":158},{"$f":"ROUND( H$2+(('coded NOLH for 23-29 factors'!H158-1)*(H$3-H$2)/256), H$4)","v":120},{"$f":"ROUND( I$2+(('coded NOLH for 23-29 factors'!I158-1)*(I$3-I$2)/256), I$4)","v":2},{"$f":"ROUND( J$2+(('coded NOLH for 23-29 factors'!J158-1)*(J$3-J$2)/256), J$4)","v":239},{"$f":"ROUND( K$2+(('coded NOLH for 23-29 factors'!K158-1)*(K$3-K$2)/256), K$4)","v":132},{"$f":"ROUND( L$2+(('coded NOLH for 23-29 factors'!L158-1)*(L$3-L$2)/256), L$4)","v":98},{"$f":"ROUND( M$2+(('coded NOLH for 23-29 factors'!M158-1)*(M$3-M$2)/256), M$4)","v":44},{"$f":"ROUND( N$2+(('coded NOLH for 23-29 factors'!N158-1)*(N$3-N$2)/256), N$4)","v":182},{"$f":"ROUND( O$2+(('coded NOLH for 23-29 factors'!O158-1)*(O$3-O$2)/256), O$4)","v":243},{"$f":"ROUND( P$2+(('coded NOLH for 23-29 factors'!P158-1)*(P$3-P$2)/256), P$4)","v":152},{"$f":"ROUND( Q$2+(('coded NOLH for 23-29 factors'!Q158-1)*(Q$3-Q$2)/256), Q$4)","v":61},{"$f":"ROUND( R$2+(('coded NOLH for 23-29 factors'!R158-1)*(R$3-R$2)/256), R$4)","v":61},{"$f":"ROUND( S$2+(('coded NOLH for 23-29 factors'!S158-1)*(S$3-S$2)/256), S$4)","v":175},{"$f":"ROUND( T$2+(('coded NOLH for 23-29 factors'!T158-1)*(T$3-T$2)/256), T$4)","v":137},{"$f":"ROUND( U$2+(('coded NOLH for 23-29 factors'!U158-1)*(U$3-U$2)/256), U$4)","v":52},{"$f":"ROUND( V$2+(('coded NOLH for 23-29 factors'!V158-1)*(V$3-V$2)/256), V$4)","v":127},{"$f":"ROUND( W$2+(('coded NOLH for 23-29 factors'!W158-1)*(W$3-W$2)/256), W$4)","v":147},{"$f":"ROUND( X$2+(('coded NOLH for 23-29 factors'!X158-1)*(X$3-X$2)/256), X$4)","v":227},{"$f":"ROUND( Y$2+(('coded NOLH for 23-29 factors'!Y158-1)*(Y$3-Y$2)/256), Y$4)","v":218},{"$f":"ROUND( Z$2+(('coded NOLH for 23-29 factors'!Z158-1)*(Z$3-Z$2)/256), Z$4)","v":8},{"$f":"ROUND( AA$2+(('coded NOLH for 23-29 factors'!AA158-1)*(AA$3-AA$2)/256), AA$4)","v":82},{"$f":"ROUND( AB$2+(('coded NOLH for 23-29 factors'!AB158-1)*(AB$3-AB$2)/256), AB$4)","v":40},{"$f":"ROUND( AC$2+(('coded NOLH for 23-29 factors'!AC158-1)*(AC$3-AC$2)/256), AC$4)","v":112},{"$f":"ROUND( AD$2+(('coded NOLH for 23-29 factors'!AD158-1)*(AD$3-AD$2)/256), AD$4)","v":203}]
[null,{"$f":"ROUND( B$2+(('coded NOLH for 23-29 factors'!B159-1)*(B$3-B$2)/256), B$4)","v":134},{"$f":"ROUND( C$2+(('coded NOLH for 23-29 factors'!C159-1)*(C$3-C$2)/256), C$4)","v":191},{"$f":"ROUND( D$2+(('coded NOLH for 23-29 factors'!D159-1)*(D$3-D$2)/256), D$4)","v":25},{"$f":"ROUND( E$2+(('coded NOLH for 23-29 factors'!E159-1)*(E$3-E$2)/256), E$4)","v":121},{"$f":"ROUND( F$2+(('coded NOLH for 23-29 factors'!F159-1)*(F$3-F$2)/256), F$4)","v":157},{"$f":"ROUND( G$2+(('coded NOLH for 23-29 factors'!G159-1)*(G$3-G$2)/256), G$4)","v":246},{"$f":"ROUND( H$2+(('coded NOLH for 23-29 factors'!H159-1)*(H$3-H$2)/256), H$4)","v":82},{"$f":"ROUND( I$2+(('coded NOLH for 23-29 factors'!I159-1)*(I$3-I$2)/256), I$4)","v":30},{"$f":"ROUND( J$2+(('coded NOLH for 23-29 factors'!J159-1)*(J$3-J$2)/256), J$4)","v":63},{"$f":"ROUND( K$2+(('coded NOLH for 23-29 factors'!K159-1)*(K$3-K$2)/256), K$4)","v":26},{"$f":"ROUND( L$2+(('coded NOLH for 23-29 factors'!L159-1)*(L$3-L$2)/256), L$4)","v":202},{"$f":"ROUND( M$2+(('coded NOLH for 23-29 factors'!M159-1)*(M$3-M$2)/256), M$4)","v":192},{"$f":"ROUND( N$2+(('coded NOLH for 23-29 factors'!N159-1)*(N$3-N$2)/256), N$4)","v":133},{"$f":"ROUND( O$2+(('coded NOLH for 23-29 factors'!O159-1)*(O$3-O$2)/256), O$4)","v":11},{"$f":"ROUND( P$2+(('coded NOLH for 23-29 factors'!P159-1)*(P$3-P$2)/256), P$4)","v":180},{"$f":"ROUND( Q$2+(('coded NOLH for 23-29 factors'!Q159-1)*(Q$3-Q$2)/256), Q$4)","v":126},{"$f":"ROUND( R$2+(('coded NOLH for 23-29 factors'!R159-1)*(R$3-R$2)/256), R$4)","v":125},{"$f":"ROUND( S$2+(('coded NOLH for 23-29 factors'!S159-1)*(S$3-S$2)/256), S$4)","v":156},{"$f":"ROUND( T$2+(('coded NOLH for 23-29 factors'!T159-1)*(T$3-T$2)/256), T$4)","v":224},{"$f":"ROUND( U$2+(('coded NOLH for 23-29 factors'!U159-1)*(U$3-U$2)/256), U$4)","v":146},{"$f":"ROUND( V$2+(('coded NOLH for 23-29 factors'!V159-1)*(V$3-V$2)/256), V$4)","v":33},{"$f":"ROUND( W$2+(('coded NOLH for 23-29 factors'!W159-1)*(W$3-W$2)/256), W$4)","v":138},{"$f":"ROUND( X$2+(('coded NOLH for 23-29 factors'!X159-1)*(X$3-X$2)/256), X$4)","v":247},{"$f":"ROUND( Y$2+(('coded NOLH for 23-29 factors'!Y159-1)*(Y$3-Y$2)/256), Y$4)","v":119},{"$f":"ROUND( Z$2+(('coded NOLH for 23-29 factors'!Z159-1)*(Z$3-Z$2)/256), Z$4)","v":64},{"$f":"ROUND( AA$2+(('coded NOLH for 23-29 factors'!AA159-1)*(AA$3-AA$2)/256), AA$4)","v":86},{"$f":"ROUND( AB$2+(('coded NOLH for 23-29 factors'!AB159-1)*(AB$3-AB$2)/256), AB$4)","v":70},{"$f":"ROUND( AC$2+(('coded NOLH for 23-29 factors'!AC159-1)*(AC$3-AC$2)/256), AC$4)","v":104},{"$f":"ROUND( AD$2+(('coded NOLH for 23-29 factors'!AD159-1)*(AD$3-AD$2)/256), AD$4)","v":139}]
[null,{"$f":"ROUND( B$2+(('coded NOLH for 23-29 factors'!B160-1)*(B$3-B$2)/256), B$4)","v":233},{"$f":"ROUND( C$2+(('coded NOLH for 23-29 factors'!C160-1)*(C$3-C$2)/256), C$4)","v":54},{"$f":"ROUND( D$2+(('coded NOLH for 23-29 factors'!D160-1)*(D$3-D$2)/256), D$4)","v":134},{"$f":"ROUND( E$2+(('coded NOLH for 23-29 factors'!E160-1)*(E$3-E$2)/256), E$4)","v":49},{"$f":"ROUND( F$2+(('coded NOLH for 23-29 factors'!F160-1)*(F$3-F$2)/256), F$4)","v":130},{"$f":"ROUND( G$2+(('coded NOLH for 23-29 factors'!G160-1)*(G$3-G$2)/256), G$4)","v":144},{"$f":"ROUND( H$2+(('coded NOLH for 23-29 factors'!H160-1)*(H$3-H$2)/256), H$4)","v":102},{"$f":"ROUND( I$2+(('coded NOLH for 23-29 factors'!I160-1)*(I$3-I$2)/256), I$4)","v":50},{"$f":"ROUND( J$2+(('coded NOLH for 23-29 factors'!J160-1)*(J$3-J$2)/256), J$4)","v":73},{"$f":"ROUND( K$2+(('coded NOLH for 23-29 factors'!K160-1)*(K$3-K$2)/256), K$4)","v":195},{"$f":"ROUND( L$2+(('coded NOLH for 23-29 factors'!L160-1)*(L$3-L$2)/256), L$4)","v":85},{"$f":"ROUND( M$2+(('coded NOLH for 23-29 factors'!M160-1)*(M$3-M$2)/256), M$4)","v":116},{"$f":"ROUND( N$2+(('coded NOLH for 23-29 factors'!N160-1)*(N$3-N$2)/256), N$4)","v":183},{"$f":"ROUND( O$2+(('coded NOLH for 23-29 factors'!O160-1)*(O$3-O$2)/256), O$4)","v":140},{"$f":"ROUND( P$2+(('coded NOLH for 23-29 factors'!P160-1)*(P$3-P$2)/256), P$4)","v":115},{"$f":"ROUND( Q$2+(('coded NOLH for 23-29 factors'!Q160-1)*(Q$3-Q$2)/256), Q$4)","v":149},{"$f":"ROUND( R$2+(('coded NOLH for 23-29 factors'!R160-1)*(R$3-R$2)/256), R$4)","v":224},{"$f":"ROUND( S$2+(('coded NOLH for 23-29 factors'!S160-1)*(S$3-S$2)/256), S$4)","v":64},{"$f":"ROUND( T$2+(('coded NOLH for 23-29 factors'!T160-1)*(T$3-T$2)/256), T$4)","v":21},{"$f":"ROUND( U$2+(('coded NOLH for 23-29 factors'!U160-1)*(U$3-U$2)/256), U$4)","v":76},{"$f":"ROUND( V$2+(('coded NOLH for 23-29 factors'!V160-1)*(V$3-V$2)/256), V$4)","v":13},{"$f":"ROUND( W$2+(('coded NOLH for 23-29 factors'!W160-1)*(W$3-W$2)/256), W$4)","v":184},{"$f":"ROUND( X$2+(('coded NOLH for 23-29 factors'!X160-1)*(X$3-X$2)/256), X$4)","v":141},{"$f":"ROUND( Y$2+(('coded NOLH for 23-29 factors'!Y160-1)*(Y$3-Y$2)/256), Y$4)","v":211},{"$f":"ROUND( Z$2+(('coded NOLH for 23-29 factors'!Z160-1)*(Z$3-Z$2)/256), Z$4)","v":38},{"$f":"ROUND( AA$2+(('coded NOLH for 23-29 factors'!AA160-1)*(AA$3-AA$2)/256), AA$4)","v":37},{"$f":"ROUND( AB$2+(('coded NOLH for 23-29 factors'!AB160-1)*(AB$3-AB$2)/256), AB$4)","v":75},{"$f":"ROUND( AC$2+(('coded NOLH for 23-29 factors'!AC160-1)*(AC$3-AC$2)/256), AC$4)","v":22},{"$f":"ROUND( AD$2+(('coded NOLH for 23-29 factors'!AD160-1)*(AD$3-AD$2)/256), AD$4)","v":176}]
[null,{"$f":"ROUND( B$2+(('coded NOLH for 23-29 factors'!B161-1)*(B$3-B$2)/256), B$4)","v":204},{"$f":"ROUND( C$2+(('coded NOLH for 23-29 factors'!C161-1)*(C$3-C$2)/256), C$4)","v":233},{"$f":"ROUND( D$2+(('coded NOLH for 23-29 factors'!D161-1)*(D$3-D$2)/256), D$4)","v":191},{"$f":"ROUND( E$2+(('coded NOLH for 23-29 factors'!E161-1)*(E$3-E$2)/256), E$4)","v":66},{"$f":"ROUND( F$2+(('coded NOLH for 23-29 factors'!F161-1)*(F$3-F$2)/256), F$4)","v":172},{"$f":"ROUND( G$2+(('coded NOLH for 23-29 factors'!G161-1)*(G$3-G$2)/256), G$4)","v":163},{"$f":"ROUND( H$2+(('coded NOLH for 23-29 factors'!H161-1)*(H$3-H$2)/256), H$4)","v":79},{"$f":"ROUND( I$2+(('coded NOLH for 23-29 factors'!I161-1)*(I$3-I$2)/256), I$4)","v":118},{"$f":"ROUND( J$2+(('coded NOLH for 23-29 factors'!J161-1)*(J$3-J$2)/256), J$4)","v":136},{"$f":"ROUND( K$2+(('coded NOLH for 23-29 factors'!K161-1)*(K$3-K$2)/256), K$4)","v":51},{"$f":"ROUND( L$2+(('coded NOLH for 23-29 factors'!L161-1)*(L$3-L$2)/256), L$4)","v":123},{"$f":"ROUND( M$2+(('coded NOLH for 23-29 factors'!M161-1)*(M$3-M$2)/256), M$4)","v":149},{"$f":"ROUND( N$2+(('coded NOLH for 23-29 factors'!N161-1)*(N$3-N$2)/256), N$4)","v":112},{"$f":"ROUND( O$2+(('coded NOLH for 23-29 factors'!O161-1)*(O$3-O$2)/256), O$4)","v":51},{"$f":"ROUND( P$2+(('coded NOLH for 23-29 factors'!P161-1)*(P$3-P$2)/256), P$4)","v":6},{"$f":"ROUND( Q$2+(('coded NOLH for 23-29 factors'!Q161-1)*(Q$3-Q$2)/256), Q$4)","v":195},{"$f":"ROUND( R$2+(('coded NOLH for 23-29 factors'!R161-1)*(R$3-R$2)/256), R$4)","v":179},{"$f":"ROUND( S$2+(('coded NOLH for 23-29 factors'!S161-1)*(S$3-S$2)/256), S$4)","v":113},{"$f":"ROUND( T$2+(('coded NOLH for 23-29 factors'!T161-1)*(T$3-T$2)/256), T$4)","v":24},{"$f":"ROUND( U$2+(('coded NOLH for 23-29 factors'!U161-1)*(U$3-U$2)/256), U$4)","v":54},{"$f":"ROUND( V$2+(('coded NOLH for 23-29 factors'!V161-1)*(V$3-V$2)/256), V$4)","v":108},{"$f":"ROUND( W$2+(('coded NOLH for 23-29 factors'!W161-1)*(W$3-W$2)/256), W$4)","v":219},{"$f":"ROUND( X$2+(('coded NOLH for 23-29 factors'!X161-1)*(X$3-X$2)/256), X$4)","v":214},{"$f":"ROUND( Y$2+(('coded NOLH for 23-29 factors'!Y161-1)*(Y$3-Y$2)/256), Y$4)","v":244},{"$f":"ROUND( Z$2+(('coded NOLH for 23-29 factors'!Z161-1)*(Z$3-Z$2)/256), Z$4)","v":18},{"$f":"ROUND( AA$2+(('coded NOLH for 23-29 factors'!AA161-1)*(AA$3-AA$2)/256), AA$4)","v":5},{"$f":"ROUND( AB$2+(('coded NOLH for 23-29 factors'!AB161-1)*(AB$3-AB$2)/256), AB$4)","v":2},{"$f":"ROUND( AC$2+(('coded NOLH for 23-29 factors'!AC161-1)*(AC$3-AC$2)/256), AC$4)","v":115},{"$f":"ROUND( AD$2+(('coded NOLH for 23-29 factors'!AD161-1)*(AD$3-AD$2)/256), AD$4)","v":248}]
[null,{"$f":"ROUND( B$2+(('coded NOLH for 23-29 factors'!B162-1)*(B$3-B$2)/256), B$4)","v":192},{"$f":"ROUND( C$2+(('coded NOLH for 23-29 factors'!C162-1)*(C$3-C$2)/256), C$4)","v":49},{"$f":"ROUND( D$2+(('coded NOLH for 23-29 factors'!D162-1)*(D$3-D$2)/256), D$4)","v":27},{"$f":"ROUND( E$2+(('coded NOLH for 23-29 factors'!E162-1)*(E$3-E$2)/256), E$4)","v":204},{"$f":"ROUND( F$2+(('coded NOLH for 23-29 factors'!F162-1)*(F$3-F$2)/256), F$4)","v":205},{"$f":"ROUND( G$2+(('coded NOLH for 23-29 factors'!G162-1)*(G$3-G$2)/256), G$4)","v":153},{"$f":"ROUND( H$2+(('coded NOLH for 23-29 factors'!H162-1)*(H$3-H$2)/256), H$4)","v":43},{"$f":"ROUND( I$2+(('coded NOLH for 23-29 factors'!I162-1)*(I$3-I$2)/256), I$4)","v":59},{"$f":"ROUND( J$2+(('coded NOLH for 23-29 factors'!J162-1)*(J$3-J$2)/256), J$4)","v":132},{"$f":"ROUND( K$2+(('coded NOLH for 23-29 factors'!K162-1)*(K$3-K$2)/256), K$4)","v":7},{"$f":"ROUND( L$2+(('coded NOLH for 23-29 factors'!L162-1)*(L$3-L$2)/256), L$4)","v":65},{"$f":"ROUND( M$2+(('coded NOLH for 23-29 factors'!M162-1)*(M$3-M$2)/256), M$4)","v":59},{"$f":"ROUND( N$2+(('coded NOLH for 23-29 factors'!N162-1)*(N$3-N$2)/256), N$4)","v":198},{"$f":"ROUND( O$2+(('coded NOLH for 23-29 factors'!O162-1)*(O$3-O$2)/256), O$4)","v":160},{"$f":"ROUND( P$2+(('coded NOLH for 23-29 factors'!P162-1)*(P$3-P$2)/256), P$4)","v":40},{"$f":"ROUND( Q$2+(('coded NOLH for 23-29 factors'!Q162-1)*(Q$3-Q$2)/256), Q$4)","v":51},{"$f":"ROUND( R$2+(('coded NOLH for 23-29 factors'!R162-1)*(R$3-R$2)/256), R$4)","v":120},{"$f":"ROUND( S$2+(('coded NOLH for 23-29 factors'!S162-1)*(S$3-S$2)/256), S$4)","v":122},{"$f":"ROUND( T$2+(('coded NOLH for 23-29 factors'!T162-1)*(T$3-T$2)/256), T$4)","v":238},{"$f":"ROUND( U$2+(('coded NOLH for 23-29 factors'!U162-1)*(U$3-U$2)/256), U$4)","v":190},{"$f":"ROUND( V$2+(('coded NOLH for 23-29 factors'!V162-1)*(V$3-V$2)/256), V$4)","v":143},{"$f":"ROUND( W$2+(('coded NOLH for 23-29 factors'!W162-1)*(W$3-W$2)/256), W$4)","v":76},{"$f":"ROUND( X$2+(('coded NOLH for 23-29 factors'!X162-1)*(X$3-X$2)/256), X$4)","v":84},{"$f":"ROUND( Y$2+(('coded NOLH for 23-29 factors'!Y162-1)*(Y$3-Y$2)/256), Y$4)","v":189},{"$f":"ROUND( Z$2+(('coded NOLH for 23-29 factors'!Z162-1)*(Z$3-Z$2)/256), Z$4)","v":62},{"$f":"ROUND( AA$2+(('coded NOLH for 23-29 factors'!AA162-1)*(AA$3-AA$2)/256), AA$4)","v":49},{"$f":"ROUND( AB$2+(('coded NOLH for 23-29 factors'!AB162-1)*(AB$3-AB$2)/256), AB$4)","v":39},{"$f":"ROUND( AC$2+(('coded NOLH for 23-29 factors'!AC162-1)*(AC$3-AC$2)/256), AC$4)","v":23},{"$f":"ROUND( AD$2+(('coded NOLH for 23-29 factors'!AD162-1)*(AD$3-AD$2)/256), AD$4)","v":245}]
[null,{"$f":"ROUND( B$2+(('coded NOLH for 23-29 factors'!B163-1)*(B$3-B$2)/256), B$4)","v":209},{"$f":"ROUND( C$2+(('coded NOLH for 23-29 factors'!C163-1)*(C$3-C$2)/256), C$4)","v":192},{"$f":"ROUND( D$2+(('coded NOLH for 23-29 factors'!D163-1)*(D$3-D$2)/256), D$4)","v":121},{"$f":"ROUND( E$2+(('coded NOLH for 23-29 factors'!E163-1)*(E$3-E$2)/256), E$4)","v":233},{"$f":"ROUND( F$2+(('coded NOLH for 23-29 factors'!F163-1)*(F$3-F$2)/256), F$4)","v":206},{"$f":"ROUND( G$2+(('coded NOLH for 23-29 factors'!G163-1)*(G$3-G$2)/256), G$4)","v":216},{"$f":"ROUND( H$2+(('coded NOLH for 23-29 factors'!H163-1)*(H$3-H$2)/256), H$4)","v":65},{"$f":"ROUND( I$2+(('coded NOLH for 23-29 factors'!I163-1)*(I$3-I$2)/256), I$4)","v":110},{"$f":"ROUND( J$2+(('coded NOLH for 23-29 factors'!J163-1)*(J$3-J$2)/256), J$4)","v":27},{"$f":"ROUND( K$2+(('coded NOLH for 23-29 factors'!K163-1)*(K$3-K$2)/256), K$4)","v":204},{"$f":"ROUND( L$2+(('coded NOLH for 23-29 factors'!L163-1)*(L$3-L$2)/256), L$4)","v":217},{"$f":"ROUND( M$2+(('coded NOLH for 23-29 factors'!M163-1)*(M$3-M$2)/256), M$4)","v":147},{"$f":"ROUND( N$2+(('coded NOLH for 23-29 factors'!N163-1)*(N$3-N$2)/256), N$4)","v":53},{"$f":"ROUND( O$2+(('coded NOLH for 23-29 factors'!O163-1)*(O$3-O$2)/256), O$4)","v":68},{"$f":"ROUND( P$2+(('coded NOLH for 23-29 factors'!P163-1)*(P$3-P$2)/256), P$4)","v":93},{"$f":"ROUND( Q$2+(('coded NOLH for 23-29 factors'!Q163-1)*(Q$3-Q$2)/256), Q$4)","v":158},{"$f":"ROUND( R$2+(('coded NOLH for 23-29 factors'!R163-1)*(R$3-R$2)/256), R$4)","v":29},{"$f":"ROUND( S$2+(('coded NOLH for 23-29 factors'!S163-1)*(S$3-S$2)/256), S$4)","v":172},{"$f":"ROUND( T$2+(('coded NOLH for 23-29 factors'!T163-1)*(T$3-T$2)/256), T$4)","v":244},{"$f":"ROUND( U$2+(('coded NOLH for 23-29 factors'!U163-1)*(U$3-U$2)/256), U$4)","v":138},{"$f":"ROUND( V$2+(('coded NOLH for 23-29 factors'!V163-1)*(V$3-V$2)/256), V$4)","v":124},{"$f":"ROUND( W$2+(('coded NOLH for 23-29 factors'!W163-1)*(W$3-W$2)/256), W$4)","v":95},{"$f":"ROUND( X$2+(('coded NOLH for 23-29 factors'!X163-1)*(X$3-X$2)/256), X$4)","v":69},{"$f":"ROUND( Y$2+(('coded NOLH for 23-29 factors'!Y163-1)*(Y$3-Y$2)/256), Y$4)","v":245},{"$f":"ROUND( Z$2+(('coded NOLH for 23-29 factors'!Z163-1)*(Z$3-Z$2)/256), Z$4)","v":49},{"$f":"ROUND( AA$2+(('coded NOLH for 23-29 factors'!AA163-1)*(AA$3-AA$2)/256), AA$4)","v":19},{"$f":"ROUND( AB$2+(('coded NOLH for 23-29 factors'!AB163-1)*(AB$3-AB$2)/256), AB$4)","v":43},{"$f":"ROUND( AC$2+(('coded NOLH for 23-29 factors'!AC163-1)*(AC$3-AC$2)/256), AC$4)","v":8},{"$f":"ROUND( AD$2+(('coded NOLH for 23-29 factors'!AD163-1)*(AD$3-AD$2)/256), AD$4)","v":122}]
[null,{"$f":"ROUND( B$2+(('coded NOLH for 23-29 factors'!B164-1)*(B$3-B$2)/256), B$4)","v":137},{"$f":"ROUND( C$2+(('coded NOLH for 23-29 factors'!C164-1)*(C$3-C$2)/256), C$4)","v":27},{"$f":"ROUND( D$2+(('coded NOLH for 23-29 factors'!D164-1)*(D$3-D$2)/256), D$4)","v":209},{"$f":"ROUND( E$2+(('coded NOLH for 23-29 factors'!E164-1)*(E$3-E$2)/256), E$4)","v":134},{"$f":"ROUND( F$2+(('coded NOLH for 23-29 factors'!F164-1)*(F$3-F$2)/256), F$4)","v":136},{"$f":"ROUND( G$2+(('coded NOLH for 23-29 factors'!G164-1)*(G$3-G$2)/256), G$4)","v":227},{"$f":"ROUND( H$2+(('coded NOLH for 23-29 factors'!H164-1)*(H$3-H$2)/256), H$4)","v":85},{"$f":"ROUND( I$2+(('coded NOLH for 23-29 factors'!I164-1)*(I$3-I$2)/256), I$4)","v":24},{"$f":"ROUND( J$2+(('coded NOLH for 23-29 factors'!J164-1)*(J$3-J$2)/256), J$4)","v":75},{"$f":"ROUND( K$2+(('coded NOLH for 23-29 factors'!K164-1)*(K$3-K$2)/256), K$4)","v":87},{"$f":"ROUND( L$2+(('coded NOLH for 23-29 factors'!L164-1)*(L$3-L$2)/256), L$4)","v":81},{"$f":"ROUND( M$2+(('coded NOLH for 23-29 factors'!M164-1)*(M$3-M$2)/256), M$4)","v":105},{"$f":"ROUND( N$2+(('coded NOLH for 23-29 factors'!N164-1)*(N$3-N$2)/256), N$4)","v":152},{"$f":"ROUND( O$2+(('coded NOLH for 23-29 factors'!O164-1)*(O$3-O$2)/256), O$4)","v":242},{"$f":"ROUND( P$2+(('coded NOLH for 23-29 factors'!P164-1)*(P$3-P$2)/256), P$4)","v":226},{"$f":"ROUND( Q$2+(('coded NOLH for 23-29 factors'!Q164-1)*(Q$3-Q$2)/256), Q$4)","v":210},{"$f":"ROUND( R$2+(('coded NOLH for 23-29 factors'!R164-1)*(R$3-R$2)/256), R$4)","v":218},{"$f":"ROUND( S$2+(('coded NOLH for 23-29 factors'!S164-1)*(S$3-S$2)/256), S$4)","v":65},{"$f":"ROUND( T$2+(('coded NOLH for 23-29 factors'!T164-1)*(T$3-T$2)/256), T$4)","v":94},{"$f":"ROUND( U$2+(('coded NOLH for 23-29 factors'!U164-1)*(U$3-U$2)/256), U$4)","v":166},{"$f":"ROUND( V$2+(('coded NOLH for 23-29 factors'!V164-1)*(V$3-V$2)/256), V$4)","v":199},{"$f":"ROUND( W$2+(('coded NOLH for 23-29 factors'!W164-1)*(W$3-W$2)/256), W$4)","v":83},{"$f":"ROUND( X$2+(('coded NOLH for 23-29 factors'!X164-1)*(X$3-X$2)/256), X$4)","v":22},{"$f":"ROUND( Y$2+(('coded NOLH for 23-29 factors'!Y164-1)*(Y$3-Y$2)/256), Y$4)","v":204},{"$f":"ROUND( Z$2+(('coded NOLH for 23-29 factors'!Z164-1)*(Z$3-Z$2)/256), Z$4)","v":43},{"$f":"ROUND( AA$2+(('coded NOLH for 23-29 factors'!AA164-1)*(AA$3-AA$2)/256), AA$4)","v":94},{"$f":"ROUND( AB$2+(('coded NOLH for 23-29 factors'!AB164-1)*(AB$3-AB$2)/256), AB$4)","v":19},{"$f":"ROUND( AC$2+(('coded NOLH for 23-29 factors'!AC164-1)*(AC$3-AC$2)/256), AC$4)","v":49},{"$f":"ROUND( AD$2+(('coded NOLH for 23-29 factors'!AD164-1)*(AD$3-AD$2)/256), AD$4)","v":150}]
[null,{"$f":"ROUND( B$2+(('coded NOLH for 23-29 factors'!B165-1)*(B$3-B$2)/256), B$4)","v":231},{"$f":"ROUND( C$2+(('coded NOLH for 23-29 factors'!C165-1)*(C$3-C$2)/256), C$4)","v":137},{"$f":"ROUND( D$2+(('coded NOLH for 23-29 factors'!D165-1)*(D$3-D$2)/256), D$4)","v":192},{"$f":"ROUND( E$2+(('coded NOLH for 23-29 factors'!E165-1)*(E$3-E$2)/256), E$4)","v":191},{"$f":"ROUND( F$2+(('coded NOLH for 23-29 factors'!F165-1)*(F$3-F$2)/256), F$4)","v":186},{"$f":"ROUND( G$2+(('coded NOLH for 23-29 factors'!G165-1)*(G$3-G$2)/256), G$4)","v":155},{"$f":"ROUND( H$2+(('coded NOLH for 23-29 factors'!H165-1)*(H$3-H$2)/256), H$4)","v":119},{"$f":"ROUND( I$2+(('coded NOLH for 23-29 factors'!I165-1)*(I$3-I$2)/256), I$4)","v":18},{"$f":"ROUND( J$2+(('coded NOLH for 23-29 factors'!J165-1)*(J$3-J$2)/256), J$4)","v":203},{"$f":"ROUND( K$2+(('coded NOLH for 23-29 factors'!K165-1)*(K$3-K$2)/256), K$4)","v":136},{"$f":"ROUND( L$2+(('coded NOLH for 23-29 factors'!L165-1)*(L$3-L$2)/256), L$4)","v":149},{"$f":"ROUND( M$2+(('coded NOLH for 23-29 factors'!M165-1)*(M$3-M$2)/256), M$4)","v":221},{"$f":"ROUND( N$2+(('coded NOLH for 23-29 factors'!N165-1)*(N$3-N$2)/256), N$4)","v":94},{"$f":"ROUND( O$2+(('coded NOLH for 23-29 factors'!O165-1)*(O$3-O$2)/256), O$4)","v":27},{"$f":"ROUND( P$2+(('coded NOLH for 23-29 factors'!P165-1)*(P$3-P$2)/256), P$4)","v":201},{"$f":"ROUND( Q$2+(('coded NOLH for 23-29 factors'!Q165-1)*(Q$3-Q$2)/256), Q$4)","v":240},{"$f":"ROUND( R$2+(('coded NOLH for 23-29 factors'!R165-1)*(R$3-R$2)/256), R$4)","v":148},{"$f":"ROUND( S$2+(('coded NOLH for 23-29 factors'!S165-1)*(S$3-S$2)/256), S$4)","v":23},{"$f":"ROUND( T$2+(('coded NOLH for 23-29 factors'!T165-1)*(T$3-T$2)/256), T$4)","v":52},{"$f":"ROUND( U$2+(('coded NOLH for 23-29 factors'!U165-1)*(U$3-U$2)/256), U$4)","v":222},{"$f":"ROUND( V$2+(('coded NOLH for 23-29 factors'!V165-1)*(V$3-V$2)/256), V$4)","v":156},{"$f":"ROUND( W$2+(('coded NOLH for 23-29 factors'!W165-1)*(W$3-W$2)/256), W$4)","v":113},{"$f":"ROUND( X$2+(('coded NOLH for 23-29 factors'!X165-1)*(X$3-X$2)/256), X$4)","v":17},{"$f":"ROUND( Y$2+(('coded NOLH for 23-29 factors'!Y165-1)*(Y$3-Y$2)/256), Y$4)","v":176},{"$f":"ROUND( Z$2+(('coded NOLH for 23-29 factors'!Z165-1)*(Z$3-Z$2)/256), Z$4)","v":93},{"$f":"ROUND( AA$2+(('coded NOLH for 23-29 factors'!AA165-1)*(AA$3-AA$2)/256), AA$4)","v":69},{"$f":"ROUND( AB$2+(('coded NOLH for 23-29 factors'!AB165-1)*(AB$3-AB$2)/256), AB$4)","v":9},{"$f":"ROUND( AC$2+(('coded NOLH for 23-29 factors'!AC165-1)*(AC$3-AC$2)/256), AC$4)","v":30},{"$f":"ROUND( AD$2+(('coded NOLH for 23-29 factors'!AD165-1)*(AD$3-AD$2)/256), AD$4)","v":189}]
[null,{"$f":"ROUND( B$2+(('coded NOLH for 23-29 factors'!B166-1)*(B$3-B$2)/256), B$4)","v":139},{"$f":"ROUND( C$2+(('coded NOLH for 23-29 factors'!C166-1)*(C$3-C$2)/256), C$4)","v":85},{"$f":"ROUND( D$2+(('coded NOLH for 23-29 factors'!D166-1)*(D$3-D$2)/256), D$4)","v":43},{"$f":"ROUND( E$2+(('coded NOLH for 23-29 factors'!E166-1)*(E$3-E$2)/256), E$4)","v":120},{"$f":"ROUND( F$2+(('coded NOLH for 23-29 factors'!F166-1)*(F$3-F$2)/256), F$4)","v":93},{"$f":"ROUND( G$2+(('coded NOLH for 23-29 factors'!G166-1)*(G$3-G$2)/256), G$4)","v":1},{"$f":"ROUND( H$2+(('coded NOLH for 23-29 factors'!H166-1)*(H$3-H$2)/256), H$4)","v":231},{"$f":"ROUND( I$2+(('coded NOLH for 23-29 factors'!I166-1)*(I$3-I$2)/256), I$4)","v":76},{"$f":"ROUND( J$2+(('coded NOLH for 23-29 factors'!J166-1)*(J$3-J$2)/256), J$4)","v":172},{"$f":"ROUND( K$2+(('coded NOLH for 23-29 factors'!K166-1)*(K$3-K$2)/256), K$4)","v":155},{"$f":"ROUND( L$2+(('coded NOLH for 23-29 factors'!L166-1)*(L$3-L$2)/256), L$4)","v":221},{"$f":"ROUND( M$2+(('coded NOLH for 23-29 factors'!M166-1)*(M$3-M$2)/256), M$4)","v":250},{"$f":"ROUND( N$2+(('coded NOLH for 23-29 factors'!N166-1)*(N$3-N$2)/256), N$4)","v":108},{"$f":"ROUND( O$2+(('coded NOLH for 23-29 factors'!O166-1)*(O$3-O$2)/256), O$4)","v":148},{"$f":"ROUND( P$2+(('coded NOLH for 23-29 factors'!P166-1)*(P$3-P$2)/256), P$4)","v":221},{"$f":"ROUND( Q$2+(('coded NOLH for 23-29 factors'!Q166-1)*(Q$3-Q$2)/256), Q$4)","v":211},{"$f":"ROUND( R$2+(('coded NOLH for 23-29 factors'!R166-1)*(R$3-R$2)/256), R$4)","v":209},{"$f":"ROUND( S$2+(('coded NOLH for 23-29 factors'!S166-1)*(S$3-S$2)/256), S$4)","v":78},{"$f":"ROUND( T$2+(('coded NOLH for 23-29 factors'!T166-1)*(T$3-T$2)/256), T$4)","v":253},{"$f":"ROUND( U$2+(('coded NOLH for 23-29 factors'!U166-1)*(U$3-U$2)/256), U$4)","v":218},{"$f":"ROUND( V$2+(('coded NOLH for 23-29 factors'!V166-1)*(V$3-V$2)/256), V$4)","v":203},{"$f":"ROUND( W$2+(('coded NOLH for 23-29 factors'!W166-1)*(W$3-W$2)/256), W$4)","v":75},{"$f":"ROUND( X$2+(('coded NOLH for 23-29 factors'!X166-1)*(X$3-X$2)/256), X$4)","v":205},{"$f":"ROUND( Y$2+(('coded NOLH for 23-29 factors'!Y166-1)*(Y$3-Y$2)/256), Y$4)","v":228},{"$f":"ROUND( Z$2+(('coded NOLH for 23-29 factors'!Z166-1)*(Z$3-Z$2)/256), Z$4)","v":35},{"$f":"ROUND( AA$2+(('coded NOLH for 23-29 factors'!AA166-1)*(AA$3-AA$2)/256), AA$4)","v":150},{"$f":"ROUND( AB$2+(('coded NOLH for 23-29 factors'!AB166-1)*(AB$3-AB$2)/256), AB$4)","v":144},{"$f":"ROUND( AC$2+(('coded NOLH for 23-29 factors'!AC166-1)*(AC$3-AC$2)/256), AC$4)","v":222},{"$f":"ROUND( AD$2+(('coded NOLH for 23-29 factors'!AD166-1)*(AD$3-AD$2)/256), AD$4)","v":22}]
[null,{"$f":"ROUND( B$2+(('coded NOLH for 23-29 factors'!B167-1)*(B$3-B$2)/256), B$4)","v":173},{"$f":"ROUND( C$2+(('coded NOLH for 23-29 factors'!C167-1)*(C$3-C$2)/256), C$4)","v":139},{"$f":"ROUND( D$2+(('coded NOLH for 23-29 factors'!D167-1)*(D$3-D$2)/256), D$4)","v":65},{"$f":"ROUND( E$2+(('coded NOLH for 23-29 factors'!E167-1)*(E$3-E$2)/256), E$4)","v":82},{"$f":"ROUND( F$2+(('coded NOLH for 23-29 factors'!F167-1)*(F$3-F$2)/256), F$4)","v":39},{"$f":"ROUND( G$2+(('coded NOLH for 23-29 factors'!G167-1)*(G$3-G$2)/256), G$4)","v":8},{"$f":"ROUND( H$2+(('coded NOLH for 23-29 factors'!H167-1)*(H$3-H$2)/256), H$4)","v":137},{"$f":"ROUND( I$2+(('coded NOLH for 23-29 factors'!I167-1)*(I$3-I$2)/256), I$4)","v":109},{"$f":"ROUND( J$2+(('coded NOLH for 23-29 factors'!J167-1)*(J$3-J$2)/256), J$4)","v":25},{"$f":"ROUND( K$2+(('coded NOLH for 23-29 factors'!K167-1)*(K$3-K$2)/256), K$4)","v":108},{"$f":"ROUND( L$2+(('coded NOLH for 23-29 factors'!L167-1)*(L$3-L$2)/256), L$4)","v":100},{"$f":"ROUND( M$2+(('coded NOLH for 23-29 factors'!M167-1)*(M$3-M$2)/256), M$4)","v":10},{"$f":"ROUND( N$2+(('coded NOLH for 23-29 factors'!N167-1)*(N$3-N$2)/256), N$4)","v":215},{"$f":"ROUND( O$2+(('coded NOLH for 23-29 factors'!O167-1)*(O$3-O$2)/256), O$4)","v":65},{"$f":"ROUND( P$2+(('coded NOLH for 23-29 factors'!P167-1)*(P$3-P$2)/256), P$4)","v":160},{"$f":"ROUND( Q$2+(('coded NOLH for 23-29 factors'!Q167-1)*(Q$3-Q$2)/256), Q$4)","v":199},{"$f":"ROUND( R$2+(('coded NOLH for 23-29 factors'!R167-1)*(R$3-R$2)/256), R$4)","v":243},{"$f":"ROUND( S$2+(('coded NOLH for 23-29 factors'!S167-1)*(S$3-S$2)/256), S$4)","v":13},{"$f":"ROUND( T$2+(('coded NOLH for 23-29 factors'!T167-1)*(T$3-T$2)/256), T$4)","v":147},{"$f":"ROUND( U$2+(('coded NOLH for 23-29 factors'!U167-1)*(U$3-U$2)/256), U$4)","v":245},{"$f":"ROUND( V$2+(('coded NOLH for 23-29 factors'!V167-1)*(V$3-V$2)/256), V$4)","v":198},{"$f":"ROUND( W$2+(('coded NOLH for 23-29 factors'!W167-1)*(W$3-W$2)/256), W$4)","v":131},{"$f":"ROUND( X$2+(('coded NOLH for 23-29 factors'!X167-1)*(X$3-X$2)/256), X$4)","v":145},{"$f":"ROUND( Y$2+(('coded NOLH for 23-29 factors'!Y167-1)*(Y$3-Y$2)/256), Y$4)","v":187},{"$f":"ROUND( Z$2+(('coded NOLH for 23-29 factors'!Z167-1)*(Z$3-Z$2)/256), Z$4)","v":132},{"$f":"ROUND( AA$2+(('coded NOLH for 23-29 factors'!AA167-1)*(AA$3-AA$2)/256), AA$4)","v":183},{"$f":"ROUND( AB$2+(('coded NOLH for 23-29 factors'!AB167-1)*(AB$3-AB$2)/256), AB$4)","v":55},{"$f":"ROUND( AC$2+(('coded NOLH for 23-29 factors'!AC167-1)*(AC$3-AC$2)/256), AC$4)","v":156},{"$f":"ROUND( AD$2+(('coded NOLH for 23-29 factors'!AD167-1)*(AD$3-AD$2)/256), AD$4)","v":19}]
[null,{"$f":"ROUND( B$2+(('coded NOLH for 23-29 factors'!B168-1)*(B$3-B$2)/256), B$4)","v":193},{"$f":"ROUND( C$2+(('coded NOLH for 23-29 factors'!C168-1)*(C$3-C$2)/256), C$4)","v":43},{"$f":"ROUND( D$2+(('coded NOLH for 23-29 factors'!D168-1)*(D$3-D$2)/256), D$4)","v":173},{"$f":"ROUND( E$2+(('coded NOLH for 23-29 factors'!E168-1)*(E$3-E$2)/256), E$4)","v":102},{"$f":"ROUND( F$2+(('coded NOLH for 23-29 factors'!F168-1)*(F$3-F$2)/256), F$4)","v":34},{"$f":"ROUND( G$2+(('coded NOLH for 23-29 factors'!G168-1)*(G$3-G$2)/256), G$4)","v":16},{"$f":"ROUND( H$2+(('coded NOLH for 23-29 factors'!H168-1)*(H$3-H$2)/256), H$4)","v":209},{"$f":"ROUND( I$2+(('coded NOLH for 23-29 factors'!I168-1)*(I$3-I$2)/256), I$4)","v":111},{"$f":"ROUND( J$2+(('coded NOLH for 23-29 factors'!J168-1)*(J$3-J$2)/256), J$4)","v":109},{"$f":"ROUND( K$2+(('coded NOLH for 23-29 factors'!K168-1)*(K$3-K$2)/256), K$4)","v":176},{"$f":"ROUND( L$2+(('coded NOLH for 23-29 factors'!L168-1)*(L$3-L$2)/256), L$4)","v":203},{"$f":"ROUND( M$2+(('coded NOLH for 23-29 factors'!M168-1)*(M$3-M$2)/256), M$4)","v":212},{"$f":"ROUND( N$2+(('coded NOLH for 23-29 factors'!N168-1)*(N$3-N$2)/256), N$4)","v":48},{"$f":"ROUND( O$2+(('coded NOLH for 23-29 factors'!O168-1)*(O$3-O$2)/256), O$4)","v":234},{"$f":"ROUND( P$2+(('coded NOLH for 23-29 factors'!P168-1)*(P$3-P$2)/256), P$4)","v":116},{"$f":"ROUND( Q$2+(('coded NOLH for 23-29 factors'!Q168-1)*(Q$3-Q$2)/256), Q$4)","v":41},{"$f":"ROUND( R$2+(('coded NOLH for 23-29 factors'!R168-1)*(R$3-R$2)/256), R$4)","v":3},{"$f":"ROUND( S$2+(('coded NOLH for 23-29 factors'!S168-1)*(S$3-S$2)/256), S$4)","v":166},{"$f":"ROUND( T$2+(('coded NOLH for 23-29 factors'!T168-1)*(T$3-T$2)/256), T$4)","v":117},{"$f":"ROUND( U$2+(('coded NOLH for 23-29 factors'!U168-1)*(U$3-U$2)/256), U$4)","v":194},{"$f":"ROUND( V$2+(('coded NOLH for 23-29 factors'!V168-1)*(V$3-V$2)/256), V$4)","v":189},{"$f":"ROUND( W$2+(('coded NOLH for 23-29 factors'!W168-1)*(W$3-W$2)/256), W$4)","v":44},{"$f":"ROUND( X$2+(('coded NOLH for 23-29 factors'!X168-1)*(X$3-X$2)/256), X$4)","v":163},{"$f":"ROUND( Y$2+(('coded NOLH for 23-29 factors'!Y168-1)*(Y$3-Y$2)/256), Y$4)","v":242},{"$f":"ROUND( Z$2+(('coded NOLH for 23-29 factors'!Z168-1)*(Z$3-Z$2)/256), Z$4)","v":40},{"$f":"ROUND( AA$2+(('coded NOLH for 23-29 factors'!AA168-1)*(AA$3-AA$2)/256), AA$4)","v":241},{"$f":"ROUND( AB$2+(('coded NOLH for 23-29 factors'!AB168-1)*(AB$3-AB$2)/256), AB$4)","v":59},{"$f":"ROUND( AC$2+(('coded NOLH for 23-29 factors'!AC168-1)*(AC$3-AC$2)/256), AC$4)","v":206},{"$f":"ROUND( AD$2+(('coded NOLH for 23-29 factors'!AD168-1)*(AD$3-AD$2)/256), AD$4)","v":110}]
[null,{"$f":"ROUND( B$2+(('coded NOLH for 23-29 factors'!B169-1)*(B$3-B$2)/256), B$4)","v":215},{"$f":"ROUND( C$2+(('coded NOLH for 23-29 factors'!C169-1)*(C$3-C$2)/256), C$4)","v":193},{"$f":"ROUND( D$2+(('coded NOLH for 23-29 factors'!D169-1)*(D$3-D$2)/256), D$4)","v":139},{"$f":"ROUND( E$2+(('coded NOLH for 23-29 factors'!E169-1)*(E$3-E$2)/256), E$4)","v":79},{"$f":"ROUND( F$2+(('coded NOLH for 23-29 factors'!F169-1)*(F$3-F$2)/256), F$4)","v":58},{"$f":"ROUND( G$2+(('coded NOLH for 23-29 factors'!G169-1)*(G$3-G$2)/256), G$4)","v":32},{"$f":"ROUND( H$2+(('coded NOLH for 23-29 factors'!H169-1)*(H$3-H$2)/256), H$4)","v":192},{"$f":"ROUND( I$2+(('coded NOLH for 23-29 factors'!I169-1)*(I$3-I$2)/256), I$4)","v":9},{"$f":"ROUND( J$2+(('coded NOLH for 23-29 factors'!J169-1)*(J$3-J$2)/256), J$4)","v":147},{"$f":"ROUND( K$2+(('coded NOLH for 23-29 factors'!K169-1)*(K$3-K$2)/256), K$4)","v":104},{"$f":"ROUND( L$2+(('coded NOLH for 23-29 factors'!L169-1)*(L$3-L$2)/256), L$4)","v":39},{"$f":"ROUND( M$2+(('coded NOLH for 23-29 factors'!M169-1)*(M$3-M$2)/256), M$4)","v":14},{"$f":"ROUND( N$2+(('coded NOLH for 23-29 factors'!N169-1)*(N$3-N$2)/256), N$4)","v":202},{"$f":"ROUND( O$2+(('coded NOLH for 23-29 factors'!O169-1)*(O$3-O$2)/256), O$4)","v":106},{"$f":"ROUND( P$2+(('coded NOLH for 23-29 factors'!P169-1)*(P$3-P$2)/256), P$4)","v":118},{"$f":"ROUND( Q$2+(('coded NOLH for 23-29 factors'!Q169-1)*(Q$3-Q$2)/256), Q$4)","v":66},{"$f":"ROUND( R$2+(('coded NOLH for 23-29 factors'!R169-1)*(R$3-R$2)/256), R$4)","v":4},{"$f":"ROUND( S$2+(('coded NOLH for 23-29 factors'!S169-1)*(S$3-S$2)/256), S$4)","v":187},{"$f":"ROUND( T$2+(('coded NOLH for 23-29 factors'!T169-1)*(T$3-T$2)/256), T$4)","v":61},{"$f":"ROUND( U$2+(('coded NOLH for 23-29 factors'!U169-1)*(U$3-U$2)/256), U$4)","v":246},{"$f":"ROUND( V$2+(('coded NOLH for 23-29 factors'!V169-1)*(V$3-V$2)/256), V$4)","v":240},{"$f":"ROUND( W$2+(('coded NOLH for 23-29 factors'!W169-1)*(W$3-W$2)/256), W$4)","v":77},{"$f":"ROUND( X$2+(('coded NOLH for 23-29 factors'!X169-1)*(X$3-X$2)/256), X$4)","v":178},{"$f":"ROUND( Y$2+(('coded NOLH for 23-29 factors'!Y169-1)*(Y$3-Y$2)/256), Y$4)","v":148},{"$f":"ROUND( Z$2+(('coded NOLH for 23-29 factors'!Z169-1)*(Z$3-Z$2)/256), Z$4)","v":37},{"$f":"ROUND( AA$2+(('coded NOLH for 23-29 factors'!AA169-1)*(AA$3-AA$2)/256), AA$4)","v":137},{"$f":"ROUND( AB$2+(('coded NOLH for 23-29 factors'!AB169-1)*(AB$3-AB$2)/256), AB$4)","v":93},{"$f":"ROUND( AC$2+(('coded NOLH for 23-29 factors'!AC169-1)*(AC$3-AC$2)/256), AC$4)","v":182},{"$f":"ROUND( AD$2+(('coded NOLH for 23-29 factors'!AD169-1)*(AD$3-AD$2)/256), AD$4)","v":58}]
[null,{"$f":"ROUND( B$2+(('coded NOLH for 23-29 factors'!B170-1)*(B$3-B$2)/256), B$4)","v":179},{"$f":"ROUND( C$2+(('coded NOLH for 23-29 factors'!C170-1)*(C$3-C$2)/256), C$4)","v":102},{"$f":"ROUND( D$2+(('coded NOLH for 23-29 factors'!D170-1)*(D$3-D$2)/256), D$4)","v":120},{"$f":"ROUND( E$2+(('coded NOLH for 23-29 factors'!E170-1)*(E$3-E$2)/256), E$4)","v":215},{"$f":"ROUND( F$2+(('coded NOLH for 23-29 factors'!F170-1)*(F$3-F$2)/256), F$4)","v":5},{"$f":"ROUND( G$2+(('coded NOLH for 23-29 factors'!G170-1)*(G$3-G$2)/256), G$4)","v":64},{"$f":"ROUND( H$2+(('coded NOLH for 23-29 factors'!H170-1)*(H$3-H$2)/256), H$4)","v":204},{"$f":"ROUND( I$2+(('coded NOLH for 23-29 factors'!I170-1)*(I$3-I$2)/256), I$4)","v":44},{"$f":"ROUND( J$2+(('coded NOLH for 23-29 factors'!J170-1)*(J$3-J$2)/256), J$4)","v":150},{"$f":"ROUND( K$2+(('coded NOLH for 23-29 factors'!K170-1)*(K$3-K$2)/256), K$4)","v":70},{"$f":"ROUND( L$2+(('coded NOLH for 23-29 factors'!L170-1)*(L$3-L$2)/256), L$4)","v":245},{"$f":"ROUND( M$2+(('coded NOLH for 23-29 factors'!M170-1)*(M$3-M$2)/256), M$4)","v":178},{"$f":"ROUND( N$2+(('coded NOLH for 23-29 factors'!N170-1)*(N$3-N$2)/256), N$4)","v":15},{"$f":"ROUND( O$2+(('coded NOLH for 23-29 factors'!O170-1)*(O$3-O$2)/256), O$4)","v":141},{"$f":"ROUND( P$2+(('coded NOLH for 23-29 factors'!P170-1)*(P$3-P$2)/256), P$4)","v":137},{"$f":"ROUND( Q$2+(('coded NOLH for 23-29 factors'!Q170-1)*(Q$3-Q$2)/256), Q$4)","v":242},{"$f":"ROUND( R$2+(('coded NOLH for 23-29 factors'!R170-1)*(R$3-R$2)/256), R$4)","v":207},{"$f":"ROUND( S$2+(('coded NOLH for 23-29 factors'!S170-1)*(S$3-S$2)/256), S$4)","v":73},{"$f":"ROUND( T$2+(('coded NOLH for 23-29 factors'!T170-1)*(T$3-T$2)/256), T$4)","v":196},{"$f":"ROUND( U$2+(('coded NOLH for 23-29 factors'!U170-1)*(U$3-U$2)/256), U$4)","v":72},{"$f":"ROUND( V$2+(('coded NOLH for 23-29 factors'!V170-1)*(V$3-V$2)/256), V$4)","v":28},{"$f":"ROUND( W$2+(('coded NOLH for 23-29 factors'!W170-1)*(W$3-W$2)/256), W$4)","v":222},{"$f":"ROUND( X$2+(('coded NOLH for 23-29 factors'!X170-1)*(X$3-X$2)/256), X$4)","v":36},{"$f":"ROUND( Y$2+(('coded NOLH for 23-29 factors'!Y170-1)*(Y$3-Y$2)/256), Y$4)","v":210},{"$f":"ROUND( Z$2+(('coded NOLH for 23-29 factors'!Z170-1)*(Z$3-Z$2)/256), Z$4)","v":82},{"$f":"ROUND( AA$2+(('coded NOLH for 23-29 factors'!AA170-1)*(AA$3-AA$2)/256), AA$4)","v":168},{"$f":"ROUND( AB$2+(('coded NOLH for 23-29 factors'!AB170-1)*(AB$3-AB$2)/256), AB$4)","v":135},{"$f":"ROUND( AC$2+(('coded NOLH for 23-29 factors'!AC170-1)*(AC$3-AC$2)/256), AC$4)","v":245},{"$f":"ROUND( AD$2+(('coded NOLH for 23-29 factors'!AD170-1)*(AD$3-AD$2)/256), AD$4)","v":134}]
[null,{"$f":"ROUND( B$2+(('coded NOLH for 23-29 factors'!B171-1)*(B$3-B$2)/256), B$4)","v":156},{"$f":"ROUND( C$2+(('coded NOLH for 23-29 factors'!C171-1)*(C$3-C$2)/256), C$4)","v":179},{"$f":"ROUND( D$2+(('coded NOLH for 23-29 factors'!D171-1)*(D$3-D$2)/256), D$4)","v":82},{"$f":"ROUND( E$2+(('coded NOLH for 23-29 factors'!E171-1)*(E$3-E$2)/256), E$4)","v":193},{"$f":"ROUND( F$2+(('coded NOLH for 23-29 factors'!F171-1)*(F$3-F$2)/256), F$4)","v":35},{"$f":"ROUND( G$2+(('coded NOLH for 23-29 factors'!G171-1)*(G$3-G$2)/256), G$4)","v":69},{"$f":"ROUND( H$2+(('coded NOLH for 23-29 factors'!H171-1)*(H$3-H$2)/256), H$4)","v":233},{"$f":"ROUND( I$2+(('coded NOLH for 23-29 factors'!I171-1)*(I$3-I$2)/256), I$4)","v":108},{"$f":"ROUND( J$2+(('coded NOLH for 23-29 factors'!J171-1)*(J$3-J$2)/256), J$4)","v":110},{"$f":"ROUND( K$2+(('coded NOLH for 23-29 factors'!K171-1)*(K$3-K$2)/256), K$4)","v":212},{"$f":"ROUND( L$2+(('coded NOLH for 23-29 factors'!L171-1)*(L$3-L$2)/256), L$4)","v":9},{"$f":"ROUND( M$2+(('coded NOLH for 23-29 factors'!M171-1)*(M$3-M$2)/256), M$4)","v":40},{"$f":"ROUND( N$2+(('coded NOLH for 23-29 factors'!N171-1)*(N$3-N$2)/256), N$4)","v":197},{"$f":"ROUND( O$2+(('coded NOLH for 23-29 factors'!O171-1)*(O$3-O$2)/256), O$4)","v":41},{"$f":"ROUND( P$2+(('coded NOLH for 23-29 factors'!P171-1)*(P$3-P$2)/256), P$4)","v":113},{"$f":"ROUND( Q$2+(('coded NOLH for 23-29 factors'!Q171-1)*(Q$3-Q$2)/256), Q$4)","v":219},{"$f":"ROUND( R$2+(('coded NOLH for 23-29 factors'!R171-1)*(R$3-R$2)/256), R$4)","v":195},{"$f":"ROUND( S$2+(('coded NOLH for 23-29 factors'!S171-1)*(S$3-S$2)/256), S$4)","v":74},{"$f":"ROUND( T$2+(('coded NOLH for 23-29 factors'!T171-1)*(T$3-T$2)/256), T$4)","v":145},{"$f":"ROUND( U$2+(('coded NOLH for 23-29 factors'!U171-1)*(U$3-U$2)/256), U$4)","v":62},{"$f":"ROUND( V$2+(('coded NOLH for 23-29 factors'!V171-1)*(V$3-V$2)/256), V$4)","v":23},{"$f":"ROUND( W$2+(('coded NOLH for 23-29 factors'!W171-1)*(W$3-W$2)/256), W$4)","v":221},{"$f":"ROUND( X$2+(('coded NOLH for 23-29 factors'!X171-1)*(X$3-X$2)/256), X$4)","v":78},{"$f":"ROUND( Y$2+(('coded NOLH for 23-29 factors'!Y171-1)*(Y$3-Y$2)/256), Y$4)","v":239},{"$f":"ROUND( Z$2+(('coded NOLH for 23-29 factors'!Z171-1)*(Z$3-Z$2)/256), Z$4)","v":135},{"$f":"ROUND( AA$2+(('coded NOLH for 23-29 factors'!AA171-1)*(AA$3-AA$2)/256), AA$4)","v":224},{"$f":"ROUND( AB$2+(('coded NOLH for 23-29 factors'!AB171-1)*(AB$3-AB$2)/256), AB$4)","v":151},{"$f":"ROUND( AC$2+(('coded NOLH for 23-29 factors'!AC171-1)*(AC$3-AC$2)/256), AC$4)","v":224},{"$f":"ROUND( AD$2+(('coded NOLH for 23-29 factors'!AD171-1)*(AD$3-AD$2)/256), AD$4)","v":83}]
[null,{"$f":"ROUND( B$2+(('coded NOLH for 23-29 factors'!B172-1)*(B$3-B$2)/256), B$4)","v":176},{"$f":"ROUND( C$2+(('coded NOLH for 23-29 factors'!C172-1)*(C$3-C$2)/256), C$4)","v":120},{"$f":"ROUND( D$2+(('coded NOLH for 23-29 factors'!D172-1)*(D$3-D$2)/256), D$4)","v":156},{"$f":"ROUND( E$2+(('coded NOLH for 23-29 factors'!E172-1)*(E$3-E$2)/256), E$4)","v":173},{"$f":"ROUND( F$2+(('coded NOLH for 23-29 factors'!F172-1)*(F$3-F$2)/256), F$4)","v":57},{"$f":"ROUND( G$2+(('coded NOLH for 23-29 factors'!G172-1)*(G$3-G$2)/256), G$4)","v":61},{"$f":"ROUND( H$2+(('coded NOLH for 23-29 factors'!H172-1)*(H$3-H$2)/256), H$4)","v":134},{"$f":"ROUND( I$2+(('coded NOLH for 23-29 factors'!I172-1)*(I$3-I$2)/256), I$4)","v":80},{"$f":"ROUND( J$2+(('coded NOLH for 23-29 factors'!J172-1)*(J$3-J$2)/256), J$4)","v":64},{"$f":"ROUND( K$2+(('coded NOLH for 23-29 factors'!K172-1)*(K$3-K$2)/256), K$4)","v":119},{"$f":"ROUND( L$2+(('coded NOLH for 23-29 factors'!L172-1)*(L$3-L$2)/256), L$4)","v":224},{"$f":"ROUND( M$2+(('coded NOLH for 23-29 factors'!M172-1)*(M$3-M$2)/256), M$4)","v":177},{"$f":"ROUND( N$2+(('coded NOLH for 23-29 factors'!N172-1)*(N$3-N$2)/256), N$4)","v":54},{"$f":"ROUND( O$2+(('coded NOLH for 23-29 factors'!O172-1)*(O$3-O$2)/256), O$4)","v":174},{"$f":"ROUND( P$2+(('coded NOLH for 23-29 factors'!P172-1)*(P$3-P$2)/256), P$4)","v":208},{"$f":"ROUND( Q$2+(('coded NOLH for 23-29 factors'!Q172-1)*(Q$3-Q$2)/256), Q$4)","v":37},{"$f":"ROUND( R$2+(('coded NOLH for 23-29 factors'!R172-1)*(R$3-R$2)/256), R$4)","v":82},{"$f":"ROUND( S$2+(('coded NOLH for 23-29 factors'!S172-1)*(S$3-S$2)/256), S$4)","v":249},{"$f":"ROUND( T$2+(('coded NOLH for 23-29 factors'!T172-1)*(T$3-T$2)/256), T$4)","v":123},{"$f":"ROUND( U$2+(('coded NOLH for 23-29 factors'!U172-1)*(U$3-U$2)/256), U$4)","v":11},{"$f":"ROUND( V$2+(('coded NOLH for 23-29 factors'!V172-1)*(V$3-V$2)/256), V$4)","v":7},{"$f":"ROUND( W$2+(('coded NOLH for 23-29 factors'!W172-1)*(W$3-W$2)/256), W$4)","v":154},{"$f":"ROUND( X$2+(('coded NOLH for 23-29 factors'!X172-1)*(X$3-X$2)/256), X$4)","v":136},{"$f":"ROUND( Y$2+(('coded NOLH for 23-29 factors'!Y172-1)*(Y$3-Y$2)/256), Y$4)","v":152},{"$f":"ROUND( Z$2+(('coded NOLH for 23-29 factors'!Z172-1)*(Z$3-Z$2)/256), Z$4)","v":109},{"$f":"ROUND( AA$2+(('coded NOLH for 23-29 factors'!AA172-1)*(AA$3-AA$2)/256), AA$4)","v":173},{"$f":"ROUND( AB$2+(('coded NOLH for 23-29 factors'!AB172-1)*(AB$3-AB$2)/256), AB$4)","v":12},{"$f":"ROUND( AC$2+(('coded NOLH for 23-29 factors'!AC172-1)*(AC$3-AC$2)/256), AC$4)","v":203},{"$f":"ROUND( AD$2+(('coded NOLH for 23-29 factors'!AD172-1)*(AD$3-AD$2)/256), AD$4)","v":24}]
[null,{"$f":"ROUND( B$2+(('coded NOLH for 23-29 factors'!B173-1)*(B$3-B$2)/256), B$4)","v":138},{"$f":"ROUND( C$2+(('coded NOLH for 23-29 factors'!C173-1)*(C$3-C$2)/256), C$4)","v":176},{"$f":"ROUND( D$2+(('coded NOLH for 23-29 factors'!D173-1)*(D$3-D$2)/256), D$4)","v":179},{"$f":"ROUND( E$2+(('coded NOLH for 23-29 factors'!E173-1)*(E$3-E$2)/256), E$4)","v":139},{"$f":"ROUND( F$2+(('coded NOLH for 23-29 factors'!F173-1)*(F$3-F$2)/256), F$4)","v":48},{"$f":"ROUND( G$2+(('coded NOLH for 23-29 factors'!G173-1)*(G$3-G$2)/256), G$4)","v":78},{"$f":"ROUND( H$2+(('coded NOLH for 23-29 factors'!H173-1)*(H$3-H$2)/256), H$4)","v":191},{"$f":"ROUND( I$2+(('coded NOLH for 23-29 factors'!I173-1)*(I$3-I$2)/256), I$4)","v":74},{"$f":"ROUND( J$2+(('coded NOLH for 23-29 factors'!J173-1)*(J$3-J$2)/256), J$4)","v":137},{"$f":"ROUND( K$2+(('coded NOLH for 23-29 factors'!K173-1)*(K$3-K$2)/256), K$4)","v":179},{"$f":"ROUND( L$2+(('coded NOLH for 23-29 factors'!L173-1)*(L$3-L$2)/256), L$4)","v":64},{"$f":"ROUND( M$2+(('coded NOLH for 23-29 factors'!M173-1)*(M$3-M$2)/256), M$4)","v":36},{"$f":"ROUND( N$2+(('coded NOLH for 23-29 factors'!N173-1)*(N$3-N$2)/256), N$4)","v":130},{"$f":"ROUND( O$2+(('coded NOLH for 23-29 factors'!O173-1)*(O$3-O$2)/256), O$4)","v":69},{"$f":"ROUND( P$2+(('coded NOLH for 23-29 factors'!P173-1)*(P$3-P$2)/256), P$4)","v":228},{"$f":"ROUND( Q$2+(('coded NOLH for 23-29 factors'!Q173-1)*(Q$3-Q$2)/256), Q$4)","v":10},{"$f":"ROUND( R$2+(('coded NOLH for 23-29 factors'!R173-1)*(R$3-R$2)/256), R$4)","v":57},{"$f":"ROUND( S$2+(('coded NOLH for 23-29 factors'!S173-1)*(S$3-S$2)/256), S$4)","v":177},{"$f":"ROUND( T$2+(('coded NOLH for 23-29 factors'!T173-1)*(T$3-T$2)/256), T$4)","v":25},{"$f":"ROUND( U$2+(('coded NOLH for 23-29 factors'!U173-1)*(U$3-U$2)/256), U$4)","v":85},{"$f":"ROUND( V$2+(('coded NOLH for 23-29 factors'!V173-1)*(V$3-V$2)/256), V$4)","v":29},{"$f":"ROUND( W$2+(('coded NOLH for 23-29 factors'!W173-1)*(W$3-W$2)/256), W$4)","v":245},{"$f":"ROUND( X$2+(('coded NOLH for 23-29 factors'!X173-1)*(X$3-X$2)/256), X$4)","v":56},{"$f":"ROUND( Y$2+(('coded NOLH for 23-29 factors'!Y173-1)*(Y$3-Y$2)/256), Y$4)","v":206},{"$f":"ROUND( Z$2+(('coded NOLH for 23-29 factors'!Z173-1)*(Z$3-Z$2)/256), Z$4)","v":53},{"$f":"ROUND( AA$2+(('coded NOLH for 23-29 factors'!AA173-1)*(AA$3-AA$2)/256), AA$4)","v":166},{"$f":"ROUND( AB$2+(('coded NOLH for 23-29 factors'!AB173-1)*(AB$3-AB$2)/256), AB$4)","v":104},{"$f":"ROUND( AC$2+(('coded NOLH for 23-29 factors'!AC173-1)*(AC$3-AC$2)/256), AC$4)","v":212},{"$f":"ROUND( AD$2+(('coded NOLH for 23-29 factors'!AD173-1)*(AD$3-AD$2)/256), AD$4)","v":23}]
[null,{"$f":"ROUND( B$2+(('coded NOLH for 23-29 factors'!B174-1)*(B$3-B$2)/256), B$4)","v":210},{"$f":"ROUND( C$2+(('coded NOLH for 23-29 factors'!C174-1)*(C$3-C$2)/256), C$4)","v":57},{"$f":"ROUND( D$2+(('coded NOLH for 23-29 factors'!D174-1)*(D$3-D$2)/256), D$4)","v":5},{"$f":"ROUND( E$2+(('coded NOLH for 23-29 factors'!E174-1)*(E$3-E$2)/256), E$4)","v":93},{"$f":"ROUND( F$2+(('coded NOLH for 23-29 factors'!F174-1)*(F$3-F$2)/256), F$4)","v":138},{"$f":"ROUND( G$2+(('coded NOLH for 23-29 factors'!G174-1)*(G$3-G$2)/256), G$4)","v":68},{"$f":"ROUND( H$2+(('coded NOLH for 23-29 factors'!H174-1)*(H$3-H$2)/256), H$4)","v":202},{"$f":"ROUND( I$2+(('coded NOLH for 23-29 factors'!I174-1)*(I$3-I$2)/256), I$4)","v":75},{"$f":"ROUND( J$2+(('coded NOLH for 23-29 factors'!J174-1)*(J$3-J$2)/256), J$4)","v":215},{"$f":"ROUND( K$2+(('coded NOLH for 23-29 factors'!K174-1)*(K$3-K$2)/256), K$4)","v":206},{"$f":"ROUND( L$2+(('coded NOLH for 23-29 factors'!L174-1)*(L$3-L$2)/256), L$4)","v":78},{"$f":"ROUND( M$2+(('coded NOLH for 23-29 factors'!M174-1)*(M$3-M$2)/256), M$4)","v":167},{"$f":"ROUND( N$2+(('coded NOLH for 23-29 factors'!N174-1)*(N$3-N$2)/256), N$4)","v":97},{"$f":"ROUND( O$2+(('coded NOLH for 23-29 factors'!O174-1)*(O$3-O$2)/256), O$4)","v":167},{"$f":"ROUND( P$2+(('coded NOLH for 23-29 factors'!P174-1)*(P$3-P$2)/256), P$4)","v":230},{"$f":"ROUND( Q$2+(('coded NOLH for 23-29 factors'!Q174-1)*(Q$3-Q$2)/256), Q$4)","v":94},{"$f":"ROUND( R$2+(('coded NOLH for 23-29 factors'!R174-1)*(R$3-R$2)/256), R$4)","v":164},{"$f":"ROUND( S$2+(('coded NOLH for 23-29 factors'!S174-1)*(S$3-S$2)/256), S$4)","v":76},{"$f":"ROUND( T$2+(('coded NOLH for 23-29 factors'!T174-1)*(T$3-T$2)/256), T$4)","v":156},{"$f":"ROUND( U$2+(('coded NOLH for 23-29 factors'!U174-1)*(U$3-U$2)/256), U$4)","v":130},{"$f":"ROUND( V$2+(('coded NOLH for 23-29 factors'!V174-1)*(V$3-V$2)/256), V$4)","v":255},{"$f":"ROUND( W$2+(('coded NOLH for 23-29 factors'!W174-1)*(W$3-W$2)/256), W$4)","v":64},{"$f":"ROUND( X$2+(('coded NOLH for 23-29 factors'!X174-1)*(X$3-X$2)/256), X$4)","v":124},{"$f":"ROUND( Y$2+(('coded NOLH for 23-29 factors'!Y174-1)*(Y$3-Y$2)/256), Y$4)","v":51},{"$f":"ROUND( Z$2+(('coded NOLH for 23-29 factors'!Z174-1)*(Z$3-Z$2)/256), Z$4)","v":145},{"$f":"ROUND( AA$2+(('coded NOLH for 23-29 factors'!AA174-1)*(AA$3-AA$2)/256), AA$4)","v":77},{"$f":"ROUND( AB$2+(('coded NOLH for 23-29 factors'!AB174-1)*(AB$3-AB$2)/256), AB$4)","v":18},{"$f":"ROUND( AC$2+(('coded NOLH for 23-29 factors'!AC174-1)*(AC$3-AC$2)/256), AC$4)","v":214},{"$f":"ROUND( AD$2+(('coded NOLH for 23-29 factors'!AD174-1)*(AD$3-AD$2)/256), AD$4)","v":96}]
[null,{"$f":"ROUND( B$2+(('coded NOLH for 23-29 factors'!B175-1)*(B$3-B$2)/256), B$4)","v":201},{"$f":"ROUND( C$2+(('coded NOLH for 23-29 factors'!C175-1)*(C$3-C$2)/256), C$4)","v":210},{"$f":"ROUND( D$2+(('coded NOLH for 23-29 factors'!D175-1)*(D$3-D$2)/256), D$4)","v":35},{"$f":"ROUND( E$2+(('coded NOLH for 23-29 factors'!E175-1)*(E$3-E$2)/256), E$4)","v":39},{"$f":"ROUND( F$2+(('coded NOLH for 23-29 factors'!F175-1)*(F$3-F$2)/256), F$4)","v":176},{"$f":"ROUND( G$2+(('coded NOLH for 23-29 factors'!G175-1)*(G$3-G$2)/256), G$4)","v":112},{"$f":"ROUND( H$2+(('coded NOLH for 23-29 factors'!H175-1)*(H$3-H$2)/256), H$4)","v":157},{"$f":"ROUND( I$2+(('coded NOLH for 23-29 factors'!I175-1)*(I$3-I$2)/256), I$4)","v":99},{"$f":"ROUND( J$2+(('coded NOLH for 23-29 factors'!J175-1)*(J$3-J$2)/256), J$4)","v":7},{"$f":"ROUND( K$2+(('coded NOLH for 23-29 factors'!K175-1)*(K$3-K$2)/256), K$4)","v":75},{"$f":"ROUND( L$2+(('coded NOLH for 23-29 factors'!L175-1)*(L$3-L$2)/256), L$4)","v":130},{"$f":"ROUND( M$2+(('coded NOLH for 23-29 factors'!M175-1)*(M$3-M$2)/256), M$4)","v":92},{"$f":"ROUND( N$2+(('coded NOLH for 23-29 factors'!N175-1)*(N$3-N$2)/256), N$4)","v":200},{"$f":"ROUND( O$2+(('coded NOLH for 23-29 factors'!O175-1)*(O$3-O$2)/256), O$4)","v":81},{"$f":"ROUND( P$2+(('coded NOLH for 23-29 factors'!P175-1)*(P$3-P$2)/256), P$4)","v":214},{"$f":"ROUND( Q$2+(('coded NOLH for 23-29 factors'!Q175-1)*(Q$3-Q$2)/256), Q$4)","v":75},{"$f":"ROUND( R$2+(('coded NOLH for 23-29 factors'!R175-1)*(R$3-R$2)/256), R$4)","v":247},{"$f":"ROUND( S$2+(('coded NOLH for 23-29 factors'!S175-1)*(S$3-S$2)/256), S$4)","v":118},{"$f":"ROUND( T$2+(('coded NOLH for 23-29 factors'!T175-1)*(T$3-T$2)/256), T$4)","v":254},{"$f":"ROUND( U$2+(('coded NOLH for 23-29 factors'!U175-1)*(U$3-U$2)/256), U$4)","v":116},{"$f":"ROUND( V$2+(('coded NOLH for 23-29 factors'!V175-1)*(V$3-V$2)/256), V$4)","v":214},{"$f":"ROUND( W$2+(('coded NOLH for 23-29 factors'!W175-1)*(W$3-W$2)/256), W$4)","v":114},{"$f":"ROUND( X$2+(('coded NOLH for 23-29 factors'!X175-1)*(X$3-X$2)/256), X$4)","v":144},{"$f":"ROUND( Y$2+(('coded NOLH for 23-29 factors'!Y175-1)*(Y$3-Y$2)/256), Y$4)","v":31},{"$f":"ROUND( Z$2+(('coded NOLH for 23-29 factors'!Z175-1)*(Z$3-Z$2)/256), Z$4)","v":134},{"$f":"ROUND( AA$2+(('coded NOLH for 23-29 factors'!AA175-1)*(AA$3-AA$2)/256), AA$4)","v":119},{"$f":"ROUND( AB$2+(('coded NOLH for 23-29 factors'!AB175-1)*(AB$3-AB$2)/256), AB$4)","v":127},{"$f":"ROUND( AC$2+(('coded NOLH for 23-29 factors'!AC175-1)*(AC$3-AC$2)/256), AC$4)","v":255},{"$f":"ROUND( AD$2+(('coded NOLH for 23-29 factors'!AD175-1)*(AD$3-AD$2)/256), AD$4)","v":46}]
[null,{"$f":"ROUND( B$2+(('coded NOLH for 23-29 factors'!B176-1)*(B$3-B$2)/256), B$4)","v":223},{"$f":"ROUND( C$2+(('coded NOLH for 23-29 factors'!C176-1)*(C$3-C$2)/256), C$4)","v":5},{"$f":"ROUND( D$2+(('coded NOLH for 23-29 factors'!D176-1)*(D$3-D$2)/256), D$4)","v":201},{"$f":"ROUND( E$2+(('coded NOLH for 23-29 factors'!E176-1)*(E$3-E$2)/256), E$4)","v":34},{"$f":"ROUND( F$2+(('coded NOLH for 23-29 factors'!F176-1)*(F$3-F$2)/256), F$4)","v":156},{"$f":"ROUND( G$2+(('coded NOLH for 23-29 factors'!G176-1)*(G$3-G$2)/256), G$4)","v":7},{"$f":"ROUND( H$2+(('coded NOLH for 23-29 factors'!H176-1)*(H$3-H$2)/256), H$4)","v":130},{"$f":"ROUND( I$2+(('coded NOLH for 23-29 factors'!I176-1)*(I$3-I$2)/256), I$4)","v":15},{"$f":"ROUND( J$2+(('coded NOLH for 23-29 factors'!J176-1)*(J$3-J$2)/256), J$4)","v":24},{"$f":"ROUND( K$2+(('coded NOLH for 23-29 factors'!K176-1)*(K$3-K$2)/256), K$4)","v":185},{"$f":"ROUND( L$2+(('coded NOLH for 23-29 factors'!L176-1)*(L$3-L$2)/256), L$4)","v":89},{"$f":"ROUND( M$2+(('coded NOLH for 23-29 factors'!M176-1)*(M$3-M$2)/256), M$4)","v":209},{"$f":"ROUND( N$2+(('coded NOLH for 23-29 factors'!N176-1)*(N$3-N$2)/256), N$4)","v":79},{"$f":"ROUND( O$2+(('coded NOLH for 23-29 factors'!O176-1)*(O$3-O$2)/256), O$4)","v":150},{"$f":"ROUND( P$2+(('coded NOLH for 23-29 factors'!P176-1)*(P$3-P$2)/256), P$4)","v":52},{"$f":"ROUND( Q$2+(('coded NOLH for 23-29 factors'!Q176-1)*(Q$3-Q$2)/256), Q$4)","v":177},{"$f":"ROUND( R$2+(('coded NOLH for 23-29 factors'!R176-1)*(R$3-R$2)/256), R$4)","v":69},{"$f":"ROUND( S$2+(('coded NOLH for 23-29 factors'!S176-1)*(S$3-S$2)/256), S$4)","v":138},{"$f":"ROUND( T$2+(('coded NOLH for 23-29 factors'!T176-1)*(T$3-T$2)/256), T$4)","v":116},{"$f":"ROUND( U$2+(('coded NOLH for 23-29 factors'!U176-1)*(U$3-U$2)/256), U$4)","v":60},{"$f":"ROUND( V$2+(('coded NOLH for 23-29 factors'!V176-1)*(V$3-V$2)/256), V$4)","v":213},{"$f":"ROUND( W$2+(('coded NOLH for 23-29 factors'!W176-1)*(W$3-W$2)/256), W$4)","v":66},{"$f":"ROUND( X$2+(('coded NOLH for 23-29 factors'!X176-1)*(X$3-X$2)/256), X$4)","v":246},{"$f":"ROUND( Y$2+(('coded NOLH for 23-29 factors'!Y176-1)*(Y$3-Y$2)/256), Y$4)","v":29},{"$f":"ROUND( Z$2+(('coded NOLH for 23-29 factors'!Z176-1)*(Z$3-Z$2)/256), Z$4)","v":238},{"$f":"ROUND( AA$2+(('coded NOLH for 23-29 factors'!AA176-1)*(AA$3-AA$2)/256), AA$4)","v":128},{"$f":"ROUND( AB$2+(('coded NOLH for 23-29 factors'!AB176-1)*(AB$3-AB$2)/256), AB$4)","v":32},{"$f":"ROUND( AC$2+(('coded NOLH for 23-29 factors'!AC176-1)*(AC$3-AC$2)/256), AC$4)","v":170},{"$f":"ROUND( AD$2+(('coded NOLH for 23-29 factors'!AD176-1)*(AD$3-AD$2)/256), AD$4)","v":42}]
[null,{"$f":"ROUND( B$2+(('coded NOLH for 23-29 factors'!B177-1)*(B$3-B$2)/256), B$4)","v":253},{"$f":"ROUND( C$2+(('coded NOLH for 23-29 factors'!C177-1)*(C$3-C$2)/256), C$4)","v":223},{"$f":"ROUND( D$2+(('coded NOLH for 23-29 factors'!D177-1)*(D$3-D$2)/256), D$4)","v":210},{"$f":"ROUND( E$2+(('coded NOLH for 23-29 factors'!E177-1)*(E$3-E$2)/256), E$4)","v":58},{"$f":"ROUND( F$2+(('coded NOLH for 23-29 factors'!F177-1)*(F$3-F$2)/256), F$4)","v":179},{"$f":"ROUND( G$2+(('coded NOLH for 23-29 factors'!G177-1)*(G$3-G$2)/256), G$4)","v":60},{"$f":"ROUND( H$2+(('coded NOLH for 23-29 factors'!H177-1)*(H$3-H$2)/256), H$4)","v":172},{"$f":"ROUND( I$2+(('coded NOLH for 23-29 factors'!I177-1)*(I$3-I$2)/256), I$4)","v":97},{"$f":"ROUND( J$2+(('coded NOLH for 23-29 factors'!J177-1)*(J$3-J$2)/256), J$4)","v":191},{"$f":"ROUND( K$2+(('coded NOLH for 23-29 factors'!K177-1)*(K$3-K$2)/256), K$4)","v":21},{"$f":"ROUND( L$2+(('coded NOLH for 23-29 factors'!L177-1)*(L$3-L$2)/256), L$4)","v":150},{"$f":"ROUND( M$2+(('coded NOLH for 23-29 factors'!M177-1)*(M$3-M$2)/256), M$4)","v":7},{"$f":"ROUND( N$2+(('coded NOLH for 23-29 factors'!N177-1)*(N$3-N$2)/256), N$4)","v":123},{"$f":"ROUND( O$2+(('coded NOLH for 23-29 factors'!O177-1)*(O$3-O$2)/256), O$4)","v":7},{"$f":"ROUND( P$2+(('coded NOLH for 23-29 factors'!P177-1)*(P$3-P$2)/256), P$4)","v":54},{"$f":"ROUND( Q$2+(('coded NOLH for 23-29 factors'!Q177-1)*(Q$3-Q$2)/256), Q$4)","v":120},{"$f":"ROUND( R$2+(('coded NOLH for 23-29 factors'!R177-1)*(R$3-R$2)/256), R$4)","v":80},{"$f":"ROUND( S$2+(('coded NOLH for 23-29 factors'!S177-1)*(S$3-S$2)/256), S$4)","v":167},{"$f":"ROUND( T$2+(('coded NOLH for 23-29 factors'!T177-1)*(T$3-T$2)/256), T$4)","v":98},{"$f":"ROUND( U$2+(('coded NOLH for 23-29 factors'!U177-1)*(U$3-U$2)/256), U$4)","v":25},{"$f":"ROUND( V$2+(('coded NOLH for 23-29 factors'!V177-1)*(V$3-V$2)/256), V$4)","v":211},{"$f":"ROUND( W$2+(('coded NOLH for 23-29 factors'!W177-1)*(W$3-W$2)/256), W$4)","v":85},{"$f":"ROUND( X$2+(('coded NOLH for 23-29 factors'!X177-1)*(X$3-X$2)/256), X$4)","v":138},{"$f":"ROUND( Y$2+(('coded NOLH for 23-29 factors'!Y177-1)*(Y$3-Y$2)/256), Y$4)","v":73},{"$f":"ROUND( Z$2+(('coded NOLH for 23-29 factors'!Z177-1)*(Z$3-Z$2)/256), Z$4)","v":213},{"$f":"ROUND( AA$2+(('coded NOLH for 23-29 factors'!AA177-1)*(AA$3-AA$2)/256), AA$4)","v":45},{"$f":"ROUND( AB$2+(('coded NOLH for 23-29 factors'!AB177-1)*(AB$3-AB$2)/256), AB$4)","v":1},{"$f":"ROUND( AC$2+(('coded NOLH for 23-29 factors'!AC177-1)*(AC$3-AC$2)/256), AC$4)","v":166},{"$f":"ROUND( AD$2+(('coded NOLH for 23-29 factors'!AD177-1)*(AD$3-AD$2)/256), AD$4)","v":12}]
[null,{"$f":"ROUND( B$2+(('coded NOLH for 23-29 factors'!B178-1)*(B$3-B$2)/256), B$4)","v":200},{"$f":"ROUND( C$2+(('coded NOLH for 23-29 factors'!C178-1)*(C$3-C$2)/256), C$4)","v":34},{"$f":"ROUND( D$2+(('coded NOLH for 23-29 factors'!D178-1)*(D$3-D$2)/256), D$4)","v":93},{"$f":"ROUND( E$2+(('coded NOLH for 23-29 factors'!E178-1)*(E$3-E$2)/256), E$4)","v":253},{"$f":"ROUND( F$2+(('coded NOLH for 23-29 factors'!F178-1)*(F$3-F$2)/256), F$4)","v":215},{"$f":"ROUND( G$2+(('coded NOLH for 23-29 factors'!G178-1)*(G$3-G$2)/256), G$4)","v":92},{"$f":"ROUND( H$2+(('coded NOLH for 23-29 factors'!H178-1)*(H$3-H$2)/256), H$4)","v":205},{"$f":"ROUND( I$2+(('coded NOLH for 23-29 factors'!I178-1)*(I$3-I$2)/256), I$4)","v":127},{"$f":"ROUND( J$2+(('coded NOLH for 23-29 factors'!J178-1)*(J$3-J$2)/256), J$4)","v":207},{"$f":"ROUND( K$2+(('coded NOLH for 23-29 factors'!K178-1)*(K$3-K$2)/256), K$4)","v":13},{"$f":"ROUND( L$2+(('coded NOLH for 23-29 factors'!L178-1)*(L$3-L$2)/256), L$4)","v":76},{"$f":"ROUND( M$2+(('coded NOLH for 23-29 factors'!M178-1)*(M$3-M$2)/256), M$4)","v":245},{"$f":"ROUND( N$2+(('coded NOLH for 23-29 factors'!N178-1)*(N$3-N$2)/256), N$4)","v":44},{"$f":"ROUND( O$2+(('coded NOLH for 23-29 factors'!O178-1)*(O$3-O$2)/256), O$4)","v":248},{"$f":"ROUND( P$2+(('coded NOLH for 23-29 factors'!P178-1)*(P$3-P$2)/256), P$4)","v":74},{"$f":"ROUND( Q$2+(('coded NOLH for 23-29 factors'!Q178-1)*(Q$3-Q$2)/256), Q$4)","v":137},{"$f":"ROUND( R$2+(('coded NOLH for 23-29 factors'!R178-1)*(R$3-R$2)/256), R$4)","v":256},{"$f":"ROUND( S$2+(('coded NOLH for 23-29 factors'!S178-1)*(S$3-S$2)/256), S$4)","v":79},{"$f":"ROUND( T$2+(('coded NOLH for 23-29 factors'!T178-1)*(T$3-T$2)/256), T$4)","v":134},{"$f":"ROUND( U$2+(('coded NOLH for 23-29 factors'!U178-1)*(U$3-U$2)/256), U$4)","v":179},{"$f":"ROUND( V$2+(('coded NOLH for 23-29 factors'!V178-1)*(V$3-V$2)/256), V$4)","v":31},{"$f":"ROUND( W$2+(('coded NOLH for 23-29 factors'!W178-1)*(W$3-W$2)/256), W$4)","v":162},{"$f":"ROUND( X$2+(('coded NOLH for 23-29 factors'!X178-1)*(X$3-X$2)/256), X$4)","v":109},{"$f":"ROUND( Y$2+(('coded NOLH for 23-29 factors'!Y178-1)*(Y$3-Y$2)/256), Y$4)","v":32},{"$f":"ROUND( Z$2+(('coded NOLH for 23-29 factors'!Z178-1)*(Z$3-Z$2)/256), Z$4)","v":189},{"$f":"ROUND( AA$2+(('coded NOLH for 23-29 factors'!AA178-1)*(AA$3-AA$2)/256), AA$4)","v":28},{"$f":"ROUND( AB$2+(('coded NOLH for 23-29 factors'!AB178-1)*(AB$3-AB$2)/256), AB$4)","v":68},{"$f":"ROUND( AC$2+(('coded NOLH for 23-29 factors'!AC178-1)*(AC$3-AC$2)/256), AC$4)","v":194},{"$f":"ROUND( AD$2+(('coded NOLH for 23-29 factors'!AD178-1)*(AD$3-AD$2)/256), AD$4)","v":35}]
[null,{"$f":"ROUND( B$2+(('coded NOLH for 23-29 factors'!B179-1)*(B$3-B$2)/256), B$4)","v":224},{"$f":"ROUND( C$2+(('coded NOLH for 23-29 factors'!C179-1)*(C$3-C$2)/256), C$4)","v":200},{"$f":"ROUND( D$2+(('coded NOLH for 23-29 factors'!D179-1)*(D$3-D$2)/256), D$4)","v":39},{"$f":"ROUND( E$2+(('coded NOLH for 23-29 factors'!E179-1)*(E$3-E$2)/256), E$4)","v":223},{"$f":"ROUND( F$2+(('coded NOLH for 23-29 factors'!F179-1)*(F$3-F$2)/256), F$4)","v":193},{"$f":"ROUND( G$2+(('coded NOLH for 23-29 factors'!G179-1)*(G$3-G$2)/256), G$4)","v":4},{"$f":"ROUND( H$2+(('coded NOLH for 23-29 factors'!H179-1)*(H$3-H$2)/256), H$4)","v":206},{"$f":"ROUND( I$2+(('coded NOLH for 23-29 factors'!I179-1)*(I$3-I$2)/256), I$4)","v":26},{"$f":"ROUND( J$2+(('coded NOLH for 23-29 factors'!J179-1)*(J$3-J$2)/256), J$4)","v":52},{"$f":"ROUND( K$2+(('coded NOLH for 23-29 factors'!K179-1)*(K$3-K$2)/256), K$4)","v":224},{"$f":"ROUND( L$2+(('coded NOLH for 23-29 factors'!L179-1)*(L$3-L$2)/256), L$4)","v":239},{"$f":"ROUND( M$2+(('coded NOLH for 23-29 factors'!M179-1)*(M$3-M$2)/256), M$4)","v":85},{"$f":"ROUND( N$2+(('coded NOLH for 23-29 factors'!N179-1)*(N$3-N$2)/256), N$4)","v":193},{"$f":"ROUND( O$2+(('coded NOLH for 23-29 factors'!O179-1)*(O$3-O$2)/256), O$4)","v":134},{"$f":"ROUND( P$2+(('coded NOLH for 23-29 factors'!P179-1)*(P$3-P$2)/256), P$4)","v":27},{"$f":"ROUND( Q$2+(('coded NOLH for 23-29 factors'!Q179-1)*(Q$3-Q$2)/256), Q$4)","v":101},{"$f":"ROUND( R$2+(('coded NOLH for 23-29 factors'!R179-1)*(R$3-R$2)/256), R$4)","v":167},{"$f":"ROUND( S$2+(('coded NOLH for 23-29 factors'!S179-1)*(S$3-S$2)/256), S$4)","v":96},{"$f":"ROUND( T$2+(('coded NOLH for 23-29 factors'!T179-1)*(T$3-T$2)/256), T$4)","v":149},{"$f":"ROUND( U$2+(('coded NOLH for 23-29 factors'!U179-1)*(U$3-U$2)/256), U$4)","v":162},{"$f":"ROUND( V$2+(('coded NOLH for 23-29 factors'!V179-1)*(V$3-V$2)/256), V$4)","v":25},{"$f":"ROUND( W$2+(('coded NOLH for 23-29 factors'!W179-1)*(W$3-W$2)/256), W$4)","v":141},{"$f":"ROUND( X$2+(('coded NOLH for 23-29 factors'!X179-1)*(X$3-X$2)/256), X$4)","v":14},{"$f":"ROUND( Y$2+(('coded NOLH for 23-29 factors'!Y179-1)*(Y$3-Y$2)/256), Y$4)","v":1},{"$f":"ROUND( Z$2+(('coded NOLH for 23-29 factors'!Z179-1)*(Z$3-Z$2)/256), Z$4)","v":207},{"$f":"ROUND( AA$2+(('coded NOLH for 23-29 factors'!AA179-1)*(AA$3-AA$2)/256), AA$4)","v":113},{"$f":"ROUND( AB$2+(('coded NOLH for 23-29 factors'!AB179-1)*(AB$3-AB$2)/256), AB$4)","v":52},{"$f":"ROUND( AC$2+(('coded NOLH for 23-29 factors'!AC179-1)*(AC$3-AC$2)/256), AC$4)","v":221},{"$f":"ROUND( AD$2+(('coded NOLH for 23-29 factors'!AD179-1)*(AD$3-AD$2)/256), AD$4)","v":52}]
[null,{"$f":"ROUND( B$2+(('coded NOLH for 23-29 factors'!B180-1)*(B$3-B$2)/256), B$4)","v":219},{"$f":"ROUND( C$2+(('coded NOLH for 23-29 factors'!C180-1)*(C$3-C$2)/256), C$4)","v":93},{"$f":"ROUND( D$2+(('coded NOLH for 23-29 factors'!D180-1)*(D$3-D$2)/256), D$4)","v":224},{"$f":"ROUND( E$2+(('coded NOLH for 23-29 factors'!E180-1)*(E$3-E$2)/256), E$4)","v":201},{"$f":"ROUND( F$2+(('coded NOLH for 23-29 factors'!F180-1)*(F$3-F$2)/256), F$4)","v":173},{"$f":"ROUND( G$2+(('coded NOLH for 23-29 factors'!G180-1)*(G$3-G$2)/256), G$4)","v":62},{"$f":"ROUND( H$2+(('coded NOLH for 23-29 factors'!H180-1)*(H$3-H$2)/256), H$4)","v":136},{"$f":"ROUND( I$2+(('coded NOLH for 23-29 factors'!I180-1)*(I$3-I$2)/256), I$4)","v":106},{"$f":"ROUND( J$2+(('coded NOLH for 23-29 factors'!J180-1)*(J$3-J$2)/256), J$4)","v":37},{"$f":"ROUND( K$2+(('coded NOLH for 23-29 factors'!K180-1)*(K$3-K$2)/256), K$4)","v":42},{"$f":"ROUND( L$2+(('coded NOLH for 23-29 factors'!L180-1)*(L$3-L$2)/256), L$4)","v":139},{"$f":"ROUND( M$2+(('coded NOLH for 23-29 factors'!M180-1)*(M$3-M$2)/256), M$4)","v":225},{"$f":"ROUND( N$2+(('coded NOLH for 23-29 factors'!N180-1)*(N$3-N$2)/256), N$4)","v":66},{"$f":"ROUND( O$2+(('coded NOLH for 23-29 factors'!O180-1)*(O$3-O$2)/256), O$4)","v":137},{"$f":"ROUND( P$2+(('coded NOLH for 23-29 factors'!P180-1)*(P$3-P$2)/256), P$4)","v":245},{"$f":"ROUND( Q$2+(('coded NOLH for 23-29 factors'!Q180-1)*(Q$3-Q$2)/256), Q$4)","v":204},{"$f":"ROUND( R$2+(('coded NOLH for 23-29 factors'!R180-1)*(R$3-R$2)/256), R$4)","v":18},{"$f":"ROUND( S$2+(('coded NOLH for 23-29 factors'!S180-1)*(S$3-S$2)/256), S$4)","v":208},{"$f":"ROUND( T$2+(('coded NOLH for 23-29 factors'!T180-1)*(T$3-T$2)/256), T$4)","v":19},{"$f":"ROUND( U$2+(('coded NOLH for 23-29 factors'!U180-1)*(U$3-U$2)/256), U$4)","v":148},{"$f":"ROUND( V$2+(('coded NOLH for 23-29 factors'!V180-1)*(V$3-V$2)/256), V$4)","v":75},{"$f":"ROUND( W$2+(('coded NOLH for 23-29 factors'!W180-1)*(W$3-W$2)/256), W$4)","v":160},{"$f":"ROUND( X$2+(('coded NOLH for 23-29 factors'!X180-1)*(X$3-X$2)/256), X$4)","v":118},{"$f":"ROUND( Y$2+(('coded NOLH for 23-29 factors'!Y180-1)*(Y$3-Y$2)/256), Y$4)","v":33},{"$f":"ROUND( Z$2+(('coded NOLH for 23-29 factors'!Z180-1)*(Z$3-Z$2)/256), Z$4)","v":157},{"$f":"ROUND( AA$2+(('coded NOLH for 23-29 factors'!AA180-1)*(AA$3-AA$2)/256), AA$4)","v":131},{"$f":"ROUND( AB$2+(('coded NOLH for 23-29 factors'!AB180-1)*(AB$3-AB$2)/256), AB$4)","v":87},{"$f":"ROUND( AC$2+(('coded NOLH for 23-29 factors'!AC180-1)*(AC$3-AC$2)/256), AC$4)","v":246},{"$f":"ROUND( AD$2+(('coded NOLH for 23-29 factors'!AD180-1)*(AD$3-AD$2)/256), AD$4)","v":70}]
[null,{"$f":"ROUND( B$2+(('coded NOLH for 23-29 factors'!B181-1)*(B$3-B$2)/256), B$4)","v":165},{"$f":"ROUND( C$2+(('coded NOLH for 23-29 factors'!C181-1)*(C$3-C$2)/256), C$4)","v":219},{"$f":"ROUND( D$2+(('coded NOLH for 23-29 factors'!D181-1)*(D$3-D$2)/256), D$4)","v":200},{"$f":"ROUND( E$2+(('coded NOLH for 23-29 factors'!E181-1)*(E$3-E$2)/256), E$4)","v":210},{"$f":"ROUND( F$2+(('coded NOLH for 23-29 factors'!F181-1)*(F$3-F$2)/256), F$4)","v":139},{"$f":"ROUND( G$2+(('coded NOLH for 23-29 factors'!G181-1)*(G$3-G$2)/256), G$4)","v":17},{"$f":"ROUND( H$2+(('coded NOLH for 23-29 factors'!H181-1)*(H$3-H$2)/256), H$4)","v":186},{"$f":"ROUND( I$2+(('coded NOLH for 23-29 factors'!I181-1)*(I$3-I$2)/256), I$4)","v":117},{"$f":"ROUND( J$2+(('coded NOLH for 23-29 factors'!J181-1)*(J$3-J$2)/256), J$4)","v":204},{"$f":"ROUND( K$2+(('coded NOLH for 23-29 factors'!K181-1)*(K$3-K$2)/256), K$4)","v":196},{"$f":"ROUND( L$2+(('coded NOLH for 23-29 factors'!L181-1)*(L$3-L$2)/256), L$4)","v":190},{"$f":"ROUND( M$2+(('coded NOLH for 23-29 factors'!M181-1)*(M$3-M$2)/256), M$4)","v":31},{"$f":"ROUND( N$2+(('coded NOLH for 23-29 factors'!N181-1)*(N$3-N$2)/256), N$4)","v":124},{"$f":"ROUND( O$2+(('coded NOLH for 23-29 factors'!O181-1)*(O$3-O$2)/256), O$4)","v":95},{"$f":"ROUND( P$2+(('coded NOLH for 23-29 factors'!P181-1)*(P$3-P$2)/256), P$4)","v":246},{"$f":"ROUND( Q$2+(('coded NOLH for 23-29 factors'!Q181-1)*(Q$3-Q$2)/256), Q$4)","v":232},{"$f":"ROUND( R$2+(('coded NOLH for 23-29 factors'!R181-1)*(R$3-R$2)/256), R$4)","v":98},{"$f":"ROUND( S$2+(('coded NOLH for 23-29 factors'!S181-1)*(S$3-S$2)/256), S$4)","v":189},{"$f":"ROUND( T$2+(('coded NOLH for 23-29 factors'!T181-1)*(T$3-T$2)/256), T$4)","v":126},{"$f":"ROUND( U$2+(('coded NOLH for 23-29 factors'!U181-1)*(U$3-U$2)/256), U$4)","v":119},{"$f":"ROUND( V$2+(('coded NOLH for 23-29 factors'!V181-1)*(V$3-V$2)/256), V$4)","v":96},{"$f":"ROUND( W$2+(('coded NOLH for 23-29 factors'!W181-1)*(W$3-W$2)/256), W$4)","v":240},{"$f":"ROUND( X$2+(('coded NOLH for 23-29 factors'!X181-1)*(X$3-X$2)/256), X$4)","v":82},{"$f":"ROUND( Y$2+(('coded NOLH for 23-29 factors'!Y181-1)*(Y$3-Y$2)/256), Y$4)","v":15},{"$f":"ROUND( Z$2+(('coded NOLH for 23-29 factors'!Z181-1)*(Z$3-Z$2)/256), Z$4)","v":217},{"$f":"ROUND( AA$2+(('coded NOLH for 23-29 factors'!AA181-1)*(AA$3-AA$2)/256), AA$4)","v":41},{"$f":"ROUND( AB$2+(('coded NOLH for 23-29 factors'!AB181-1)*(AB$3-AB$2)/256), AB$4)","v":98},{"$f":"ROUND( AC$2+(('coded NOLH for 23-29 factors'!AC181-1)*(AC$3-AC$2)/256), AC$4)","v":119},{"$f":"ROUND( AD$2+(('coded NOLH for 23-29 factors'!AD181-1)*(AD$3-AD$2)/256), AD$4)","v":101}]
[null,{"$f":"ROUND( B$2+(('coded NOLH for 23-29 factors'!B182-1)*(B$3-B$2)/256), B$4)","v":241},{"$f":"ROUND( C$2+(('coded NOLH for 23-29 factors'!C182-1)*(C$3-C$2)/256), C$4)","v":62},{"$f":"ROUND( D$2+(('coded NOLH for 23-29 factors'!D182-1)*(D$3-D$2)/256), D$4)","v":92},{"$f":"ROUND( E$2+(('coded NOLH for 23-29 factors'!E182-1)*(E$3-E$2)/256), E$4)","v":68},{"$f":"ROUND( F$2+(('coded NOLH for 23-29 factors'!F182-1)*(F$3-F$2)/256), F$4)","v":1},{"$f":"ROUND( G$2+(('coded NOLH for 23-29 factors'!G182-1)*(G$3-G$2)/256), G$4)","v":165},{"$f":"ROUND( H$2+(('coded NOLH for 23-29 factors'!H182-1)*(H$3-H$2)/256), H$4)","v":162},{"$f":"ROUND( I$2+(('coded NOLH for 23-29 factors'!I182-1)*(I$3-I$2)/256), I$4)","v":123},{"$f":"ROUND( J$2+(('coded NOLH for 23-29 factors'!J182-1)*(J$3-J$2)/256), J$4)","v":255},{"$f":"ROUND( K$2+(('coded NOLH for 23-29 factors'!K182-1)*(K$3-K$2)/256), K$4)","v":160},{"$f":"ROUND( L$2+(('coded NOLH for 23-29 factors'!L182-1)*(L$3-L$2)/256), L$4)","v":238},{"$f":"ROUND( M$2+(('coded NOLH for 23-29 factors'!M182-1)*(M$3-M$2)/256), M$4)","v":34},{"$f":"ROUND( N$2+(('coded NOLH for 23-29 factors'!N182-1)*(N$3-N$2)/256), N$4)","v":73},{"$f":"ROUND( O$2+(('coded NOLH for 23-29 factors'!O182-1)*(O$3-O$2)/256), O$4)","v":230},{"$f":"ROUND( P$2+(('coded NOLH for 23-29 factors'!P182-1)*(P$3-P$2)/256), P$4)","v":189},{"$f":"ROUND( Q$2+(('coded NOLH for 23-29 factors'!Q182-1)*(Q$3-Q$2)/256), Q$4)","v":237},{"$f":"ROUND( R$2+(('coded NOLH for 23-29 factors'!R182-1)*(R$3-R$2)/256), R$4)","v":32},{"$f":"ROUND( S$2+(('coded NOLH for 23-29 factors'!S182-1)*(S$3-S$2)/256), S$4)","v":106},{"$f":"ROUND( T$2+(('coded NOLH for 23-29 factors'!T182-1)*(T$3-T$2)/256), T$4)","v":165},{"$f":"ROUND( U$2+(('coded NOLH for 23-29 factors'!U182-1)*(U$3-U$2)/256), U$4)","v":181},{"$f":"ROUND( V$2+(('coded NOLH for 23-29 factors'!V182-1)*(V$3-V$2)/256), V$4)","v":62},{"$f":"ROUND( W$2+(('coded NOLH for 23-29 factors'!W182-1)*(W$3-W$2)/256), W$4)","v":47},{"$f":"ROUND( X$2+(('coded NOLH for 23-29 factors'!X182-1)*(X$3-X$2)/256), X$4)","v":229},{"$f":"ROUND( Y$2+(('coded NOLH for 23-29 factors'!Y182-1)*(Y$3-Y$2)/256), Y$4)","v":113},{"$f":"ROUND( Z$2+(('coded NOLH for 23-29 factors'!Z182-1)*(Z$3-Z$2)/256), Z$4)","v":71},{"$f":"ROUND( AA$2+(('coded NOLH for 23-29 factors'!AA182-1)*(AA$3-AA$2)/256), AA$4)","v":206},{"$f":"ROUND( AB$2+(('coded NOLH for 23-29 factors'!AB182-1)*(AB$3-AB$2)/256), AB$4)","v":204},{"$f":"ROUND( AC$2+(('coded NOLH for 23-29 factors'!AC182-1)*(AC$3-AC$2)/256), AC$4)","v":93},{"$f":"ROUND( AD$2+(('coded NOLH for 23-29 factors'!AD182-1)*(AD$3-AD$2)/256), AD$4)","v":25}]
[null,{"$f":"ROUND( B$2+(('coded NOLH for 23-29 factors'!B183-1)*(B$3-B$2)/256), B$4)","v":196},{"$f":"ROUND( C$2+(('coded NOLH for 23-29 factors'!C183-1)*(C$3-C$2)/256), C$4)","v":241},{"$f":"ROUND( D$2+(('coded NOLH for 23-29 factors'!D183-1)*(D$3-D$2)/256), D$4)","v":4},{"$f":"ROUND( E$2+(('coded NOLH for 23-29 factors'!E183-1)*(E$3-E$2)/256), E$4)","v":112},{"$f":"ROUND( F$2+(('coded NOLH for 23-29 factors'!F183-1)*(F$3-F$2)/256), F$4)","v":8},{"$f":"ROUND( G$2+(('coded NOLH for 23-29 factors'!G183-1)*(G$3-G$2)/256), G$4)","v":219},{"$f":"ROUND( H$2+(('coded NOLH for 23-29 factors'!H183-1)*(H$3-H$2)/256), H$4)","v":185},{"$f":"ROUND( I$2+(('coded NOLH for 23-29 factors'!I183-1)*(I$3-I$2)/256), I$4)","v":21},{"$f":"ROUND( J$2+(('coded NOLH for 23-29 factors'!J183-1)*(J$3-J$2)/256), J$4)","v":103},{"$f":"ROUND( K$2+(('coded NOLH for 23-29 factors'!K183-1)*(K$3-K$2)/256), K$4)","v":90},{"$f":"ROUND( L$2+(('coded NOLH for 23-29 factors'!L183-1)*(L$3-L$2)/256), L$4)","v":1},{"$f":"ROUND( M$2+(('coded NOLH for 23-29 factors'!M183-1)*(M$3-M$2)/256), M$4)","v":184},{"$f":"ROUND( N$2+(('coded NOLH for 23-29 factors'!N183-1)*(N$3-N$2)/256), N$4)","v":169},{"$f":"ROUND( O$2+(('coded NOLH for 23-29 factors'!O183-1)*(O$3-O$2)/256), O$4)","v":131},{"$f":"ROUND( P$2+(('coded NOLH for 23-29 factors'!P183-1)*(P$3-P$2)/256), P$4)","v":255},{"$f":"ROUND( Q$2+(('coded NOLH for 23-29 factors'!Q183-1)*(Q$3-Q$2)/256), Q$4)","v":245},{"$f":"ROUND( R$2+(('coded NOLH for 23-29 factors'!R183-1)*(R$3-R$2)/256), R$4)","v":48},{"$f":"ROUND( S$2+(('coded NOLH for 23-29 factors'!S183-1)*(S$3-S$2)/256), S$4)","v":3},{"$f":"ROUND( T$2+(('coded NOLH for 23-29 factors'!T183-1)*(T$3-T$2)/256), T$4)","v":193},{"$f":"ROUND( U$2+(('coded NOLH for 23-29 factors'!U183-1)*(U$3-U$2)/256), U$4)","v":219},{"$f":"ROUND( V$2+(('coded NOLH for 23-29 factors'!V183-1)*(V$3-V$2)/256), V$4)","v":64},{"$f":"ROUND( W$2+(('coded NOLH for 23-29 factors'!W183-1)*(W$3-W$2)/256), W$4)","v":100},{"$f":"ROUND( X$2+(('coded NOLH for 23-29 factors'!X183-1)*(X$3-X$2)/256), X$4)","v":216},{"$f":"ROUND( Y$2+(('coded NOLH for 23-29 factors'!Y183-1)*(Y$3-Y$2)/256), Y$4)","v":45},{"$f":"ROUND( Z$2+(('coded NOLH for 23-29 factors'!Z183-1)*(Z$3-Z$2)/256), Z$4)","v":16},{"$f":"ROUND( AA$2+(('coded NOLH for 23-29 factors'!AA183-1)*(AA$3-AA$2)/256), AA$4)","v":143},{"$f":"ROUND( AB$2+(('coded NOLH for 23-29 factors'!AB183-1)*(AB$3-AB$2)/256), AB$4)","v":162},{"$f":"ROUND( AC$2+(('coded NOLH for 23-29 factors'!AC183-1)*(AC$3-AC$2)/256), AC$4)","v":97},{"$f":"ROUND( AD$2+(('coded NOLH for 23-29 factors'!AD183-1)*(AD$3-AD$2)/256), AD$4)","v":73}]
[null,{"$f":"ROUND( B$2+(('coded NOLH for 23-29 factors'!B184-1)*(B$3-B$2)/256), B$4)","v":254},{"$f":"ROUND( C$2+(('coded NOLH for 23-29 factors'!C184-1)*(C$3-C$2)/256), C$4)","v":92},{"$f":"ROUND( D$2+(('coded NOLH for 23-29 factors'!D184-1)*(D$3-D$2)/256), D$4)","v":196},{"$f":"ROUND( E$2+(('coded NOLH for 23-29 factors'!E184-1)*(E$3-E$2)/256), E$4)","v":7},{"$f":"ROUND( F$2+(('coded NOLH for 23-29 factors'!F184-1)*(F$3-F$2)/256), F$4)","v":16},{"$f":"ROUND( G$2+(('coded NOLH for 23-29 factors'!G184-1)*(G$3-G$2)/256), G$4)","v":224},{"$f":"ROUND( H$2+(('coded NOLH for 23-29 factors'!H184-1)*(H$3-H$2)/256), H$4)","v":247},{"$f":"ROUND( I$2+(('coded NOLH for 23-29 factors'!I184-1)*(I$3-I$2)/256), I$4)","v":37},{"$f":"ROUND( J$2+(('coded NOLH for 23-29 factors'!J184-1)*(J$3-J$2)/256), J$4)","v":30},{"$f":"ROUND( K$2+(('coded NOLH for 23-29 factors'!K184-1)*(K$3-K$2)/256), K$4)","v":234},{"$f":"ROUND( L$2+(('coded NOLH for 23-29 factors'!L184-1)*(L$3-L$2)/256), L$4)","v":214},{"$f":"ROUND( M$2+(('coded NOLH for 23-29 factors'!M184-1)*(M$3-M$2)/256), M$4)","v":47},{"$f":"ROUND( N$2+(('coded NOLH for 23-29 factors'!N184-1)*(N$3-N$2)/256), N$4)","v":84},{"$f":"ROUND( O$2+(('coded NOLH for 23-29 factors'!O184-1)*(O$3-O$2)/256), O$4)","v":155},{"$f":"ROUND( P$2+(('coded NOLH for 23-29 factors'!P184-1)*(P$3-P$2)/256), P$4)","v":96},{"$f":"ROUND( Q$2+(('coded NOLH for 23-29 factors'!Q184-1)*(Q$3-Q$2)/256), Q$4)","v":23},{"$f":"ROUND( R$2+(('coded NOLH for 23-29 factors'!R184-1)*(R$3-R$2)/256), R$4)","v":186},{"$f":"ROUND( S$2+(('coded NOLH for 23-29 factors'!S184-1)*(S$3-S$2)/256), S$4)","v":205},{"$f":"ROUND( T$2+(('coded NOLH for 23-29 factors'!T184-1)*(T$3-T$2)/256), T$4)","v":18},{"$f":"ROUND( U$2+(('coded NOLH for 23-29 factors'!U184-1)*(U$3-U$2)/256), U$4)","v":223},{"$f":"ROUND( V$2+(('coded NOLH for 23-29 factors'!V184-1)*(V$3-V$2)/256), V$4)","v":43},{"$f":"ROUND( W$2+(('coded NOLH for 23-29 factors'!W184-1)*(W$3-W$2)/256), W$4)","v":31},{"$f":"ROUND( X$2+(('coded NOLH for 23-29 factors'!X184-1)*(X$3-X$2)/256), X$4)","v":186},{"$f":"ROUND( Y$2+(('coded NOLH for 23-29 factors'!Y184-1)*(Y$3-Y$2)/256), Y$4)","v":28},{"$f":"ROUND( Z$2+(('coded NOLH for 23-29 factors'!Z184-1)*(Z$3-Z$2)/256), Z$4)","v":55},{"$f":"ROUND( AA$2+(('coded NOLH for 23-29 factors'!AA184-1)*(AA$3-AA$2)/256), AA$4)","v":178},{"$f":"ROUND( AB$2+(('coded NOLH for 23-29 factors'!AB184-1)*(AB$3-AB$2)/256), AB$4)","v":227},{"$f":"ROUND( AC$2+(('coded NOLH for 23-29 factors'!AC184-1)*(AC$3-AC$2)/256), AC$4)","v":4},{"$f":"ROUND( AD$2+(('coded NOLH for 23-29 factors'!AD184-1)*(AD$3-AD$2)/256), AD$4)","v":112}]
[null,{"$f":"ROUND( B$2+(('coded NOLH for 23-29 factors'!B185-1)*(B$3-B$2)/256), B$4)","v":166},{"$f":"ROUND( C$2+(('coded NOLH for 23-29 factors'!C185-1)*(C$3-C$2)/256), C$4)","v":254},{"$f":"ROUND( D$2+(('coded NOLH for 23-29 factors'!D185-1)*(D$3-D$2)/256), D$4)","v":241},{"$f":"ROUND( E$2+(('coded NOLH for 23-29 factors'!E185-1)*(E$3-E$2)/256), E$4)","v":60},{"$f":"ROUND( F$2+(('coded NOLH for 23-29 factors'!F185-1)*(F$3-F$2)/256), F$4)","v":32},{"$f":"ROUND( G$2+(('coded NOLH for 23-29 factors'!G185-1)*(G$3-G$2)/256), G$4)","v":200},{"$f":"ROUND( H$2+(('coded NOLH for 23-29 factors'!H185-1)*(H$3-H$2)/256), H$4)","v":188},{"$f":"ROUND( I$2+(('coded NOLH for 23-29 factors'!I185-1)*(I$3-I$2)/256), I$4)","v":91},{"$f":"ROUND( J$2+(('coded NOLH for 23-29 factors'!J185-1)*(J$3-J$2)/256), J$4)","v":216},{"$f":"ROUND( K$2+(('coded NOLH for 23-29 factors'!K185-1)*(K$3-K$2)/256), K$4)","v":41},{"$f":"ROUND( L$2+(('coded NOLH for 23-29 factors'!L185-1)*(L$3-L$2)/256), L$4)","v":5},{"$f":"ROUND( M$2+(('coded NOLH for 23-29 factors'!M185-1)*(M$3-M$2)/256), M$4)","v":215},{"$f":"ROUND( N$2+(('coded NOLH for 23-29 factors'!N185-1)*(N$3-N$2)/256), N$4)","v":254},{"$f":"ROUND( O$2+(('coded NOLH for 23-29 factors'!O185-1)*(O$3-O$2)/256), O$4)","v":29},{"$f":"ROUND( P$2+(('coded NOLH for 23-29 factors'!P185-1)*(P$3-P$2)/256), P$4)","v":95},{"$f":"ROUND( Q$2+(('coded NOLH for 23-29 factors'!Q185-1)*(Q$3-Q$2)/256), Q$4)","v":1},{"$f":"ROUND( R$2+(('coded NOLH for 23-29 factors'!R185-1)*(R$3-R$2)/256), R$4)","v":181},{"$f":"ROUND( S$2+(('coded NOLH for 23-29 factors'!S185-1)*(S$3-S$2)/256), S$4)","v":151},{"$f":"ROUND( T$2+(('coded NOLH for 23-29 factors'!T185-1)*(T$3-T$2)/256), T$4)","v":107},{"$f":"ROUND( U$2+(('coded NOLH for 23-29 factors'!U185-1)*(U$3-U$2)/256), U$4)","v":161},{"$f":"ROUND( V$2+(('coded NOLH for 23-29 factors'!V185-1)*(V$3-V$2)/256), V$4)","v":46},{"$f":"ROUND( W$2+(('coded NOLH for 23-29 factors'!W185-1)*(W$3-W$2)/256), W$4)","v":1},{"$f":"ROUND( X$2+(('coded NOLH for 23-29 factors'!X185-1)*(X$3-X$2)/256), X$4)","v":131},{"$f":"ROUND( Y$2+(('coded NOLH for 23-29 factors'!Y185-1)*(Y$3-Y$2)/256), Y$4)","v":42},{"$f":"ROUND( Z$2+(('coded NOLH for 23-29 factors'!Z185-1)*(Z$3-Z$2)/256), Z$4)","v":111},{"$f":"ROUND( AA$2+(('coded NOLH for 23-29 factors'!AA185-1)*(AA$3-AA$2)/256), AA$4)","v":184},{"$f":"ROUND( AB$2+(('coded NOLH for 23-29 factors'!AB185-1)*(AB$3-AB$2)/256), AB$4)","v":138},{"$f":"ROUND( AC$2+(('coded NOLH for 23-29 factors'!AC185-1)*(AC$3-AC$2)/256), AC$4)","v":131},{"$f":"ROUND( AD$2+(('coded NOLH for 23-29 factors'!AD185-1)*(AD$3-AD$2)/256), AD$4)","v":95}]
[null,{"$f":"ROUND( B$2+(('coded NOLH for 23-29 factors'!B186-1)*(B$3-B$2)/256), B$4)","v":198},{"$f":"ROUND( C$2+(('coded NOLH for 23-29 factors'!C186-1)*(C$3-C$2)/256), C$4)","v":7},{"$f":"ROUND( D$2+(('coded NOLH for 23-29 factors'!D186-1)*(D$3-D$2)/256), D$4)","v":68},{"$f":"ROUND( E$2+(('coded NOLH for 23-29 factors'!E186-1)*(E$3-E$2)/256), E$4)","v":166},{"$f":"ROUND( F$2+(('coded NOLH for 23-29 factors'!F186-1)*(F$3-F$2)/256), F$4)","v":64},{"$f":"ROUND( G$2+(('coded NOLH for 23-29 factors'!G186-1)*(G$3-G$2)/256), G$4)","v":253},{"$f":"ROUND( H$2+(('coded NOLH for 23-29 factors'!H186-1)*(H$3-H$2)/256), H$4)","v":239},{"$f":"ROUND( I$2+(('coded NOLH for 23-29 factors'!I186-1)*(I$3-I$2)/256), I$4)","v":115},{"$f":"ROUND( J$2+(('coded NOLH for 23-29 factors'!J186-1)*(J$3-J$2)/256), J$4)","v":153},{"$f":"ROUND( K$2+(('coded NOLH for 23-29 factors'!K186-1)*(K$3-K$2)/256), K$4)","v":20},{"$f":"ROUND( L$2+(('coded NOLH for 23-29 factors'!L186-1)*(L$3-L$2)/256), L$4)","v":185},{"$f":"ROUND( M$2+(('coded NOLH for 23-29 factors'!M186-1)*(M$3-M$2)/256), M$4)","v":21},{"$f":"ROUND( N$2+(('coded NOLH for 23-29 factors'!N186-1)*(N$3-N$2)/256), N$4)","v":39},{"$f":"ROUND( O$2+(('coded NOLH for 23-29 factors'!O186-1)*(O$3-O$2)/256), O$4)","v":178},{"$f":"ROUND( P$2+(('coded NOLH for 23-29 factors'!P186-1)*(P$3-P$2)/256), P$4)","v":5},{"$f":"ROUND( Q$2+(('coded NOLH for 23-29 factors'!Q186-1)*(Q$3-Q$2)/256), Q$4)","v":212},{"$f":"ROUND( R$2+(('coded NOLH for 23-29 factors'!R186-1)*(R$3-R$2)/256), R$4)","v":53},{"$f":"ROUND( S$2+(('coded NOLH for 23-29 factors'!S186-1)*(S$3-S$2)/256), S$4)","v":33},{"$f":"ROUND( T$2+(('coded NOLH for 23-29 factors'!T186-1)*(T$3-T$2)/256), T$4)","v":201},{"$f":"ROUND( U$2+(('coded NOLH for 23-29 factors'!U186-1)*(U$3-U$2)/256), U$4)","v":75},{"$f":"ROUND( V$2+(('coded NOLH for 23-29 factors'!V186-1)*(V$3-V$2)/256), V$4)","v":197},{"$f":"ROUND( W$2+(('coded NOLH for 23-29 factors'!W186-1)*(W$3-W$2)/256), W$4)","v":199},{"$f":"ROUND( X$2+(('coded NOLH for 23-29 factors'!X186-1)*(X$3-X$2)/256), X$4)","v":93},{"$f":"ROUND( Y$2+(('coded NOLH for 23-29 factors'!Y186-1)*(Y$3-Y$2)/256), Y$4)","v":70},{"$f":"ROUND( Z$2+(('coded NOLH for 23-29 factors'!Z186-1)*(Z$3-Z$2)/256), Z$4)","v":100},{"$f":"ROUND( AA$2+(('coded NOLH for 23-29 factors'!AA186-1)*(AA$3-AA$2)/256), AA$4)","v":222},{"$f":"ROUND( AB$2+(('coded NOLH for 23-29 factors'!AB186-1)*(AB$3-AB$2)/256), AB$4)","v":212},{"$f":"ROUND( AC$2+(('coded NOLH for 23-29 factors'!AC186-1)*(AC$3-AC$2)/256), AC$4)","v":134},{"$f":"ROUND( AD$2+(('coded NOLH for 23-29 factors'!AD186-1)*(AD$3-AD$2)/256), AD$4)","v":64}]
[null,{"$f":"ROUND( B$2+(('coded NOLH for 23-29 factors'!B187-1)*(B$3-B$2)/256), B$4)","v":251},{"$f":"ROUND( C$2+(('coded NOLH for 23-29 factors'!C187-1)*(C$3-C$2)/256), C$4)","v":198},{"$f":"ROUND( D$2+(('coded NOLH for 23-29 factors'!D187-1)*(D$3-D$2)/256), D$4)","v":112},{"$f":"ROUND( E$2+(('coded NOLH for 23-29 factors'!E187-1)*(E$3-E$2)/256), E$4)","v":254},{"$f":"ROUND( F$2+(('coded NOLH for 23-29 factors'!F187-1)*(F$3-F$2)/256), F$4)","v":69},{"$f":"ROUND( G$2+(('coded NOLH for 23-29 factors'!G187-1)*(G$3-G$2)/256), G$4)","v":223},{"$f":"ROUND( H$2+(('coded NOLH for 23-29 factors'!H187-1)*(H$3-H$2)/256), H$4)","v":222},{"$f":"ROUND( I$2+(('coded NOLH for 23-29 factors'!I187-1)*(I$3-I$2)/256), I$4)","v":90},{"$f":"ROUND( J$2+(('coded NOLH for 23-29 factors'!J187-1)*(J$3-J$2)/256), J$4)","v":69},{"$f":"ROUND( K$2+(('coded NOLH for 23-29 factors'!K187-1)*(K$3-K$2)/256), K$4)","v":187},{"$f":"ROUND( L$2+(('coded NOLH for 23-29 factors'!L187-1)*(L$3-L$2)/256), L$4)","v":72},{"$f":"ROUND( M$2+(('coded NOLH for 23-29 factors'!M187-1)*(M$3-M$2)/256), M$4)","v":229},{"$f":"ROUND( N$2+(('coded NOLH for 23-29 factors'!N187-1)*(N$3-N$2)/256), N$4)","v":251},{"$f":"ROUND( O$2+(('coded NOLH for 23-29 factors'!O187-1)*(O$3-O$2)/256), O$4)","v":120},{"$f":"ROUND( P$2+(('coded NOLH for 23-29 factors'!P187-1)*(P$3-P$2)/256), P$4)","v":83},{"$f":"ROUND( Q$2+(('coded NOLH for 23-29 factors'!Q187-1)*(Q$3-Q$2)/256), Q$4)","v":225},{"$f":"ROUND( R$2+(('coded NOLH for 23-29 factors'!R187-1)*(R$3-R$2)/256), R$4)","v":47},{"$f":"ROUND( S$2+(('coded NOLH for 23-29 factors'!S187-1)*(S$3-S$2)/256), S$4)","v":125},{"$f":"ROUND( T$2+(('coded NOLH for 23-29 factors'!T187-1)*(T$3-T$2)/256), T$4)","v":209},{"$f":"ROUND( U$2+(('coded NOLH for 23-29 factors'!U187-1)*(U$3-U$2)/256), U$4)","v":8},{"$f":"ROUND( V$2+(('coded NOLH for 23-29 factors'!V187-1)*(V$3-V$2)/256), V$4)","v":242},{"$f":"ROUND( W$2+(('coded NOLH for 23-29 factors'!W187-1)*(W$3-W$2)/256), W$4)","v":237},{"$f":"ROUND( X$2+(('coded NOLH for 23-29 factors'!X187-1)*(X$3-X$2)/256), X$4)","v":27},{"$f":"ROUND( Y$2+(('coded NOLH for 23-29 factors'!Y187-1)*(Y$3-Y$2)/256), Y$4)","v":92},{"$f":"ROUND( Z$2+(('coded NOLH for 23-29 factors'!Z187-1)*(Z$3-Z$2)/256), Z$4)","v":120},{"$f":"ROUND( AA$2+(('coded NOLH for 23-29 factors'!AA187-1)*(AA$3-AA$2)/256), AA$4)","v":201},{"$f":"ROUND( AB$2+(('coded NOLH for 23-29 factors'!AB187-1)*(AB$3-AB$2)/256), AB$4)","v":173},{"$f":"ROUND( AC$2+(('coded NOLH for 23-29 factors'!AC187-1)*(AC$3-AC$2)/256), AC$4)","v":11},{"$f":"ROUND( AD$2+(('coded NOLH for 23-29 factors'!AD187-1)*(AD$3-AD$2)/256), AD$4)","v":61}]
[null,{"$f":"ROUND( B$2+(('coded NOLH for 23-29 factors'!B188-1)*(B$3-B$2)/256), B$4)","v":146},{"$f":"ROUND( C$2+(('coded NOLH for 23-29 factors'!C188-1)*(C$3-C$2)/256), C$4)","v":68},{"$f":"ROUND( D$2+(('coded NOLH for 23-29 factors'!D188-1)*(D$3-D$2)/256), D$4)","v":251},{"$f":"ROUND( E$2+(('coded NOLH for 23-29 factors'!E188-1)*(E$3-E$2)/256), E$4)","v":196},{"$f":"ROUND( F$2+(('coded NOLH for 23-29 factors'!F188-1)*(F$3-F$2)/256), F$4)","v":61},{"$f":"ROUND( G$2+(('coded NOLH for 23-29 factors'!G188-1)*(G$3-G$2)/256), G$4)","v":201},{"$f":"ROUND( H$2+(('coded NOLH for 23-29 factors'!H188-1)*(H$3-H$2)/256), H$4)","v":133},{"$f":"ROUND( I$2+(('coded NOLH for 23-29 factors'!I188-1)*(I$3-I$2)/256), I$4)","v":3},{"$f":"ROUND( J$2+(('coded NOLH for 23-29 factors'!J188-1)*(J$3-J$2)/256), J$4)","v":53},{"$f":"ROUND( K$2+(('coded NOLH for 23-29 factors'!K188-1)*(K$3-K$2)/256), K$4)","v":44},{"$f":"ROUND( L$2+(('coded NOLH for 23-29 factors'!L188-1)*(L$3-L$2)/256), L$4)","v":199},{"$f":"ROUND( M$2+(('coded NOLH for 23-29 factors'!M188-1)*(M$3-M$2)/256), M$4)","v":24},{"$f":"ROUND( N$2+(('coded NOLH for 23-29 factors'!N188-1)*(N$3-N$2)/256), N$4)","v":30},{"$f":"ROUND( O$2+(('coded NOLH for 23-29 factors'!O188-1)*(O$3-O$2)/256), O$4)","v":204},{"$f":"ROUND( P$2+(('coded NOLH for 23-29 factors'!P188-1)*(P$3-P$2)/256), P$4)","v":227},{"$f":"ROUND( Q$2+(('coded NOLH for 23-29 factors'!Q188-1)*(Q$3-Q$2)/256), Q$4)","v":96},{"$f":"ROUND( R$2+(('coded NOLH for 23-29 factors'!R188-1)*(R$3-R$2)/256), R$4)","v":246},{"$f":"ROUND( S$2+(('coded NOLH for 23-29 factors'!S188-1)*(S$3-S$2)/256), S$4)","v":238},{"$f":"ROUND( T$2+(('coded NOLH for 23-29 factors'!T188-1)*(T$3-T$2)/256), T$4)","v":90},{"$f":"ROUND( U$2+(('coded NOLH for 23-29 factors'!U188-1)*(U$3-U$2)/256), U$4)","v":15},{"$f":"ROUND( V$2+(('coded NOLH for 23-29 factors'!V188-1)*(V$3-V$2)/256), V$4)","v":208},{"$f":"ROUND( W$2+(('coded NOLH for 23-29 factors'!W188-1)*(W$3-W$2)/256), W$4)","v":201},{"$f":"ROUND( X$2+(('coded NOLH for 23-29 factors'!X188-1)*(X$3-X$2)/256), X$4)","v":50},{"$f":"ROUND( Y$2+(('coded NOLH for 23-29 factors'!Y188-1)*(Y$3-Y$2)/256), Y$4)","v":115},{"$f":"ROUND( Z$2+(('coded NOLH for 23-29 factors'!Z188-1)*(Z$3-Z$2)/256), Z$4)","v":19},{"$f":"ROUND( AA$2+(('coded NOLH for 23-29 factors'!AA188-1)*(AA$3-AA$2)/256), AA$4)","v":231},{"$f":"ROUND( AB$2+(('coded NOLH for 23-29 factors'!AB188-1)*(AB$3-AB$2)/256), AB$4)","v":177},{"$f":"ROUND( AC$2+(('coded NOLH for 23-29 factors'!AC188-1)*(AC$3-AC$2)/256), AC$4)","v":109},{"$f":"ROUND( AD$2+(('coded NOLH for 23-29 factors'!AD188-1)*(AD$3-AD$2)/256), AD$4)","v":111}]
[null,{"$f":"ROUND( B$2+(('coded NOLH for 23-29 factors'!B189-1)*(B$3-B$2)/256), B$4)","v":190},{"$f":"ROUND( C$2+(('coded NOLH for 23-29 factors'!C189-1)*(C$3-C$2)/256), C$4)","v":146},{"$f":"ROUND( D$2+(('coded NOLH for 23-29 factors'!D189-1)*(D$3-D$2)/256), D$4)","v":198},{"$f":"ROUND( E$2+(('coded NOLH for 23-29 factors'!E189-1)*(E$3-E$2)/256), E$4)","v":241},{"$f":"ROUND( F$2+(('coded NOLH for 23-29 factors'!F189-1)*(F$3-F$2)/256), F$4)","v":78},{"$f":"ROUND( G$2+(('coded NOLH for 23-29 factors'!G189-1)*(G$3-G$2)/256), G$4)","v":210},{"$f":"ROUND( H$2+(('coded NOLH for 23-29 factors'!H189-1)*(H$3-H$2)/256), H$4)","v":238},{"$f":"ROUND( I$2+(('coded NOLH for 23-29 factors'!I189-1)*(I$3-I$2)/256), I$4)","v":40},{"$f":"ROUND( J$2+(('coded NOLH for 23-29 factors'!J189-1)*(J$3-J$2)/256), J$4)","v":248},{"$f":"ROUND( K$2+(('coded NOLH for 23-29 factors'!K189-1)*(K$3-K$2)/256), K$4)","v":226},{"$f":"ROUND( L$2+(('coded NOLH for 23-29 factors'!L189-1)*(L$3-L$2)/256), L$4)","v":71},{"$f":"ROUND( M$2+(('coded NOLH for 23-29 factors'!M189-1)*(M$3-M$2)/256), M$4)","v":169},{"$f":"ROUND( N$2+(('coded NOLH for 23-29 factors'!N189-1)*(N$3-N$2)/256), N$4)","v":144},{"$f":"ROUND( O$2+(('coded NOLH for 23-29 factors'!O189-1)*(O$3-O$2)/256), O$4)","v":1},{"$f":"ROUND( P$2+(('coded NOLH for 23-29 factors'!P189-1)*(P$3-P$2)/256), P$4)","v":169},{"$f":"ROUND( Q$2+(('coded NOLH for 23-29 factors'!Q189-1)*(Q$3-Q$2)/256), Q$4)","v":115},{"$f":"ROUND( R$2+(('coded NOLH for 23-29 factors'!R189-1)*(R$3-R$2)/256), R$4)","v":244},{"$f":"ROUND( S$2+(('coded NOLH for 23-29 factors'!S189-1)*(S$3-S$2)/256), S$4)","v":223},{"$f":"ROUND( T$2+(('coded NOLH for 23-29 factors'!T189-1)*(T$3-T$2)/256), T$4)","v":77},{"$f":"ROUND( U$2+(('coded NOLH for 23-29 factors'!U189-1)*(U$3-U$2)/256), U$4)","v":6},{"$f":"ROUND( V$2+(('coded NOLH for 23-29 factors'!V189-1)*(V$3-V$2)/256), V$4)","v":223},{"$f":"ROUND( W$2+(('coded NOLH for 23-29 factors'!W189-1)*(W$3-W$2)/256), W$4)","v":135},{"$f":"ROUND( X$2+(('coded NOLH for 23-29 factors'!X189-1)*(X$3-X$2)/256), X$4)","v":139},{"$f":"ROUND( Y$2+(('coded NOLH for 23-29 factors'!Y189-1)*(Y$3-Y$2)/256), Y$4)","v":132},{"$f":"ROUND( Z$2+(('coded NOLH for 23-29 factors'!Z189-1)*(Z$3-Z$2)/256), Z$4)","v":84},{"$f":"ROUND( AA$2+(('coded NOLH for 23-29 factors'!AA189-1)*(AA$3-AA$2)/256), AA$4)","v":162},{"$f":"ROUND( AB$2+(('coded NOLH for 23-29 factors'!AB189-1)*(AB$3-AB$2)/256), AB$4)","v":202},{"$f":"ROUND( AC$2+(('coded NOLH for 23-29 factors'!AC189-1)*(AC$3-AC$2)/256), AC$4)","v":70},{"$f":"ROUND( AD$2+(('coded NOLH for 23-29 factors'!AD189-1)*(AD$3-AD$2)/256), AD$4)","v":18}]
[null,{"$f":"ROUND( B$2+(('coded NOLH for 23-29 factors'!B190-1)*(B$3-B$2)/256), B$4)","v":180},{"$f":"ROUND( C$2+(('coded NOLH for 23-29 factors'!C190-1)*(C$3-C$2)/256), C$4)","v":61},{"$f":"ROUND( D$2+(('coded NOLH for 23-29 factors'!D190-1)*(D$3-D$2)/256), D$4)","v":64},{"$f":"ROUND( E$2+(('coded NOLH for 23-29 factors'!E190-1)*(E$3-E$2)/256), E$4)","v":1},{"$f":"ROUND( F$2+(('coded NOLH for 23-29 factors'!F190-1)*(F$3-F$2)/256), F$4)","v":190},{"$f":"ROUND( G$2+(('coded NOLH for 23-29 factors'!G190-1)*(G$3-G$2)/256), G$4)","v":138},{"$f":"ROUND( H$2+(('coded NOLH for 23-29 factors'!H190-1)*(H$3-H$2)/256), H$4)","v":158},{"$f":"ROUND( I$2+(('coded NOLH for 23-29 factors'!I190-1)*(I$3-I$2)/256), I$4)","v":63},{"$f":"ROUND( J$2+(('coded NOLH for 23-29 factors'!J190-1)*(J$3-J$2)/256), J$4)","v":193},{"$f":"ROUND( K$2+(('coded NOLH for 23-29 factors'!K190-1)*(K$3-K$2)/256), K$4)","v":248},{"$f":"ROUND( L$2+(('coded NOLH for 23-29 factors'!L190-1)*(L$3-L$2)/256), L$4)","v":101},{"$f":"ROUND( M$2+(('coded NOLH for 23-29 factors'!M190-1)*(M$3-M$2)/256), M$4)","v":115},{"$f":"ROUND( N$2+(('coded NOLH for 23-29 factors'!N190-1)*(N$3-N$2)/256), N$4)","v":19},{"$f":"ROUND( O$2+(('coded NOLH for 23-29 factors'!O190-1)*(O$3-O$2)/256), O$4)","v":218},{"$f":"ROUND( P$2+(('coded NOLH for 23-29 factors'!P190-1)*(P$3-P$2)/256), P$4)","v":222},{"$f":"ROUND( Q$2+(('coded NOLH for 23-29 factors'!Q190-1)*(Q$3-Q$2)/256), Q$4)","v":72},{"$f":"ROUND( R$2+(('coded NOLH for 23-29 factors'!R190-1)*(R$3-R$2)/256), R$4)","v":24},{"$f":"ROUND( S$2+(('coded NOLH for 23-29 factors'!S190-1)*(S$3-S$2)/256), S$4)","v":97},{"$f":"ROUND( T$2+(('coded NOLH for 23-29 factors'!T190-1)*(T$3-T$2)/256), T$4)","v":243},{"$f":"ROUND( U$2+(('coded NOLH for 23-29 factors'!U190-1)*(U$3-U$2)/256), U$4)","v":7},{"$f":"ROUND( V$2+(('coded NOLH for 23-29 factors'!V190-1)*(V$3-V$2)/256), V$4)","v":113},{"$f":"ROUND( W$2+(('coded NOLH for 23-29 factors'!W190-1)*(W$3-W$2)/256), W$4)","v":106},{"$f":"ROUND( X$2+(('coded NOLH for 23-29 factors'!X190-1)*(X$3-X$2)/256), X$4)","v":233},{"$f":"ROUND( Y$2+(('coded NOLH for 23-29 factors'!Y190-1)*(Y$3-Y$2)/256), Y$4)","v":167},{"$f":"ROUND( Z$2+(('coded NOLH for 23-29 factors'!Z190-1)*(Z$3-Z$2)/256), Z$4)","v":201},{"$f":"ROUND( AA$2+(('coded NOLH for 23-29 factors'!AA190-1)*(AA$3-AA$2)/256), AA$4)","v":10},{"$f":"ROUND( AB$2+(('coded NOLH for 23-29 factors'!AB190-1)*(AB$3-AB$2)/256), AB$4)","v":180},{"$f":"ROUND( AC$2+(('coded NOLH for 23-29 factors'!AC190-1)*(AC$3-AC$2)/256), AC$4)","v":81},{"$f":"ROUND( AD$2+(('coded NOLH for 23-29 factors'!AD190-1)*(AD$3-AD$2)/256), AD$4)","v":103}]
[null,{"$f":"ROUND( B$2+(('coded NOLH for 23-29 factors'!B191-1)*(B$3-B$2)/256), B$4)","v":197},{"$f":"ROUND( C$2+(('coded NOLH for 23-29 factors'!C191-1)*(C$3-C$2)/256), C$4)","v":180},{"$f":"ROUND( D$2+(('coded NOLH for 23-29 factors'!D191-1)*(D$3-D$2)/256), D$4)","v":69},{"$f":"ROUND( E$2+(('coded NOLH for 23-29 factors'!E191-1)*(E$3-E$2)/256), E$4)","v":8},{"$f":"ROUND( F$2+(('coded NOLH for 23-29 factors'!F191-1)*(F$3-F$2)/256), F$4)","v":146},{"$f":"ROUND( G$2+(('coded NOLH for 23-29 factors'!G191-1)*(G$3-G$2)/256), G$4)","v":176},{"$f":"ROUND( H$2+(('coded NOLH for 23-29 factors'!H191-1)*(H$3-H$2)/256), H$4)","v":246},{"$f":"ROUND( I$2+(('coded NOLH for 23-29 factors'!I191-1)*(I$3-I$2)/256), I$4)","v":47},{"$f":"ROUND( J$2+(('coded NOLH for 23-29 factors'!J191-1)*(J$3-J$2)/256), J$4)","v":71},{"$f":"ROUND( K$2+(('coded NOLH for 23-29 factors'!K191-1)*(K$3-K$2)/256), K$4)","v":2},{"$f":"ROUND( L$2+(('coded NOLH for 23-29 factors'!L191-1)*(L$3-L$2)/256), L$4)","v":171},{"$f":"ROUND( M$2+(('coded NOLH for 23-29 factors'!M191-1)*(M$3-M$2)/256), M$4)","v":155},{"$f":"ROUND( N$2+(('coded NOLH for 23-29 factors'!N191-1)*(N$3-N$2)/256), N$4)","v":160},{"$f":"ROUND( O$2+(('coded NOLH for 23-29 factors'!O191-1)*(O$3-O$2)/256), O$4)","v":74},{"$f":"ROUND( P$2+(('coded NOLH for 23-29 factors'!P191-1)*(P$3-P$2)/256), P$4)","v":240},{"$f":"ROUND( Q$2+(('coded NOLH for 23-29 factors'!Q191-1)*(Q$3-Q$2)/256), Q$4)","v":2},{"$f":"ROUND( R$2+(('coded NOLH for 23-29 factors'!R191-1)*(R$3-R$2)/256), R$4)","v":102},{"$f":"ROUND( S$2+(('coded NOLH for 23-29 factors'!S191-1)*(S$3-S$2)/256), S$4)","v":121},{"$f":"ROUND( T$2+(('coded NOLH for 23-29 factors'!T191-1)*(T$3-T$2)/256), T$4)","v":222},{"$f":"ROUND( U$2+(('coded NOLH for 23-29 factors'!U191-1)*(U$3-U$2)/256), U$4)","v":73},{"$f":"ROUND( V$2+(('coded NOLH for 23-29 factors'!V191-1)*(V$3-V$2)/256), V$4)","v":120},{"$f":"ROUND( W$2+(('coded NOLH for 23-29 factors'!W191-1)*(W$3-W$2)/256), W$4)","v":15},{"$f":"ROUND( X$2+(('coded NOLH for 23-29 factors'!X191-1)*(X$3-X$2)/256), X$4)","v":162},{"$f":"ROUND( Y$2+(('coded NOLH for 23-29 factors'!Y191-1)*(Y$3-Y$2)/256), Y$4)","v":184},{"$f":"ROUND( Z$2+(('coded NOLH for 23-29 factors'!Z191-1)*(Z$3-Z$2)/256), Z$4)","v":137},{"$f":"ROUND( AA$2+(('coded NOLH for 23-29 factors'!AA191-1)*(AA$3-AA$2)/256), AA$4)","v":33},{"$f":"ROUND( AB$2+(('coded NOLH for 23-29 factors'!AB191-1)*(AB$3-AB$2)/256), AB$4)","v":113},{"$f":"ROUND( AC$2+(('coded NOLH for 23-29 factors'!AC191-1)*(AC$3-AC$2)/256), AC$4)","v":95},{"$f":"ROUND( AD$2+(('coded NOLH for 23-29 factors'!AD191-1)*(AD$3-AD$2)/256), AD$4)","v":88}]
[null,{"$f":"ROUND( B$2+(('coded NOLH for 23-29 factors'!B192-1)*(B$3-B$2)/256), B$4)","v":189},{"$f":"ROUND( C$2+(('coded NOLH for 23-29 factors'!C192-1)*(C$3-C$2)/256), C$4)","v":64},{"$f":"ROUND( D$2+(('coded NOLH for 23-29 factors'!D192-1)*(D$3-D$2)/256), D$4)","v":197},{"$f":"ROUND( E$2+(('coded NOLH for 23-29 factors'!E192-1)*(E$3-E$2)/256), E$4)","v":16},{"$f":"ROUND( F$2+(('coded NOLH for 23-29 factors'!F192-1)*(F$3-F$2)/256), F$4)","v":251},{"$f":"ROUND( G$2+(('coded NOLH for 23-29 factors'!G192-1)*(G$3-G$2)/256), G$4)","v":156},{"$f":"ROUND( H$2+(('coded NOLH for 23-29 factors'!H192-1)*(H$3-H$2)/256), H$4)","v":144},{"$f":"ROUND( I$2+(('coded NOLH for 23-29 factors'!I192-1)*(I$3-I$2)/256), I$4)","v":45},{"$f":"ROUND( J$2+(('coded NOLH for 23-29 factors'!J192-1)*(J$3-J$2)/256), J$4)","v":76},{"$f":"ROUND( K$2+(('coded NOLH for 23-29 factors'!K192-1)*(K$3-K$2)/256), K$4)","v":220},{"$f":"ROUND( L$2+(('coded NOLH for 23-29 factors'!L192-1)*(L$3-L$2)/256), L$4)","v":52},{"$f":"ROUND( M$2+(('coded NOLH for 23-29 factors'!M192-1)*(M$3-M$2)/256), M$4)","v":88},{"$f":"ROUND( N$2+(('coded NOLH for 23-29 factors'!N192-1)*(N$3-N$2)/256), N$4)","v":110},{"$f":"ROUND( O$2+(('coded NOLH for 23-29 factors'!O192-1)*(O$3-O$2)/256), O$4)","v":236},{"$f":"ROUND( P$2+(('coded NOLH for 23-29 factors'!P192-1)*(P$3-P$2)/256), P$4)","v":2},{"$f":"ROUND( Q$2+(('coded NOLH for 23-29 factors'!Q192-1)*(Q$3-Q$2)/256), Q$4)","v":145},{"$f":"ROUND( R$2+(('coded NOLH for 23-29 factors'!R192-1)*(R$3-R$2)/256), R$4)","v":123},{"$f":"ROUND( S$2+(('coded NOLH for 23-29 factors'!S192-1)*(S$3-S$2)/256), S$4)","v":241},{"$f":"ROUND( T$2+(('coded NOLH for 23-29 factors'!T192-1)*(T$3-T$2)/256), T$4)","v":47},{"$f":"ROUND( U$2+(('coded NOLH for 23-29 factors'!U192-1)*(U$3-U$2)/256), U$4)","v":3},{"$f":"ROUND( V$2+(('coded NOLH for 23-29 factors'!V192-1)*(V$3-V$2)/256), V$4)","v":14},{"$f":"ROUND( W$2+(('coded NOLH for 23-29 factors'!W192-1)*(W$3-W$2)/256), W$4)","v":43},{"$f":"ROUND( X$2+(('coded NOLH for 23-29 factors'!X192-1)*(X$3-X$2)/256), X$4)","v":217},{"$f":"ROUND( Y$2+(('coded NOLH for 23-29 factors'!Y192-1)*(Y$3-Y$2)/256), Y$4)","v":191},{"$f":"ROUND( Z$2+(('coded NOLH for 23-29 factors'!Z192-1)*(Z$3-Z$2)/256), Z$4)","v":229},{"$f":"ROUND( AA$2+(('coded NOLH for 23-29 factors'!AA192-1)*(AA$3-AA$2)/256), AA$4)","v":65},{"$f":"ROUND( AB$2+(('coded NOLH for 23-29 factors'!AB192-1)*(AB$3-AB$2)/256), AB$4)","v":216},{"$f":"ROUND( AC$2+(('coded NOLH for 23-29 factors'!AC192-1)*(AC$3-AC$2)/256), AC$4)","v":117},{"$f":"ROUND( AD$2+(('coded NOLH for 23-29 factors'!AD192-1)*(AD$3-AD$2)/256), AD$4)","v":40}]
[null,{"$f":"ROUND( B$2+(('coded NOLH for 23-29 factors'!B193-1)*(B$3-B$2)/256), B$4)","v":194},{"$f":"ROUND( C$2+(('coded NOLH for 23-29 factors'!C193-1)*(C$3-C$2)/256), C$4)","v":189},{"$f":"ROUND( D$2+(('coded NOLH for 23-29 factors'!D193-1)*(D$3-D$2)/256), D$4)","v":180},{"$f":"ROUND( E$2+(('coded NOLH for 23-29 factors'!E193-1)*(E$3-E$2)/256), E$4)","v":32},{"$f":"ROUND( F$2+(('coded NOLH for 23-29 factors'!F193-1)*(F$3-F$2)/256), F$4)","v":198},{"$f":"ROUND( G$2+(('coded NOLH for 23-29 factors'!G193-1)*(G$3-G$2)/256), G$4)","v":179},{"$f":"ROUND( H$2+(('coded NOLH for 23-29 factors'!H193-1)*(H$3-H$2)/256), H$4)","v":163},{"$f":"ROUND( I$2+(('coded NOLH for 23-29 factors'!I193-1)*(I$3-I$2)/256), I$4)","v":28},{"$f":"ROUND( J$2+(('coded NOLH for 23-29 factors'!J193-1)*(J$3-J$2)/256), J$4)","v":208},{"$f":"ROUND( K$2+(('coded NOLH for 23-29 factors'!K193-1)*(K$3-K$2)/256), K$4)","v":12},{"$f":"ROUND( L$2+(('coded NOLH for 23-29 factors'!L193-1)*(L$3-L$2)/256), L$4)","v":247},{"$f":"ROUND( M$2+(('coded NOLH for 23-29 factors'!M193-1)*(M$3-M$2)/256), M$4)","v":175},{"$f":"ROUND( N$2+(('coded NOLH for 23-29 factors'!N193-1)*(N$3-N$2)/256), N$4)","v":154},{"$f":"ROUND( O$2+(('coded NOLH for 23-29 factors'!O193-1)*(O$3-O$2)/256), O$4)","v":53},{"$f":"ROUND( P$2+(('coded NOLH for 23-29 factors'!P193-1)*(P$3-P$2)/256), P$4)","v":1},{"$f":"ROUND( Q$2+(('coded NOLH for 23-29 factors'!Q193-1)*(Q$3-Q$2)/256), Q$4)","v":180},{"$f":"ROUND( R$2+(('coded NOLH for 23-29 factors'!R193-1)*(R$3-R$2)/256), R$4)","v":122},{"$f":"ROUND( S$2+(('coded NOLH for 23-29 factors'!S193-1)*(S$3-S$2)/256), S$4)","v":158},{"$f":"ROUND( T$2+(('coded NOLH for 23-29 factors'!T193-1)*(T$3-T$2)/256), T$4)","v":79},{"$f":"ROUND( U$2+(('coded NOLH for 23-29 factors'!U193-1)*(U$3-U$2)/256), U$4)","v":95},{"$f":"ROUND( V$2+(('coded NOLH for 23-29 factors'!V193-1)*(V$3-V$2)/256), V$4)","v":78},{"$f":"ROUND( W$2+(('coded NOLH for 23-29 factors'!W193-1)*(W$3-W$2)/256), W$4)","v":109},{"$f":"ROUND( X$2+(('coded NOLH for 23-29 factors'!X193-1)*(X$3-X$2)/256), X$4)","v":219},{"$f":"ROUND( Y$2+(('coded NOLH for 23-29 factors'!Y193-1)*(Y$3-Y$2)/256), Y$4)","v":240},{"$f":"ROUND( Z$2+(('coded NOLH for 23-29 factors'!Z193-1)*(Z$3-Z$2)/256), Z$4)","v":247},{"$f":"ROUND( AA$2+(('coded NOLH for 23-29 factors'!AA193-1)*(AA$3-AA$2)/256), AA$4)","v":117},{"$f":"ROUND( AB$2+(('coded NOLH for 23-29 factors'!AB193-1)*(AB$3-AB$2)/256), AB$4)","v":143},{"$f":"ROUND( AC$2+(('coded NOLH for 23-29 factors'!AC193-1)*(AC$3-AC$2)/256), AC$4)","v":59},{"$f":"ROUND( AD$2+(('coded NOLH for 23-29 factors'!AD193-1)*(AD$3-AD$2)/256), AD$4)","v":92}]
[null,{"$f":"ROUND( B$2+(('coded NOLH for 23-29 factors'!B194-1)*(B$3-B$2)/256), B$4)","v":226},{"$f":"ROUND( C$2+(('coded NOLH for 23-29 factors'!C194-1)*(C$3-C$2)/256), C$4)","v":16},{"$f":"ROUND( D$2+(('coded NOLH for 23-29 factors'!D194-1)*(D$3-D$2)/256), D$4)","v":1},{"$f":"ROUND( E$2+(('coded NOLH for 23-29 factors'!E194-1)*(E$3-E$2)/256), E$4)","v":194},{"$f":"ROUND( F$2+(('coded NOLH for 23-29 factors'!F194-1)*(F$3-F$2)/256), F$4)","v":166},{"$f":"ROUND( G$2+(('coded NOLH for 23-29 factors'!G194-1)*(G$3-G$2)/256), G$4)","v":215},{"$f":"ROUND( H$2+(('coded NOLH for 23-29 factors'!H194-1)*(H$3-H$2)/256), H$4)","v":153},{"$f":"ROUND( I$2+(('coded NOLH for 23-29 factors'!I194-1)*(I$3-I$2)/256), I$4)","v":77},{"$f":"ROUND( J$2+(('coded NOLH for 23-29 factors'!J194-1)*(J$3-J$2)/256), J$4)","v":250},{"$f":"ROUND( K$2+(('coded NOLH for 23-29 factors'!K194-1)*(K$3-K$2)/256), K$4)","v":72},{"$f":"ROUND( L$2+(('coded NOLH for 23-29 factors'!L194-1)*(L$3-L$2)/256), L$4)","v":3},{"$f":"ROUND( M$2+(('coded NOLH for 23-29 factors'!M194-1)*(M$3-M$2)/256), M$4)","v":76},{"$f":"ROUND( N$2+(('coded NOLH for 23-29 factors'!N194-1)*(N$3-N$2)/256), N$4)","v":46},{"$f":"ROUND( O$2+(('coded NOLH for 23-29 factors'!O194-1)*(O$3-O$2)/256), O$4)","v":224},{"$f":"ROUND( P$2+(('coded NOLH for 23-29 factors'!P194-1)*(P$3-P$2)/256), P$4)","v":67},{"$f":"ROUND( Q$2+(('coded NOLH for 23-29 factors'!Q194-1)*(Q$3-Q$2)/256), Q$4)","v":31},{"$f":"ROUND( R$2+(('coded NOLH for 23-29 factors'!R194-1)*(R$3-R$2)/256), R$4)","v":131},{"$f":"ROUND( S$2+(('coded NOLH for 23-29 factors'!S194-1)*(S$3-S$2)/256), S$4)","v":94},{"$f":"ROUND( T$2+(('coded NOLH for 23-29 factors'!T194-1)*(T$3-T$2)/256), T$4)","v":227},{"$f":"ROUND( U$2+(('coded NOLH for 23-29 factors'!U194-1)*(U$3-U$2)/256), U$4)","v":231},{"$f":"ROUND( V$2+(('coded NOLH for 23-29 factors'!V194-1)*(V$3-V$2)/256), V$4)","v":175},{"$f":"ROUND( W$2+(('coded NOLH for 23-29 factors'!W194-1)*(W$3-W$2)/256), W$4)","v":143},{"$f":"ROUND( X$2+(('coded NOLH for 23-29 factors'!X194-1)*(X$3-X$2)/256), X$4)","v":2},{"$f":"ROUND( Y$2+(('coded NOLH for 23-29 factors'!Y194-1)*(Y$3-Y$2)/256), Y$4)","v":203},{"$f":"ROUND( Z$2+(('coded NOLH for 23-29 factors'!Z194-1)*(Z$3-Z$2)/256), Z$4)","v":167},{"$f":"ROUND( AA$2+(('coded NOLH for 23-29 factors'!AA194-1)*(AA$3-AA$2)/256), AA$4)","v":93},{"$f":"ROUND( AB$2+(('coded NOLH for 23-29 factors'!AB194-1)*(AB$3-AB$2)/256), AB$4)","v":229},{"$f":"ROUND( AC$2+(('coded NOLH for 23-29 factors'!AC194-1)*(AC$3-AC$2)/256), AC$4)","v":14},{"$f":"ROUND( AD$2+(('coded NOLH for 23-29 factors'!AD194-1)*(AD$3-AD$2)/256), AD$4)","v":5}]
[null,{"$f":"ROUND( B$2+(('coded NOLH for 23-29 factors'!B195-1)*(B$3-B$2)/256), B$4)","v":242},{"$f":"ROUND( C$2+(('coded NOLH for 23-29 factors'!C195-1)*(C$3-C$2)/256), C$4)","v":226},{"$f":"ROUND( D$2+(('coded NOLH for 23-29 factors'!D195-1)*(D$3-D$2)/256), D$4)","v":8},{"$f":"ROUND( E$2+(('coded NOLH for 23-29 factors'!E195-1)*(E$3-E$2)/256), E$4)","v":189},{"$f":"ROUND( F$2+(('coded NOLH for 23-29 factors'!F195-1)*(F$3-F$2)/256), F$4)","v":254},{"$f":"ROUND( G$2+(('coded NOLH for 23-29 factors'!G195-1)*(G$3-G$2)/256), G$4)","v":193},{"$f":"ROUND( H$2+(('coded NOLH for 23-29 factors'!H195-1)*(H$3-H$2)/256), H$4)","v":216},{"$f":"ROUND( I$2+(('coded NOLH for 23-29 factors'!I195-1)*(I$3-I$2)/256), I$4)","v":51},{"$f":"ROUND( J$2+(('coded NOLH for 23-29 factors'!J195-1)*(J$3-J$2)/256), J$4)","v":4},{"$f":"ROUND( K$2+(('coded NOLH for 23-29 factors'!K195-1)*(K$3-K$2)/256), K$4)","v":177},{"$f":"ROUND( L$2+(('coded NOLH for 23-29 factors'!L195-1)*(L$3-L$2)/256), L$4)","v":170},{"$f":"ROUND( M$2+(('coded NOLH for 23-29 factors'!M195-1)*(M$3-M$2)/256), M$4)","v":231},{"$f":"ROUND( N$2+(('coded NOLH for 23-29 factors'!N195-1)*(N$3-N$2)/256), N$4)","v":158},{"$f":"ROUND( O$2+(('coded NOLH for 23-29 factors'!O195-1)*(O$3-O$2)/256), O$4)","v":105},{"$f":"ROUND( P$2+(('coded NOLH for 23-29 factors'!P195-1)*(P$3-P$2)/256), P$4)","v":34},{"$f":"ROUND( Q$2+(('coded NOLH for 23-29 factors'!Q195-1)*(Q$3-Q$2)/256), Q$4)","v":92},{"$f":"ROUND( R$2+(('coded NOLH for 23-29 factors'!R195-1)*(R$3-R$2)/256), R$4)","v":66},{"$f":"ROUND( S$2+(('coded NOLH for 23-29 factors'!S195-1)*(S$3-S$2)/256), S$4)","v":15},{"$f":"ROUND( T$2+(('coded NOLH for 23-29 factors'!T195-1)*(T$3-T$2)/256), T$4)","v":150},{"$f":"ROUND( U$2+(('coded NOLH for 23-29 factors'!U195-1)*(U$3-U$2)/256), U$4)","v":257},{"$f":"ROUND( V$2+(('coded NOLH for 23-29 factors'!V195-1)*(V$3-V$2)/256), V$4)","v":166},{"$f":"ROUND( W$2+(('coded NOLH for 23-29 factors'!W195-1)*(W$3-W$2)/256), W$4)","v":122},{"$f":"ROUND( X$2+(('coded NOLH for 23-29 factors'!X195-1)*(X$3-X$2)/256), X$4)","v":35},{"$f":"ROUND( Y$2+(('coded NOLH for 23-29 factors'!Y195-1)*(Y$3-Y$2)/256), Y$4)","v":172},{"$f":"ROUND( Z$2+(('coded NOLH for 23-29 factors'!Z195-1)*(Z$3-Z$2)/256), Z$4)","v":255},{"$f":"ROUND( AA$2+(('coded NOLH for 23-29 factors'!AA195-1)*(AA$3-AA$2)/256), AA$4)","v":25},{"$f":"ROUND( AB$2+(('coded NOLH for 23-29 factors'!AB195-1)*(AB$3-AB$2)/256), AB$4)","v":253},{"$f":"ROUND( AC$2+(('coded NOLH for 23-29 factors'!AC195-1)*(AC$3-AC$2)/256), AC$4)","v":111},{"$f":"ROUND( AD$2+(('coded NOLH for 23-29 factors'!AD195-1)*(AD$3-AD$2)/256), AD$4)","v":1}]
[null,{"$f":"ROUND( B$2+(('coded NOLH for 23-29 factors'!B196-1)*(B$3-B$2)/256), B$4)","v":250},{"$f":"ROUND( C$2+(('coded NOLH for 23-29 factors'!C196-1)*(C$3-C$2)/256), C$4)","v":1},{"$f":"ROUND( D$2+(('coded NOLH for 23-29 factors'!D196-1)*(D$3-D$2)/256), D$4)","v":242},{"$f":"ROUND( E$2+(('coded NOLH for 23-29 factors'!E196-1)*(E$3-E$2)/256), E$4)","v":197},{"$f":"ROUND( F$2+(('coded NOLH for 23-29 factors'!F196-1)*(F$3-F$2)/256), F$4)","v":196},{"$f":"ROUND( G$2+(('coded NOLH for 23-29 factors'!G196-1)*(G$3-G$2)/256), G$4)","v":173},{"$f":"ROUND( H$2+(('coded NOLH for 23-29 factors'!H196-1)*(H$3-H$2)/256), H$4)","v":227},{"$f":"ROUND( I$2+(('coded NOLH for 23-29 factors'!I196-1)*(I$3-I$2)/256), I$4)","v":94},{"$f":"ROUND( J$2+(('coded NOLH for 23-29 factors'!J196-1)*(J$3-J$2)/256), J$4)","v":21},{"$f":"ROUND( K$2+(('coded NOLH for 23-29 factors'!K196-1)*(K$3-K$2)/256), K$4)","v":85},{"$f":"ROUND( L$2+(('coded NOLH for 23-29 factors'!L196-1)*(L$3-L$2)/256), L$4)","v":24},{"$f":"ROUND( M$2+(('coded NOLH for 23-29 factors'!M196-1)*(M$3-M$2)/256), M$4)","v":84},{"$f":"ROUND( N$2+(('coded NOLH for 23-29 factors'!N196-1)*(N$3-N$2)/256), N$4)","v":116},{"$f":"ROUND( O$2+(('coded NOLH for 23-29 factors'!O196-1)*(O$3-O$2)/256), O$4)","v":238},{"$f":"ROUND( P$2+(('coded NOLH for 23-29 factors'!P196-1)*(P$3-P$2)/256), P$4)","v":190},{"$f":"ROUND( Q$2+(('coded NOLH for 23-29 factors'!Q196-1)*(Q$3-Q$2)/256), Q$4)","v":255},{"$f":"ROUND( R$2+(('coded NOLH for 23-29 factors'!R196-1)*(R$3-R$2)/256), R$4)","v":183},{"$f":"ROUND( S$2+(('coded NOLH for 23-29 factors'!S196-1)*(S$3-S$2)/256), S$4)","v":213},{"$f":"ROUND( T$2+(('coded NOLH for 23-29 factors'!T196-1)*(T$3-T$2)/256), T$4)","v":16},{"$f":"ROUND( U$2+(('coded NOLH for 23-29 factors'!U196-1)*(U$3-U$2)/256), U$4)","v":149},{"$f":"ROUND( V$2+(('coded NOLH for 23-29 factors'!V196-1)*(V$3-V$2)/256), V$4)","v":114},{"$f":"ROUND( W$2+(('coded NOLH for 23-29 factors'!W196-1)*(W$3-W$2)/256), W$4)","v":250},{"$f":"ROUND( X$2+(('coded NOLH for 23-29 factors'!X196-1)*(X$3-X$2)/256), X$4)","v":51},{"$f":"ROUND( Y$2+(('coded NOLH for 23-29 factors'!Y196-1)*(Y$3-Y$2)/256), Y$4)","v":248},{"$f":"ROUND( Z$2+(('coded NOLH for 23-29 factors'!Z196-1)*(Z$3-Z$2)/256), Z$4)","v":222},{"$f":"ROUND( AA$2+(('coded NOLH for 23-29 factors'!AA196-1)*(AA$3-AA$2)/256), AA$4)","v":23},{"$f":"ROUND( AB$2+(('coded NOLH for 23-29 factors'!AB196-1)*(AB$3-AB$2)/256), AB$4)","v":156},{"$f":"ROUND( AC$2+(('coded NOLH for 23-29 factors'!AC196-1)*(AC$3-AC$2)/256), AC$4)","v":132},{"$f":"ROUND( AD$2+(('coded NOLH for 23-29 factors'!AD196-1)*(AD$3-AD$2)/256), AD$4)","v":57}]
[null,{"$f":"ROUND( B$2+(('coded NOLH for 23-29 factors'!B197-1)*(B$3-B$2)/256), B$4)","v":257},{"$f":"ROUND( C$2+(('coded NOLH for 23-29 factors'!C197-1)*(C$3-C$2)/256), C$4)","v":250},{"$f":"ROUND( D$2+(('coded NOLH for 23-29 factors'!D197-1)*(D$3-D$2)/256), D$4)","v":226},{"$f":"ROUND( E$2+(('coded NOLH for 23-29 factors'!E197-1)*(E$3-E$2)/256), E$4)","v":180},{"$f":"ROUND( F$2+(('coded NOLH for 23-29 factors'!F197-1)*(F$3-F$2)/256), F$4)","v":241},{"$f":"ROUND( G$2+(('coded NOLH for 23-29 factors'!G197-1)*(G$3-G$2)/256), G$4)","v":139},{"$f":"ROUND( H$2+(('coded NOLH for 23-29 factors'!H197-1)*(H$3-H$2)/256), H$4)","v":155},{"$f":"ROUND( I$2+(('coded NOLH for 23-29 factors'!I197-1)*(I$3-I$2)/256), I$4)","v":23},{"$f":"ROUND( J$2+(('coded NOLH for 23-29 factors'!J197-1)*(J$3-J$2)/256), J$4)","v":236},{"$f":"ROUND( K$2+(('coded NOLH for 23-29 factors'!K197-1)*(K$3-K$2)/256), K$4)","v":200},{"$f":"ROUND( L$2+(('coded NOLH for 23-29 factors'!L197-1)*(L$3-L$2)/256), L$4)","v":211},{"$f":"ROUND( M$2+(('coded NOLH for 23-29 factors'!M197-1)*(M$3-M$2)/256), M$4)","v":162},{"$f":"ROUND( N$2+(('coded NOLH for 23-29 factors'!N197-1)*(N$3-N$2)/256), N$4)","v":235},{"$f":"ROUND( O$2+(('coded NOLH for 23-29 factors'!O197-1)*(O$3-O$2)/256), O$4)","v":100},{"$f":"ROUND( P$2+(('coded NOLH for 23-29 factors'!P197-1)*(P$3-P$2)/256), P$4)","v":153},{"$f":"ROUND( Q$2+(('coded NOLH for 23-29 factors'!Q197-1)*(Q$3-Q$2)/256), Q$4)","v":170},{"$f":"ROUND( R$2+(('coded NOLH for 23-29 factors'!R197-1)*(R$3-R$2)/256), R$4)","v":194},{"$f":"ROUND( S$2+(('coded NOLH for 23-29 factors'!S197-1)*(S$3-S$2)/256), S$4)","v":139},{"$f":"ROUND( T$2+(('coded NOLH for 23-29 factors'!T197-1)*(T$3-T$2)/256), T$4)","v":71},{"$f":"ROUND( U$2+(('coded NOLH for 23-29 factors'!U197-1)*(U$3-U$2)/256), U$4)","v":154},{"$f":"ROUND( V$2+(('coded NOLH for 23-29 factors'!V197-1)*(V$3-V$2)/256), V$4)","v":177},{"$f":"ROUND( W$2+(('coded NOLH for 23-29 factors'!W197-1)*(W$3-W$2)/256), W$4)","v":161},{"$f":"ROUND( X$2+(('coded NOLH for 23-29 factors'!X197-1)*(X$3-X$2)/256), X$4)","v":85},{"$f":"ROUND( Y$2+(('coded NOLH for 23-29 factors'!Y197-1)*(Y$3-Y$2)/256), Y$4)","v":157},{"$f":"ROUND( Z$2+(('coded NOLH for 23-29 factors'!Z197-1)*(Z$3-Z$2)/256), Z$4)","v":142},{"$f":"ROUND( AA$2+(('coded NOLH for 23-29 factors'!AA197-1)*(AA$3-AA$2)/256), AA$4)","v":100},{"$f":"ROUND( AB$2+(('coded NOLH for 23-29 factors'!AB197-1)*(AB$3-AB$2)/256), AB$4)","v":224},{"$f":"ROUND( AC$2+(('coded NOLH for 23-29 factors'!AC197-1)*(AC$3-AC$2)/256), AC$4)","v":77},{"$f":"ROUND( AD$2+(('coded NOLH for 23-29 factors'!AD197-1)*(AD$3-AD$2)/256), AD$4)","v":48}]
[null,{"$f":"ROUND( B$2+(('coded NOLH for 23-29 factors'!B198-1)*(B$3-B$2)/256), B$4)","v":235},{"$f":"ROUND( C$2+(('coded NOLH for 23-29 factors'!C198-1)*(C$3-C$2)/256), C$4)","v":94},{"$f":"ROUND( D$2+(('coded NOLH for 23-29 factors'!D198-1)*(D$3-D$2)/256), D$4)","v":77},{"$f":"ROUND( E$2+(('coded NOLH for 23-29 factors'!E198-1)*(E$3-E$2)/256), E$4)","v":63},{"$f":"ROUND( F$2+(('coded NOLH for 23-29 factors'!F198-1)*(F$3-F$2)/256), F$4)","v":123},{"$f":"ROUND( G$2+(('coded NOLH for 23-29 factors'!G198-1)*(G$3-G$2)/256), G$4)","v":76},{"$f":"ROUND( H$2+(('coded NOLH for 23-29 factors'!H198-1)*(H$3-H$2)/256), H$4)","v":33},{"$f":"ROUND( I$2+(('coded NOLH for 23-29 factors'!I198-1)*(I$3-I$2)/256), I$4)","v":257},{"$f":"ROUND( J$2+(('coded NOLH for 23-29 factors'!J198-1)*(J$3-J$2)/256), J$4)","v":219},{"$f":"ROUND( K$2+(('coded NOLH for 23-29 factors'!K198-1)*(K$3-K$2)/256), K$4)","v":203},{"$f":"ROUND( L$2+(('coded NOLH for 23-29 factors'!L198-1)*(L$3-L$2)/256), L$4)","v":222},{"$f":"ROUND( M$2+(('coded NOLH for 23-29 factors'!M198-1)*(M$3-M$2)/256), M$4)","v":172},{"$f":"ROUND( N$2+(('coded NOLH for 23-29 factors'!N198-1)*(N$3-N$2)/256), N$4)","v":211},{"$f":"ROUND( O$2+(('coded NOLH for 23-29 factors'!O198-1)*(O$3-O$2)/256), O$4)","v":3},{"$f":"ROUND( P$2+(('coded NOLH for 23-29 factors'!P198-1)*(P$3-P$2)/256), P$4)","v":248},{"$f":"ROUND( Q$2+(('coded NOLH for 23-29 factors'!Q198-1)*(Q$3-Q$2)/256), Q$4)","v":141},{"$f":"ROUND( R$2+(('coded NOLH for 23-29 factors'!R198-1)*(R$3-R$2)/256), R$4)","v":239},{"$f":"ROUND( S$2+(('coded NOLH for 23-29 factors'!S198-1)*(S$3-S$2)/256), S$4)","v":256},{"$f":"ROUND( T$2+(('coded NOLH for 23-29 factors'!T198-1)*(T$3-T$2)/256), T$4)","v":37},{"$f":"ROUND( U$2+(('coded NOLH for 23-29 factors'!U198-1)*(U$3-U$2)/256), U$4)","v":228},{"$f":"ROUND( V$2+(('coded NOLH for 23-29 factors'!V198-1)*(V$3-V$2)/256), V$4)","v":232},{"$f":"ROUND( W$2+(('coded NOLH for 23-29 factors'!W198-1)*(W$3-W$2)/256), W$4)","v":164},{"$f":"ROUND( X$2+(('coded NOLH for 23-29 factors'!X198-1)*(X$3-X$2)/256), X$4)","v":91},{"$f":"ROUND( Y$2+(('coded NOLH for 23-29 factors'!Y198-1)*(Y$3-Y$2)/256), Y$4)","v":168},{"$f":"ROUND( Z$2+(('coded NOLH for 23-29 factors'!Z198-1)*(Z$3-Z$2)/256), Z$4)","v":214},{"$f":"ROUND( AA$2+(('coded NOLH for 23-29 factors'!AA198-1)*(AA$3-AA$2)/256), AA$4)","v":35},{"$f":"ROUND( AB$2+(('coded NOLH for 23-29 factors'!AB198-1)*(AB$3-AB$2)/256), AB$4)","v":237},{"$f":"ROUND( AC$2+(('coded NOLH for 23-29 factors'!AC198-1)*(AC$3-AC$2)/256), AC$4)","v":68},{"$f":"ROUND( AD$2+(('coded NOLH for 23-29 factors'!AD198-1)*(AD$3-AD$2)/256), AD$4)","v":105}]
[null,{"$f":"ROUND( B$2+(('coded NOLH for 23-29 factors'!B199-1)*(B$3-B$2)/256), B$4)","v":164},{"$f":"ROUND( C$2+(('coded NOLH for 23-29 factors'!C199-1)*(C$3-C$2)/256), C$4)","v":235},{"$f":"ROUND( D$2+(('coded NOLH for 23-29 factors'!D199-1)*(D$3-D$2)/256), D$4)","v":51},{"$f":"ROUND( E$2+(('coded NOLH for 23-29 factors'!E199-1)*(E$3-E$2)/256), E$4)","v":47},{"$f":"ROUND( F$2+(('coded NOLH for 23-29 factors'!F199-1)*(F$3-F$2)/256), F$4)","v":21},{"$f":"ROUND( G$2+(('coded NOLH for 23-29 factors'!G199-1)*(G$3-G$2)/256), G$4)","v":109},{"$f":"ROUND( H$2+(('coded NOLH for 23-29 factors'!H199-1)*(H$3-H$2)/256), H$4)","v":41},{"$f":"ROUND( I$2+(('coded NOLH for 23-29 factors'!I199-1)*(I$3-I$2)/256), I$4)","v":250},{"$f":"ROUND( J$2+(('coded NOLH for 23-29 factors'!J199-1)*(J$3-J$2)/256), J$4)","v":94},{"$f":"ROUND( K$2+(('coded NOLH for 23-29 factors'!K199-1)*(K$3-K$2)/256), K$4)","v":61},{"$f":"ROUND( L$2+(('coded NOLH for 23-29 factors'!L199-1)*(L$3-L$2)/256), L$4)","v":110},{"$f":"ROUND( M$2+(('coded NOLH for 23-29 factors'!M199-1)*(M$3-M$2)/256), M$4)","v":93},{"$f":"ROUND( N$2+(('coded NOLH for 23-29 factors'!N199-1)*(N$3-N$2)/256), N$4)","v":25},{"$f":"ROUND( O$2+(('coded NOLH for 23-29 factors'!O199-1)*(O$3-O$2)/256), O$4)","v":254},{"$f":"ROUND( P$2+(('coded NOLH for 23-29 factors'!P199-1)*(P$3-P$2)/256), P$4)","v":234},{"$f":"ROUND( Q$2+(('coded NOLH for 23-29 factors'!Q199-1)*(Q$3-Q$2)/256), Q$4)","v":200},{"$f":"ROUND( R$2+(('coded NOLH for 23-29 factors'!R199-1)*(R$3-R$2)/256), R$4)","v":214},{"$f":"ROUND( S$2+(('coded NOLH for 23-29 factors'!S199-1)*(S$3-S$2)/256), S$4)","v":254},{"$f":"ROUND( T$2+(('coded NOLH for 23-29 factors'!T199-1)*(T$3-T$2)/256), T$4)","v":46},{"$f":"ROUND( U$2+(('coded NOLH for 23-29 factors'!U199-1)*(U$3-U$2)/256), U$4)","v":238},{"$f":"ROUND( V$2+(('coded NOLH for 23-29 factors'!V199-1)*(V$3-V$2)/256), V$4)","v":172},{"$f":"ROUND( W$2+(('coded NOLH for 23-29 factors'!W199-1)*(W$3-W$2)/256), W$4)","v":157},{"$f":"ROUND( X$2+(('coded NOLH for 23-29 factors'!X199-1)*(X$3-X$2)/256), X$4)","v":55},{"$f":"ROUND( Y$2+(('coded NOLH for 23-29 factors'!Y199-1)*(Y$3-Y$2)/256), Y$4)","v":163},{"$f":"ROUND( Z$2+(('coded NOLH for 23-29 factors'!Z199-1)*(Z$3-Z$2)/256), Z$4)","v":133},{"$f":"ROUND( AA$2+(('coded NOLH for 23-29 factors'!AA199-1)*(AA$3-AA$2)/256), AA$4)","v":84},{"$f":"ROUND( AB$2+(('coded NOLH for 23-29 factors'!AB199-1)*(AB$3-AB$2)/256), AB$4)","v":228},{"$f":"ROUND( AC$2+(('coded NOLH for 23-29 factors'!AC199-1)*(AC$3-AC$2)/256), AC$4)","v":18},{"$f":"ROUND( AD$2+(('coded NOLH for 23-29 factors'!AD199-1)*(AD$3-AD$2)/256), AD$4)","v":6}]
[null,{"$f":"ROUND( B$2+(('coded NOLH for 23-29 factors'!B200-1)*(B$3-B$2)/256), B$4)","v":207},{"$f":"ROUND( C$2+(('coded NOLH for 23-29 factors'!C200-1)*(C$3-C$2)/256), C$4)","v":77},{"$f":"ROUND( D$2+(('coded NOLH for 23-29 factors'!D200-1)*(D$3-D$2)/256), D$4)","v":164},{"$f":"ROUND( E$2+(('coded NOLH for 23-29 factors'!E200-1)*(E$3-E$2)/256), E$4)","v":45},{"$f":"ROUND( F$2+(('coded NOLH for 23-29 factors'!F200-1)*(F$3-F$2)/256), F$4)","v":37},{"$f":"ROUND( G$2+(('coded NOLH for 23-29 factors'!G200-1)*(G$3-G$2)/256), G$4)","v":111},{"$f":"ROUND( H$2+(('coded NOLH for 23-29 factors'!H200-1)*(H$3-H$2)/256), H$4)","v":29},{"$f":"ROUND( I$2+(('coded NOLH for 23-29 factors'!I200-1)*(I$3-I$2)/256), I$4)","v":242},{"$f":"ROUND( J$2+(('coded NOLH for 23-29 factors'!J200-1)*(J$3-J$2)/256), J$4)","v":38},{"$f":"ROUND( K$2+(('coded NOLH for 23-29 factors'!K200-1)*(K$3-K$2)/256), K$4)","v":244},{"$f":"ROUND( L$2+(('coded NOLH for 23-29 factors'!L200-1)*(L$3-L$2)/256), L$4)","v":155},{"$f":"ROUND( M$2+(('coded NOLH for 23-29 factors'!M200-1)*(M$3-M$2)/256), M$4)","v":254},{"$f":"ROUND( N$2+(('coded NOLH for 23-29 factors'!N200-1)*(N$3-N$2)/256), N$4)","v":236},{"$f":"ROUND( O$2+(('coded NOLH for 23-29 factors'!O200-1)*(O$3-O$2)/256), O$4)","v":17},{"$f":"ROUND( P$2+(('coded NOLH for 23-29 factors'!P200-1)*(P$3-P$2)/256), P$4)","v":94},{"$f":"ROUND( Q$2+(('coded NOLH for 23-29 factors'!Q200-1)*(Q$3-Q$2)/256), Q$4)","v":6},{"$f":"ROUND( R$2+(('coded NOLH for 23-29 factors'!R200-1)*(R$3-R$2)/256), R$4)","v":86},{"$f":"ROUND( S$2+(('coded NOLH for 23-29 factors'!S200-1)*(S$3-S$2)/256), S$4)","v":58},{"$f":"ROUND( T$2+(('coded NOLH for 23-29 factors'!T200-1)*(T$3-T$2)/256), T$4)","v":250},{"$f":"ROUND( U$2+(('coded NOLH for 23-29 factors'!U200-1)*(U$3-U$2)/256), U$4)","v":157},{"$f":"ROUND( V$2+(('coded NOLH for 23-29 factors'!V200-1)*(V$3-V$2)/256), V$4)","v":137},{"$f":"ROUND( W$2+(('coded NOLH for 23-29 factors'!W200-1)*(W$3-W$2)/256), W$4)","v":229},{"$f":"ROUND( X$2+(('coded NOLH for 23-29 factors'!X200-1)*(X$3-X$2)/256), X$4)","v":63},{"$f":"ROUND( Y$2+(('coded NOLH for 23-29 factors'!Y200-1)*(Y$3-Y$2)/256), Y$4)","v":233},{"$f":"ROUND( Z$2+(('coded NOLH for 23-29 factors'!Z200-1)*(Z$3-Z$2)/256), Z$4)","v":155},{"$f":"ROUND( AA$2+(('coded NOLH for 23-29 factors'!AA200-1)*(AA$3-AA$2)/256), AA$4)","v":18},{"$f":"ROUND( AB$2+(('coded NOLH for 23-29 factors'!AB200-1)*(AB$3-AB$2)/256), AB$4)","v":153},{"$f":"ROUND( AC$2+(('coded NOLH for 23-29 factors'!AC200-1)*(AC$3-AC$2)/256), AC$4)","v":60},{"$f":"ROUND( AD$2+(('coded NOLH for 23-29 factors'!AD200-1)*(AD$3-AD$2)/256), AD$4)","v":38}]
[null,{"$f":"ROUND( B$2+(('coded NOLH for 23-29 factors'!B201-1)*(B$3-B$2)/256), B$4)","v":181},{"$f":"ROUND( C$2+(('coded NOLH for 23-29 factors'!C201-1)*(C$3-C$2)/256), C$4)","v":207},{"$f":"ROUND( D$2+(('coded NOLH for 23-29 factors'!D201-1)*(D$3-D$2)/256), D$4)","v":235},{"$f":"ROUND( E$2+(('coded NOLH for 23-29 factors'!E201-1)*(E$3-E$2)/256), E$4)","v":28},{"$f":"ROUND( F$2+(('coded NOLH for 23-29 factors'!F201-1)*(F$3-F$2)/256), F$4)","v":91},{"$f":"ROUND( G$2+(('coded NOLH for 23-29 factors'!G201-1)*(G$3-G$2)/256), G$4)","v":9},{"$f":"ROUND( H$2+(('coded NOLH for 23-29 factors'!H201-1)*(H$3-H$2)/256), H$4)","v":14},{"$f":"ROUND( I$2+(('coded NOLH for 23-29 factors'!I201-1)*(I$3-I$2)/256), I$4)","v":226},{"$f":"ROUND( J$2+(('coded NOLH for 23-29 factors'!J201-1)*(J$3-J$2)/256), J$4)","v":165},{"$f":"ROUND( K$2+(('coded NOLH for 23-29 factors'!K201-1)*(K$3-K$2)/256), K$4)","v":43},{"$f":"ROUND( L$2+(('coded NOLH for 23-29 factors'!L201-1)*(L$3-L$2)/256), L$4)","v":29},{"$f":"ROUND( M$2+(('coded NOLH for 23-29 factors'!M201-1)*(M$3-M$2)/256), M$4)","v":119},{"$f":"ROUND( N$2+(('coded NOLH for 23-29 factors'!N201-1)*(N$3-N$2)/256), N$4)","v":16},{"$f":"ROUND( O$2+(('coded NOLH for 23-29 factors'!O201-1)*(O$3-O$2)/256), O$4)","v":221},{"$f":"ROUND( P$2+(('coded NOLH for 23-29 factors'!P201-1)*(P$3-P$2)/256), P$4)","v":84},{"$f":"ROUND( Q$2+(('coded NOLH for 23-29 factors'!Q201-1)*(Q$3-Q$2)/256), Q$4)","v":85},{"$f":"ROUND( R$2+(('coded NOLH for 23-29 factors'!R201-1)*(R$3-R$2)/256), R$4)","v":132},{"$f":"ROUND( S$2+(('coded NOLH for 23-29 factors'!S201-1)*(S$3-S$2)/256), S$4)","v":26},{"$f":"ROUND( T$2+(('coded NOLH for 23-29 factors'!T201-1)*(T$3-T$2)/256), T$4)","v":257},{"$f":"ROUND( U$2+(('coded NOLH for 23-29 factors'!U201-1)*(U$3-U$2)/256), U$4)","v":103},{"$f":"ROUND( V$2+(('coded NOLH for 23-29 factors'!V201-1)*(V$3-V$2)/256), V$4)","v":164},{"$f":"ROUND( W$2+(('coded NOLH for 23-29 factors'!W201-1)*(W$3-W$2)/256), W$4)","v":197},{"$f":"ROUND( X$2+(('coded NOLH for 23-29 factors'!X201-1)*(X$3-X$2)/256), X$4)","v":52},{"$f":"ROUND( Y$2+(('coded NOLH for 23-29 factors'!Y201-1)*(Y$3-Y$2)/256), Y$4)","v":144},{"$f":"ROUND( Z$2+(('coded NOLH for 23-29 factors'!Z201-1)*(Z$3-Z$2)/256), Z$4)","v":162},{"$f":"ROUND( AA$2+(('coded NOLH for 23-29 factors'!AA201-1)*(AA$3-AA$2)/256), AA$4)","v":118},{"$f":"ROUND( AB$2+(('coded NOLH for 23-29 factors'!AB201-1)*(AB$3-AB$2)/256), AB$4)","v":147},{"$f":"ROUND( AC$2+(('coded NOLH for 23-29 factors'!AC201-1)*(AC$3-AC$2)/256), AC$4)","v":67},{"$f":"ROUND( AD$2+(('coded NOLH for 23-29 factors'!AD201-1)*(AD$3-AD$2)/256), AD$4)","v":132}]
[null,{"$f":"ROUND( B$2+(('coded NOLH for 23-29 factors'!B202-1)*(B$3-B$2)/256), B$4)","v":230},{"$f":"ROUND( C$2+(('coded NOLH for 23-29 factors'!C202-1)*(C$3-C$2)/256), C$4)","v":45},{"$f":"ROUND( D$2+(('coded NOLH for 23-29 factors'!D202-1)*(D$3-D$2)/256), D$4)","v":63},{"$f":"ROUND( E$2+(('coded NOLH for 23-29 factors'!E202-1)*(E$3-E$2)/256), E$4)","v":181},{"$f":"ROUND( F$2+(('coded NOLH for 23-29 factors'!F202-1)*(F$3-F$2)/256), F$4)","v":115},{"$f":"ROUND( G$2+(('coded NOLH for 23-29 factors'!G202-1)*(G$3-G$2)/256), G$4)","v":44},{"$f":"ROUND( H$2+(('coded NOLH for 23-29 factors'!H202-1)*(H$3-H$2)/256), H$4)","v":81},{"$f":"ROUND( I$2+(('coded NOLH for 23-29 factors'!I202-1)*(I$3-I$2)/256), I$4)","v":194},{"$f":"ROUND( J$2+(('coded NOLH for 23-29 factors'!J202-1)*(J$3-J$2)/256), J$4)","v":210},{"$f":"ROUND( K$2+(('coded NOLH for 23-29 factors'!K202-1)*(K$3-K$2)/256), K$4)","v":39},{"$f":"ROUND( L$2+(('coded NOLH for 23-29 factors'!L202-1)*(L$3-L$2)/256), L$4)","v":168},{"$f":"ROUND( M$2+(('coded NOLH for 23-29 factors'!M202-1)*(M$3-M$2)/256), M$4)","v":151},{"$f":"ROUND( N$2+(('coded NOLH for 23-29 factors'!N202-1)*(N$3-N$2)/256), N$4)","v":230},{"$f":"ROUND( O$2+(('coded NOLH for 23-29 factors'!O202-1)*(O$3-O$2)/256), O$4)","v":70},{"$f":"ROUND( P$2+(('coded NOLH for 23-29 factors'!P202-1)*(P$3-P$2)/256), P$4)","v":39},{"$f":"ROUND( Q$2+(('coded NOLH for 23-29 factors'!Q202-1)*(Q$3-Q$2)/256), Q$4)","v":198},{"$f":"ROUND( R$2+(('coded NOLH for 23-29 factors'!R202-1)*(R$3-R$2)/256), R$4)","v":190},{"$f":"ROUND( S$2+(('coded NOLH for 23-29 factors'!S202-1)*(S$3-S$2)/256), S$4)","v":190},{"$f":"ROUND( T$2+(('coded NOLH for 23-29 factors'!T202-1)*(T$3-T$2)/256), T$4)","v":70},{"$f":"ROUND( U$2+(('coded NOLH for 23-29 factors'!U202-1)*(U$3-U$2)/256), U$4)","v":106},{"$f":"ROUND( V$2+(('coded NOLH for 23-29 factors'!V202-1)*(V$3-V$2)/256), V$4)","v":19},{"$f":"ROUND( W$2+(('coded NOLH for 23-29 factors'!W202-1)*(W$3-W$2)/256), W$4)","v":14},{"$f":"ROUND( X$2+(('coded NOLH for 23-29 factors'!X202-1)*(X$3-X$2)/256), X$4)","v":232},{"$f":"ROUND( Y$2+(('coded NOLH for 23-29 factors'!Y202-1)*(Y$3-Y$2)/256), Y$4)","v":181},{"$f":"ROUND( Z$2+(('coded NOLH for 23-29 factors'!Z202-1)*(Z$3-Z$2)/256), Z$4)","v":166},{"$f":"ROUND( AA$2+(('coded NOLH for 23-29 factors'!AA202-1)*(AA$3-AA$2)/256), AA$4)","v":87},{"$f":"ROUND( AB$2+(('coded NOLH for 23-29 factors'!AB202-1)*(AB$3-AB$2)/256), AB$4)","v":122},{"$f":"ROUND( AC$2+(('coded NOLH for 23-29 factors'!AC202-1)*(AC$3-AC$2)/256), AC$4)","v":71},{"$f":"ROUND( AD$2+(('coded NOLH for 23-29 factors'!AD202-1)*(AD$3-AD$2)/256), AD$4)","v":106}]
[null,{"$f":"ROUND( B$2+(('coded NOLH for 23-29 factors'!B203-1)*(B$3-B$2)/256), B$4)","v":213},{"$f":"ROUND( C$2+(('coded NOLH for 23-29 factors'!C203-1)*(C$3-C$2)/256), C$4)","v":230},{"$f":"ROUND( D$2+(('coded NOLH for 23-29 factors'!D203-1)*(D$3-D$2)/256), D$4)","v":47},{"$f":"ROUND( E$2+(('coded NOLH for 23-29 factors'!E203-1)*(E$3-E$2)/256), E$4)","v":207},{"$f":"ROUND( F$2+(('coded NOLH for 23-29 factors'!F203-1)*(F$3-F$2)/256), F$4)","v":90},{"$f":"ROUND( G$2+(('coded NOLH for 23-29 factors'!G203-1)*(G$3-G$2)/256), G$4)","v":108},{"$f":"ROUND( H$2+(('coded NOLH for 23-29 factors'!H203-1)*(H$3-H$2)/256), H$4)","v":13},{"$f":"ROUND( I$2+(('coded NOLH for 23-29 factors'!I203-1)*(I$3-I$2)/256), I$4)","v":189},{"$f":"ROUND( J$2+(('coded NOLH for 23-29 factors'!J203-1)*(J$3-J$2)/256), J$4)","v":62},{"$f":"ROUND( K$2+(('coded NOLH for 23-29 factors'!K203-1)*(K$3-K$2)/256), K$4)","v":169},{"$f":"ROUND( L$2+(('coded NOLH for 23-29 factors'!L203-1)*(L$3-L$2)/256), L$4)","v":124},{"$f":"ROUND( M$2+(('coded NOLH for 23-29 factors'!M203-1)*(M$3-M$2)/256), M$4)","v":51},{"$f":"ROUND( N$2+(('coded NOLH for 23-29 factors'!N203-1)*(N$3-N$2)/256), N$4)","v":72},{"$f":"ROUND( O$2+(('coded NOLH for 23-29 factors'!O203-1)*(O$3-O$2)/256), O$4)","v":192},{"$f":"ROUND( P$2+(('coded NOLH for 23-29 factors'!P203-1)*(P$3-P$2)/256), P$4)","v":81},{"$f":"ROUND( Q$2+(('coded NOLH for 23-29 factors'!Q203-1)*(Q$3-Q$2)/256), Q$4)","v":254},{"$f":"ROUND( R$2+(('coded NOLH for 23-29 factors'!R203-1)*(R$3-R$2)/256), R$4)","v":238},{"$f":"ROUND( S$2+(('coded NOLH for 23-29 factors'!S203-1)*(S$3-S$2)/256), S$4)","v":142},{"$f":"ROUND( T$2+(('coded NOLH for 23-29 factors'!T203-1)*(T$3-T$2)/256), T$4)","v":84},{"$f":"ROUND( U$2+(('coded NOLH for 23-29 factors'!U203-1)*(U$3-U$2)/256), U$4)","v":38},{"$f":"ROUND( V$2+(('coded NOLH for 23-29 factors'!V203-1)*(V$3-V$2)/256), V$4)","v":98},{"$f":"ROUND( W$2+(('coded NOLH for 23-29 factors'!W203-1)*(W$3-W$2)/256), W$4)","v":38},{"$f":"ROUND( X$2+(('coded NOLH for 23-29 factors'!X203-1)*(X$3-X$2)/256), X$4)","v":242},{"$f":"ROUND( Y$2+(('coded NOLH for 23-29 factors'!Y203-1)*(Y$3-Y$2)/256), Y$4)","v":237},{"$f":"ROUND( Z$2+(('coded NOLH for 23-29 factors'!Z203-1)*(Z$3-Z$2)/256), Z$4)","v":159},{"$f":"ROUND( AA$2+(('coded NOLH for 23-29 factors'!AA203-1)*(AA$3-AA$2)/256), AA$4)","v":2},{"$f":"ROUND( AB$2+(('coded NOLH for 23-29 factors'!AB203-1)*(AB$3-AB$2)/256), AB$4)","v":195},{"$f":"ROUND( AC$2+(('coded NOLH for 23-29 factors'!AC203-1)*(AC$3-AC$2)/256), AC$4)","v":58},{"$f":"ROUND( AD$2+(('coded NOLH for 23-29 factors'!AD203-1)*(AD$3-AD$2)/256), AD$4)","v":121}]
[null,{"$f":"ROUND( B$2+(('coded NOLH for 23-29 factors'!B204-1)*(B$3-B$2)/256), B$4)","v":211},{"$f":"ROUND( C$2+(('coded NOLH for 23-29 factors'!C204-1)*(C$3-C$2)/256), C$4)","v":63},{"$f":"ROUND( D$2+(('coded NOLH for 23-29 factors'!D204-1)*(D$3-D$2)/256), D$4)","v":213},{"$f":"ROUND( E$2+(('coded NOLH for 23-29 factors'!E204-1)*(E$3-E$2)/256), E$4)","v":164},{"$f":"ROUND( F$2+(('coded NOLH for 23-29 factors'!F204-1)*(F$3-F$2)/256), F$4)","v":3},{"$f":"ROUND( G$2+(('coded NOLH for 23-29 factors'!G204-1)*(G$3-G$2)/256), G$4)","v":80},{"$f":"ROUND( H$2+(('coded NOLH for 23-29 factors'!H204-1)*(H$3-H$2)/256), H$4)","v":107},{"$f":"ROUND( I$2+(('coded NOLH for 23-29 factors'!I204-1)*(I$3-I$2)/256), I$4)","v":197},{"$f":"ROUND( J$2+(('coded NOLH for 23-29 factors'!J204-1)*(J$3-J$2)/256), J$4)","v":23},{"$f":"ROUND( K$2+(('coded NOLH for 23-29 factors'!K204-1)*(K$3-K$2)/256), K$4)","v":30},{"$f":"ROUND( L$2+(('coded NOLH for 23-29 factors'!L204-1)*(L$3-L$2)/256), L$4)","v":225},{"$f":"ROUND( M$2+(('coded NOLH for 23-29 factors'!M204-1)*(M$3-M$2)/256), M$4)","v":160},{"$f":"ROUND( N$2+(('coded NOLH for 23-29 factors'!N204-1)*(N$3-N$2)/256), N$4)","v":163},{"$f":"ROUND( O$2+(('coded NOLH for 23-29 factors'!O204-1)*(O$3-O$2)/256), O$4)","v":61},{"$f":"ROUND( P$2+(('coded NOLH for 23-29 factors'!P204-1)*(P$3-P$2)/256), P$4)","v":243},{"$f":"ROUND( Q$2+(('coded NOLH for 23-29 factors'!Q204-1)*(Q$3-Q$2)/256), Q$4)","v":74},{"$f":"ROUND( R$2+(('coded NOLH for 23-29 factors'!R204-1)*(R$3-R$2)/256), R$4)","v":128},{"$f":"ROUND( S$2+(('coded NOLH for 23-29 factors'!S204-1)*(S$3-S$2)/256), S$4)","v":28},{"$f":"ROUND( T$2+(('coded NOLH for 23-29 factors'!T204-1)*(T$3-T$2)/256), T$4)","v":185},{"$f":"ROUND( U$2+(('coded NOLH for 23-29 factors'!U204-1)*(U$3-U$2)/256), U$4)","v":21},{"$f":"ROUND( V$2+(('coded NOLH for 23-29 factors'!V204-1)*(V$3-V$2)/256), V$4)","v":97},{"$f":"ROUND( W$2+(('coded NOLH for 23-29 factors'!W204-1)*(W$3-W$2)/256), W$4)","v":45},{"$f":"ROUND( X$2+(('coded NOLH for 23-29 factors'!X204-1)*(X$3-X$2)/256), X$4)","v":257},{"$f":"ROUND( Y$2+(('coded NOLH for 23-29 factors'!Y204-1)*(Y$3-Y$2)/256), Y$4)","v":190},{"$f":"ROUND( Z$2+(('coded NOLH for 23-29 factors'!Z204-1)*(Z$3-Z$2)/256), Z$4)","v":173},{"$f":"ROUND( AA$2+(('coded NOLH for 23-29 factors'!AA204-1)*(AA$3-AA$2)/256), AA$4)","v":149},{"$f":"ROUND( AB$2+(('coded NOLH for 23-29 factors'!AB204-1)*(AB$3-AB$2)/256), AB$4)","v":238},{"$f":"ROUND( AC$2+(('coded NOLH for 23-29 factors'!AC204-1)*(AC$3-AC$2)/256), AC$4)","v":83},{"$f":"ROUND( AD$2+(('coded NOLH for 23-29 factors'!AD204-1)*(AD$3-AD$2)/256), AD$4)","v":7}]
[null,{"$f":"ROUND( B$2+(('coded NOLH for 23-29 factors'!B205-1)*(B$3-B$2)/256), B$4)","v":195},{"$f":"ROUND( C$2+(('coded NOLH for 23-29 factors'!C205-1)*(C$3-C$2)/256), C$4)","v":211},{"$f":"ROUND( D$2+(('coded NOLH for 23-29 factors'!D205-1)*(D$3-D$2)/256), D$4)","v":230},{"$f":"ROUND( E$2+(('coded NOLH for 23-29 factors'!E205-1)*(E$3-E$2)/256), E$4)","v":235},{"$f":"ROUND( F$2+(('coded NOLH for 23-29 factors'!F205-1)*(F$3-F$2)/256), F$4)","v":40},{"$f":"ROUND( G$2+(('coded NOLH for 23-29 factors'!G205-1)*(G$3-G$2)/256), G$4)","v":74},{"$f":"ROUND( H$2+(('coded NOLH for 23-29 factors'!H205-1)*(H$3-H$2)/256), H$4)","v":83},{"$f":"ROUND( I$2+(('coded NOLH for 23-29 factors'!I205-1)*(I$3-I$2)/256), I$4)","v":180},{"$f":"ROUND( J$2+(('coded NOLH for 23-29 factors'!J205-1)*(J$3-J$2)/256), J$4)","v":213},{"$f":"ROUND( K$2+(('coded NOLH for 23-29 factors'!K205-1)*(K$3-K$2)/256), K$4)","v":174},{"$f":"ROUND( L$2+(('coded NOLH for 23-29 factors'!L205-1)*(L$3-L$2)/256), L$4)","v":14},{"$f":"ROUND( M$2+(('coded NOLH for 23-29 factors'!M205-1)*(M$3-M$2)/256), M$4)","v":45},{"$f":"ROUND( N$2+(('coded NOLH for 23-29 factors'!N205-1)*(N$3-N$2)/256), N$4)","v":103},{"$f":"ROUND( O$2+(('coded NOLH for 23-29 factors'!O205-1)*(O$3-O$2)/256), O$4)","v":181},{"$f":"ROUND( P$2+(('coded NOLH for 23-29 factors'!P205-1)*(P$3-P$2)/256), P$4)","v":194},{"$f":"ROUND( Q$2+(('coded NOLH for 23-29 factors'!Q205-1)*(Q$3-Q$2)/256), Q$4)","v":123},{"$f":"ROUND( R$2+(('coded NOLH for 23-29 factors'!R205-1)*(R$3-R$2)/256), R$4)","v":87},{"$f":"ROUND( S$2+(('coded NOLH for 23-29 factors'!S205-1)*(S$3-S$2)/256), S$4)","v":59},{"$f":"ROUND( T$2+(('coded NOLH for 23-29 factors'!T205-1)*(T$3-T$2)/256), T$4)","v":189},{"$f":"ROUND( U$2+(('coded NOLH for 23-29 factors'!U205-1)*(U$3-U$2)/256), U$4)","v":89},{"$f":"ROUND( V$2+(('coded NOLH for 23-29 factors'!V205-1)*(V$3-V$2)/256), V$4)","v":65},{"$f":"ROUND( W$2+(('coded NOLH for 23-29 factors'!W205-1)*(W$3-W$2)/256), W$4)","v":53},{"$f":"ROUND( X$2+(('coded NOLH for 23-29 factors'!X205-1)*(X$3-X$2)/256), X$4)","v":238},{"$f":"ROUND( Y$2+(('coded NOLH for 23-29 factors'!Y205-1)*(Y$3-Y$2)/256), Y$4)","v":205},{"$f":"ROUND( Z$2+(('coded NOLH for 23-29 factors'!Z205-1)*(Z$3-Z$2)/256), Z$4)","v":246},{"$f":"ROUND( AA$2+(('coded NOLH for 23-29 factors'!AA205-1)*(AA$3-AA$2)/256), AA$4)","v":32},{"$f":"ROUND( AB$2+(('coded NOLH for 23-29 factors'!AB205-1)*(AB$3-AB$2)/256), AB$4)","v":242},{"$f":"ROUND( AC$2+(('coded NOLH for 23-29 factors'!AC205-1)*(AC$3-AC$2)/256), AC$4)","v":103},{"$f":"ROUND( AD$2+(('coded NOLH for 23-29 factors'!AD205-1)*(AD$3-AD$2)/256), AD$4)","v":135}]
[null,{"$f":"ROUND( B$2+(('coded NOLH for 23-29 factors'!B206-1)*(B$3-B$2)/256), B$4)","v":218},{"$f":"ROUND( C$2+(('coded NOLH for 23-29 factors'!C206-1)*(C$3-C$2)/256), C$4)","v":3},{"$f":"ROUND( D$2+(('coded NOLH for 23-29 factors'!D206-1)*(D$3-D$2)/256), D$4)","v":115},{"$f":"ROUND( E$2+(('coded NOLH for 23-29 factors'!E206-1)*(E$3-E$2)/256), E$4)","v":123},{"$f":"ROUND( F$2+(('coded NOLH for 23-29 factors'!F206-1)*(F$3-F$2)/256), F$4)","v":195},{"$f":"ROUND( G$2+(('coded NOLH for 23-29 factors'!G206-1)*(G$3-G$2)/256), G$4)","v":75},{"$f":"ROUND( H$2+(('coded NOLH for 23-29 factors'!H206-1)*(H$3-H$2)/256), H$4)","v":6},{"$f":"ROUND( I$2+(('coded NOLH for 23-29 factors'!I206-1)*(I$3-I$2)/256), I$4)","v":190},{"$f":"ROUND( J$2+(('coded NOLH for 23-29 factors'!J206-1)*(J$3-J$2)/256), J$4)","v":169},{"$f":"ROUND( K$2+(('coded NOLH for 23-29 factors'!K206-1)*(K$3-K$2)/256), K$4)","v":222},{"$f":"ROUND( L$2+(('coded NOLH for 23-29 factors'!L206-1)*(L$3-L$2)/256), L$4)","v":45},{"$f":"ROUND( M$2+(('coded NOLH for 23-29 factors'!M206-1)*(M$3-M$2)/256), M$4)","v":179},{"$f":"ROUND( N$2+(('coded NOLH for 23-29 factors'!N206-1)*(N$3-N$2)/256), N$4)","v":139},{"$f":"ROUND( O$2+(('coded NOLH for 23-29 factors'!O206-1)*(O$3-O$2)/256), O$4)","v":113},{"$f":"ROUND( P$2+(('coded NOLH for 23-29 factors'!P206-1)*(P$3-P$2)/256), P$4)","v":188},{"$f":"ROUND( Q$2+(('coded NOLH for 23-29 factors'!Q206-1)*(Q$3-Q$2)/256), Q$4)","v":22},{"$f":"ROUND( R$2+(('coded NOLH for 23-29 factors'!R206-1)*(R$3-R$2)/256), R$4)","v":139},{"$f":"ROUND( S$2+(('coded NOLH for 23-29 factors'!S206-1)*(S$3-S$2)/256), S$4)","v":150},{"$f":"ROUND( T$2+(('coded NOLH for 23-29 factors'!T206-1)*(T$3-T$2)/256), T$4)","v":59},{"$f":"ROUND( U$2+(('coded NOLH for 23-29 factors'!U206-1)*(U$3-U$2)/256), U$4)","v":10},{"$f":"ROUND( V$2+(('coded NOLH for 23-29 factors'!V206-1)*(V$3-V$2)/256), V$4)","v":122},{"$f":"ROUND( W$2+(('coded NOLH for 23-29 factors'!W206-1)*(W$3-W$2)/256), W$4)","v":209},{"$f":"ROUND( X$2+(('coded NOLH for 23-29 factors'!X206-1)*(X$3-X$2)/256), X$4)","v":7},{"$f":"ROUND( Y$2+(('coded NOLH for 23-29 factors'!Y206-1)*(Y$3-Y$2)/256), Y$4)","v":105},{"$f":"ROUND( Z$2+(('coded NOLH for 23-29 factors'!Z206-1)*(Z$3-Z$2)/256), Z$4)","v":72},{"$f":"ROUND( AA$2+(('coded NOLH for 23-29 factors'!AA206-1)*(AA$3-AA$2)/256), AA$4)","v":198},{"$f":"ROUND( AB$2+(('coded NOLH for 23-29 factors'!AB206-1)*(AB$3-AB$2)/256), AB$4)","v":174},{"$f":"ROUND( AC$2+(('coded NOLH for 23-29 factors'!AC206-1)*(AC$3-AC$2)/256), AC$4)","v":61},{"$f":"ROUND( AD$2+(('coded NOLH for 23-29 factors'!AD206-1)*(AD$3-AD$2)/256), AD$4)","v":39}]
[null,{"$f":"ROUND( B$2+(('coded NOLH for 23-29 factors'!B207-1)*(B$3-B$2)/256), B$4)","v":255},{"$f":"ROUND( C$2+(('coded NOLH for 23-29 factors'!C207-1)*(C$3-C$2)/256), C$4)","v":218},{"$f":"ROUND( D$2+(('coded NOLH for 23-29 factors'!D207-1)*(D$3-D$2)/256), D$4)","v":90},{"$f":"ROUND( E$2+(('coded NOLH for 23-29 factors'!E207-1)*(E$3-E$2)/256), E$4)","v":21},{"$f":"ROUND( F$2+(('coded NOLH for 23-29 factors'!F207-1)*(F$3-F$2)/256), F$4)","v":211},{"$f":"ROUND( G$2+(('coded NOLH for 23-29 factors'!G207-1)*(G$3-G$2)/256), G$4)","v":99},{"$f":"ROUND( H$2+(('coded NOLH for 23-29 factors'!H207-1)*(H$3-H$2)/256), H$4)","v":116},{"$f":"ROUND( I$2+(('coded NOLH for 23-29 factors'!I207-1)*(I$3-I$2)/256), I$4)","v":146},{"$f":"ROUND( J$2+(('coded NOLH for 23-29 factors'!J207-1)*(J$3-J$2)/256), J$4)","v":124},{"$f":"ROUND( K$2+(('coded NOLH for 23-29 factors'!K207-1)*(K$3-K$2)/256), K$4)","v":109},{"$f":"ROUND( L$2+(('coded NOLH for 23-29 factors'!L207-1)*(L$3-L$2)/256), L$4)","v":183},{"$f":"ROUND( M$2+(('coded NOLH for 23-29 factors'!M207-1)*(M$3-M$2)/256), M$4)","v":101},{"$f":"ROUND( N$2+(('coded NOLH for 23-29 factors'!N207-1)*(N$3-N$2)/256), N$4)","v":5},{"$f":"ROUND( O$2+(('coded NOLH for 23-29 factors'!O207-1)*(O$3-O$2)/256), O$4)","v":195},{"$f":"ROUND( P$2+(('coded NOLH for 23-29 factors'!P207-1)*(P$3-P$2)/256), P$4)","v":202},{"$f":"ROUND( Q$2+(('coded NOLH for 23-29 factors'!Q207-1)*(Q$3-Q$2)/256), Q$4)","v":28},{"$f":"ROUND( R$2+(('coded NOLH for 23-29 factors'!R207-1)*(R$3-R$2)/256), R$4)","v":253},{"$f":"ROUND( S$2+(('coded NOLH for 23-29 factors'!S207-1)*(S$3-S$2)/256), S$4)","v":163},{"$f":"ROUND( T$2+(('coded NOLH for 23-29 factors'!T207-1)*(T$3-T$2)/256), T$4)","v":55},{"$f":"ROUND( U$2+(('coded NOLH for 23-29 factors'!U207-1)*(U$3-U$2)/256), U$4)","v":93},{"$f":"ROUND( V$2+(('coded NOLH for 23-29 factors'!V207-1)*(V$3-V$2)/256), V$4)","v":155},{"$f":"ROUND( W$2+(('coded NOLH for 23-29 factors'!W207-1)*(W$3-W$2)/256), W$4)","v":151},{"$f":"ROUND( X$2+(('coded NOLH for 23-29 factors'!X207-1)*(X$3-X$2)/256), X$4)","v":75},{"$f":"ROUND( Y$2+(('coded NOLH for 23-29 factors'!Y207-1)*(Y$3-Y$2)/256), Y$4)","v":88},{"$f":"ROUND( Z$2+(('coded NOLH for 23-29 factors'!Z207-1)*(Z$3-Z$2)/256), Z$4)","v":90},{"$f":"ROUND( AA$2+(('coded NOLH for 23-29 factors'!AA207-1)*(AA$3-AA$2)/256), AA$4)","v":215},{"$f":"ROUND( AB$2+(('coded NOLH for 23-29 factors'!AB207-1)*(AB$3-AB$2)/256), AB$4)","v":157},{"$f":"ROUND( AC$2+(('coded NOLH for 23-29 factors'!AC207-1)*(AC$3-AC$2)/256), AC$4)","v":56},{"$f":"ROUND( AD$2+(('coded NOLH for 23-29 factors'!AD207-1)*(AD$3-AD$2)/256), AD$4)","v":128}]
[null,{"$f":"ROUND( B$2+(('coded NOLH for 23-29 factors'!B208-1)*(B$3-B$2)/256), B$4)","v":168},{"$f":"ROUND( C$2+(('coded NOLH for 23-29 factors'!C208-1)*(C$3-C$2)/256), C$4)","v":115},{"$f":"ROUND( D$2+(('coded NOLH for 23-29 factors'!D208-1)*(D$3-D$2)/256), D$4)","v":255},{"$f":"ROUND( E$2+(('coded NOLH for 23-29 factors'!E208-1)*(E$3-E$2)/256), E$4)","v":37},{"$f":"ROUND( F$2+(('coded NOLH for 23-29 factors'!F208-1)*(F$3-F$2)/256), F$4)","v":213},{"$f":"ROUND( G$2+(('coded NOLH for 23-29 factors'!G208-1)*(G$3-G$2)/256), G$4)","v":15},{"$f":"ROUND( H$2+(('coded NOLH for 23-29 factors'!H208-1)*(H$3-H$2)/256), H$4)","v":104},{"$f":"ROUND( I$2+(('coded NOLH for 23-29 factors'!I208-1)*(I$3-I$2)/256), I$4)","v":251},{"$f":"ROUND( J$2+(('coded NOLH for 23-29 factors'!J208-1)*(J$3-J$2)/256), J$4)","v":36},{"$f":"ROUND( K$2+(('coded NOLH for 23-29 factors'!K208-1)*(K$3-K$2)/256), K$4)","v":148},{"$f":"ROUND( L$2+(('coded NOLH for 23-29 factors'!L208-1)*(L$3-L$2)/256), L$4)","v":16},{"$f":"ROUND( M$2+(('coded NOLH for 23-29 factors'!M208-1)*(M$3-M$2)/256), M$4)","v":156},{"$f":"ROUND( N$2+(('coded NOLH for 23-29 factors'!N208-1)*(N$3-N$2)/256), N$4)","v":149},{"$f":"ROUND( O$2+(('coded NOLH for 23-29 factors'!O208-1)*(O$3-O$2)/256), O$4)","v":52},{"$f":"ROUND( P$2+(('coded NOLH for 23-29 factors'!P208-1)*(P$3-P$2)/256), P$4)","v":43},{"$f":"ROUND( Q$2+(('coded NOLH for 23-29 factors'!Q208-1)*(Q$3-Q$2)/256), Q$4)","v":189},{"$f":"ROUND( R$2+(('coded NOLH for 23-29 factors'!R208-1)*(R$3-R$2)/256), R$4)","v":88},{"$f":"ROUND( S$2+(('coded NOLH for 23-29 factors'!S208-1)*(S$3-S$2)/256), S$4)","v":80},{"$f":"ROUND( T$2+(('coded NOLH for 23-29 factors'!T208-1)*(T$3-T$2)/256), T$4)","v":159},{"$f":"ROUND( U$2+(('coded NOLH for 23-29 factors'!U208-1)*(U$3-U$2)/256), U$4)","v":28},{"$f":"ROUND( V$2+(('coded NOLH for 23-29 factors'!V208-1)*(V$3-V$2)/256), V$4)","v":174},{"$f":"ROUND( W$2+(('coded NOLH for 23-29 factors'!W208-1)*(W$3-W$2)/256), W$4)","v":132},{"$f":"ROUND( X$2+(('coded NOLH for 23-29 factors'!X208-1)*(X$3-X$2)/256), X$4)","v":3},{"$f":"ROUND( Y$2+(('coded NOLH for 23-29 factors'!Y208-1)*(Y$3-Y$2)/256), Y$4)","v":123},{"$f":"ROUND( Z$2+(('coded NOLH for 23-29 factors'!Z208-1)*(Z$3-Z$2)/256), Z$4)","v":33},{"$f":"ROUND( AA$2+(('coded NOLH for 23-29 factors'!AA208-1)*(AA$3-AA$2)/256), AA$4)","v":210},{"$f":"ROUND( AB$2+(('coded NOLH for 23-29 factors'!AB208-1)*(AB$3-AB$2)/256), AB$4)","v":211},{"$f":"ROUND( AC$2+(('coded NOLH for 23-29 factors'!AC208-1)*(AC$3-AC$2)/256), AC$4)","v":73},{"$f":"ROUND( AD$2+(('coded NOLH for 23-29 factors'!AD208-1)*(AD$3-AD$2)/256), AD$4)","v":56}]
[null,{"$f":"ROUND( B$2+(('coded NOLH for 23-29 factors'!B209-1)*(B$3-B$2)/256), B$4)","v":143},{"$f":"ROUND( C$2+(('coded NOLH for 23-29 factors'!C209-1)*(C$3-C$2)/256), C$4)","v":168},{"$f":"ROUND( D$2+(('coded NOLH for 23-29 factors'!D209-1)*(D$3-D$2)/256), D$4)","v":218},{"$f":"ROUND( E$2+(('coded NOLH for 23-29 factors'!E209-1)*(E$3-E$2)/256), E$4)","v":91},{"$f":"ROUND( F$2+(('coded NOLH for 23-29 factors'!F209-1)*(F$3-F$2)/256), F$4)","v":230},{"$f":"ROUND( G$2+(('coded NOLH for 23-29 factors'!G209-1)*(G$3-G$2)/256), G$4)","v":97},{"$f":"ROUND( H$2+(('coded NOLH for 23-29 factors'!H209-1)*(H$3-H$2)/256), H$4)","v":98},{"$f":"ROUND( I$2+(('coded NOLH for 23-29 factors'!I209-1)*(I$3-I$2)/256), I$4)","v":198},{"$f":"ROUND( J$2+(('coded NOLH for 23-29 factors'!J209-1)*(J$3-J$2)/256), J$4)","v":252},{"$f":"ROUND( K$2+(('coded NOLH for 23-29 factors'!K209-1)*(K$3-K$2)/256), K$4)","v":23},{"$f":"ROUND( L$2+(('coded NOLH for 23-29 factors'!L209-1)*(L$3-L$2)/256), L$4)","v":208},{"$f":"ROUND( M$2+(('coded NOLH for 23-29 factors'!M209-1)*(M$3-M$2)/256), M$4)","v":9},{"$f":"ROUND( N$2+(('coded NOLH for 23-29 factors'!N209-1)*(N$3-N$2)/256), N$4)","v":107},{"$f":"ROUND( O$2+(('coded NOLH for 23-29 factors'!O209-1)*(O$3-O$2)/256), O$4)","v":252},{"$f":"ROUND( P$2+(('coded NOLH for 23-29 factors'!P209-1)*(P$3-P$2)/256), P$4)","v":90},{"$f":"ROUND( Q$2+(('coded NOLH for 23-29 factors'!Q209-1)*(Q$3-Q$2)/256), Q$4)","v":159},{"$f":"ROUND( R$2+(('coded NOLH for 23-29 factors'!R209-1)*(R$3-R$2)/256), R$4)","v":95},{"$f":"ROUND( S$2+(('coded NOLH for 23-29 factors'!S209-1)*(S$3-S$2)/256), S$4)","v":14},{"$f":"ROUND( T$2+(('coded NOLH for 23-29 factors'!T209-1)*(T$3-T$2)/256), T$4)","v":226},{"$f":"ROUND( U$2+(('coded NOLH for 23-29 factors'!U209-1)*(U$3-U$2)/256), U$4)","v":31},{"$f":"ROUND( V$2+(('coded NOLH for 23-29 factors'!V209-1)*(V$3-V$2)/256), V$4)","v":119},{"$f":"ROUND( W$2+(('coded NOLH for 23-29 factors'!W209-1)*(W$3-W$2)/256), W$4)","v":208},{"$f":"ROUND( X$2+(('coded NOLH for 23-29 factors'!X209-1)*(X$3-X$2)/256), X$4)","v":103},{"$f":"ROUND( Y$2+(('coded NOLH for 23-29 factors'!Y209-1)*(Y$3-Y$2)/256), Y$4)","v":58},{"$f":"ROUND( Z$2+(('coded NOLH for 23-29 factors'!Z209-1)*(Z$3-Z$2)/256), Z$4)","v":60},{"$f":"ROUND( AA$2+(('coded NOLH for 23-29 factors'!AA209-1)*(AA$3-AA$2)/256), AA$4)","v":190},{"$f":"ROUND( AB$2+(('coded NOLH for 23-29 factors'!AB209-1)*(AB$3-AB$2)/256), AB$4)","v":210},{"$f":"ROUND( AC$2+(('coded NOLH for 23-29 factors'!AC209-1)*(AC$3-AC$2)/256), AC$4)","v":53},{"$f":"ROUND( AD$2+(('coded NOLH for 23-29 factors'!AD209-1)*(AD$3-AD$2)/256), AD$4)","v":29}]
[null,{"$f":"ROUND( B$2+(('coded NOLH for 23-29 factors'!B210-1)*(B$3-B$2)/256), B$4)","v":167},{"$f":"ROUND( C$2+(('coded NOLH for 23-29 factors'!C210-1)*(C$3-C$2)/256), C$4)","v":37},{"$f":"ROUND( D$2+(('coded NOLH for 23-29 factors'!D210-1)*(D$3-D$2)/256), D$4)","v":123},{"$f":"ROUND( E$2+(('coded NOLH for 23-29 factors'!E210-1)*(E$3-E$2)/256), E$4)","v":143},{"$f":"ROUND( F$2+(('coded NOLH for 23-29 factors'!F210-1)*(F$3-F$2)/256), F$4)","v":181},{"$f":"ROUND( G$2+(('coded NOLH for 23-29 factors'!G210-1)*(G$3-G$2)/256), G$4)","v":127},{"$f":"ROUND( H$2+(('coded NOLH for 23-29 factors'!H210-1)*(H$3-H$2)/256), H$4)","v":87},{"$f":"ROUND( I$2+(('coded NOLH for 23-29 factors'!I210-1)*(I$3-I$2)/256), I$4)","v":166},{"$f":"ROUND( J$2+(('coded NOLH for 23-29 factors'!J210-1)*(J$3-J$2)/256), J$4)","v":243},{"$f":"ROUND( K$2+(('coded NOLH for 23-29 factors'!K210-1)*(K$3-K$2)/256), K$4)","v":91},{"$f":"ROUND( L$2+(('coded NOLH for 23-29 factors'!L210-1)*(L$3-L$2)/256), L$4)","v":46},{"$f":"ROUND( M$2+(('coded NOLH for 23-29 factors'!M210-1)*(M$3-M$2)/256), M$4)","v":241},{"$f":"ROUND( N$2+(('coded NOLH for 23-29 factors'!N210-1)*(N$3-N$2)/256), N$4)","v":136},{"$f":"ROUND( O$2+(('coded NOLH for 23-29 factors'!O210-1)*(O$3-O$2)/256), O$4)","v":8},{"$f":"ROUND( P$2+(('coded NOLH for 23-29 factors'!P210-1)*(P$3-P$2)/256), P$4)","v":63},{"$f":"ROUND( Q$2+(('coded NOLH for 23-29 factors'!Q210-1)*(Q$3-Q$2)/256), Q$4)","v":19},{"$f":"ROUND( R$2+(('coded NOLH for 23-29 factors'!R210-1)*(R$3-R$2)/256), R$4)","v":140},{"$f":"ROUND( S$2+(('coded NOLH for 23-29 factors'!S210-1)*(S$3-S$2)/256), S$4)","v":209},{"$f":"ROUND( T$2+(('coded NOLH for 23-29 factors'!T210-1)*(T$3-T$2)/256), T$4)","v":13},{"$f":"ROUND( U$2+(('coded NOLH for 23-29 factors'!U210-1)*(U$3-U$2)/256), U$4)","v":236},{"$f":"ROUND( V$2+(('coded NOLH for 23-29 factors'!V210-1)*(V$3-V$2)/256), V$4)","v":116},{"$f":"ROUND( W$2+(('coded NOLH for 23-29 factors'!W210-1)*(W$3-W$2)/256), W$4)","v":68},{"$f":"ROUND( X$2+(('coded NOLH for 23-29 factors'!X210-1)*(X$3-X$2)/256), X$4)","v":191},{"$f":"ROUND( Y$2+(('coded NOLH for 23-29 factors'!Y210-1)*(Y$3-Y$2)/256), Y$4)","v":26},{"$f":"ROUND( Z$2+(('coded NOLH for 23-29 factors'!Z210-1)*(Z$3-Z$2)/256), Z$4)","v":13},{"$f":"ROUND( AA$2+(('coded NOLH for 23-29 factors'!AA210-1)*(AA$3-AA$2)/256), AA$4)","v":246},{"$f":"ROUND( AB$2+(('coded NOLH for 23-29 factors'!AB210-1)*(AB$3-AB$2)/256), AB$4)","v":222},{"$f":"ROUND( AC$2+(('coded NOLH for 23-29 factors'!AC210-1)*(AC$3-AC$2)/256), AC$4)","v":63},{"$f":"ROUND( AD$2+(('coded NOLH for 23-29 factors'!AD210-1)*(AD$3-AD$2)/256), AD$4)","v":81}]
[null,{"$f":"ROUND( B$2+(('coded NOLH for 23-29 factors'!B211-1)*(B$3-B$2)/256), B$4)","v":221},{"$f":"ROUND( C$2+(('coded NOLH for 23-29 factors'!C211-1)*(C$3-C$2)/256), C$4)","v":167},{"$f":"ROUND( D$2+(('coded NOLH for 23-29 factors'!D211-1)*(D$3-D$2)/256), D$4)","v":21},{"$f":"ROUND( E$2+(('coded NOLH for 23-29 factors'!E211-1)*(E$3-E$2)/256), E$4)","v":168},{"$f":"ROUND( F$2+(('coded NOLH for 23-29 factors'!F211-1)*(F$3-F$2)/256), F$4)","v":207},{"$f":"ROUND( G$2+(('coded NOLH for 23-29 factors'!G211-1)*(G$3-G$2)/256), G$4)","v":26},{"$f":"ROUND( H$2+(('coded NOLH for 23-29 factors'!H211-1)*(H$3-H$2)/256), H$4)","v":126},{"$f":"ROUND( I$2+(('coded NOLH for 23-29 factors'!I211-1)*(I$3-I$2)/256), I$4)","v":254},{"$f":"ROUND( J$2+(('coded NOLH for 23-29 factors'!J211-1)*(J$3-J$2)/256), J$4)","v":119},{"$f":"ROUND( K$2+(('coded NOLH for 23-29 factors'!K211-1)*(K$3-K$2)/256), K$4)","v":116},{"$f":"ROUND( L$2+(('coded NOLH for 23-29 factors'!L211-1)*(L$3-L$2)/256), L$4)","v":181},{"$f":"ROUND( M$2+(('coded NOLH for 23-29 factors'!M211-1)*(M$3-M$2)/256), M$4)","v":132},{"$f":"ROUND( N$2+(('coded NOLH for 23-29 factors'!N211-1)*(N$3-N$2)/256), N$4)","v":70},{"$f":"ROUND( O$2+(('coded NOLH for 23-29 factors'!O211-1)*(O$3-O$2)/256), O$4)","v":176},{"$f":"ROUND( P$2+(('coded NOLH for 23-29 factors'!P211-1)*(P$3-P$2)/256), P$4)","v":8},{"$f":"ROUND( Q$2+(('coded NOLH for 23-29 factors'!Q211-1)*(Q$3-Q$2)/256), Q$4)","v":93},{"$f":"ROUND( R$2+(('coded NOLH for 23-29 factors'!R211-1)*(R$3-R$2)/256), R$4)","v":169},{"$f":"ROUND( S$2+(('coded NOLH for 23-29 factors'!S211-1)*(S$3-S$2)/256), S$4)","v":148},{"$f":"ROUND( T$2+(('coded NOLH for 23-29 factors'!T211-1)*(T$3-T$2)/256), T$4)","v":89},{"$f":"ROUND( U$2+(('coded NOLH for 23-29 factors'!U211-1)*(U$3-U$2)/256), U$4)","v":217},{"$f":"ROUND( V$2+(('coded NOLH for 23-29 factors'!V211-1)*(V$3-V$2)/256), V$4)","v":12},{"$f":"ROUND( W$2+(('coded NOLH for 23-29 factors'!W211-1)*(W$3-W$2)/256), W$4)","v":108},{"$f":"ROUND( X$2+(('coded NOLH for 23-29 factors'!X211-1)*(X$3-X$2)/256), X$4)","v":254},{"$f":"ROUND( Y$2+(('coded NOLH for 23-29 factors'!Y211-1)*(Y$3-Y$2)/256), Y$4)","v":104},{"$f":"ROUND( Z$2+(('coded NOLH for 23-29 factors'!Z211-1)*(Z$3-Z$2)/256), Z$4)","v":30},{"$f":"ROUND( AA$2+(('coded NOLH for 23-29 factors'!AA211-1)*(AA$3-AA$2)/256), AA$4)","v":250},{"$f":"ROUND( AB$2+(('coded NOLH for 23-29 factors'!AB211-1)*(AB$3-AB$2)/256), AB$4)","v":192},{"$f":"ROUND( AC$2+(('coded NOLH for 23-29 factors'!AC211-1)*(AC$3-AC$2)/256), AC$4)","v":25},{"$f":"ROUND( AD$2+(('coded NOLH for 23-29 factors'!AD211-1)*(AD$3-AD$2)/256), AD$4)","v":4}]
[null,{"$f":"ROUND( B$2+(('coded NOLH for 23-29 factors'!B212-1)*(B$3-B$2)/256), B$4)","v":237},{"$f":"ROUND( C$2+(('coded NOLH for 23-29 factors'!C212-1)*(C$3-C$2)/256), C$4)","v":123},{"$f":"ROUND( D$2+(('coded NOLH for 23-29 factors'!D212-1)*(D$3-D$2)/256), D$4)","v":221},{"$f":"ROUND( E$2+(('coded NOLH for 23-29 factors'!E212-1)*(E$3-E$2)/256), E$4)","v":255},{"$f":"ROUND( F$2+(('coded NOLH for 23-29 factors'!F212-1)*(F$3-F$2)/256), F$4)","v":164},{"$f":"ROUND( G$2+(('coded NOLH for 23-29 factors'!G212-1)*(G$3-G$2)/256), G$4)","v":106},{"$f":"ROUND( H$2+(('coded NOLH for 23-29 factors'!H212-1)*(H$3-H$2)/256), H$4)","v":113},{"$f":"ROUND( I$2+(('coded NOLH for 23-29 factors'!I212-1)*(I$3-I$2)/256), I$4)","v":196},{"$f":"ROUND( J$2+(('coded NOLH for 23-29 factors'!J212-1)*(J$3-J$2)/256), J$4)","v":79},{"$f":"ROUND( K$2+(('coded NOLH for 23-29 factors'!K212-1)*(K$3-K$2)/256), K$4)","v":40},{"$f":"ROUND( L$2+(('coded NOLH for 23-29 factors'!L212-1)*(L$3-L$2)/256), L$4)","v":38},{"$f":"ROUND( M$2+(('coded NOLH for 23-29 factors'!M212-1)*(M$3-M$2)/256), M$4)","v":117},{"$f":"ROUND( N$2+(('coded NOLH for 23-29 factors'!N212-1)*(N$3-N$2)/256), N$4)","v":223},{"$f":"ROUND( O$2+(('coded NOLH for 23-29 factors'!O212-1)*(O$3-O$2)/256), O$4)","v":9},{"$f":"ROUND( P$2+(('coded NOLH for 23-29 factors'!P212-1)*(P$3-P$2)/256), P$4)","v":179},{"$f":"ROUND( Q$2+(('coded NOLH for 23-29 factors'!Q212-1)*(Q$3-Q$2)/256), Q$4)","v":208},{"$f":"ROUND( R$2+(('coded NOLH for 23-29 factors'!R212-1)*(R$3-R$2)/256), R$4)","v":38},{"$f":"ROUND( S$2+(('coded NOLH for 23-29 factors'!S212-1)*(S$3-S$2)/256), S$4)","v":93},{"$f":"ROUND( T$2+(('coded NOLH for 23-29 factors'!T212-1)*(T$3-T$2)/256), T$4)","v":230},{"$f":"ROUND( U$2+(('coded NOLH for 23-29 factors'!U212-1)*(U$3-U$2)/256), U$4)","v":215},{"$f":"ROUND( V$2+(('coded NOLH for 23-29 factors'!V212-1)*(V$3-V$2)/256), V$4)","v":63},{"$f":"ROUND( W$2+(('coded NOLH for 23-29 factors'!W212-1)*(W$3-W$2)/256), W$4)","v":103},{"$f":"ROUND( X$2+(('coded NOLH for 23-29 factors'!X212-1)*(X$3-X$2)/256), X$4)","v":126},{"$f":"ROUND( Y$2+(('coded NOLH for 23-29 factors'!Y212-1)*(Y$3-Y$2)/256), Y$4)","v":150},{"$f":"ROUND( Z$2+(('coded NOLH for 23-29 factors'!Z212-1)*(Z$3-Z$2)/256), Z$4)","v":76},{"$f":"ROUND( AA$2+(('coded NOLH for 23-29 factors'!AA212-1)*(AA$3-AA$2)/256), AA$4)","v":255},{"$f":"ROUND( AB$2+(('coded NOLH for 23-29 factors'!AB212-1)*(AB$3-AB$2)/256), AB$4)","v":207},{"$f":"ROUND( AC$2+(('coded NOLH for 23-29 factors'!AC212-1)*(AC$3-AC$2)/256), AC$4)","v":47},{"$f":"ROUND( AD$2+(('coded NOLH for 23-29 factors'!AD212-1)*(AD$3-AD$2)/256), AD$4)","v":68}]
[null,{"$f":"ROUND( B$2+(('coded NOLH for 23-29 factors'!B213-1)*(B$3-B$2)/256), B$4)","v":135},{"$f":"ROUND( C$2+(('coded NOLH for 23-29 factors'!C213-1)*(C$3-C$2)/256), C$4)","v":237},{"$f":"ROUND( D$2+(('coded NOLH for 23-29 factors'!D213-1)*(D$3-D$2)/256), D$4)","v":167},{"$f":"ROUND( E$2+(('coded NOLH for 23-29 factors'!E213-1)*(E$3-E$2)/256), E$4)","v":218},{"$f":"ROUND( F$2+(('coded NOLH for 23-29 factors'!F213-1)*(F$3-F$2)/256), F$4)","v":235},{"$f":"ROUND( G$2+(('coded NOLH for 23-29 factors'!G213-1)*(G$3-G$2)/256), G$4)","v":117},{"$f":"ROUND( H$2+(('coded NOLH for 23-29 factors'!H213-1)*(H$3-H$2)/256), H$4)","v":38},{"$f":"ROUND( I$2+(('coded NOLH for 23-29 factors'!I213-1)*(I$3-I$2)/256), I$4)","v":241},{"$f":"ROUND( J$2+(('coded NOLH for 23-29 factors'!J213-1)*(J$3-J$2)/256), J$4)","v":224},{"$f":"ROUND( K$2+(('coded NOLH for 23-29 factors'!K213-1)*(K$3-K$2)/256), K$4)","v":252},{"$f":"ROUND( L$2+(('coded NOLH for 23-29 factors'!L213-1)*(L$3-L$2)/256), L$4)","v":164},{"$f":"ROUND( M$2+(('coded NOLH for 23-29 factors'!M213-1)*(M$3-M$2)/256), M$4)","v":95},{"$f":"ROUND( N$2+(('coded NOLH for 23-29 factors'!N213-1)*(N$3-N$2)/256), N$4)","v":117},{"$f":"ROUND( O$2+(('coded NOLH for 23-29 factors'!O213-1)*(O$3-O$2)/256), O$4)","v":198},{"$f":"ROUND( P$2+(('coded NOLH for 23-29 factors'!P213-1)*(P$3-P$2)/256), P$4)","v":119},{"$f":"ROUND( Q$2+(('coded NOLH for 23-29 factors'!Q213-1)*(Q$3-Q$2)/256), Q$4)","v":191},{"$f":"ROUND( R$2+(('coded NOLH for 23-29 factors'!R213-1)*(R$3-R$2)/256), R$4)","v":137},{"$f":"ROUND( S$2+(('coded NOLH for 23-29 factors'!S213-1)*(S$3-S$2)/256), S$4)","v":85},{"$f":"ROUND( T$2+(('coded NOLH for 23-29 factors'!T213-1)*(T$3-T$2)/256), T$4)","v":184},{"$f":"ROUND( U$2+(('coded NOLH for 23-29 factors'!U213-1)*(U$3-U$2)/256), U$4)","v":153},{"$f":"ROUND( V$2+(('coded NOLH for 23-29 factors'!V213-1)*(V$3-V$2)/256), V$4)","v":67},{"$f":"ROUND( W$2+(('coded NOLH for 23-29 factors'!W213-1)*(W$3-W$2)/256), W$4)","v":17},{"$f":"ROUND( X$2+(('coded NOLH for 23-29 factors'!X213-1)*(X$3-X$2)/256), X$4)","v":200},{"$f":"ROUND( Y$2+(('coded NOLH for 23-29 factors'!Y213-1)*(Y$3-Y$2)/256), Y$4)","v":81},{"$f":"ROUND( Z$2+(('coded NOLH for 23-29 factors'!Z213-1)*(Z$3-Z$2)/256), Z$4)","v":14},{"$f":"ROUND( AA$2+(('coded NOLH for 23-29 factors'!AA213-1)*(AA$3-AA$2)/256), AA$4)","v":208},{"$f":"ROUND( AB$2+(('coded NOLH for 23-29 factors'!AB213-1)*(AB$3-AB$2)/256), AB$4)","v":155},{"$f":"ROUND( AC$2+(('coded NOLH for 23-29 factors'!AC213-1)*(AC$3-AC$2)/256), AC$4)","v":79},{"$f":"ROUND( AD$2+(('coded NOLH for 23-29 factors'!AD213-1)*(AD$3-AD$2)/256), AD$4)","v":125}]
[null,{"$f":"ROUND( B$2+(('coded NOLH for 23-29 factors'!B214-1)*(B$3-B$2)/256), B$4)","v":141},{"$f":"ROUND( C$2+(('coded NOLH for 23-29 factors'!C214-1)*(C$3-C$2)/256), C$4)","v":106},{"$f":"ROUND( D$2+(('coded NOLH for 23-29 factors'!D214-1)*(D$3-D$2)/256), D$4)","v":127},{"$f":"ROUND( E$2+(('coded NOLH for 23-29 factors'!E214-1)*(E$3-E$2)/256), E$4)","v":75},{"$f":"ROUND( F$2+(('coded NOLH for 23-29 factors'!F214-1)*(F$3-F$2)/256), F$4)","v":76},{"$f":"ROUND( G$2+(('coded NOLH for 23-29 factors'!G214-1)*(G$3-G$2)/256), G$4)","v":135},{"$f":"ROUND( H$2+(('coded NOLH for 23-29 factors'!H214-1)*(H$3-H$2)/256), H$4)","v":88},{"$f":"ROUND( I$2+(('coded NOLH for 23-29 factors'!I214-1)*(I$3-I$2)/256), I$4)","v":165},{"$f":"ROUND( J$2+(('coded NOLH for 23-29 factors'!J214-1)*(J$3-J$2)/256), J$4)","v":245},{"$f":"ROUND( K$2+(('coded NOLH for 23-29 factors'!K214-1)*(K$3-K$2)/256), K$4)","v":161},{"$f":"ROUND( L$2+(('coded NOLH for 23-29 factors'!L214-1)*(L$3-L$2)/256), L$4)","v":141},{"$f":"ROUND( M$2+(('coded NOLH for 23-29 factors'!M214-1)*(M$3-M$2)/256), M$4)","v":22},{"$f":"ROUND( N$2+(('coded NOLH for 23-29 factors'!N214-1)*(N$3-N$2)/256), N$4)","v":171},{"$f":"ROUND( O$2+(('coded NOLH for 23-29 factors'!O214-1)*(O$3-O$2)/256), O$4)","v":35},{"$f":"ROUND( P$2+(('coded NOLH for 23-29 factors'!P214-1)*(P$3-P$2)/256), P$4)","v":147},{"$f":"ROUND( Q$2+(('coded NOLH for 23-29 factors'!Q214-1)*(Q$3-Q$2)/256), Q$4)","v":246},{"$f":"ROUND( R$2+(('coded NOLH for 23-29 factors'!R214-1)*(R$3-R$2)/256), R$4)","v":78},{"$f":"ROUND( S$2+(('coded NOLH for 23-29 factors'!S214-1)*(S$3-S$2)/256), S$4)","v":231},{"$f":"ROUND( T$2+(('coded NOLH for 23-29 factors'!T214-1)*(T$3-T$2)/256), T$4)","v":44},{"$f":"ROUND( U$2+(('coded NOLH for 23-29 factors'!U214-1)*(U$3-U$2)/256), U$4)","v":191},{"$f":"ROUND( V$2+(('coded NOLH for 23-29 factors'!V214-1)*(V$3-V$2)/256), V$4)","v":66},{"$f":"ROUND( W$2+(('coded NOLH for 23-29 factors'!W214-1)*(W$3-W$2)/256), W$4)","v":176},{"$f":"ROUND( X$2+(('coded NOLH for 23-29 factors'!X214-1)*(X$3-X$2)/256), X$4)","v":34},{"$f":"ROUND( Y$2+(('coded NOLH for 23-29 factors'!Y214-1)*(Y$3-Y$2)/256), Y$4)","v":37},{"$f":"ROUND( Z$2+(('coded NOLH for 23-29 factors'!Z214-1)*(Z$3-Z$2)/256), Z$4)","v":234},{"$f":"ROUND( AA$2+(('coded NOLH for 23-29 factors'!AA214-1)*(AA$3-AA$2)/256), AA$4)","v":97},{"$f":"ROUND( AB$2+(('coded NOLH for 23-29 factors'!AB214-1)*(AB$3-AB$2)/256), AB$4)","v":23},{"$f":"ROUND( AC$2+(('coded NOLH for 23-29 factors'!AC214-1)*(AC$3-AC$2)/256), AC$4)","v":219},{"$f":"ROUND( AD$2+(('coded NOLH for 23-29 factors'!AD214-1)*(AD$3-AD$2)/256), AD$4)","v":79}]
[null,{"$f":"ROUND( B$2+(('coded NOLH for 23-29 factors'!B215-1)*(B$3-B$2)/256), B$4)","v":152},{"$f":"ROUND( C$2+(('coded NOLH for 23-29 factors'!C215-1)*(C$3-C$2)/256), C$4)","v":141},{"$f":"ROUND( D$2+(('coded NOLH for 23-29 factors'!D215-1)*(D$3-D$2)/256), D$4)","v":26},{"$f":"ROUND( E$2+(('coded NOLH for 23-29 factors'!E215-1)*(E$3-E$2)/256), E$4)","v":99},{"$f":"ROUND( F$2+(('coded NOLH for 23-29 factors'!F215-1)*(F$3-F$2)/256), F$4)","v":109},{"$f":"ROUND( G$2+(('coded NOLH for 23-29 factors'!G215-1)*(G$3-G$2)/256), G$4)","v":237},{"$f":"ROUND( H$2+(('coded NOLH for 23-29 factors'!H215-1)*(H$3-H$2)/256), H$4)","v":84},{"$f":"ROUND( I$2+(('coded NOLH for 23-29 factors'!I215-1)*(I$3-I$2)/256), I$4)","v":219},{"$f":"ROUND( J$2+(('coded NOLH for 23-29 factors'!J215-1)*(J$3-J$2)/256), J$4)","v":146},{"$f":"ROUND( K$2+(('coded NOLH for 23-29 factors'!K215-1)*(K$3-K$2)/256), K$4)","v":88},{"$f":"ROUND( L$2+(('coded NOLH for 23-29 factors'!L215-1)*(L$3-L$2)/256), L$4)","v":58},{"$f":"ROUND( M$2+(('coded NOLH for 23-29 factors'!M215-1)*(M$3-M$2)/256), M$4)","v":150},{"$f":"ROUND( N$2+(('coded NOLH for 23-29 factors'!N215-1)*(N$3-N$2)/256), N$4)","v":93},{"$f":"ROUND( O$2+(('coded NOLH for 23-29 factors'!O215-1)*(O$3-O$2)/256), O$4)","v":180},{"$f":"ROUND( P$2+(('coded NOLH for 23-29 factors'!P215-1)*(P$3-P$2)/256), P$4)","v":251},{"$f":"ROUND( Q$2+(('coded NOLH for 23-29 factors'!Q215-1)*(Q$3-Q$2)/256), Q$4)","v":139},{"$f":"ROUND( R$2+(('coded NOLH for 23-29 factors'!R215-1)*(R$3-R$2)/256), R$4)","v":59},{"$f":"ROUND( S$2+(('coded NOLH for 23-29 factors'!S215-1)*(S$3-S$2)/256), S$4)","v":233},{"$f":"ROUND( T$2+(('coded NOLH for 23-29 factors'!T215-1)*(T$3-T$2)/256), T$4)","v":22},{"$f":"ROUND( U$2+(('coded NOLH for 23-29 factors'!U215-1)*(U$3-U$2)/256), U$4)","v":174},{"$f":"ROUND( V$2+(('coded NOLH for 23-29 factors'!V215-1)*(V$3-V$2)/256), V$4)","v":9},{"$f":"ROUND( W$2+(('coded NOLH for 23-29 factors'!W215-1)*(W$3-W$2)/256), W$4)","v":167},{"$f":"ROUND( X$2+(('coded NOLH for 23-29 factors'!X215-1)*(X$3-X$2)/256), X$4)","v":33},{"$f":"ROUND( Y$2+(('coded NOLH for 23-29 factors'!Y215-1)*(Y$3-Y$2)/256), Y$4)","v":118},{"$f":"ROUND( Z$2+(('coded NOLH for 23-29 factors'!Z215-1)*(Z$3-Z$2)/256), Z$4)","v":237},{"$f":"ROUND( AA$2+(('coded NOLH for 23-29 factors'!AA215-1)*(AA$3-AA$2)/256), AA$4)","v":81},{"$f":"ROUND( AB$2+(('coded NOLH for 23-29 factors'!AB215-1)*(AB$3-AB$2)/256), AB$4)","v":119},{"$f":"ROUND( AC$2+(('coded NOLH for 23-29 factors'!AC215-1)*(AC$3-AC$2)/256), AC$4)","v":167},{"$f":"ROUND( AD$2+(('coded NOLH for 23-29 factors'!AD215-1)*(AD$3-AD$2)/256), AD$4)","v":100}]
[null,{"$f":"ROUND( B$2+(('coded NOLH for 23-29 factors'!B216-1)*(B$3-B$2)/256), B$4)","v":232},{"$f":"ROUND( C$2+(('coded NOLH for 23-29 factors'!C216-1)*(C$3-C$2)/256), C$4)","v":127},{"$f":"ROUND( D$2+(('coded NOLH for 23-29 factors'!D216-1)*(D$3-D$2)/256), D$4)","v":152},{"$f":"ROUND( E$2+(('coded NOLH for 23-29 factors'!E216-1)*(E$3-E$2)/256), E$4)","v":15},{"$f":"ROUND( F$2+(('coded NOLH for 23-29 factors'!F216-1)*(F$3-F$2)/256), F$4)","v":111},{"$f":"ROUND( G$2+(('coded NOLH for 23-29 factors'!G216-1)*(G$3-G$2)/256), G$4)","v":221},{"$f":"ROUND( H$2+(('coded NOLH for 23-29 factors'!H216-1)*(H$3-H$2)/256), H$4)","v":55},{"$f":"ROUND( I$2+(('coded NOLH for 23-29 factors'!I216-1)*(I$3-I$2)/256), I$4)","v":224},{"$f":"ROUND( J$2+(('coded NOLH for 23-29 factors'!J216-1)*(J$3-J$2)/256), J$4)","v":142},{"$f":"ROUND( K$2+(('coded NOLH for 23-29 factors'!K216-1)*(K$3-K$2)/256), K$4)","v":175},{"$f":"ROUND( L$2+(('coded NOLH for 23-29 factors'!L216-1)*(L$3-L$2)/256), L$4)","v":226},{"$f":"ROUND( M$2+(('coded NOLH for 23-29 factors'!M216-1)*(M$3-M$2)/256), M$4)","v":106},{"$f":"ROUND( N$2+(('coded NOLH for 23-29 factors'!N216-1)*(N$3-N$2)/256), N$4)","v":247},{"$f":"ROUND( O$2+(('coded NOLH for 23-29 factors'!O216-1)*(O$3-O$2)/256), O$4)","v":56},{"$f":"ROUND( P$2+(('coded NOLH for 23-29 factors'!P216-1)*(P$3-P$2)/256), P$4)","v":87},{"$f":"ROUND( Q$2+(('coded NOLH for 23-29 factors'!Q216-1)*(Q$3-Q$2)/256), Q$4)","v":90},{"$f":"ROUND( R$2+(('coded NOLH for 23-29 factors'!R216-1)*(R$3-R$2)/256), R$4)","v":225},{"$f":"ROUND( S$2+(('coded NOLH for 23-29 factors'!S216-1)*(S$3-S$2)/256), S$4)","v":117},{"$f":"ROUND( T$2+(('coded NOLH for 23-29 factors'!T216-1)*(T$3-T$2)/256), T$4)","v":232},{"$f":"ROUND( U$2+(('coded NOLH for 23-29 factors'!U216-1)*(U$3-U$2)/256), U$4)","v":151},{"$f":"ROUND( V$2+(('coded NOLH for 23-29 factors'!V216-1)*(V$3-V$2)/256), V$4)","v":107},{"$f":"ROUND( W$2+(('coded NOLH for 23-29 factors'!W216-1)*(W$3-W$2)/256), W$4)","v":198},{"$f":"ROUND( X$2+(('coded NOLH for 23-29 factors'!X216-1)*(X$3-X$2)/256), X$4)","v":43},{"$f":"ROUND( Y$2+(('coded NOLH for 23-29 factors'!Y216-1)*(Y$3-Y$2)/256), Y$4)","v":49},{"$f":"ROUND( Z$2+(('coded NOLH for 23-29 factors'!Z216-1)*(Z$3-Z$2)/256), Z$4)","v":153},{"$f":"ROUND( AA$2+(('coded NOLH for 23-29 factors'!AA216-1)*(AA$3-AA$2)/256), AA$4)","v":54},{"$f":"ROUND( AB$2+(('coded NOLH for 23-29 factors'!AB216-1)*(AB$3-AB$2)/256), AB$4)","v":121},{"$f":"ROUND( AC$2+(('coded NOLH for 23-29 factors'!AC216-1)*(AC$3-AC$2)/256), AC$4)","v":253},{"$f":"ROUND( AD$2+(('coded NOLH for 23-29 factors'!AD216-1)*(AD$3-AD$2)/256), AD$4)","v":59}]
[null,{"$f":"ROUND( B$2+(('coded NOLH for 23-29 factors'!B217-1)*(B$3-B$2)/256), B$4)","v":131},{"$f":"ROUND( C$2+(('coded NOLH for 23-29 factors'!C217-1)*(C$3-C$2)/256), C$4)","v":232},{"$f":"ROUND( D$2+(('coded NOLH for 23-29 factors'!D217-1)*(D$3-D$2)/256), D$4)","v":141},{"$f":"ROUND( E$2+(('coded NOLH for 23-29 factors'!E217-1)*(E$3-E$2)/256), E$4)","v":97},{"$f":"ROUND( F$2+(('coded NOLH for 23-29 factors'!F217-1)*(F$3-F$2)/256), F$4)","v":9},{"$f":"ROUND( G$2+(('coded NOLH for 23-29 factors'!G217-1)*(G$3-G$2)/256), G$4)","v":167},{"$f":"ROUND( H$2+(('coded NOLH for 23-29 factors'!H217-1)*(H$3-H$2)/256), H$4)","v":22},{"$f":"ROUND( I$2+(('coded NOLH for 23-29 factors'!I217-1)*(I$3-I$2)/256), I$4)","v":200},{"$f":"ROUND( J$2+(('coded NOLH for 23-29 factors'!J217-1)*(J$3-J$2)/256), J$4)","v":175},{"$f":"ROUND( K$2+(('coded NOLH for 23-29 factors'!K217-1)*(K$3-K$2)/256), K$4)","v":33},{"$f":"ROUND( L$2+(('coded NOLH for 23-29 factors'!L217-1)*(L$3-L$2)/256), L$4)","v":105},{"$f":"ROUND( M$2+(('coded NOLH for 23-29 factors'!M217-1)*(M$3-M$2)/256), M$4)","v":228},{"$f":"ROUND( N$2+(('coded NOLH for 23-29 factors'!N217-1)*(N$3-N$2)/256), N$4)","v":51},{"$f":"ROUND( O$2+(('coded NOLH for 23-29 factors'!O217-1)*(O$3-O$2)/256), O$4)","v":215},{"$f":"ROUND( P$2+(('coded NOLH for 23-29 factors'!P217-1)*(P$3-P$2)/256), P$4)","v":104},{"$f":"ROUND( Q$2+(('coded NOLH for 23-29 factors'!Q217-1)*(Q$3-Q$2)/256), Q$4)","v":53},{"$f":"ROUND( R$2+(('coded NOLH for 23-29 factors'!R217-1)*(R$3-R$2)/256), R$4)","v":202},{"$f":"ROUND( S$2+(('coded NOLH for 23-29 factors'!S217-1)*(S$3-S$2)/256), S$4)","v":127},{"$f":"ROUND( T$2+(('coded NOLH for 23-29 factors'!T217-1)*(T$3-T$2)/256), T$4)","v":204},{"$f":"ROUND( U$2+(('coded NOLH for 23-29 factors'!U217-1)*(U$3-U$2)/256), U$4)","v":178},{"$f":"ROUND( V$2+(('coded NOLH for 23-29 factors'!V217-1)*(V$3-V$2)/256), V$4)","v":117},{"$f":"ROUND( W$2+(('coded NOLH for 23-29 factors'!W217-1)*(W$3-W$2)/256), W$4)","v":238},{"$f":"ROUND( X$2+(('coded NOLH for 23-29 factors'!X217-1)*(X$3-X$2)/256), X$4)","v":9},{"$f":"ROUND( Y$2+(('coded NOLH for 23-29 factors'!Y217-1)*(Y$3-Y$2)/256), Y$4)","v":98},{"$f":"ROUND( Z$2+(('coded NOLH for 23-29 factors'!Z217-1)*(Z$3-Z$2)/256), Z$4)","v":197},{"$f":"ROUND( AA$2+(('coded NOLH for 23-29 factors'!AA217-1)*(AA$3-AA$2)/256), AA$4)","v":56},{"$f":"ROUND( AB$2+(('coded NOLH for 23-29 factors'!AB217-1)*(AB$3-AB$2)/256), AB$4)","v":57},{"$f":"ROUND( AC$2+(('coded NOLH for 23-29 factors'!AC217-1)*(AC$3-AC$2)/256), AC$4)","v":152},{"$f":"ROUND( AD$2+(('coded NOLH for 23-29 factors'!AD217-1)*(AD$3-AD$2)/256), AD$4)","v":45}]
[null,{"$f":"ROUND( B$2+(('coded NOLH for 23-29 factors'!B218-1)*(B$3-B$2)/256), B$4)","v":161},{"$f":"ROUND( C$2+(('coded NOLH for 23-29 factors'!C218-1)*(C$3-C$2)/256), C$4)","v":15},{"$f":"ROUND( D$2+(('coded NOLH for 23-29 factors'!D218-1)*(D$3-D$2)/256), D$4)","v":75},{"$f":"ROUND( E$2+(('coded NOLH for 23-29 factors'!E218-1)*(E$3-E$2)/256), E$4)","v":131},{"$f":"ROUND( F$2+(('coded NOLH for 23-29 factors'!F218-1)*(F$3-F$2)/256), F$4)","v":44},{"$f":"ROUND( G$2+(('coded NOLH for 23-29 factors'!G218-1)*(G$3-G$2)/256), G$4)","v":143},{"$f":"ROUND( H$2+(('coded NOLH for 23-29 factors'!H218-1)*(H$3-H$2)/256), H$4)","v":10},{"$f":"ROUND( I$2+(('coded NOLH for 23-29 factors'!I218-1)*(I$3-I$2)/256), I$4)","v":253},{"$f":"ROUND( J$2+(('coded NOLH for 23-29 factors'!J218-1)*(J$3-J$2)/256), J$4)","v":181},{"$f":"ROUND( K$2+(('coded NOLH for 23-29 factors'!K218-1)*(K$3-K$2)/256), K$4)","v":29},{"$f":"ROUND( L$2+(('coded NOLH for 23-29 factors'!L218-1)*(L$3-L$2)/256), L$4)","v":143},{"$f":"ROUND( M$2+(('coded NOLH for 23-29 factors'!M218-1)*(M$3-M$2)/256), M$4)","v":99},{"$f":"ROUND( N$2+(('coded NOLH for 23-29 factors'!N218-1)*(N$3-N$2)/256), N$4)","v":209},{"$f":"ROUND( O$2+(('coded NOLH for 23-29 factors'!O218-1)*(O$3-O$2)/256), O$4)","v":33},{"$f":"ROUND( P$2+(('coded NOLH for 23-29 factors'!P218-1)*(P$3-P$2)/256), P$4)","v":138},{"$f":"ROUND( Q$2+(('coded NOLH for 23-29 factors'!Q218-1)*(Q$3-Q$2)/256), Q$4)","v":151},{"$f":"ROUND( R$2+(('coded NOLH for 23-29 factors'!R218-1)*(R$3-R$2)/256), R$4)","v":50},{"$f":"ROUND( S$2+(('coded NOLH for 23-29 factors'!S218-1)*(S$3-S$2)/256), S$4)","v":191},{"$f":"ROUND( T$2+(('coded NOLH for 23-29 factors'!T218-1)*(T$3-T$2)/256), T$4)","v":27},{"$f":"ROUND( U$2+(('coded NOLH for 23-29 factors'!U218-1)*(U$3-U$2)/256), U$4)","v":17},{"$f":"ROUND( V$2+(('coded NOLH for 23-29 factors'!V218-1)*(V$3-V$2)/256), V$4)","v":179},{"$f":"ROUND( W$2+(('coded NOLH for 23-29 factors'!W218-1)*(W$3-W$2)/256), W$4)","v":16},{"$f":"ROUND( X$2+(('coded NOLH for 23-29 factors'!X218-1)*(X$3-X$2)/256), X$4)","v":188},{"$f":"ROUND( Y$2+(('coded NOLH for 23-29 factors'!Y218-1)*(Y$3-Y$2)/256), Y$4)","v":65},{"$f":"ROUND( Z$2+(('coded NOLH for 23-29 factors'!Z218-1)*(Z$3-Z$2)/256), Z$4)","v":146},{"$f":"ROUND( AA$2+(('coded NOLH for 23-29 factors'!AA218-1)*(AA$3-AA$2)/256), AA$4)","v":112},{"$f":"ROUND( AB$2+(('coded NOLH for 23-29 factors'!AB218-1)*(AB$3-AB$2)/256), AB$4)","v":65},{"$f":"ROUND( AC$2+(('coded NOLH for 23-29 factors'!AC218-1)*(AC$3-AC$2)/256), AC$4)","v":180},{"$f":"ROUND( AD$2+(('coded NOLH for 23-29 factors'!AD218-1)*(AD$3-AD$2)/256), AD$4)","v":63}]
[null,{"$f":"ROUND( B$2+(('coded NOLH for 23-29 factors'!B219-1)*(B$3-B$2)/256), B$4)","v":243},{"$f":"ROUND( C$2+(('coded NOLH for 23-29 factors'!C219-1)*(C$3-C$2)/256), C$4)","v":161},{"$f":"ROUND( D$2+(('coded NOLH for 23-29 factors'!D219-1)*(D$3-D$2)/256), D$4)","v":99},{"$f":"ROUND( E$2+(('coded NOLH for 23-29 factors'!E219-1)*(E$3-E$2)/256), E$4)","v":232},{"$f":"ROUND( F$2+(('coded NOLH for 23-29 factors'!F219-1)*(F$3-F$2)/256), F$4)","v":108},{"$f":"ROUND( G$2+(('coded NOLH for 23-29 factors'!G219-1)*(G$3-G$2)/256), G$4)","v":168},{"$f":"ROUND( H$2+(('coded NOLH for 23-29 factors'!H219-1)*(H$3-H$2)/256), H$4)","v":46},{"$f":"ROUND( I$2+(('coded NOLH for 23-29 factors'!I219-1)*(I$3-I$2)/256), I$4)","v":223},{"$f":"ROUND( J$2+(('coded NOLH for 23-29 factors'!J219-1)*(J$3-J$2)/256), J$4)","v":78},{"$f":"ROUND( K$2+(('coded NOLH for 23-29 factors'!K219-1)*(K$3-K$2)/256), K$4)","v":133},{"$f":"ROUND( L$2+(('coded NOLH for 23-29 factors'!L219-1)*(L$3-L$2)/256), L$4)","v":48},{"$f":"ROUND( M$2+(('coded NOLH for 23-29 factors'!M219-1)*(M$3-M$2)/256), M$4)","v":135},{"$f":"ROUND( N$2+(('coded NOLH for 23-29 factors'!N219-1)*(N$3-N$2)/256), N$4)","v":9},{"$f":"ROUND( O$2+(('coded NOLH for 23-29 factors'!O219-1)*(O$3-O$2)/256), O$4)","v":256},{"$f":"ROUND( P$2+(('coded NOLH for 23-29 factors'!P219-1)*(P$3-P$2)/256), P$4)","v":114},{"$f":"ROUND( Q$2+(('coded NOLH for 23-29 factors'!Q219-1)*(Q$3-Q$2)/256), Q$4)","v":202},{"$f":"ROUND( R$2+(('coded NOLH for 23-29 factors'!R219-1)*(R$3-R$2)/256), R$4)","v":46},{"$f":"ROUND( S$2+(('coded NOLH for 23-29 factors'!S219-1)*(S$3-S$2)/256), S$4)","v":204},{"$f":"ROUND( T$2+(('coded NOLH for 23-29 factors'!T219-1)*(T$3-T$2)/256), T$4)","v":56},{"$f":"ROUND( U$2+(('coded NOLH for 23-29 factors'!U219-1)*(U$3-U$2)/256), U$4)","v":102},{"$f":"ROUND( V$2+(('coded NOLH for 23-29 factors'!V219-1)*(V$3-V$2)/256), V$4)","v":185},{"$f":"ROUND( W$2+(('coded NOLH for 23-29 factors'!W219-1)*(W$3-W$2)/256), W$4)","v":56},{"$f":"ROUND( X$2+(('coded NOLH for 23-29 factors'!X219-1)*(X$3-X$2)/256), X$4)","v":218},{"$f":"ROUND( Y$2+(('coded NOLH for 23-29 factors'!Y219-1)*(Y$3-Y$2)/256), Y$4)","v":43},{"$f":"ROUND( Z$2+(('coded NOLH for 23-29 factors'!Z219-1)*(Z$3-Z$2)/256), Z$4)","v":216},{"$f":"ROUND( AA$2+(('coded NOLH for 23-29 factors'!AA219-1)*(AA$3-AA$2)/256), AA$4)","v":83},{"$f":"ROUND( AB$2+(('coded NOLH for 23-29 factors'!AB219-1)*(AB$3-AB$2)/256), AB$4)","v":95},{"$f":"ROUND( AC$2+(('coded NOLH for 23-29 factors'!AC219-1)*(AC$3-AC$2)/256), AC$4)","v":223},{"$f":"ROUND( AD$2+(('coded NOLH for 23-29 factors'!AD219-1)*(AD$3-AD$2)/256), AD$4)","v":97}]
[null,{"$f":"ROUND( B$2+(('coded NOLH for 23-29 factors'!B220-1)*(B$3-B$2)/256), B$4)","v":159},{"$f":"ROUND( C$2+(('coded NOLH for 23-29 factors'!C220-1)*(C$3-C$2)/256), C$4)","v":75},{"$f":"ROUND( D$2+(('coded NOLH for 23-29 factors'!D220-1)*(D$3-D$2)/256), D$4)","v":243},{"$f":"ROUND( E$2+(('coded NOLH for 23-29 factors'!E220-1)*(E$3-E$2)/256), E$4)","v":152},{"$f":"ROUND( F$2+(('coded NOLH for 23-29 factors'!F220-1)*(F$3-F$2)/256), F$4)","v":80},{"$f":"ROUND( G$2+(('coded NOLH for 23-29 factors'!G220-1)*(G$3-G$2)/256), G$4)","v":255},{"$f":"ROUND( H$2+(('coded NOLH for 23-29 factors'!H220-1)*(H$3-H$2)/256), H$4)","v":71},{"$f":"ROUND( I$2+(('coded NOLH for 23-29 factors'!I220-1)*(I$3-I$2)/256), I$4)","v":201},{"$f":"ROUND( J$2+(('coded NOLH for 23-29 factors'!J220-1)*(J$3-J$2)/256), J$4)","v":128},{"$f":"ROUND( K$2+(('coded NOLH for 23-29 factors'!K220-1)*(K$3-K$2)/256), K$4)","v":143},{"$f":"ROUND( L$2+(('coded NOLH for 23-29 factors'!L220-1)*(L$3-L$2)/256), L$4)","v":178},{"$f":"ROUND( M$2+(('coded NOLH for 23-29 factors'!M220-1)*(M$3-M$2)/256), M$4)","v":16},{"$f":"ROUND( N$2+(('coded NOLH for 23-29 factors'!N220-1)*(N$3-N$2)/256), N$4)","v":181},{"$f":"ROUND( O$2+(('coded NOLH for 23-29 factors'!O220-1)*(O$3-O$2)/256), O$4)","v":42},{"$f":"ROUND( P$2+(('coded NOLH for 23-29 factors'!P220-1)*(P$3-P$2)/256), P$4)","v":217},{"$f":"ROUND( Q$2+(('coded NOLH for 23-29 factors'!Q220-1)*(Q$3-Q$2)/256), Q$4)","v":118},{"$f":"ROUND( R$2+(('coded NOLH for 23-29 factors'!R220-1)*(R$3-R$2)/256), R$4)","v":162},{"$f":"ROUND( S$2+(('coded NOLH for 23-29 factors'!S220-1)*(S$3-S$2)/256), S$4)","v":51},{"$f":"ROUND( T$2+(('coded NOLH for 23-29 factors'!T220-1)*(T$3-T$2)/256), T$4)","v":216},{"$f":"ROUND( U$2+(('coded NOLH for 23-29 factors'!U220-1)*(U$3-U$2)/256), U$4)","v":132},{"$f":"ROUND( V$2+(('coded NOLH for 23-29 factors'!V220-1)*(V$3-V$2)/256), V$4)","v":231},{"$f":"ROUND( W$2+(('coded NOLH for 23-29 factors'!W220-1)*(W$3-W$2)/256), W$4)","v":87},{"$f":"ROUND( X$2+(('coded NOLH for 23-29 factors'!X220-1)*(X$3-X$2)/256), X$4)","v":228},{"$f":"ROUND( Y$2+(('coded NOLH for 23-29 factors'!Y220-1)*(Y$3-Y$2)/256), Y$4)","v":78},{"$f":"ROUND( Z$2+(('coded NOLH for 23-29 factors'!Z220-1)*(Z$3-Z$2)/256), Z$4)","v":248},{"$f":"ROUND( AA$2+(('coded NOLH for 23-29 factors'!AA220-1)*(AA$3-AA$2)/256), AA$4)","v":70},{"$f":"ROUND( AB$2+(('coded NOLH for 23-29 factors'!AB220-1)*(AB$3-AB$2)/256), AB$4)","v":108},{"$f":"ROUND( AC$2+(('coded NOLH for 23-29 factors'!AC220-1)*(AC$3-AC$2)/256), AC$4)","v":135},{"$f":"ROUND( AD$2+(('coded NOLH for 23-29 factors'!AD220-1)*(AD$3-AD$2)/256), AD$4)","v":94}]
[null,{"$f":"ROUND( B$2+(('coded NOLH for 23-29 factors'!B221-1)*(B$3-B$2)/256), B$4)","v":183},{"$f":"ROUND( C$2+(('coded NOLH for 23-29 factors'!C221-1)*(C$3-C$2)/256), C$4)","v":159},{"$f":"ROUND( D$2+(('coded NOLH for 23-29 factors'!D221-1)*(D$3-D$2)/256), D$4)","v":161},{"$f":"ROUND( E$2+(('coded NOLH for 23-29 factors'!E221-1)*(E$3-E$2)/256), E$4)","v":141},{"$f":"ROUND( F$2+(('coded NOLH for 23-29 factors'!F221-1)*(F$3-F$2)/256), F$4)","v":74},{"$f":"ROUND( G$2+(('coded NOLH for 23-29 factors'!G221-1)*(G$3-G$2)/256), G$4)","v":218},{"$f":"ROUND( H$2+(('coded NOLH for 23-29 factors'!H221-1)*(H$3-H$2)/256), H$4)","v":89},{"$f":"ROUND( I$2+(('coded NOLH for 23-29 factors'!I221-1)*(I$3-I$2)/256), I$4)","v":210},{"$f":"ROUND( J$2+(('coded NOLH for 23-29 factors'!J221-1)*(J$3-J$2)/256), J$4)","v":253},{"$f":"ROUND( K$2+(('coded NOLH for 23-29 factors'!K221-1)*(K$3-K$2)/256), K$4)","v":172},{"$f":"ROUND( L$2+(('coded NOLH for 23-29 factors'!L221-1)*(L$3-L$2)/256), L$4)","v":69},{"$f":"ROUND( M$2+(('coded NOLH for 23-29 factors'!M221-1)*(M$3-M$2)/256), M$4)","v":247},{"$f":"ROUND( N$2+(('coded NOLH for 23-29 factors'!N221-1)*(N$3-N$2)/256), N$4)","v":82},{"$f":"ROUND( O$2+(('coded NOLH for 23-29 factors'!O221-1)*(O$3-O$2)/256), O$4)","v":203},{"$f":"ROUND( P$2+(('coded NOLH for 23-29 factors'!P221-1)*(P$3-P$2)/256), P$4)","v":151},{"$f":"ROUND( Q$2+(('coded NOLH for 23-29 factors'!Q221-1)*(Q$3-Q$2)/256), Q$4)","v":49},{"$f":"ROUND( R$2+(('coded NOLH for 23-29 factors'!R221-1)*(R$3-R$2)/256), R$4)","v":155},{"$f":"ROUND( S$2+(('coded NOLH for 23-29 factors'!S221-1)*(S$3-S$2)/256), S$4)","v":43},{"$f":"ROUND( T$2+(('coded NOLH for 23-29 factors'!T221-1)*(T$3-T$2)/256), T$4)","v":251},{"$f":"ROUND( U$2+(('coded NOLH for 23-29 factors'!U221-1)*(U$3-U$2)/256), U$4)","v":37},{"$f":"ROUND( V$2+(('coded NOLH for 23-29 factors'!V221-1)*(V$3-V$2)/256), V$4)","v":140},{"$f":"ROUND( W$2+(('coded NOLH for 23-29 factors'!W221-1)*(W$3-W$2)/256), W$4)","v":65},{"$f":"ROUND( X$2+(('coded NOLH for 23-29 factors'!X221-1)*(X$3-X$2)/256), X$4)","v":172},{"$f":"ROUND( Y$2+(('coded NOLH for 23-29 factors'!Y221-1)*(Y$3-Y$2)/256), Y$4)","v":63},{"$f":"ROUND( Z$2+(('coded NOLH for 23-29 factors'!Z221-1)*(Z$3-Z$2)/256), Z$4)","v":235},{"$f":"ROUND( AA$2+(('coded NOLH for 23-29 factors'!AA221-1)*(AA$3-AA$2)/256), AA$4)","v":99},{"$f":"ROUND( AB$2+(('coded NOLH for 23-29 factors'!AB221-1)*(AB$3-AB$2)/256), AB$4)","v":3},{"$f":"ROUND( AC$2+(('coded NOLH for 23-29 factors'!AC221-1)*(AC$3-AC$2)/256), AC$4)","v":178},{"$f":"ROUND( AD$2+(('coded NOLH for 23-29 factors'!AD221-1)*(AD$3-AD$2)/256), AD$4)","v":77}]
[null,{"$f":"ROUND( B$2+(('coded NOLH for 23-29 factors'!B222-1)*(B$3-B$2)/256), B$4)","v":184},{"$f":"ROUND( C$2+(('coded NOLH for 23-29 factors'!C222-1)*(C$3-C$2)/256), C$4)","v":80},{"$f":"ROUND( D$2+(('coded NOLH for 23-29 factors'!D222-1)*(D$3-D$2)/256), D$4)","v":44},{"$f":"ROUND( E$2+(('coded NOLH for 23-29 factors'!E222-1)*(E$3-E$2)/256), E$4)","v":76},{"$f":"ROUND( F$2+(('coded NOLH for 23-29 factors'!F222-1)*(F$3-F$2)/256), F$4)","v":183},{"$f":"ROUND( G$2+(('coded NOLH for 23-29 factors'!G222-1)*(G$3-G$2)/256), G$4)","v":195},{"$f":"ROUND( H$2+(('coded NOLH for 23-29 factors'!H222-1)*(H$3-H$2)/256), H$4)","v":2},{"$f":"ROUND( I$2+(('coded NOLH for 23-29 factors'!I222-1)*(I$3-I$2)/256), I$4)","v":138},{"$f":"ROUND( J$2+(('coded NOLH for 23-29 factors'!J222-1)*(J$3-J$2)/256), J$4)","v":167},{"$f":"ROUND( K$2+(('coded NOLH for 23-29 factors'!K222-1)*(K$3-K$2)/256), K$4)","v":145},{"$f":"ROUND( L$2+(('coded NOLH for 23-29 factors'!L222-1)*(L$3-L$2)/256), L$4)","v":96},{"$f":"ROUND( M$2+(('coded NOLH for 23-29 factors'!M222-1)*(M$3-M$2)/256), M$4)","v":78},{"$f":"ROUND( N$2+(('coded NOLH for 23-29 factors'!N222-1)*(N$3-N$2)/256), N$4)","v":232},{"$f":"ROUND( O$2+(('coded NOLH for 23-29 factors'!O222-1)*(O$3-O$2)/256), O$4)","v":93},{"$f":"ROUND( P$2+(('coded NOLH for 23-29 factors'!P222-1)*(P$3-P$2)/256), P$4)","v":242},{"$f":"ROUND( Q$2+(('coded NOLH for 23-29 factors'!Q222-1)*(Q$3-Q$2)/256), Q$4)","v":73},{"$f":"ROUND( R$2+(('coded NOLH for 23-29 factors'!R222-1)*(R$3-R$2)/256), R$4)","v":13},{"$f":"ROUND( S$2+(('coded NOLH for 23-29 factors'!S222-1)*(S$3-S$2)/256), S$4)","v":126},{"$f":"ROUND( T$2+(('coded NOLH for 23-29 factors'!T222-1)*(T$3-T$2)/256), T$4)","v":63},{"$f":"ROUND( U$2+(('coded NOLH for 23-29 factors'!U222-1)*(U$3-U$2)/256), U$4)","v":124},{"$f":"ROUND( V$2+(('coded NOLH for 23-29 factors'!V222-1)*(V$3-V$2)/256), V$4)","v":24},{"$f":"ROUND( W$2+(('coded NOLH for 23-29 factors'!W222-1)*(W$3-W$2)/256), W$4)","v":232},{"$f":"ROUND( X$2+(('coded NOLH for 23-29 factors'!X222-1)*(X$3-X$2)/256), X$4)","v":83},{"$f":"ROUND( Y$2+(('coded NOLH for 23-29 factors'!Y222-1)*(Y$3-Y$2)/256), Y$4)","v":235},{"$f":"ROUND( Z$2+(('coded NOLH for 23-29 factors'!Z222-1)*(Z$3-Z$2)/256), Z$4)","v":87},{"$f":"ROUND( AA$2+(('coded NOLH for 23-29 factors'!AA222-1)*(AA$3-AA$2)/256), AA$4)","v":214},{"$f":"ROUND( AB$2+(('coded NOLH for 23-29 factors'!AB222-1)*(AB$3-AB$2)/256), AB$4)","v":97},{"$f":"ROUND( AC$2+(('coded NOLH for 23-29 factors'!AC222-1)*(AC$3-AC$2)/256), AC$4)","v":189},{"$f":"ROUND( AD$2+(('coded NOLH for 23-29 factors'!AD222-1)*(AD$3-AD$2)/256), AD$4)","v":78}]
[null,{"$f":"ROUND( B$2+(('coded NOLH for 23-29 factors'!B223-1)*(B$3-B$2)/256), B$4)","v":178},{"$f":"ROUND( C$2+(('coded NOLH for 23-29 factors'!C223-1)*(C$3-C$2)/256), C$4)","v":184},{"$f":"ROUND( D$2+(('coded NOLH for 23-29 factors'!D223-1)*(D$3-D$2)/256), D$4)","v":108},{"$f":"ROUND( E$2+(('coded NOLH for 23-29 factors'!E223-1)*(E$3-E$2)/256), E$4)","v":109},{"$f":"ROUND( F$2+(('coded NOLH for 23-29 factors'!F223-1)*(F$3-F$2)/256), F$4)","v":159},{"$f":"ROUND( G$2+(('coded NOLH for 23-29 factors'!G223-1)*(G$3-G$2)/256), G$4)","v":211},{"$f":"ROUND( H$2+(('coded NOLH for 23-29 factors'!H223-1)*(H$3-H$2)/256), H$4)","v":30},{"$f":"ROUND( I$2+(('coded NOLH for 23-29 factors'!I223-1)*(I$3-I$2)/256), I$4)","v":176},{"$f":"ROUND( J$2+(('coded NOLH for 23-29 factors'!J223-1)*(J$3-J$2)/256), J$4)","v":60},{"$f":"ROUND( K$2+(('coded NOLH for 23-29 factors'!K223-1)*(K$3-K$2)/256), K$4)","v":80},{"$f":"ROUND( L$2+(('coded NOLH for 23-29 factors'!L223-1)*(L$3-L$2)/256), L$4)","v":175},{"$f":"ROUND( M$2+(('coded NOLH for 23-29 factors'!M223-1)*(M$3-M$2)/256), M$4)","v":216},{"$f":"ROUND( N$2+(('coded NOLH for 23-29 factors'!N223-1)*(N$3-N$2)/256), N$4)","v":8},{"$f":"ROUND( O$2+(('coded NOLH for 23-29 factors'!O223-1)*(O$3-O$2)/256), O$4)","v":143},{"$f":"ROUND( P$2+(('coded NOLH for 23-29 factors'!P223-1)*(P$3-P$2)/256), P$4)","v":136},{"$f":"ROUND( Q$2+(('coded NOLH for 23-29 factors'!Q223-1)*(Q$3-Q$2)/256), Q$4)","v":17},{"$f":"ROUND( R$2+(('coded NOLH for 23-29 factors'!R223-1)*(R$3-R$2)/256), R$4)","v":84},{"$f":"ROUND( S$2+(('coded NOLH for 23-29 factors'!S223-1)*(S$3-S$2)/256), S$4)","v":240},{"$f":"ROUND( T$2+(('coded NOLH for 23-29 factors'!T223-1)*(T$3-T$2)/256), T$4)","v":133},{"$f":"ROUND( U$2+(('coded NOLH for 23-29 factors'!U223-1)*(U$3-U$2)/256), U$4)","v":98},{"$f":"ROUND( V$2+(('coded NOLH for 23-29 factors'!V223-1)*(V$3-V$2)/256), V$4)","v":88},{"$f":"ROUND( W$2+(('coded NOLH for 23-29 factors'!W223-1)*(W$3-W$2)/256), W$4)","v":225},{"$f":"ROUND( X$2+(('coded NOLH for 23-29 factors'!X223-1)*(X$3-X$2)/256), X$4)","v":106},{"$f":"ROUND( Y$2+(('coded NOLH for 23-29 factors'!Y223-1)*(Y$3-Y$2)/256), Y$4)","v":255},{"$f":"ROUND( Z$2+(('coded NOLH for 23-29 factors'!Z223-1)*(Z$3-Z$2)/256), Z$4)","v":86},{"$f":"ROUND( AA$2+(('coded NOLH for 23-29 factors'!AA223-1)*(AA$3-AA$2)/256), AA$4)","v":219},{"$f":"ROUND( AB$2+(('coded NOLH for 23-29 factors'!AB223-1)*(AB$3-AB$2)/256), AB$4)","v":100},{"$f":"ROUND( AC$2+(('coded NOLH for 23-29 factors'!AC223-1)*(AC$3-AC$2)/256), AC$4)","v":192},{"$f":"ROUND( AD$2+(('coded NOLH for 23-29 factors'!AD223-1)*(AD$3-AD$2)/256), AD$4)","v":114}]
[null,{"$f":"ROUND( B$2+(('coded NOLH for 23-29 factors'!B224-1)*(B$3-B$2)/256), B$4)","v":150},{"$f":"ROUND( C$2+(('coded NOLH for 23-29 factors'!C224-1)*(C$3-C$2)/256), C$4)","v":44},{"$f":"ROUND( D$2+(('coded NOLH for 23-29 factors'!D224-1)*(D$3-D$2)/256), D$4)","v":178},{"$f":"ROUND( E$2+(('coded NOLH for 23-29 factors'!E224-1)*(E$3-E$2)/256), E$4)","v":111},{"$f":"ROUND( F$2+(('coded NOLH for 23-29 factors'!F224-1)*(F$3-F$2)/256), F$4)","v":243},{"$f":"ROUND( G$2+(('coded NOLH for 23-29 factors'!G224-1)*(G$3-G$2)/256), G$4)","v":213},{"$f":"ROUND( H$2+(('coded NOLH for 23-29 factors'!H224-1)*(H$3-H$2)/256), H$4)","v":50},{"$f":"ROUND( I$2+(('coded NOLH for 23-29 factors'!I224-1)*(I$3-I$2)/256), I$4)","v":156},{"$f":"ROUND( J$2+(('coded NOLH for 23-29 factors'!J224-1)*(J$3-J$2)/256), J$4)","v":90},{"$f":"ROUND( K$2+(('coded NOLH for 23-29 factors'!K224-1)*(K$3-K$2)/256), K$4)","v":253},{"$f":"ROUND( L$2+(('coded NOLH for 23-29 factors'!L224-1)*(L$3-L$2)/256), L$4)","v":99},{"$f":"ROUND( M$2+(('coded NOLH for 23-29 factors'!M224-1)*(M$3-M$2)/256), M$4)","v":32},{"$f":"ROUND( N$2+(('coded NOLH for 23-29 factors'!N224-1)*(N$3-N$2)/256), N$4)","v":153},{"$f":"ROUND( O$2+(('coded NOLH for 23-29 factors'!O224-1)*(O$3-O$2)/256), O$4)","v":86},{"$f":"ROUND( P$2+(('coded NOLH for 23-29 factors'!P224-1)*(P$3-P$2)/256), P$4)","v":75},{"$f":"ROUND( Q$2+(('coded NOLH for 23-29 factors'!Q224-1)*(Q$3-Q$2)/256), Q$4)","v":167},{"$f":"ROUND( R$2+(('coded NOLH for 23-29 factors'!R224-1)*(R$3-R$2)/256), R$4)","v":173},{"$f":"ROUND( S$2+(('coded NOLH for 23-29 factors'!S224-1)*(S$3-S$2)/256), S$4)","v":11},{"$f":"ROUND( T$2+(('coded NOLH for 23-29 factors'!T224-1)*(T$3-T$2)/256), T$4)","v":173},{"$f":"ROUND( U$2+(('coded NOLH for 23-29 factors'!U224-1)*(U$3-U$2)/256), U$4)","v":61},{"$f":"ROUND( V$2+(('coded NOLH for 23-29 factors'!V224-1)*(V$3-V$2)/256), V$4)","v":4},{"$f":"ROUND( W$2+(('coded NOLH for 23-29 factors'!W224-1)*(W$3-W$2)/256), W$4)","v":139},{"$f":"ROUND( X$2+(('coded NOLH for 23-29 factors'!X224-1)*(X$3-X$2)/256), X$4)","v":61},{"$f":"ROUND( Y$2+(('coded NOLH for 23-29 factors'!Y224-1)*(Y$3-Y$2)/256), Y$4)","v":159},{"$f":"ROUND( Z$2+(('coded NOLH for 23-29 factors'!Z224-1)*(Z$3-Z$2)/256), Z$4)","v":66},{"$f":"ROUND( AA$2+(('coded NOLH for 23-29 factors'!AA224-1)*(AA$3-AA$2)/256), AA$4)","v":196},{"$f":"ROUND( AB$2+(('coded NOLH for 23-29 factors'!AB224-1)*(AB$3-AB$2)/256), AB$4)","v":25},{"$f":"ROUND( AC$2+(('coded NOLH for 23-29 factors'!AC224-1)*(AC$3-AC$2)/256), AC$4)","v":229},{"$f":"ROUND( AD$2+(('coded NOLH for 23-29 factors'!AD224-1)*(AD$3-AD$2)/256), AD$4)","v":65}]
[null,{"$f":"ROUND( B$2+(('coded NOLH for 23-29 factors'!B225-1)*(B$3-B$2)/256), B$4)","v":214},{"$f":"ROUND( C$2+(('coded NOLH for 23-29 factors'!C225-1)*(C$3-C$2)/256), C$4)","v":150},{"$f":"ROUND( D$2+(('coded NOLH for 23-29 factors'!D225-1)*(D$3-D$2)/256), D$4)","v":184},{"$f":"ROUND( E$2+(('coded NOLH for 23-29 factors'!E225-1)*(E$3-E$2)/256), E$4)","v":9},{"$f":"ROUND( F$2+(('coded NOLH for 23-29 factors'!F225-1)*(F$3-F$2)/256), F$4)","v":161},{"$f":"ROUND( G$2+(('coded NOLH for 23-29 factors'!G225-1)*(G$3-G$2)/256), G$4)","v":230},{"$f":"ROUND( H$2+(('coded NOLH for 23-29 factors'!H225-1)*(H$3-H$2)/256), H$4)","v":118},{"$f":"ROUND( I$2+(('coded NOLH for 23-29 factors'!I225-1)*(I$3-I$2)/256), I$4)","v":179},{"$f":"ROUND( J$2+(('coded NOLH for 23-29 factors'!J225-1)*(J$3-J$2)/256), J$4)","v":214},{"$f":"ROUND( K$2+(('coded NOLH for 23-29 factors'!K225-1)*(K$3-K$2)/256), K$4)","v":127},{"$f":"ROUND( L$2+(('coded NOLH for 23-29 factors'!L225-1)*(L$3-L$2)/256), L$4)","v":218},{"$f":"ROUND( M$2+(('coded NOLH for 23-29 factors'!M225-1)*(M$3-M$2)/256), M$4)","v":223},{"$f":"ROUND( N$2+(('coded NOLH for 23-29 factors'!N225-1)*(N$3-N$2)/256), N$4)","v":62},{"$f":"ROUND( O$2+(('coded NOLH for 23-29 factors'!O225-1)*(O$3-O$2)/256), O$4)","v":157},{"$f":"ROUND( P$2+(('coded NOLH for 23-29 factors'!P225-1)*(P$3-P$2)/256), P$4)","v":65},{"$f":"ROUND( Q$2+(('coded NOLH for 23-29 factors'!Q225-1)*(Q$3-Q$2)/256), Q$4)","v":188},{"$f":"ROUND( R$2+(('coded NOLH for 23-29 factors'!R225-1)*(R$3-R$2)/256), R$4)","v":196},{"$f":"ROUND( S$2+(('coded NOLH for 23-29 factors'!S225-1)*(S$3-S$2)/256), S$4)","v":41},{"$f":"ROUND( T$2+(('coded NOLH for 23-29 factors'!T225-1)*(T$3-T$2)/256), T$4)","v":161},{"$f":"ROUND( U$2+(('coded NOLH for 23-29 factors'!U225-1)*(U$3-U$2)/256), U$4)","v":123},{"$f":"ROUND( V$2+(('coded NOLH for 23-29 factors'!V225-1)*(V$3-V$2)/256), V$4)","v":74},{"$f":"ROUND( W$2+(('coded NOLH for 23-29 factors'!W225-1)*(W$3-W$2)/256), W$4)","v":188},{"$f":"ROUND( X$2+(('coded NOLH for 23-29 factors'!X225-1)*(X$3-X$2)/256), X$4)","v":77},{"$f":"ROUND( Y$2+(('coded NOLH for 23-29 factors'!Y225-1)*(Y$3-Y$2)/256), Y$4)","v":137},{"$f":"ROUND( Z$2+(('coded NOLH for 23-29 factors'!Z225-1)*(Z$3-Z$2)/256), Z$4)","v":6},{"$f":"ROUND( AA$2+(('coded NOLH for 23-29 factors'!AA225-1)*(AA$3-AA$2)/256), AA$4)","v":236},{"$f":"ROUND( AB$2+(('coded NOLH for 23-29 factors'!AB225-1)*(AB$3-AB$2)/256), AB$4)","v":62},{"$f":"ROUND( AC$2+(('coded NOLH for 23-29 factors'!AC225-1)*(AC$3-AC$2)/256), AC$4)","v":230},{"$f":"ROUND( AD$2+(('coded NOLH for 23-29 factors'!AD225-1)*(AD$3-AD$2)/256), AD$4)","v":74}]
[null,{"$f":"ROUND( B$2+(('coded NOLH for 23-29 factors'!B226-1)*(B$3-B$2)/256), B$4)","v":249},{"$f":"ROUND( C$2+(('coded NOLH for 23-29 factors'!C226-1)*(C$3-C$2)/256), C$4)","v":111},{"$f":"ROUND( D$2+(('coded NOLH for 23-29 factors'!D226-1)*(D$3-D$2)/256), D$4)","v":76},{"$f":"ROUND( E$2+(('coded NOLH for 23-29 factors'!E226-1)*(E$3-E$2)/256), E$4)","v":214},{"$f":"ROUND( F$2+(('coded NOLH for 23-29 factors'!F226-1)*(F$3-F$2)/256), F$4)","v":131},{"$f":"ROUND( G$2+(('coded NOLH for 23-29 factors'!G226-1)*(G$3-G$2)/256), G$4)","v":181},{"$f":"ROUND( H$2+(('coded NOLH for 23-29 factors'!H226-1)*(H$3-H$2)/256), H$4)","v":59},{"$f":"ROUND( I$2+(('coded NOLH for 23-29 factors'!I226-1)*(I$3-I$2)/256), I$4)","v":215},{"$f":"ROUND( J$2+(('coded NOLH for 23-29 factors'!J226-1)*(J$3-J$2)/256), J$4)","v":154},{"$f":"ROUND( K$2+(('coded NOLH for 23-29 factors'!K226-1)*(K$3-K$2)/256), K$4)","v":111},{"$f":"ROUND( L$2+(('coded NOLH for 23-29 factors'!L226-1)*(L$3-L$2)/256), L$4)","v":26},{"$f":"ROUND( M$2+(('coded NOLH for 23-29 factors'!M226-1)*(M$3-M$2)/256), M$4)","v":50},{"$f":"ROUND( N$2+(('coded NOLH for 23-29 factors'!N226-1)*(N$3-N$2)/256), N$4)","v":147},{"$f":"ROUND( O$2+(('coded NOLH for 23-29 factors'!O226-1)*(O$3-O$2)/256), O$4)","v":73},{"$f":"ROUND( P$2+(('coded NOLH for 23-29 factors'!P226-1)*(P$3-P$2)/256), P$4)","v":72},{"$f":"ROUND( Q$2+(('coded NOLH for 23-29 factors'!Q226-1)*(Q$3-Q$2)/256), Q$4)","v":124},{"$f":"ROUND( R$2+(('coded NOLH for 23-29 factors'!R226-1)*(R$3-R$2)/256), R$4)","v":37},{"$f":"ROUND( S$2+(('coded NOLH for 23-29 factors'!S226-1)*(S$3-S$2)/256), S$4)","v":224},{"$f":"ROUND( T$2+(('coded NOLH for 23-29 factors'!T226-1)*(T$3-T$2)/256), T$4)","v":103},{"$f":"ROUND( U$2+(('coded NOLH for 23-29 factors'!U226-1)*(U$3-U$2)/256), U$4)","v":170},{"$f":"ROUND( V$2+(('coded NOLH for 23-29 factors'!V226-1)*(V$3-V$2)/256), V$4)","v":241},{"$f":"ROUND( W$2+(('coded NOLH for 23-29 factors'!W226-1)*(W$3-W$2)/256), W$4)","v":110},{"$f":"ROUND( X$2+(('coded NOLH for 23-29 factors'!X226-1)*(X$3-X$2)/256), X$4)","v":148},{"$f":"ROUND( Y$2+(('coded NOLH for 23-29 factors'!Y226-1)*(Y$3-Y$2)/256), Y$4)","v":186},{"$f":"ROUND( Z$2+(('coded NOLH for 23-29 factors'!Z226-1)*(Z$3-Z$2)/256), Z$4)","v":28},{"$f":"ROUND( AA$2+(('coded NOLH for 23-29 factors'!AA226-1)*(AA$3-AA$2)/256), AA$4)","v":200},{"$f":"ROUND( AB$2+(('coded NOLH for 23-29 factors'!AB226-1)*(AB$3-AB$2)/256), AB$4)","v":8},{"$f":"ROUND( AC$2+(('coded NOLH for 23-29 factors'!AC226-1)*(AC$3-AC$2)/256), AC$4)","v":234},{"$f":"ROUND( AD$2+(('coded NOLH for 23-29 factors'!AD226-1)*(AD$3-AD$2)/256), AD$4)","v":53}]
[null,{"$f":"ROUND( B$2+(('coded NOLH for 23-29 factors'!B227-1)*(B$3-B$2)/256), B$4)","v":147},{"$f":"ROUND( C$2+(('coded NOLH for 23-29 factors'!C227-1)*(C$3-C$2)/256), C$4)","v":249},{"$f":"ROUND( D$2+(('coded NOLH for 23-29 factors'!D227-1)*(D$3-D$2)/256), D$4)","v":109},{"$f":"ROUND( E$2+(('coded NOLH for 23-29 factors'!E227-1)*(E$3-E$2)/256), E$4)","v":150},{"$f":"ROUND( F$2+(('coded NOLH for 23-29 factors'!F227-1)*(F$3-F$2)/256), F$4)","v":232},{"$f":"ROUND( G$2+(('coded NOLH for 23-29 factors'!G227-1)*(G$3-G$2)/256), G$4)","v":207},{"$f":"ROUND( H$2+(('coded NOLH for 23-29 factors'!H227-1)*(H$3-H$2)/256), H$4)","v":110},{"$f":"ROUND( I$2+(('coded NOLH for 23-29 factors'!I227-1)*(I$3-I$2)/256), I$4)","v":193},{"$f":"ROUND( J$2+(('coded NOLH for 23-29 factors'!J227-1)*(J$3-J$2)/256), J$4)","v":87},{"$f":"ROUND( K$2+(('coded NOLH for 23-29 factors'!K227-1)*(K$3-K$2)/256), K$4)","v":209},{"$f":"ROUND( L$2+(('coded NOLH for 23-29 factors'!L227-1)*(L$3-L$2)/256), L$4)","v":126},{"$f":"ROUND( M$2+(('coded NOLH for 23-29 factors'!M227-1)*(M$3-M$2)/256), M$4)","v":190},{"$f":"ROUND( N$2+(('coded NOLH for 23-29 factors'!N227-1)*(N$3-N$2)/256), N$4)","v":71},{"$f":"ROUND( O$2+(('coded NOLH for 23-29 factors'!O227-1)*(O$3-O$2)/256), O$4)","v":227},{"$f":"ROUND( P$2+(('coded NOLH for 23-29 factors'!P227-1)*(P$3-P$2)/256), P$4)","v":53},{"$f":"ROUND( Q$2+(('coded NOLH for 23-29 factors'!Q227-1)*(Q$3-Q$2)/256), Q$4)","v":127},{"$f":"ROUND( R$2+(('coded NOLH for 23-29 factors'!R227-1)*(R$3-R$2)/256), R$4)","v":111},{"$f":"ROUND( S$2+(('coded NOLH for 23-29 factors'!S227-1)*(S$3-S$2)/256), S$4)","v":252},{"$f":"ROUND( T$2+(('coded NOLH for 23-29 factors'!T227-1)*(T$3-T$2)/256), T$4)","v":101},{"$f":"ROUND( U$2+(('coded NOLH for 23-29 factors'!U227-1)*(U$3-U$2)/256), U$4)","v":225},{"$f":"ROUND( V$2+(('coded NOLH for 23-29 factors'!V227-1)*(V$3-V$2)/256), V$4)","v":217},{"$f":"ROUND( W$2+(('coded NOLH for 23-29 factors'!W227-1)*(W$3-W$2)/256), W$4)","v":30},{"$f":"ROUND( X$2+(('coded NOLH for 23-29 factors'!X227-1)*(X$3-X$2)/256), X$4)","v":171},{"$f":"ROUND( Y$2+(('coded NOLH for 23-29 factors'!Y227-1)*(Y$3-Y$2)/256), Y$4)","v":208},{"$f":"ROUND( Z$2+(('coded NOLH for 23-29 factors'!Z227-1)*(Z$3-Z$2)/256), Z$4)","v":46},{"$f":"ROUND( AA$2+(('coded NOLH for 23-29 factors'!AA227-1)*(AA$3-AA$2)/256), AA$4)","v":203},{"$f":"ROUND( AB$2+(('coded NOLH for 23-29 factors'!AB227-1)*(AB$3-AB$2)/256), AB$4)","v":11},{"$f":"ROUND( AC$2+(('coded NOLH for 23-29 factors'!AC227-1)*(AC$3-AC$2)/256), AC$4)","v":227},{"$f":"ROUND( AD$2+(('coded NOLH for 23-29 factors'!AD227-1)*(AD$3-AD$2)/256), AD$4)","v":26}]
[null,{"$f":"ROUND( B$2+(('coded NOLH for 23-29 factors'!B228-1)*(B$3-B$2)/256), B$4)","v":149},{"$f":"ROUND( C$2+(('coded NOLH for 23-29 factors'!C228-1)*(C$3-C$2)/256), C$4)","v":76},{"$f":"ROUND( D$2+(('coded NOLH for 23-29 factors'!D228-1)*(D$3-D$2)/256), D$4)","v":147},{"$f":"ROUND( E$2+(('coded NOLH for 23-29 factors'!E228-1)*(E$3-E$2)/256), E$4)","v":178},{"$f":"ROUND( F$2+(('coded NOLH for 23-29 factors'!F228-1)*(F$3-F$2)/256), F$4)","v":152},{"$f":"ROUND( G$2+(('coded NOLH for 23-29 factors'!G228-1)*(G$3-G$2)/256), G$4)","v":164},{"$f":"ROUND( H$2+(('coded NOLH for 23-29 factors'!H228-1)*(H$3-H$2)/256), H$4)","v":24},{"$f":"ROUND( I$2+(('coded NOLH for 23-29 factors'!I228-1)*(I$3-I$2)/256), I$4)","v":173},{"$f":"ROUND( J$2+(('coded NOLH for 23-29 factors'!J228-1)*(J$3-J$2)/256), J$4)","v":14},{"$f":"ROUND( K$2+(('coded NOLH for 23-29 factors'!K228-1)*(K$3-K$2)/256), K$4)","v":69},{"$f":"ROUND( L$2+(('coded NOLH for 23-29 factors'!L228-1)*(L$3-L$2)/256), L$4)","v":122},{"$f":"ROUND( M$2+(('coded NOLH for 23-29 factors'!M228-1)*(M$3-M$2)/256), M$4)","v":19},{"$f":"ROUND( N$2+(('coded NOLH for 23-29 factors'!N228-1)*(N$3-N$2)/256), N$4)","v":240},{"$f":"ROUND( O$2+(('coded NOLH for 23-29 factors'!O228-1)*(O$3-O$2)/256), O$4)","v":119},{"$f":"ROUND( P$2+(('coded NOLH for 23-29 factors'!P228-1)*(P$3-P$2)/256), P$4)","v":134},{"$f":"ROUND( Q$2+(('coded NOLH for 23-29 factors'!Q228-1)*(Q$3-Q$2)/256), Q$4)","v":215},{"$f":"ROUND( R$2+(('coded NOLH for 23-29 factors'!R228-1)*(R$3-R$2)/256), R$4)","v":227},{"$f":"ROUND( S$2+(('coded NOLH for 23-29 factors'!S228-1)*(S$3-S$2)/256), S$4)","v":101},{"$f":"ROUND( T$2+(('coded NOLH for 23-29 factors'!T228-1)*(T$3-T$2)/256), T$4)","v":182},{"$f":"ROUND( U$2+(('coded NOLH for 23-29 factors'!U228-1)*(U$3-U$2)/256), U$4)","v":188},{"$f":"ROUND( V$2+(('coded NOLH for 23-29 factors'!V228-1)*(V$3-V$2)/256), V$4)","v":163},{"$f":"ROUND( W$2+(('coded NOLH for 23-29 factors'!W228-1)*(W$3-W$2)/256), W$4)","v":24},{"$f":"ROUND( X$2+(('coded NOLH for 23-29 factors'!X228-1)*(X$3-X$2)/256), X$4)","v":161},{"$f":"ROUND( Y$2+(('coded NOLH for 23-29 factors'!Y228-1)*(Y$3-Y$2)/256), Y$4)","v":254},{"$f":"ROUND( Z$2+(('coded NOLH for 23-29 factors'!Z228-1)*(Z$3-Z$2)/256), Z$4)","v":122},{"$f":"ROUND( AA$2+(('coded NOLH for 23-29 factors'!AA228-1)*(AA$3-AA$2)/256), AA$4)","v":249},{"$f":"ROUND( AB$2+(('coded NOLH for 23-29 factors'!AB228-1)*(AB$3-AB$2)/256), AB$4)","v":73},{"$f":"ROUND( AC$2+(('coded NOLH for 23-29 factors'!AC228-1)*(AC$3-AC$2)/256), AC$4)","v":252},{"$f":"ROUND( AD$2+(('coded NOLH for 23-29 factors'!AD228-1)*(AD$3-AD$2)/256), AD$4)","v":120}]
[null,{"$f":"ROUND( B$2+(('coded NOLH for 23-29 factors'!B229-1)*(B$3-B$2)/256), B$4)","v":182},{"$f":"ROUND( C$2+(('coded NOLH for 23-29 factors'!C229-1)*(C$3-C$2)/256), C$4)","v":149},{"$f":"ROUND( D$2+(('coded NOLH for 23-29 factors'!D229-1)*(D$3-D$2)/256), D$4)","v":249},{"$f":"ROUND( E$2+(('coded NOLH for 23-29 factors'!E229-1)*(E$3-E$2)/256), E$4)","v":184},{"$f":"ROUND( F$2+(('coded NOLH for 23-29 factors'!F229-1)*(F$3-F$2)/256), F$4)","v":141},{"$f":"ROUND( G$2+(('coded NOLH for 23-29 factors'!G229-1)*(G$3-G$2)/256), G$4)","v":235},{"$f":"ROUND( H$2+(('coded NOLH for 23-29 factors'!H229-1)*(H$3-H$2)/256), H$4)","v":18},{"$f":"ROUND( I$2+(('coded NOLH for 23-29 factors'!I229-1)*(I$3-I$2)/256), I$4)","v":139},{"$f":"ROUND( J$2+(('coded NOLH for 23-29 factors'!J229-1)*(J$3-J$2)/256), J$4)","v":160},{"$f":"ROUND( K$2+(('coded NOLH for 23-29 factors'!K229-1)*(K$3-K$2)/256), K$4)","v":201},{"$f":"ROUND( L$2+(('coded NOLH for 23-29 factors'!L229-1)*(L$3-L$2)/256), L$4)","v":156},{"$f":"ROUND( M$2+(('coded NOLH for 23-29 factors'!M229-1)*(M$3-M$2)/256), M$4)","v":144},{"$f":"ROUND( N$2+(('coded NOLH for 23-29 factors'!N229-1)*(N$3-N$2)/256), N$4)","v":33},{"$f":"ROUND( O$2+(('coded NOLH for 23-29 factors'!O229-1)*(O$3-O$2)/256), O$4)","v":169},{"$f":"ROUND( P$2+(('coded NOLH for 23-29 factors'!P229-1)*(P$3-P$2)/256), P$4)","v":196},{"$f":"ROUND( Q$2+(('coded NOLH for 23-29 factors'!Q229-1)*(Q$3-Q$2)/256), Q$4)","v":155},{"$f":"ROUND( R$2+(('coded NOLH for 23-29 factors'!R229-1)*(R$3-R$2)/256), R$4)","v":204},{"$f":"ROUND( S$2+(('coded NOLH for 23-29 factors'!S229-1)*(S$3-S$2)/256), S$4)","v":66},{"$f":"ROUND( T$2+(('coded NOLH for 23-29 factors'!T229-1)*(T$3-T$2)/256), T$4)","v":235},{"$f":"ROUND( U$2+(('coded NOLH for 23-29 factors'!U229-1)*(U$3-U$2)/256), U$4)","v":172},{"$f":"ROUND( V$2+(('coded NOLH for 23-29 factors'!V229-1)*(V$3-V$2)/256), V$4)","v":154},{"$f":"ROUND( W$2+(('coded NOLH for 23-29 factors'!W229-1)*(W$3-W$2)/256), W$4)","v":3},{"$f":"ROUND( X$2+(('coded NOLH for 23-29 factors'!X229-1)*(X$3-X$2)/256), X$4)","v":160},{"$f":"ROUND( Y$2+(('coded NOLH for 23-29 factors'!Y229-1)*(Y$3-Y$2)/256), Y$4)","v":149},{"$f":"ROUND( Z$2+(('coded NOLH for 23-29 factors'!Z229-1)*(Z$3-Z$2)/256), Z$4)","v":89},{"$f":"ROUND( AA$2+(('coded NOLH for 23-29 factors'!AA229-1)*(AA$3-AA$2)/256), AA$4)","v":135},{"$f":"ROUND( AB$2+(('coded NOLH for 23-29 factors'!AB229-1)*(AB$3-AB$2)/256), AB$4)","v":22},{"$f":"ROUND( AC$2+(('coded NOLH for 23-29 factors'!AC229-1)*(AC$3-AC$2)/256), AC$4)","v":241},{"$f":"ROUND( AD$2+(('coded NOLH for 23-29 factors'!AD229-1)*(AD$3-AD$2)/256), AD$4)","v":34}]
[null,{"$f":"ROUND( B$2+(('coded NOLH for 23-29 factors'!B230-1)*(B$3-B$2)/256), B$4)","v":240},{"$f":"ROUND( C$2+(('coded NOLH for 23-29 factors'!C230-1)*(C$3-C$2)/256), C$4)","v":24},{"$f":"ROUND( D$2+(('coded NOLH for 23-29 factors'!D230-1)*(D$3-D$2)/256), D$4)","v":59},{"$f":"ROUND( E$2+(('coded NOLH for 23-29 factors'!E230-1)*(E$3-E$2)/256), E$4)","v":2},{"$f":"ROUND( F$2+(('coded NOLH for 23-29 factors'!F230-1)*(F$3-F$2)/256), F$4)","v":88},{"$f":"ROUND( G$2+(('coded NOLH for 23-29 factors'!G230-1)*(G$3-G$2)/256), G$4)","v":33},{"$f":"ROUND( H$2+(('coded NOLH for 23-29 factors'!H230-1)*(H$3-H$2)/256), H$4)","v":182},{"$f":"ROUND( I$2+(('coded NOLH for 23-29 factors'!I230-1)*(I$3-I$2)/256), I$4)","v":231},{"$f":"ROUND( J$2+(('coded NOLH for 23-29 factors'!J230-1)*(J$3-J$2)/256), J$4)","v":143},{"$f":"ROUND( K$2+(('coded NOLH for 23-29 factors'!K230-1)*(K$3-K$2)/256), K$4)","v":213},{"$f":"ROUND( L$2+(('coded NOLH for 23-29 factors'!L230-1)*(L$3-L$2)/256), L$4)","v":151},{"$f":"ROUND( M$2+(('coded NOLH for 23-29 factors'!M230-1)*(M$3-M$2)/256), M$4)","v":233},{"$f":"ROUND( N$2+(('coded NOLH for 23-29 factors'!N230-1)*(N$3-N$2)/256), N$4)","v":99},{"$f":"ROUND( O$2+(('coded NOLH for 23-29 factors'!O230-1)*(O$3-O$2)/256), O$4)","v":116},{"$f":"ROUND( P$2+(('coded NOLH for 23-29 factors'!P230-1)*(P$3-P$2)/256), P$4)","v":187},{"$f":"ROUND( Q$2+(('coded NOLH for 23-29 factors'!Q230-1)*(Q$3-Q$2)/256), Q$4)","v":238},{"$f":"ROUND( R$2+(('coded NOLH for 23-29 factors'!R230-1)*(R$3-R$2)/256), R$4)","v":223},{"$f":"ROUND( S$2+(('coded NOLH for 23-29 factors'!S230-1)*(S$3-S$2)/256), S$4)","v":31},{"$f":"ROUND( T$2+(('coded NOLH for 23-29 factors'!T230-1)*(T$3-T$2)/256), T$4)","v":78},{"$f":"ROUND( U$2+(('coded NOLH for 23-29 factors'!U230-1)*(U$3-U$2)/256), U$4)","v":189},{"$f":"ROUND( V$2+(('coded NOLH for 23-29 factors'!V230-1)*(V$3-V$2)/256), V$4)","v":167},{"$f":"ROUND( W$2+(('coded NOLH for 23-29 factors'!W230-1)*(W$3-W$2)/256), W$4)","v":67},{"$f":"ROUND( X$2+(('coded NOLH for 23-29 factors'!X230-1)*(X$3-X$2)/256), X$4)","v":74},{"$f":"ROUND( Y$2+(('coded NOLH for 23-29 factors'!Y230-1)*(Y$3-Y$2)/256), Y$4)","v":224},{"$f":"ROUND( Z$2+(('coded NOLH for 23-29 factors'!Z230-1)*(Z$3-Z$2)/256), Z$4)","v":108},{"$f":"ROUND( AA$2+(('coded NOLH for 23-29 factors'!AA230-1)*(AA$3-AA$2)/256), AA$4)","v":78},{"$f":"ROUND( AB$2+(('coded NOLH for 23-29 factors'!AB230-1)*(AB$3-AB$2)/256), AB$4)","v":26},{"$f":"ROUND( AC$2+(('coded NOLH for 23-29 factors'!AC230-1)*(AC$3-AC$2)/256), AC$4)","v":98},{"$f":"ROUND( AD$2+(('coded NOLH for 23-29 factors'!AD230-1)*(AD$3-AD$2)/256), AD$4)","v":160}]
[null,{"$f":"ROUND( B$2+(('coded NOLH for 23-29 factors'!B231-1)*(B$3-B$2)/256), B$4)","v":234},{"$f":"ROUND( C$2+(('coded NOLH for 23-29 factors'!C231-1)*(C$3-C$2)/256), C$4)","v":240},{"$f":"ROUND( D$2+(('coded NOLH for 23-29 factors'!D231-1)*(D$3-D$2)/256), D$4)","v":110},{"$f":"ROUND( E$2+(('coded NOLH for 23-29 factors'!E231-1)*(E$3-E$2)/256), E$4)","v":30},{"$f":"ROUND( F$2+(('coded NOLH for 23-29 factors'!F231-1)*(F$3-F$2)/256), F$4)","v":84},{"$f":"ROUND( G$2+(('coded NOLH for 23-29 factors'!G231-1)*(G$3-G$2)/256), G$4)","v":41},{"$f":"ROUND( H$2+(('coded NOLH for 23-29 factors'!H231-1)*(H$3-H$2)/256), H$4)","v":149},{"$f":"ROUND( I$2+(('coded NOLH for 23-29 factors'!I231-1)*(I$3-I$2)/256), I$4)","v":137},{"$f":"ROUND( J$2+(('coded NOLH for 23-29 factors'!J231-1)*(J$3-J$2)/256), J$4)","v":47},{"$f":"ROUND( K$2+(('coded NOLH for 23-29 factors'!K231-1)*(K$3-K$2)/256), K$4)","v":1},{"$f":"ROUND( L$2+(('coded NOLH for 23-29 factors'!L231-1)*(L$3-L$2)/256), L$4)","v":84},{"$f":"ROUND( M$2+(('coded NOLH for 23-29 factors'!M231-1)*(M$3-M$2)/256), M$4)","v":39},{"$f":"ROUND( N$2+(('coded NOLH for 23-29 factors'!N231-1)*(N$3-N$2)/256), N$4)","v":168},{"$f":"ROUND( O$2+(('coded NOLH for 23-29 factors'!O231-1)*(O$3-O$2)/256), O$4)","v":222},{"$f":"ROUND( P$2+(('coded NOLH for 23-29 factors'!P231-1)*(P$3-P$2)/256), P$4)","v":211},{"$f":"ROUND( Q$2+(('coded NOLH for 23-29 factors'!Q231-1)*(Q$3-Q$2)/256), Q$4)","v":147},{"$f":"ROUND( R$2+(('coded NOLH for 23-29 factors'!R231-1)*(R$3-R$2)/256), R$4)","v":250},{"$f":"ROUND( S$2+(('coded NOLH for 23-29 factors'!S231-1)*(S$3-S$2)/256), S$4)","v":112},{"$f":"ROUND( T$2+(('coded NOLH for 23-29 factors'!T231-1)*(T$3-T$2)/256), T$4)","v":67},{"$f":"ROUND( U$2+(('coded NOLH for 23-29 factors'!U231-1)*(U$3-U$2)/256), U$4)","v":180},{"$f":"ROUND( V$2+(('coded NOLH for 23-29 factors'!V231-1)*(V$3-V$2)/256), V$4)","v":146},{"$f":"ROUND( W$2+(('coded NOLH for 23-29 factors'!W231-1)*(W$3-W$2)/256), W$4)","v":92},{"$f":"ROUND( X$2+(('coded NOLH for 23-29 factors'!X231-1)*(X$3-X$2)/256), X$4)","v":101},{"$f":"ROUND( Y$2+(('coded NOLH for 23-29 factors'!Y231-1)*(Y$3-Y$2)/256), Y$4)","v":146},{"$f":"ROUND( Z$2+(('coded NOLH for 23-29 factors'!Z231-1)*(Z$3-Z$2)/256), Z$4)","v":107},{"$f":"ROUND( AA$2+(('coded NOLH for 23-29 factors'!AA231-1)*(AA$3-AA$2)/256), AA$4)","v":163},{"$f":"ROUND( AB$2+(('coded NOLH for 23-29 factors'!AB231-1)*(AB$3-AB$2)/256), AB$4)","v":69},{"$f":"ROUND( AC$2+(('coded NOLH for 23-29 factors'!AC231-1)*(AC$3-AC$2)/256), AC$4)","v":26},{"$f":"ROUND( AD$2+(('coded NOLH for 23-29 factors'!AD231-1)*(AD$3-AD$2)/256), AD$4)","v":169}]
[null,{"$f":"ROUND( B$2+(('coded NOLH for 23-29 factors'!B232-1)*(B$3-B$2)/256), B$4)","v":148},{"$f":"ROUND( C$2+(('coded NOLH for 23-29 factors'!C232-1)*(C$3-C$2)/256), C$4)","v":59},{"$f":"ROUND( D$2+(('coded NOLH for 23-29 factors'!D232-1)*(D$3-D$2)/256), D$4)","v":234},{"$f":"ROUND( E$2+(('coded NOLH for 23-29 factors'!E232-1)*(E$3-E$2)/256), E$4)","v":50},{"$f":"ROUND( F$2+(('coded NOLH for 23-29 factors'!F232-1)*(F$3-F$2)/256), F$4)","v":55},{"$f":"ROUND( G$2+(('coded NOLH for 23-29 factors'!G232-1)*(G$3-G$2)/256), G$4)","v":29},{"$f":"ROUND( H$2+(('coded NOLH for 23-29 factors'!H232-1)*(H$3-H$2)/256), H$4)","v":147},{"$f":"ROUND( I$2+(('coded NOLH for 23-29 factors'!I232-1)*(I$3-I$2)/256), I$4)","v":209},{"$f":"ROUND( J$2+(('coded NOLH for 23-29 factors'!J232-1)*(J$3-J$2)/256), J$4)","v":16},{"$f":"ROUND( K$2+(('coded NOLH for 23-29 factors'!K232-1)*(K$3-K$2)/256), K$4)","v":135},{"$f":"ROUND( L$2+(('coded NOLH for 23-29 factors'!L232-1)*(L$3-L$2)/256), L$4)","v":231},{"$f":"ROUND( M$2+(('coded NOLH for 23-29 factors'!M232-1)*(M$3-M$2)/256), M$4)","v":232},{"$f":"ROUND( N$2+(('coded NOLH for 23-29 factors'!N232-1)*(N$3-N$2)/256), N$4)","v":2},{"$f":"ROUND( O$2+(('coded NOLH for 23-29 factors'!O232-1)*(O$3-O$2)/256), O$4)","v":47},{"$f":"ROUND( P$2+(('coded NOLH for 23-29 factors'!P232-1)*(P$3-P$2)/256), P$4)","v":60},{"$f":"ROUND( Q$2+(('coded NOLH for 23-29 factors'!Q232-1)*(Q$3-Q$2)/256), Q$4)","v":98},{"$f":"ROUND( R$2+(('coded NOLH for 23-29 factors'!R232-1)*(R$3-R$2)/256), R$4)","v":26},{"$f":"ROUND( S$2+(('coded NOLH for 23-29 factors'!S232-1)*(S$3-S$2)/256), S$4)","v":176},{"$f":"ROUND( T$2+(('coded NOLH for 23-29 factors'!T232-1)*(T$3-T$2)/256), T$4)","v":171},{"$f":"ROUND( U$2+(('coded NOLH for 23-29 factors'!U232-1)*(U$3-U$2)/256), U$4)","v":214},{"$f":"ROUND( V$2+(('coded NOLH for 23-29 factors'!V232-1)*(V$3-V$2)/256), V$4)","v":222},{"$f":"ROUND( W$2+(('coded NOLH for 23-29 factors'!W232-1)*(W$3-W$2)/256), W$4)","v":121},{"$f":"ROUND( X$2+(('coded NOLH for 23-29 factors'!X232-1)*(X$3-X$2)/256), X$4)","v":60},{"$f":"ROUND( Y$2+(('coded NOLH for 23-29 factors'!Y232-1)*(Y$3-Y$2)/256), Y$4)","v":136},{"$f":"ROUND( Z$2+(('coded NOLH for 23-29 factors'!Z232-1)*(Z$3-Z$2)/256), Z$4)","v":52},{"$f":"ROUND( AA$2+(('coded NOLH for 23-29 factors'!AA232-1)*(AA$3-AA$2)/256), AA$4)","v":72},{"$f":"ROUND( AB$2+(('coded NOLH for 23-29 factors'!AB232-1)*(AB$3-AB$2)/256), AB$4)","v":50},{"$f":"ROUND( AC$2+(('coded NOLH for 23-29 factors'!AC232-1)*(AC$3-AC$2)/256), AC$4)","v":32},{"$f":"ROUND( AD$2+(('coded NOLH for 23-29 factors'!AD232-1)*(AD$3-AD$2)/256), AD$4)","v":168}]
[null,{"$f":"ROUND( B$2+(('coded NOLH for 23-29 factors'!B233-1)*(B$3-B$2)/256), B$4)","v":199},{"$f":"ROUND( C$2+(('coded NOLH for 23-29 factors'!C233-1)*(C$3-C$2)/256), C$4)","v":148},{"$f":"ROUND( D$2+(('coded NOLH for 23-29 factors'!D233-1)*(D$3-D$2)/256), D$4)","v":240},{"$f":"ROUND( E$2+(('coded NOLH for 23-29 factors'!E233-1)*(E$3-E$2)/256), E$4)","v":118},{"$f":"ROUND( F$2+(('coded NOLH for 23-29 factors'!F233-1)*(F$3-F$2)/256), F$4)","v":22},{"$f":"ROUND( G$2+(('coded NOLH for 23-29 factors'!G233-1)*(G$3-G$2)/256), G$4)","v":14},{"$f":"ROUND( H$2+(('coded NOLH for 23-29 factors'!H233-1)*(H$3-H$2)/256), H$4)","v":249},{"$f":"ROUND( I$2+(('coded NOLH for 23-29 factors'!I233-1)*(I$3-I$2)/256), I$4)","v":192},{"$f":"ROUND( J$2+(('coded NOLH for 23-29 factors'!J233-1)*(J$3-J$2)/256), J$4)","v":227},{"$f":"ROUND( K$2+(('coded NOLH for 23-29 factors'!K233-1)*(K$3-K$2)/256), K$4)","v":59},{"$f":"ROUND( L$2+(('coded NOLH for 23-29 factors'!L233-1)*(L$3-L$2)/256), L$4)","v":49},{"$f":"ROUND( M$2+(('coded NOLH for 23-29 factors'!M233-1)*(M$3-M$2)/256), M$4)","v":1},{"$f":"ROUND( N$2+(('coded NOLH for 23-29 factors'!N233-1)*(N$3-N$2)/256), N$4)","v":132},{"$f":"ROUND( O$2+(('coded NOLH for 23-29 factors'!O233-1)*(O$3-O$2)/256), O$4)","v":186},{"$f":"ROUND( P$2+(('coded NOLH for 23-29 factors'!P233-1)*(P$3-P$2)/256), P$4)","v":14},{"$f":"ROUND( Q$2+(('coded NOLH for 23-29 factors'!Q233-1)*(Q$3-Q$2)/256), Q$4)","v":65},{"$f":"ROUND( R$2+(('coded NOLH for 23-29 factors'!R233-1)*(R$3-R$2)/256), R$4)","v":43},{"$f":"ROUND( S$2+(('coded NOLH for 23-29 factors'!S233-1)*(S$3-S$2)/256), S$4)","v":174},{"$f":"ROUND( T$2+(('coded NOLH for 23-29 factors'!T233-1)*(T$3-T$2)/256), T$4)","v":228},{"$f":"ROUND( U$2+(('coded NOLH for 23-29 factors'!U233-1)*(U$3-U$2)/256), U$4)","v":216},{"$f":"ROUND( V$2+(('coded NOLH for 23-29 factors'!V233-1)*(V$3-V$2)/256), V$4)","v":201},{"$f":"ROUND( W$2+(('coded NOLH for 23-29 factors'!W233-1)*(W$3-W$2)/256), W$4)","v":86},{"$f":"ROUND( X$2+(('coded NOLH for 23-29 factors'!X233-1)*(X$3-X$2)/256), X$4)","v":23},{"$f":"ROUND( Y$2+(('coded NOLH for 23-29 factors'!Y233-1)*(Y$3-Y$2)/256), Y$4)","v":183},{"$f":"ROUND( Z$2+(('coded NOLH for 23-29 factors'!Z233-1)*(Z$3-Z$2)/256), Z$4)","v":127},{"$f":"ROUND( AA$2+(('coded NOLH for 23-29 factors'!AA233-1)*(AA$3-AA$2)/256), AA$4)","v":47},{"$f":"ROUND( AB$2+(('coded NOLH for 23-29 factors'!AB233-1)*(AB$3-AB$2)/256), AB$4)","v":35},{"$f":"ROUND( AC$2+(('coded NOLH for 23-29 factors'!AC233-1)*(AC$3-AC$2)/256), AC$4)","v":125},{"$f":"ROUND( AD$2+(('coded NOLH for 23-29 factors'!AD233-1)*(AD$3-AD$2)/256), AD$4)","v":244}]
[null,{"$f":"ROUND( B$2+(('coded NOLH for 23-29 factors'!B234-1)*(B$3-B$2)/256), B$4)","v":140},{"$f":"ROUND( C$2+(('coded NOLH for 23-29 factors'!C234-1)*(C$3-C$2)/256), C$4)","v":50},{"$f":"ROUND( D$2+(('coded NOLH for 23-29 factors'!D234-1)*(D$3-D$2)/256), D$4)","v":2},{"$f":"ROUND( E$2+(('coded NOLH for 23-29 factors'!E234-1)*(E$3-E$2)/256), E$4)","v":199},{"$f":"ROUND( F$2+(('coded NOLH for 23-29 factors'!F234-1)*(F$3-F$2)/256), F$4)","v":10},{"$f":"ROUND( G$2+(('coded NOLH for 23-29 factors'!G234-1)*(G$3-G$2)/256), G$4)","v":81},{"$f":"ROUND( H$2+(('coded NOLH for 23-29 factors'!H234-1)*(H$3-H$2)/256), H$4)","v":214},{"$f":"ROUND( I$2+(('coded NOLH for 23-29 factors'!I234-1)*(I$3-I$2)/256), I$4)","v":204},{"$f":"ROUND( J$2+(('coded NOLH for 23-29 factors'!J234-1)*(J$3-J$2)/256), J$4)","v":223},{"$f":"ROUND( K$2+(('coded NOLH for 23-29 factors'!K234-1)*(K$3-K$2)/256), K$4)","v":114},{"$f":"ROUND( L$2+(('coded NOLH for 23-29 factors'!L234-1)*(L$3-L$2)/256), L$4)","v":215},{"$f":"ROUND( M$2+(('coded NOLH for 23-29 factors'!M234-1)*(M$3-M$2)/256), M$4)","v":238},{"$f":"ROUND( N$2+(('coded NOLH for 23-29 factors'!N234-1)*(N$3-N$2)/256), N$4)","v":92},{"$f":"ROUND( O$2+(('coded NOLH for 23-29 factors'!O234-1)*(O$3-O$2)/256), O$4)","v":25},{"$f":"ROUND( P$2+(('coded NOLH for 23-29 factors'!P234-1)*(P$3-P$2)/256), P$4)","v":61},{"$f":"ROUND( Q$2+(('coded NOLH for 23-29 factors'!Q234-1)*(Q$3-Q$2)/256), Q$4)","v":190},{"$f":"ROUND( R$2+(('coded NOLH for 23-29 factors'!R234-1)*(R$3-R$2)/256), R$4)","v":185},{"$f":"ROUND( S$2+(('coded NOLH for 23-29 factors'!S234-1)*(S$3-S$2)/256), S$4)","v":99},{"$f":"ROUND( T$2+(('coded NOLH for 23-29 factors'!T234-1)*(T$3-T$2)/256), T$4)","v":48},{"$f":"ROUND( U$2+(('coded NOLH for 23-29 factors'!U234-1)*(U$3-U$2)/256), U$4)","v":47},{"$f":"ROUND( V$2+(('coded NOLH for 23-29 factors'!V234-1)*(V$3-V$2)/256), V$4)","v":51},{"$f":"ROUND( W$2+(('coded NOLH for 23-29 factors'!W234-1)*(W$3-W$2)/256), W$4)","v":248},{"$f":"ROUND( X$2+(('coded NOLH for 23-29 factors'!X234-1)*(X$3-X$2)/256), X$4)","v":213},{"$f":"ROUND( Y$2+(('coded NOLH for 23-29 factors'!Y234-1)*(Y$3-Y$2)/256), Y$4)","v":158},{"$f":"ROUND( Z$2+(('coded NOLH for 23-29 factors'!Z234-1)*(Z$3-Z$2)/256), Z$4)","v":95},{"$f":"ROUND( AA$2+(('coded NOLH for 23-29 factors'!AA234-1)*(AA$3-AA$2)/256), AA$4)","v":88},{"$f":"ROUND( AB$2+(('coded NOLH for 23-29 factors'!AB234-1)*(AB$3-AB$2)/256), AB$4)","v":15},{"$f":"ROUND( AC$2+(('coded NOLH for 23-29 factors'!AC234-1)*(AC$3-AC$2)/256), AC$4)","v":110},{"$f":"ROUND( AD$2+(('coded NOLH for 23-29 factors'!AD234-1)*(AD$3-AD$2)/256), AD$4)","v":187}]
[null,{"$f":"ROUND( B$2+(('coded NOLH for 23-29 factors'!B235-1)*(B$3-B$2)/256), B$4)","v":208},{"$f":"ROUND( C$2+(('coded NOLH for 23-29 factors'!C235-1)*(C$3-C$2)/256), C$4)","v":140},{"$f":"ROUND( D$2+(('coded NOLH for 23-29 factors'!D235-1)*(D$3-D$2)/256), D$4)","v":30},{"$f":"ROUND( E$2+(('coded NOLH for 23-29 factors'!E235-1)*(E$3-E$2)/256), E$4)","v":148},{"$f":"ROUND( F$2+(('coded NOLH for 23-29 factors'!F235-1)*(F$3-F$2)/256), F$4)","v":46},{"$f":"ROUND( G$2+(('coded NOLH for 23-29 factors'!G235-1)*(G$3-G$2)/256), G$4)","v":13},{"$f":"ROUND( H$2+(('coded NOLH for 23-29 factors'!H235-1)*(H$3-H$2)/256), H$4)","v":150},{"$f":"ROUND( I$2+(('coded NOLH for 23-29 factors'!I235-1)*(I$3-I$2)/256), I$4)","v":233},{"$f":"ROUND( J$2+(('coded NOLH for 23-29 factors'!J235-1)*(J$3-J$2)/256), J$4)","v":2},{"$f":"ROUND( K$2+(('coded NOLH for 23-29 factors'!K235-1)*(K$3-K$2)/256), K$4)","v":182},{"$f":"ROUND( L$2+(('coded NOLH for 23-29 factors'!L235-1)*(L$3-L$2)/256), L$4)","v":7},{"$f":"ROUND( M$2+(('coded NOLH for 23-29 factors'!M235-1)*(M$3-M$2)/256), M$4)","v":77},{"$f":"ROUND( N$2+(('coded NOLH for 23-29 factors'!N235-1)*(N$3-N$2)/256), N$4)","v":194},{"$f":"ROUND( O$2+(('coded NOLH for 23-29 factors'!O235-1)*(O$3-O$2)/256), O$4)","v":196},{"$f":"ROUND( P$2+(('coded NOLH for 23-29 factors'!P235-1)*(P$3-P$2)/256), P$4)","v":55},{"$f":"ROUND( Q$2+(('coded NOLH for 23-29 factors'!Q235-1)*(Q$3-Q$2)/256), Q$4)","v":161},{"$f":"ROUND( R$2+(('coded NOLH for 23-29 factors'!R235-1)*(R$3-R$2)/256), R$4)","v":152},{"$f":"ROUND( S$2+(('coded NOLH for 23-29 factors'!S235-1)*(S$3-S$2)/256), S$4)","v":62},{"$f":"ROUND( T$2+(('coded NOLH for 23-29 factors'!T235-1)*(T$3-T$2)/256), T$4)","v":110},{"$f":"ROUND( U$2+(('coded NOLH for 23-29 factors'!U235-1)*(U$3-U$2)/256), U$4)","v":65},{"$f":"ROUND( V$2+(('coded NOLH for 23-29 factors'!V235-1)*(V$3-V$2)/256), V$4)","v":6},{"$f":"ROUND( W$2+(('coded NOLH for 23-29 factors'!W235-1)*(W$3-W$2)/256), W$4)","v":159},{"$f":"ROUND( X$2+(('coded NOLH for 23-29 factors'!X235-1)*(X$3-X$2)/256), X$4)","v":169},{"$f":"ROUND( Y$2+(('coded NOLH for 23-29 factors'!Y235-1)*(Y$3-Y$2)/256), Y$4)","v":130},{"$f":"ROUND( Z$2+(('coded NOLH for 23-29 factors'!Z235-1)*(Z$3-Z$2)/256), Z$4)","v":26},{"$f":"ROUND( AA$2+(('coded NOLH for 23-29 factors'!AA235-1)*(AA$3-AA$2)/256), AA$4)","v":134},{"$f":"ROUND( AB$2+(('coded NOLH for 23-29 factors'!AB235-1)*(AB$3-AB$2)/256), AB$4)","v":58},{"$f":"ROUND( AC$2+(('coded NOLH for 23-29 factors'!AC235-1)*(AC$3-AC$2)/256), AC$4)","v":122},{"$f":"ROUND( AD$2+(('coded NOLH for 23-29 factors'!AD235-1)*(AD$3-AD$2)/256), AD$4)","v":167}]
[null,{"$f":"ROUND( B$2+(('coded NOLH for 23-29 factors'!B236-1)*(B$3-B$2)/256), B$4)","v":228},{"$f":"ROUND( C$2+(('coded NOLH for 23-29 factors'!C236-1)*(C$3-C$2)/256), C$4)","v":2},{"$f":"ROUND( D$2+(('coded NOLH for 23-29 factors'!D236-1)*(D$3-D$2)/256), D$4)","v":208},{"$f":"ROUND( E$2+(('coded NOLH for 23-29 factors'!E236-1)*(E$3-E$2)/256), E$4)","v":234},{"$f":"ROUND( F$2+(('coded NOLH for 23-29 factors'!F236-1)*(F$3-F$2)/256), F$4)","v":71},{"$f":"ROUND( G$2+(('coded NOLH for 23-29 factors'!G236-1)*(G$3-G$2)/256), G$4)","v":107},{"$f":"ROUND( H$2+(('coded NOLH for 23-29 factors'!H236-1)*(H$3-H$2)/256), H$4)","v":178},{"$f":"ROUND( I$2+(('coded NOLH for 23-29 factors'!I236-1)*(I$3-I$2)/256), I$4)","v":134},{"$f":"ROUND( J$2+(('coded NOLH for 23-29 factors'!J236-1)*(J$3-J$2)/256), J$4)","v":117},{"$f":"ROUND( K$2+(('coded NOLH for 23-29 factors'!K236-1)*(K$3-K$2)/256), K$4)","v":22},{"$f":"ROUND( L$2+(('coded NOLH for 23-29 factors'!L236-1)*(L$3-L$2)/256), L$4)","v":184},{"$f":"ROUND( M$2+(('coded NOLH for 23-29 factors'!M236-1)*(M$3-M$2)/256), M$4)","v":138},{"$f":"ROUND( N$2+(('coded NOLH for 23-29 factors'!N236-1)*(N$3-N$2)/256), N$4)","v":68},{"$f":"ROUND( O$2+(('coded NOLH for 23-29 factors'!O236-1)*(O$3-O$2)/256), O$4)","v":57},{"$f":"ROUND( P$2+(('coded NOLH for 23-29 factors'!P236-1)*(P$3-P$2)/256), P$4)","v":157},{"$f":"ROUND( Q$2+(('coded NOLH for 23-29 factors'!Q236-1)*(Q$3-Q$2)/256), Q$4)","v":64},{"$f":"ROUND( R$2+(('coded NOLH for 23-29 factors'!R236-1)*(R$3-R$2)/256), R$4)","v":21},{"$f":"ROUND( S$2+(('coded NOLH for 23-29 factors'!S236-1)*(S$3-S$2)/256), S$4)","v":153},{"$f":"ROUND( T$2+(('coded NOLH for 23-29 factors'!T236-1)*(T$3-T$2)/256), T$4)","v":225},{"$f":"ROUND( U$2+(('coded NOLH for 23-29 factors'!U236-1)*(U$3-U$2)/256), U$4)","v":94},{"$f":"ROUND( V$2+(('coded NOLH for 23-29 factors'!V236-1)*(V$3-V$2)/256), V$4)","v":20},{"$f":"ROUND( W$2+(('coded NOLH for 23-29 factors'!W236-1)*(W$3-W$2)/256), W$4)","v":156},{"$f":"ROUND( X$2+(('coded NOLH for 23-29 factors'!X236-1)*(X$3-X$2)/256), X$4)","v":154},{"$f":"ROUND( Y$2+(('coded NOLH for 23-29 factors'!Y236-1)*(Y$3-Y$2)/256), Y$4)","v":173},{"$f":"ROUND( Z$2+(('coded NOLH for 23-29 factors'!Z236-1)*(Z$3-Z$2)/256), Z$4)","v":128},{"$f":"ROUND( AA$2+(('coded NOLH for 23-29 factors'!AA236-1)*(AA$3-AA$2)/256), AA$4)","v":120},{"$f":"ROUND( AB$2+(('coded NOLH for 23-29 factors'!AB236-1)*(AB$3-AB$2)/256), AB$4)","v":67},{"$f":"ROUND( AC$2+(('coded NOLH for 23-29 factors'!AC236-1)*(AC$3-AC$2)/256), AC$4)","v":21},{"$f":"ROUND( AD$2+(('coded NOLH for 23-29 factors'!AD236-1)*(AD$3-AD$2)/256), AD$4)","v":172}]
[null,{"$f":"ROUND( B$2+(('coded NOLH for 23-29 factors'!B237-1)*(B$3-B$2)/256), B$4)","v":256},{"$f":"ROUND( C$2+(('coded NOLH for 23-29 factors'!C237-1)*(C$3-C$2)/256), C$4)","v":228},{"$f":"ROUND( D$2+(('coded NOLH for 23-29 factors'!D237-1)*(D$3-D$2)/256), D$4)","v":140},{"$f":"ROUND( E$2+(('coded NOLH for 23-29 factors'!E237-1)*(E$3-E$2)/256), E$4)","v":240},{"$f":"ROUND( F$2+(('coded NOLH for 23-29 factors'!F237-1)*(F$3-F$2)/256), F$4)","v":89},{"$f":"ROUND( G$2+(('coded NOLH for 23-29 factors'!G237-1)*(G$3-G$2)/256), G$4)","v":83},{"$f":"ROUND( H$2+(('coded NOLH for 23-29 factors'!H237-1)*(H$3-H$2)/256), H$4)","v":184},{"$f":"ROUND( I$2+(('coded NOLH for 23-29 factors'!I237-1)*(I$3-I$2)/256), I$4)","v":191},{"$f":"ROUND( J$2+(('coded NOLH for 23-29 factors'!J237-1)*(J$3-J$2)/256), J$4)","v":201},{"$f":"ROUND( K$2+(('coded NOLH for 23-29 factors'!K237-1)*(K$3-K$2)/256), K$4)","v":242},{"$f":"ROUND( L$2+(('coded NOLH for 23-29 factors'!L237-1)*(L$3-L$2)/256), L$4)","v":79},{"$f":"ROUND( M$2+(('coded NOLH for 23-29 factors'!M237-1)*(M$3-M$2)/256), M$4)","v":75},{"$f":"ROUND( N$2+(('coded NOLH for 23-29 factors'!N237-1)*(N$3-N$2)/256), N$4)","v":172},{"$f":"ROUND( O$2+(('coded NOLH for 23-29 factors'!O237-1)*(O$3-O$2)/256), O$4)","v":130},{"$f":"ROUND( P$2+(('coded NOLH for 23-29 factors'!P237-1)*(P$3-P$2)/256), P$4)","v":213},{"$f":"ROUND( Q$2+(('coded NOLH for 23-29 factors'!Q237-1)*(Q$3-Q$2)/256), Q$4)","v":14},{"$f":"ROUND( R$2+(('coded NOLH for 23-29 factors'!R237-1)*(R$3-R$2)/256), R$4)","v":93},{"$f":"ROUND( S$2+(('coded NOLH for 23-29 factors'!S237-1)*(S$3-S$2)/256), S$4)","v":201},{"$f":"ROUND( T$2+(('coded NOLH for 23-29 factors'!T237-1)*(T$3-T$2)/256), T$4)","v":183},{"$f":"ROUND( U$2+(('coded NOLH for 23-29 factors'!U237-1)*(U$3-U$2)/256), U$4)","v":55},{"$f":"ROUND( V$2+(('coded NOLH for 23-29 factors'!V237-1)*(V$3-V$2)/256), V$4)","v":76},{"$f":"ROUND( W$2+(('coded NOLH for 23-29 factors'!W237-1)*(W$3-W$2)/256), W$4)","v":189},{"$f":"ROUND( X$2+(('coded NOLH for 23-29 factors'!X237-1)*(X$3-X$2)/256), X$4)","v":220},{"$f":"ROUND( Y$2+(('coded NOLH for 23-29 factors'!Y237-1)*(Y$3-Y$2)/256), Y$4)","v":256},{"$f":"ROUND( Z$2+(('coded NOLH for 23-29 factors'!Z237-1)*(Z$3-Z$2)/256), Z$4)","v":58},{"$f":"ROUND( AA$2+(('coded NOLH for 23-29 factors'!AA237-1)*(AA$3-AA$2)/256), AA$4)","v":20},{"$f":"ROUND( AB$2+(('coded NOLH for 23-29 factors'!AB237-1)*(AB$3-AB$2)/256), AB$4)","v":27},{"$f":"ROUND( AC$2+(('coded NOLH for 23-29 factors'!AC237-1)*(AC$3-AC$2)/256), AC$4)","v":101},{"$f":"ROUND( AD$2+(('coded NOLH for 23-29 factors'!AD237-1)*(AD$3-AD$2)/256), AD$4)","v":171}]
[null,{"$f":"ROUND( B$2+(('coded NOLH for 23-29 factors'!B238-1)*(B$3-B$2)/256), B$4)","v":169},{"$f":"ROUND( C$2+(('coded NOLH for 23-29 factors'!C238-1)*(C$3-C$2)/256), C$4)","v":71},{"$f":"ROUND( D$2+(('coded NOLH for 23-29 factors'!D238-1)*(D$3-D$2)/256), D$4)","v":10},{"$f":"ROUND( E$2+(('coded NOLH for 23-29 factors'!E238-1)*(E$3-E$2)/256), E$4)","v":88},{"$f":"ROUND( F$2+(('coded NOLH for 23-29 factors'!F238-1)*(F$3-F$2)/256), F$4)","v":256},{"$f":"ROUND( G$2+(('coded NOLH for 23-29 factors'!G238-1)*(G$3-G$2)/256), G$4)","v":6},{"$f":"ROUND( H$2+(('coded NOLH for 23-29 factors'!H238-1)*(H$3-H$2)/256), H$4)","v":183},{"$f":"ROUND( I$2+(('coded NOLH for 23-29 factors'!I238-1)*(I$3-I$2)/256), I$4)","v":202},{"$f":"ROUND( J$2+(('coded NOLH for 23-29 factors'!J238-1)*(J$3-J$2)/256), J$4)","v":200},{"$f":"ROUND( K$2+(('coded NOLH for 23-29 factors'!K238-1)*(K$3-K$2)/256), K$4)","v":134},{"$f":"ROUND( L$2+(('coded NOLH for 23-29 factors'!L238-1)*(L$3-L$2)/256), L$4)","v":18},{"$f":"ROUND( M$2+(('coded NOLH for 23-29 factors'!M238-1)*(M$3-M$2)/256), M$4)","v":164},{"$f":"ROUND( N$2+(('coded NOLH for 23-29 factors'!N238-1)*(N$3-N$2)/256), N$4)","v":88},{"$f":"ROUND( O$2+(('coded NOLH for 23-29 factors'!O238-1)*(O$3-O$2)/256), O$4)","v":114},{"$f":"ROUND( P$2+(('coded NOLH for 23-29 factors'!P238-1)*(P$3-P$2)/256), P$4)","v":254},{"$f":"ROUND( Q$2+(('coded NOLH for 23-29 factors'!Q238-1)*(Q$3-Q$2)/256), Q$4)","v":116},{"$f":"ROUND( R$2+(('coded NOLH for 23-29 factors'!R238-1)*(R$3-R$2)/256), R$4)","v":142},{"$f":"ROUND( S$2+(('coded NOLH for 23-29 factors'!S238-1)*(S$3-S$2)/256), S$4)","v":72},{"$f":"ROUND( T$2+(('coded NOLH for 23-29 factors'!T238-1)*(T$3-T$2)/256), T$4)","v":91},{"$f":"ROUND( U$2+(('coded NOLH for 23-29 factors'!U238-1)*(U$3-U$2)/256), U$4)","v":18},{"$f":"ROUND( V$2+(('coded NOLH for 23-29 factors'!V238-1)*(V$3-V$2)/256), V$4)","v":228},{"$f":"ROUND( W$2+(('coded NOLH for 23-29 factors'!W238-1)*(W$3-W$2)/256), W$4)","v":105},{"$f":"ROUND( X$2+(('coded NOLH for 23-29 factors'!X238-1)*(X$3-X$2)/256), X$4)","v":49},{"$f":"ROUND( Y$2+(('coded NOLH for 23-29 factors'!Y238-1)*(Y$3-Y$2)/256), Y$4)","v":103},{"$f":"ROUND( Z$2+(('coded NOLH for 23-29 factors'!Z238-1)*(Z$3-Z$2)/256), Z$4)","v":152},{"$f":"ROUND( AA$2+(('coded NOLH for 23-29 factors'!AA238-1)*(AA$3-AA$2)/256), AA$4)","v":220},{"$f":"ROUND( AB$2+(('coded NOLH for 23-29 factors'!AB238-1)*(AB$3-AB$2)/256), AB$4)","v":24},{"$f":"ROUND( AC$2+(('coded NOLH for 23-29 factors'!AC238-1)*(AC$3-AC$2)/256), AC$4)","v":40},{"$f":"ROUND( AD$2+(('coded NOLH for 23-29 factors'!AD238-1)*(AD$3-AD$2)/256), AD$4)","v":238}]
[null,{"$f":"ROUND( B$2+(('coded NOLH for 23-29 factors'!B239-1)*(B$3-B$2)/256), B$4)","v":187},{"$f":"ROUND( C$2+(('coded NOLH for 23-29 factors'!C239-1)*(C$3-C$2)/256), C$4)","v":169},{"$f":"ROUND( D$2+(('coded NOLH for 23-29 factors'!D239-1)*(D$3-D$2)/256), D$4)","v":46},{"$f":"ROUND( E$2+(('coded NOLH for 23-29 factors'!E239-1)*(E$3-E$2)/256), E$4)","v":84},{"$f":"ROUND( F$2+(('coded NOLH for 23-29 factors'!F239-1)*(F$3-F$2)/256), F$4)","v":228},{"$f":"ROUND( G$2+(('coded NOLH for 23-29 factors'!G239-1)*(G$3-G$2)/256), G$4)","v":116},{"$f":"ROUND( H$2+(('coded NOLH for 23-29 factors'!H239-1)*(H$3-H$2)/256), H$4)","v":159},{"$f":"ROUND( I$2+(('coded NOLH for 23-29 factors'!I239-1)*(I$3-I$2)/256), I$4)","v":157},{"$f":"ROUND( J$2+(('coded NOLH for 23-29 factors'!J239-1)*(J$3-J$2)/256), J$4)","v":9},{"$f":"ROUND( K$2+(('coded NOLH for 23-29 factors'!K239-1)*(K$3-K$2)/256), K$4)","v":64},{"$f":"ROUND( L$2+(('coded NOLH for 23-29 factors'!L239-1)*(L$3-L$2)/256), L$4)","v":252},{"$f":"ROUND( M$2+(('coded NOLH for 23-29 factors'!M239-1)*(M$3-M$2)/256), M$4)","v":23},{"$f":"ROUND( N$2+(('coded NOLH for 23-29 factors'!N239-1)*(N$3-N$2)/256), N$4)","v":180},{"$f":"ROUND( O$2+(('coded NOLH for 23-29 factors'!O239-1)*(O$3-O$2)/256), O$4)","v":212},{"$f":"ROUND( P$2+(('coded NOLH for 23-29 factors'!P239-1)*(P$3-P$2)/256), P$4)","v":158},{"$f":"ROUND( Q$2+(('coded NOLH for 23-29 factors'!Q239-1)*(Q$3-Q$2)/256), Q$4)","v":15},{"$f":"ROUND( R$2+(('coded NOLH for 23-29 factors'!R239-1)*(R$3-R$2)/256), R$4)","v":145},{"$f":"ROUND( S$2+(('coded NOLH for 23-29 factors'!S239-1)*(S$3-S$2)/256), S$4)","v":22},{"$f":"ROUND( T$2+(('coded NOLH for 23-29 factors'!T239-1)*(T$3-T$2)/256), T$4)","v":139},{"$f":"ROUND( U$2+(('coded NOLH for 23-29 factors'!U239-1)*(U$3-U$2)/256), U$4)","v":26},{"$f":"ROUND( V$2+(('coded NOLH for 23-29 factors'!V239-1)*(V$3-V$2)/256), V$4)","v":148},{"$f":"ROUND( W$2+(('coded NOLH for 23-29 factors'!W239-1)*(W$3-W$2)/256), W$4)","v":125},{"$f":"ROUND( X$2+(('coded NOLH for 23-29 factors'!X239-1)*(X$3-X$2)/256), X$4)","v":121},{"$f":"ROUND( Y$2+(('coded NOLH for 23-29 factors'!Y239-1)*(Y$3-Y$2)/256), Y$4)","v":102},{"$f":"ROUND( Z$2+(('coded NOLH for 23-29 factors'!Z239-1)*(Z$3-Z$2)/256), Z$4)","v":184},{"$f":"ROUND( AA$2+(('coded NOLH for 23-29 factors'!AA239-1)*(AA$3-AA$2)/256), AA$4)","v":157},{"$f":"ROUND( AB$2+(('coded NOLH for 23-29 factors'!AB239-1)*(AB$3-AB$2)/256), AB$4)","v":4},{"$f":"ROUND( AC$2+(('coded NOLH for 23-29 factors'!AC239-1)*(AC$3-AC$2)/256), AC$4)","v":151},{"$f":"ROUND( AD$2+(('coded NOLH for 23-29 factors'!AD239-1)*(AD$3-AD$2)/256), AD$4)","v":183}]
[null,{"$f":"ROUND( B$2+(('coded NOLH for 23-29 factors'!B240-1)*(B$3-B$2)/256), B$4)","v":212},{"$f":"ROUND( C$2+(('coded NOLH for 23-29 factors'!C240-1)*(C$3-C$2)/256), C$4)","v":10},{"$f":"ROUND( D$2+(('coded NOLH for 23-29 factors'!D240-1)*(D$3-D$2)/256), D$4)","v":187},{"$f":"ROUND( E$2+(('coded NOLH for 23-29 factors'!E240-1)*(E$3-E$2)/256), E$4)","v":55},{"$f":"ROUND( F$2+(('coded NOLH for 23-29 factors'!F240-1)*(F$3-F$2)/256), F$4)","v":208},{"$f":"ROUND( G$2+(('coded NOLH for 23-29 factors'!G240-1)*(G$3-G$2)/256), G$4)","v":104},{"$f":"ROUND( H$2+(('coded NOLH for 23-29 factors'!H240-1)*(H$3-H$2)/256), H$4)","v":243},{"$f":"ROUND( I$2+(('coded NOLH for 23-29 factors'!I240-1)*(I$3-I$2)/256), I$4)","v":130},{"$f":"ROUND( J$2+(('coded NOLH for 23-29 factors'!J240-1)*(J$3-J$2)/256), J$4)","v":82},{"$f":"ROUND( K$2+(('coded NOLH for 23-29 factors'!K240-1)*(K$3-K$2)/256), K$4)","v":233},{"$f":"ROUND( L$2+(('coded NOLH for 23-29 factors'!L240-1)*(L$3-L$2)/256), L$4)","v":111},{"$f":"ROUND( M$2+(('coded NOLH for 23-29 factors'!M240-1)*(M$3-M$2)/256), M$4)","v":148},{"$f":"ROUND( N$2+(('coded NOLH for 23-29 factors'!N240-1)*(N$3-N$2)/256), N$4)","v":102},{"$f":"ROUND( O$2+(('coded NOLH for 23-29 factors'!O240-1)*(O$3-O$2)/256), O$4)","v":87},{"$f":"ROUND( P$2+(('coded NOLH for 23-29 factors'!P240-1)*(P$3-P$2)/256), P$4)","v":102},{"$f":"ROUND( Q$2+(('coded NOLH for 23-29 factors'!Q240-1)*(Q$3-Q$2)/256), Q$4)","v":249},{"$f":"ROUND( R$2+(('coded NOLH for 23-29 factors'!R240-1)*(R$3-R$2)/256), R$4)","v":52},{"$f":"ROUND( S$2+(('coded NOLH for 23-29 factors'!S240-1)*(S$3-S$2)/256), S$4)","v":143},{"$f":"ROUND( T$2+(('coded NOLH for 23-29 factors'!T240-1)*(T$3-T$2)/256), T$4)","v":143},{"$f":"ROUND( U$2+(('coded NOLH for 23-29 factors'!U240-1)*(U$3-U$2)/256), U$4)","v":127},{"$f":"ROUND( V$2+(('coded NOLH for 23-29 factors'!V240-1)*(V$3-V$2)/256), V$4)","v":100},{"$f":"ROUND( W$2+(('coded NOLH for 23-29 factors'!W240-1)*(W$3-W$2)/256), W$4)","v":22},{"$f":"ROUND( X$2+(('coded NOLH for 23-29 factors'!X240-1)*(X$3-X$2)/256), X$4)","v":64},{"$f":"ROUND( Y$2+(('coded NOLH for 23-29 factors'!Y240-1)*(Y$3-Y$2)/256), Y$4)","v":7},{"$f":"ROUND( Z$2+(('coded NOLH for 23-29 factors'!Z240-1)*(Z$3-Z$2)/256), Z$4)","v":160},{"$f":"ROUND( AA$2+(('coded NOLH for 23-29 factors'!AA240-1)*(AA$3-AA$2)/256), AA$4)","v":218},{"$f":"ROUND( AB$2+(('coded NOLH for 23-29 factors'!AB240-1)*(AB$3-AB$2)/256), AB$4)","v":126},{"$f":"ROUND( AC$2+(('coded NOLH for 23-29 factors'!AC240-1)*(AC$3-AC$2)/256), AC$4)","v":41},{"$f":"ROUND( AD$2+(('coded NOLH for 23-29 factors'!AD240-1)*(AD$3-AD$2)/256), AD$4)","v":230}]
[null,{"$f":"ROUND( B$2+(('coded NOLH for 23-29 factors'!B241-1)*(B$3-B$2)/256), B$4)","v":248},{"$f":"ROUND( C$2+(('coded NOLH for 23-29 factors'!C241-1)*(C$3-C$2)/256), C$4)","v":212},{"$f":"ROUND( D$2+(('coded NOLH for 23-29 factors'!D241-1)*(D$3-D$2)/256), D$4)","v":169},{"$f":"ROUND( E$2+(('coded NOLH for 23-29 factors'!E241-1)*(E$3-E$2)/256), E$4)","v":22},{"$f":"ROUND( F$2+(('coded NOLH for 23-29 factors'!F241-1)*(F$3-F$2)/256), F$4)","v":140},{"$f":"ROUND( G$2+(('coded NOLH for 23-29 factors'!G241-1)*(G$3-G$2)/256), G$4)","v":98},{"$f":"ROUND( H$2+(('coded NOLH for 23-29 factors'!H241-1)*(H$3-H$2)/256), H$4)","v":161},{"$f":"ROUND( I$2+(('coded NOLH for 23-29 factors'!I241-1)*(I$3-I$2)/256), I$4)","v":172},{"$f":"ROUND( J$2+(('coded NOLH for 23-29 factors'!J241-1)*(J$3-J$2)/256), J$4)","v":192},{"$f":"ROUND( K$2+(('coded NOLH for 23-29 factors'!K241-1)*(K$3-K$2)/256), K$4)","v":53},{"$f":"ROUND( L$2+(('coded NOLH for 23-29 factors'!L241-1)*(L$3-L$2)/256), L$4)","v":192},{"$f":"ROUND( M$2+(('coded NOLH for 23-29 factors'!M241-1)*(M$3-M$2)/256), M$4)","v":113},{"$f":"ROUND( N$2+(('coded NOLH for 23-29 factors'!N241-1)*(N$3-N$2)/256), N$4)","v":238},{"$f":"ROUND( O$2+(('coded NOLH for 23-29 factors'!O241-1)*(O$3-O$2)/256), O$4)","v":126},{"$f":"ROUND( P$2+(('coded NOLH for 23-29 factors'!P241-1)*(P$3-P$2)/256), P$4)","v":85},{"$f":"ROUND( Q$2+(('coded NOLH for 23-29 factors'!Q241-1)*(Q$3-Q$2)/256), Q$4)","v":220},{"$f":"ROUND( R$2+(('coded NOLH for 23-29 factors'!R241-1)*(R$3-R$2)/256), R$4)","v":6},{"$f":"ROUND( S$2+(('coded NOLH for 23-29 factors'!S241-1)*(S$3-S$2)/256), S$4)","v":198},{"$f":"ROUND( T$2+(('coded NOLH for 23-29 factors'!T241-1)*(T$3-T$2)/256), T$4)","v":213},{"$f":"ROUND( U$2+(('coded NOLH for 23-29 factors'!U241-1)*(U$3-U$2)/256), U$4)","v":16},{"$f":"ROUND( V$2+(('coded NOLH for 23-29 factors'!V241-1)*(V$3-V$2)/256), V$4)","v":206},{"$f":"ROUND( W$2+(('coded NOLH for 23-29 factors'!W241-1)*(W$3-W$2)/256), W$4)","v":142},{"$f":"ROUND( X$2+(('coded NOLH for 23-29 factors'!X241-1)*(X$3-X$2)/256), X$4)","v":62},{"$f":"ROUND( Y$2+(('coded NOLH for 23-29 factors'!Y241-1)*(Y$3-Y$2)/256), Y$4)","v":89},{"$f":"ROUND( Z$2+(('coded NOLH for 23-29 factors'!Z241-1)*(Z$3-Z$2)/256), Z$4)","v":210},{"$f":"ROUND( AA$2+(('coded NOLH for 23-29 factors'!AA241-1)*(AA$3-AA$2)/256), AA$4)","v":216},{"$f":"ROUND( AB$2+(('coded NOLH for 23-29 factors'!AB241-1)*(AB$3-AB$2)/256), AB$4)","v":86},{"$f":"ROUND( AC$2+(('coded NOLH for 23-29 factors'!AC241-1)*(AC$3-AC$2)/256), AC$4)","v":19},{"$f":"ROUND( AD$2+(('coded NOLH for 23-29 factors'!AD241-1)*(AD$3-AD$2)/256), AD$4)","v":241}]
[null,{"$f":"ROUND( B$2+(('coded NOLH for 23-29 factors'!B242-1)*(B$3-B$2)/256), B$4)","v":236},{"$f":"ROUND( C$2+(('coded NOLH for 23-29 factors'!C242-1)*(C$3-C$2)/256), C$4)","v":55},{"$f":"ROUND( D$2+(('coded NOLH for 23-29 factors'!D242-1)*(D$3-D$2)/256), D$4)","v":88},{"$f":"ROUND( E$2+(('coded NOLH for 23-29 factors'!E242-1)*(E$3-E$2)/256), E$4)","v":248},{"$f":"ROUND( F$2+(('coded NOLH for 23-29 factors'!F242-1)*(F$3-F$2)/256), F$4)","v":199},{"$f":"ROUND( G$2+(('coded NOLH for 23-29 factors'!G242-1)*(G$3-G$2)/256), G$4)","v":87},{"$f":"ROUND( H$2+(('coded NOLH for 23-29 factors'!H242-1)*(H$3-H$2)/256), H$4)","v":131},{"$f":"ROUND( I$2+(('coded NOLH for 23-29 factors'!I242-1)*(I$3-I$2)/256), I$4)","v":205},{"$f":"ROUND( J$2+(('coded NOLH for 23-29 factors'!J242-1)*(J$3-J$2)/256), J$4)","v":159},{"$f":"ROUND( K$2+(('coded NOLH for 23-29 factors'!K242-1)*(K$3-K$2)/256), K$4)","v":27},{"$f":"ROUND( L$2+(('coded NOLH for 23-29 factors'!L242-1)*(L$3-L$2)/256), L$4)","v":116},{"$f":"ROUND( M$2+(('coded NOLH for 23-29 factors'!M242-1)*(M$3-M$2)/256), M$4)","v":125},{"$f":"ROUND( N$2+(('coded NOLH for 23-29 factors'!N242-1)*(N$3-N$2)/256), N$4)","v":21},{"$f":"ROUND( O$2+(('coded NOLH for 23-29 factors'!O242-1)*(O$3-O$2)/256), O$4)","v":59},{"$f":"ROUND( P$2+(('coded NOLH for 23-29 factors'!P242-1)*(P$3-P$2)/256), P$4)","v":99},{"$f":"ROUND( Q$2+(('coded NOLH for 23-29 factors'!Q242-1)*(Q$3-Q$2)/256), Q$4)","v":30},{"$f":"ROUND( R$2+(('coded NOLH for 23-29 factors'!R242-1)*(R$3-R$2)/256), R$4)","v":251},{"$f":"ROUND( S$2+(('coded NOLH for 23-29 factors'!S242-1)*(S$3-S$2)/256), S$4)","v":103},{"$f":"ROUND( T$2+(('coded NOLH for 23-29 factors'!T242-1)*(T$3-T$2)/256), T$4)","v":83},{"$f":"ROUND( U$2+(('coded NOLH for 23-29 factors'!U242-1)*(U$3-U$2)/256), U$4)","v":171},{"$f":"ROUND( V$2+(('coded NOLH for 23-29 factors'!V242-1)*(V$3-V$2)/256), V$4)","v":99},{"$f":"ROUND( W$2+(('coded NOLH for 23-29 factors'!W242-1)*(W$3-W$2)/256), W$4)","v":146},{"$f":"ROUND( X$2+(('coded NOLH for 23-29 factors'!X242-1)*(X$3-X$2)/256), X$4)","v":179},{"$f":"ROUND( Y$2+(('coded NOLH for 23-29 factors'!Y242-1)*(Y$3-Y$2)/256), Y$4)","v":39},{"$f":"ROUND( Z$2+(('coded NOLH for 23-29 factors'!Z242-1)*(Z$3-Z$2)/256), Z$4)","v":254},{"$f":"ROUND( AA$2+(('coded NOLH for 23-29 factors'!AA242-1)*(AA$3-AA$2)/256), AA$4)","v":228},{"$f":"ROUND( AB$2+(('coded NOLH for 23-29 factors'!AB242-1)*(AB$3-AB$2)/256), AB$4)","v":83},{"$f":"ROUND( AC$2+(('coded NOLH for 23-29 factors'!AC242-1)*(AC$3-AC$2)/256), AC$4)","v":87},{"$f":"ROUND( AD$2+(('coded NOLH for 23-29 factors'!AD242-1)*(AD$3-AD$2)/256), AD$4)","v":207}]
[null,{"$f":"ROUND( B$2+(('coded NOLH for 23-29 factors'!B243-1)*(B$3-B$2)/256), B$4)","v":203},{"$f":"ROUND( C$2+(('coded NOLH for 23-29 factors'!C243-1)*(C$3-C$2)/256), C$4)","v":236},{"$f":"ROUND( D$2+(('coded NOLH for 23-29 factors'!D243-1)*(D$3-D$2)/256), D$4)","v":84},{"$f":"ROUND( E$2+(('coded NOLH for 23-29 factors'!E243-1)*(E$3-E$2)/256), E$4)","v":212},{"$f":"ROUND( F$2+(('coded NOLH for 23-29 factors'!F243-1)*(F$3-F$2)/256), F$4)","v":148},{"$f":"ROUND( G$2+(('coded NOLH for 23-29 factors'!G243-1)*(G$3-G$2)/256), G$4)","v":126},{"$f":"ROUND( H$2+(('coded NOLH for 23-29 factors'!H243-1)*(H$3-H$2)/256), H$4)","v":232},{"$f":"ROUND( I$2+(('coded NOLH for 23-29 factors'!I243-1)*(I$3-I$2)/256), I$4)","v":206},{"$f":"ROUND( J$2+(('coded NOLH for 23-29 factors'!J243-1)*(J$3-J$2)/256), J$4)","v":80},{"$f":"ROUND( K$2+(('coded NOLH for 23-29 factors'!K243-1)*(K$3-K$2)/256), K$4)","v":249},{"$f":"ROUND( L$2+(('coded NOLH for 23-29 factors'!L243-1)*(L$3-L$2)/256), L$4)","v":204},{"$f":"ROUND( M$2+(('coded NOLH for 23-29 factors'!M243-1)*(M$3-M$2)/256), M$4)","v":61},{"$f":"ROUND( N$2+(('coded NOLH for 23-29 factors'!N243-1)*(N$3-N$2)/256), N$4)","v":127},{"$f":"ROUND( O$2+(('coded NOLH for 23-29 factors'!O243-1)*(O$3-O$2)/256), O$4)","v":209},{"$f":"ROUND( P$2+(('coded NOLH for 23-29 factors'!P243-1)*(P$3-P$2)/256), P$4)","v":51},{"$f":"ROUND( Q$2+(('coded NOLH for 23-29 factors'!Q243-1)*(Q$3-Q$2)/256), Q$4)","v":36},{"$f":"ROUND( R$2+(('coded NOLH for 23-29 factors'!R243-1)*(R$3-R$2)/256), R$4)","v":141},{"$f":"ROUND( S$2+(('coded NOLH for 23-29 factors'!S243-1)*(S$3-S$2)/256), S$4)","v":123},{"$f":"ROUND( T$2+(('coded NOLH for 23-29 factors'!T243-1)*(T$3-T$2)/256), T$4)","v":120},{"$f":"ROUND( U$2+(('coded NOLH for 23-29 factors'!U243-1)*(U$3-U$2)/256), U$4)","v":208},{"$f":"ROUND( V$2+(('coded NOLH for 23-29 factors'!V243-1)*(V$3-V$2)/256), V$4)","v":135},{"$f":"ROUND( W$2+(('coded NOLH for 23-29 factors'!W243-1)*(W$3-W$2)/256), W$4)","v":252},{"$f":"ROUND( X$2+(('coded NOLH for 23-29 factors'!X243-1)*(X$3-X$2)/256), X$4)","v":133},{"$f":"ROUND( Y$2+(('coded NOLH for 23-29 factors'!Y243-1)*(Y$3-Y$2)/256), Y$4)","v":5},{"$f":"ROUND( Z$2+(('coded NOLH for 23-29 factors'!Z243-1)*(Z$3-Z$2)/256), Z$4)","v":141},{"$f":"ROUND( AA$2+(('coded NOLH for 23-29 factors'!AA243-1)*(AA$3-AA$2)/256), AA$4)","v":179},{"$f":"ROUND( AB$2+(('coded NOLH for 23-29 factors'!AB243-1)*(AB$3-AB$2)/256), AB$4)","v":38},{"$f":"ROUND( AC$2+(('coded NOLH for 23-29 factors'!AC243-1)*(AC$3-AC$2)/256), AC$4)","v":7},{"$f":"ROUND( AD$2+(('coded NOLH for 23-29 factors'!AD243-1)*(AD$3-AD$2)/256), AD$4)","v":211}]
[null,{"$f":"ROUND( B$2+(('coded NOLH for 23-29 factors'!B244-1)*(B$3-B$2)/256), B$4)","v":174},{"$f":"ROUND( C$2+(('coded NOLH for 23-29 factors'!C244-1)*(C$3-C$2)/256), C$4)","v":88},{"$f":"ROUND( D$2+(('coded NOLH for 23-29 factors'!D244-1)*(D$3-D$2)/256), D$4)","v":203},{"$f":"ROUND( E$2+(('coded NOLH for 23-29 factors'!E244-1)*(E$3-E$2)/256), E$4)","v":187},{"$f":"ROUND( F$2+(('coded NOLH for 23-29 factors'!F244-1)*(F$3-F$2)/256), F$4)","v":234},{"$f":"ROUND( G$2+(('coded NOLH for 23-29 factors'!G244-1)*(G$3-G$2)/256), G$4)","v":113},{"$f":"ROUND( H$2+(('coded NOLH for 23-29 factors'!H244-1)*(H$3-H$2)/256), H$4)","v":152},{"$f":"ROUND( I$2+(('coded NOLH for 23-29 factors'!I244-1)*(I$3-I$2)/256), I$4)","v":136},{"$f":"ROUND( J$2+(('coded NOLH for 23-29 factors'!J244-1)*(J$3-J$2)/256), J$4)","v":11},{"$f":"ROUND( K$2+(('coded NOLH for 23-29 factors'!K244-1)*(K$3-K$2)/256), K$4)","v":78},{"$f":"ROUND( L$2+(('coded NOLH for 23-29 factors'!L244-1)*(L$3-L$2)/256), L$4)","v":28},{"$f":"ROUND( M$2+(('coded NOLH for 23-29 factors'!M244-1)*(M$3-M$2)/256), M$4)","v":206},{"$f":"ROUND( N$2+(('coded NOLH for 23-29 factors'!N244-1)*(N$3-N$2)/256), N$4)","v":121},{"$f":"ROUND( O$2+(('coded NOLH for 23-29 factors'!O244-1)*(O$3-O$2)/256), O$4)","v":75},{"$f":"ROUND( P$2+(('coded NOLH for 23-29 factors'!P244-1)*(P$3-P$2)/256), P$4)","v":236},{"$f":"ROUND( Q$2+(('coded NOLH for 23-29 factors'!Q244-1)*(Q$3-Q$2)/256), Q$4)","v":154},{"$f":"ROUND( R$2+(('coded NOLH for 23-29 factors'!R244-1)*(R$3-R$2)/256), R$4)","v":124},{"$f":"ROUND( S$2+(('coded NOLH for 23-29 factors'!S244-1)*(S$3-S$2)/256), S$4)","v":212},{"$f":"ROUND( T$2+(('coded NOLH for 23-29 factors'!T244-1)*(T$3-T$2)/256), T$4)","v":198},{"$f":"ROUND( U$2+(('coded NOLH for 23-29 factors'!U244-1)*(U$3-U$2)/256), U$4)","v":235},{"$f":"ROUND( V$2+(('coded NOLH for 23-29 factors'!V244-1)*(V$3-V$2)/256), V$4)","v":58},{"$f":"ROUND( W$2+(('coded NOLH for 23-29 factors'!W244-1)*(W$3-W$2)/256), W$4)","v":130},{"$f":"ROUND( X$2+(('coded NOLH for 23-29 factors'!X244-1)*(X$3-X$2)/256), X$4)","v":156},{"$f":"ROUND( Y$2+(('coded NOLH for 23-29 factors'!Y244-1)*(Y$3-Y$2)/256), Y$4)","v":57},{"$f":"ROUND( Z$2+(('coded NOLH for 23-29 factors'!Z244-1)*(Z$3-Z$2)/256), Z$4)","v":183},{"$f":"ROUND( AA$2+(('coded NOLH for 23-29 factors'!AA244-1)*(AA$3-AA$2)/256), AA$4)","v":153},{"$f":"ROUND( AB$2+(('coded NOLH for 23-29 factors'!AB244-1)*(AB$3-AB$2)/256), AB$4)","v":37},{"$f":"ROUND( AC$2+(('coded NOLH for 23-29 factors'!AC244-1)*(AC$3-AC$2)/256), AC$4)","v":82},{"$f":"ROUND( AD$2+(('coded NOLH for 23-29 factors'!AD244-1)*(AD$3-AD$2)/256), AD$4)","v":215}]
[null,{"$f":"ROUND( B$2+(('coded NOLH for 23-29 factors'!B245-1)*(B$3-B$2)/256), B$4)","v":170},{"$f":"ROUND( C$2+(('coded NOLH for 23-29 factors'!C245-1)*(C$3-C$2)/256), C$4)","v":174},{"$f":"ROUND( D$2+(('coded NOLH for 23-29 factors'!D245-1)*(D$3-D$2)/256), D$4)","v":236},{"$f":"ROUND( E$2+(('coded NOLH for 23-29 factors'!E245-1)*(E$3-E$2)/256), E$4)","v":169},{"$f":"ROUND( F$2+(('coded NOLH for 23-29 factors'!F245-1)*(F$3-F$2)/256), F$4)","v":240},{"$f":"ROUND( G$2+(('coded NOLH for 23-29 factors'!G245-1)*(G$3-G$2)/256), G$4)","v":38},{"$f":"ROUND( H$2+(('coded NOLH for 23-29 factors'!H245-1)*(H$3-H$2)/256), H$4)","v":141},{"$f":"ROUND( I$2+(('coded NOLH for 23-29 factors'!I245-1)*(I$3-I$2)/256), I$4)","v":186},{"$f":"ROUND( J$2+(('coded NOLH for 23-29 factors'!J245-1)*(J$3-J$2)/256), J$4)","v":188},{"$f":"ROUND( K$2+(('coded NOLH for 23-29 factors'!K245-1)*(K$3-K$2)/256), K$4)","v":165},{"$f":"ROUND( L$2+(('coded NOLH for 23-29 factors'!L245-1)*(L$3-L$2)/256), L$4)","v":246},{"$f":"ROUND( M$2+(('coded NOLH for 23-29 factors'!M245-1)*(M$3-M$2)/256), M$4)","v":87},{"$f":"ROUND( N$2+(('coded NOLH for 23-29 factors'!N245-1)*(N$3-N$2)/256), N$4)","v":145},{"$f":"ROUND( O$2+(('coded NOLH for 23-29 factors'!O245-1)*(O$3-O$2)/256), O$4)","v":133},{"$f":"ROUND( P$2+(('coded NOLH for 23-29 factors'!P245-1)*(P$3-P$2)/256), P$4)","v":237},{"$f":"ROUND( Q$2+(('coded NOLH for 23-29 factors'!Q245-1)*(Q$3-Q$2)/256), Q$4)","v":196},{"$f":"ROUND( R$2+(('coded NOLH for 23-29 factors'!R245-1)*(R$3-R$2)/256), R$4)","v":71},{"$f":"ROUND( S$2+(('coded NOLH for 23-29 factors'!S245-1)*(S$3-S$2)/256), S$4)","v":130},{"$f":"ROUND( T$2+(('coded NOLH for 23-29 factors'!T245-1)*(T$3-T$2)/256), T$4)","v":223},{"$f":"ROUND( U$2+(('coded NOLH for 23-29 factors'!U245-1)*(U$3-U$2)/256), U$4)","v":234},{"$f":"ROUND( V$2+(('coded NOLH for 23-29 factors'!V245-1)*(V$3-V$2)/256), V$4)","v":5},{"$f":"ROUND( W$2+(('coded NOLH for 23-29 factors'!W245-1)*(W$3-W$2)/256), W$4)","v":204},{"$f":"ROUND( X$2+(('coded NOLH for 23-29 factors'!X245-1)*(X$3-X$2)/256), X$4)","v":230},{"$f":"ROUND( Y$2+(('coded NOLH for 23-29 factors'!Y245-1)*(Y$3-Y$2)/256), Y$4)","v":44},{"$f":"ROUND( Z$2+(('coded NOLH for 23-29 factors'!Z245-1)*(Z$3-Z$2)/256), Z$4)","v":180},{"$f":"ROUND( AA$2+(('coded NOLH for 23-29 factors'!AA245-1)*(AA$3-AA$2)/256), AA$4)","v":212},{"$f":"ROUND( AB$2+(('coded NOLH for 23-29 factors'!AB245-1)*(AB$3-AB$2)/256), AB$4)","v":125},{"$f":"ROUND( AC$2+(('coded NOLH for 23-29 factors'!AC245-1)*(AC$3-AC$2)/256), AC$4)","v":99},{"$f":"ROUND( AD$2+(('coded NOLH for 23-29 factors'!AD245-1)*(AD$3-AD$2)/256), AD$4)","v":182}]
[null,{"$f":"ROUND( B$2+(('coded NOLH for 23-29 factors'!B246-1)*(B$3-B$2)/256), B$4)","v":220},{"$f":"ROUND( C$2+(('coded NOLH for 23-29 factors'!C246-1)*(C$3-C$2)/256), C$4)","v":113},{"$f":"ROUND( D$2+(('coded NOLH for 23-29 factors'!D246-1)*(D$3-D$2)/256), D$4)","v":87},{"$f":"ROUND( E$2+(('coded NOLH for 23-29 factors'!E246-1)*(E$3-E$2)/256), E$4)","v":6},{"$f":"ROUND( F$2+(('coded NOLH for 23-29 factors'!F246-1)*(F$3-F$2)/256), F$4)","v":33},{"$f":"ROUND( G$2+(('coded NOLH for 23-29 factors'!G246-1)*(G$3-G$2)/256), G$4)","v":170},{"$f":"ROUND( H$2+(('coded NOLH for 23-29 factors'!H246-1)*(H$3-H$2)/256), H$4)","v":135},{"$f":"ROUND( I$2+(('coded NOLH for 23-29 factors'!I246-1)*(I$3-I$2)/256), I$4)","v":162},{"$f":"ROUND( J$2+(('coded NOLH for 23-29 factors'!J246-1)*(J$3-J$2)/256), J$4)","v":145},{"$f":"ROUND( K$2+(('coded NOLH for 23-29 factors'!K246-1)*(K$3-K$2)/256), K$4)","v":152},{"$f":"ROUND( L$2+(('coded NOLH for 23-29 factors'!L246-1)*(L$3-L$2)/256), L$4)","v":198},{"$f":"ROUND( M$2+(('coded NOLH for 23-29 factors'!M246-1)*(M$3-M$2)/256), M$4)","v":97},{"$f":"ROUND( N$2+(('coded NOLH for 23-29 factors'!N246-1)*(N$3-N$2)/256), N$4)","v":24},{"$f":"ROUND( O$2+(('coded NOLH for 23-29 factors'!O246-1)*(O$3-O$2)/256), O$4)","v":71},{"$f":"ROUND( P$2+(('coded NOLH for 23-29 factors'!P246-1)*(P$3-P$2)/256), P$4)","v":149},{"$f":"ROUND( Q$2+(('coded NOLH for 23-29 factors'!Q246-1)*(Q$3-Q$2)/256), Q$4)","v":250},{"$f":"ROUND( R$2+(('coded NOLH for 23-29 factors'!R246-1)*(R$3-R$2)/256), R$4)","v":16},{"$f":"ROUND( S$2+(('coded NOLH for 23-29 factors'!S246-1)*(S$3-S$2)/256), S$4)","v":109},{"$f":"ROUND( T$2+(('coded NOLH for 23-29 factors'!T246-1)*(T$3-T$2)/256), T$4)","v":82},{"$f":"ROUND( U$2+(('coded NOLH for 23-29 factors'!U246-1)*(U$3-U$2)/256), U$4)","v":201},{"$f":"ROUND( V$2+(('coded NOLH for 23-29 factors'!V246-1)*(V$3-V$2)/256), V$4)","v":106},{"$f":"ROUND( W$2+(('coded NOLH for 23-29 factors'!W246-1)*(W$3-W$2)/256), W$4)","v":46},{"$f":"ROUND( X$2+(('coded NOLH for 23-29 factors'!X246-1)*(X$3-X$2)/256), X$4)","v":19},{"$f":"ROUND( Y$2+(('coded NOLH for 23-29 factors'!Y246-1)*(Y$3-Y$2)/256), Y$4)","v":12},{"$f":"ROUND( Z$2+(('coded NOLH for 23-29 factors'!Z246-1)*(Z$3-Z$2)/256), Z$4)","v":17},{"$f":"ROUND( AA$2+(('coded NOLH for 23-29 factors'!AA246-1)*(AA$3-AA$2)/256), AA$4)","v":73},{"$f":"ROUND( AB$2+(('coded NOLH for 23-29 factors'!AB246-1)*(AB$3-AB$2)/256), AB$4)","v":149},{"$f":"ROUND( AC$2+(('coded NOLH for 23-29 factors'!AC246-1)*(AC$3-AC$2)/256), AC$4)","v":162},{"$f":"ROUND( AD$2+(('coded NOLH for 23-29 factors'!AD246-1)*(AD$3-AD$2)/256), AD$4)","v":217}]
[null,{"$f":"ROUND( B$2+(('coded NOLH for 23-29 factors'!B247-1)*(B$3-B$2)/256), B$4)","v":145},{"$f":"ROUND( C$2+(('coded NOLH for 23-29 factors'!C247-1)*(C$3-C$2)/256), C$4)","v":220},{"$f":"ROUND( D$2+(('coded NOLH for 23-29 factors'!D247-1)*(D$3-D$2)/256), D$4)","v":126},{"$f":"ROUND( E$2+(('coded NOLH for 23-29 factors'!E247-1)*(E$3-E$2)/256), E$4)","v":116},{"$f":"ROUND( F$2+(('coded NOLH for 23-29 factors'!F247-1)*(F$3-F$2)/256), F$4)","v":41},{"$f":"ROUND( G$2+(('coded NOLH for 23-29 factors'!G247-1)*(G$3-G$2)/256), G$4)","v":174},{"$f":"ROUND( H$2+(('coded NOLH for 23-29 factors'!H247-1)*(H$3-H$2)/256), H$4)","v":237},{"$f":"ROUND( I$2+(('coded NOLH for 23-29 factors'!I247-1)*(I$3-I$2)/256), I$4)","v":185},{"$f":"ROUND( J$2+(('coded NOLH for 23-29 factors'!J247-1)*(J$3-J$2)/256), J$4)","v":100},{"$f":"ROUND( K$2+(('coded NOLH for 23-29 factors'!K247-1)*(K$3-K$2)/256), K$4)","v":15},{"$f":"ROUND( L$2+(('coded NOLH for 23-29 factors'!L247-1)*(L$3-L$2)/256), L$4)","v":21},{"$f":"ROUND( M$2+(('coded NOLH for 23-29 factors'!M247-1)*(M$3-M$2)/256), M$4)","v":154},{"$f":"ROUND( N$2+(('coded NOLH for 23-29 factors'!N247-1)*(N$3-N$2)/256), N$4)","v":138},{"$f":"ROUND( O$2+(('coded NOLH for 23-29 factors'!O247-1)*(O$3-O$2)/256), O$4)","v":159},{"$f":"ROUND( P$2+(('coded NOLH for 23-29 factors'!P247-1)*(P$3-P$2)/256), P$4)","v":176},{"$f":"ROUND( Q$2+(('coded NOLH for 23-29 factors'!Q247-1)*(Q$3-Q$2)/256), Q$4)","v":226},{"$f":"ROUND( R$2+(('coded NOLH for 23-29 factors'!R247-1)*(R$3-R$2)/256), R$4)","v":92},{"$f":"ROUND( S$2+(('coded NOLH for 23-29 factors'!S247-1)*(S$3-S$2)/256), S$4)","v":39},{"$f":"ROUND( T$2+(('coded NOLH for 23-29 factors'!T247-1)*(T$3-T$2)/256), T$4)","v":3},{"$f":"ROUND( U$2+(('coded NOLH for 23-29 factors'!U247-1)*(U$3-U$2)/256), U$4)","v":141},{"$f":"ROUND( V$2+(('coded NOLH for 23-29 factors'!V247-1)*(V$3-V$2)/256), V$4)","v":82},{"$f":"ROUND( W$2+(('coded NOLH for 23-29 factors'!W247-1)*(W$3-W$2)/256), W$4)","v":2},{"$f":"ROUND( X$2+(('coded NOLH for 23-29 factors'!X247-1)*(X$3-X$2)/256), X$4)","v":99},{"$f":"ROUND( Y$2+(('coded NOLH for 23-29 factors'!Y247-1)*(Y$3-Y$2)/256), Y$4)","v":27},{"$f":"ROUND( Z$2+(('coded NOLH for 23-29 factors'!Z247-1)*(Z$3-Z$2)/256), Z$4)","v":110},{"$f":"ROUND( AA$2+(('coded NOLH for 23-29 factors'!AA247-1)*(AA$3-AA$2)/256), AA$4)","v":16},{"$f":"ROUND( AB$2+(('coded NOLH for 23-29 factors'!AB247-1)*(AB$3-AB$2)/256), AB$4)","v":124},{"$f":"ROUND( AC$2+(('coded NOLH for 23-29 factors'!AC247-1)*(AC$3-AC$2)/256), AC$4)","v":140},{"$f":"ROUND( AD$2+(('coded NOLH for 23-29 factors'!AD247-1)*(AD$3-AD$2)/256), AD$4)","v":173}]
[null,{"$f":"ROUND( B$2+(('coded NOLH for 23-29 factors'!B248-1)*(B$3-B$2)/256), B$4)","v":132},{"$f":"ROUND( C$2+(('coded NOLH for 23-29 factors'!C248-1)*(C$3-C$2)/256), C$4)","v":87},{"$f":"ROUND( D$2+(('coded NOLH for 23-29 factors'!D248-1)*(D$3-D$2)/256), D$4)","v":145},{"$f":"ROUND( E$2+(('coded NOLH for 23-29 factors'!E248-1)*(E$3-E$2)/256), E$4)","v":104},{"$f":"ROUND( F$2+(('coded NOLH for 23-29 factors'!F248-1)*(F$3-F$2)/256), F$4)","v":29},{"$f":"ROUND( G$2+(('coded NOLH for 23-29 factors'!G248-1)*(G$3-G$2)/256), G$4)","v":203},{"$f":"ROUND( H$2+(('coded NOLH for 23-29 factors'!H248-1)*(H$3-H$2)/256), H$4)","v":221},{"$f":"ROUND( I$2+(('coded NOLH for 23-29 factors'!I248-1)*(I$3-I$2)/256), I$4)","v":247},{"$f":"ROUND( J$2+(('coded NOLH for 23-29 factors'!J248-1)*(J$3-J$2)/256), J$4)","v":56},{"$f":"ROUND( K$2+(('coded NOLH for 23-29 factors'!K248-1)*(K$3-K$2)/256), K$4)","v":181},{"$f":"ROUND( L$2+(('coded NOLH for 23-29 factors'!L248-1)*(L$3-L$2)/256), L$4)","v":227},{"$f":"ROUND( M$2+(('coded NOLH for 23-29 factors'!M248-1)*(M$3-M$2)/256), M$4)","v":5},{"$f":"ROUND( N$2+(('coded NOLH for 23-29 factors'!N248-1)*(N$3-N$2)/256), N$4)","v":91},{"$f":"ROUND( O$2+(('coded NOLH for 23-29 factors'!O248-1)*(O$3-O$2)/256), O$4)","v":64},{"$f":"ROUND( P$2+(('coded NOLH for 23-29 factors'!P248-1)*(P$3-P$2)/256), P$4)","v":112},{"$f":"ROUND( Q$2+(('coded NOLH for 23-29 factors'!Q248-1)*(Q$3-Q$2)/256), Q$4)","v":57},{"$f":"ROUND( R$2+(('coded NOLH for 23-29 factors'!R248-1)*(R$3-R$2)/256), R$4)","v":161},{"$f":"ROUND( S$2+(('coded NOLH for 23-29 factors'!S248-1)*(S$3-S$2)/256), S$4)","v":253},{"$f":"ROUND( T$2+(('coded NOLH for 23-29 factors'!T248-1)*(T$3-T$2)/256), T$4)","v":177},{"$f":"ROUND( U$2+(('coded NOLH for 23-29 factors'!U248-1)*(U$3-U$2)/256), U$4)","v":256},{"$f":"ROUND( V$2+(('coded NOLH for 23-29 factors'!V248-1)*(V$3-V$2)/256), V$4)","v":53},{"$f":"ROUND( W$2+(('coded NOLH for 23-29 factors'!W248-1)*(W$3-W$2)/256), W$4)","v":89},{"$f":"ROUND( X$2+(('coded NOLH for 23-29 factors'!X248-1)*(X$3-X$2)/256), X$4)","v":46},{"$f":"ROUND( Y$2+(('coded NOLH for 23-29 factors'!Y248-1)*(Y$3-Y$2)/256), Y$4)","v":127},{"$f":"ROUND( Z$2+(('coded NOLH for 23-29 factors'!Z248-1)*(Z$3-Z$2)/256), Z$4)","v":79},{"$f":"ROUND( AA$2+(('coded NOLH for 23-29 factors'!AA248-1)*(AA$3-AA$2)/256), AA$4)","v":21},{"$f":"ROUND( AB$2+(('coded NOLH for 23-29 factors'!AB248-1)*(AB$3-AB$2)/256), AB$4)","v":251},{"$f":"ROUND( AC$2+(('coded NOLH for 23-29 factors'!AC248-1)*(AC$3-AC$2)/256), AC$4)","v":173},{"$f":"ROUND( AD$2+(('coded NOLH for 23-29 factors'!AD248-1)*(AD$3-AD$2)/256), AD$4)","v":247}]
[null,{"$f":"ROUND( B$2+(('coded NOLH for 23-29 factors'!B249-1)*(B$3-B$2)/256), B$4)","v":171},{"$f":"ROUND( C$2+(('coded NOLH for 23-29 factors'!C249-1)*(C$3-C$2)/256), C$4)","v":132},{"$f":"ROUND( D$2+(('coded NOLH for 23-29 factors'!D249-1)*(D$3-D$2)/256), D$4)","v":220},{"$f":"ROUND( E$2+(('coded NOLH for 23-29 factors'!E249-1)*(E$3-E$2)/256), E$4)","v":98},{"$f":"ROUND( F$2+(('coded NOLH for 23-29 factors'!F249-1)*(F$3-F$2)/256), F$4)","v":14},{"$f":"ROUND( G$2+(('coded NOLH for 23-29 factors'!G249-1)*(G$3-G$2)/256), G$4)","v":236},{"$f":"ROUND( H$2+(('coded NOLH for 23-29 factors'!H249-1)*(H$3-H$2)/256), H$4)","v":167},{"$f":"ROUND( I$2+(('coded NOLH for 23-29 factors'!I249-1)*(I$3-I$2)/256), I$4)","v":188},{"$f":"ROUND( J$2+(('coded NOLH for 23-29 factors'!J249-1)*(J$3-J$2)/256), J$4)","v":170},{"$f":"ROUND( K$2+(('coded NOLH for 23-29 factors'!K249-1)*(K$3-K$2)/256), K$4)","v":137},{"$f":"ROUND( L$2+(('coded NOLH for 23-29 factors'!L249-1)*(L$3-L$2)/256), L$4)","v":10},{"$f":"ROUND( M$2+(('coded NOLH for 23-29 factors'!M249-1)*(M$3-M$2)/256), M$4)","v":185},{"$f":"ROUND( N$2+(('coded NOLH for 23-29 factors'!N249-1)*(N$3-N$2)/256), N$4)","v":231},{"$f":"ROUND( O$2+(('coded NOLH for 23-29 factors'!O249-1)*(O$3-O$2)/256), O$4)","v":246},{"$f":"ROUND( P$2+(('coded NOLH for 23-29 factors'!P249-1)*(P$3-P$2)/256), P$4)","v":26},{"$f":"ROUND( Q$2+(('coded NOLH for 23-29 factors'!Q249-1)*(Q$3-Q$2)/256), Q$4)","v":11},{"$f":"ROUND( R$2+(('coded NOLH for 23-29 factors'!R249-1)*(R$3-R$2)/256), R$4)","v":168},{"$f":"ROUND( S$2+(('coded NOLH for 23-29 factors'!S249-1)*(S$3-S$2)/256), S$4)","v":171},{"$f":"ROUND( T$2+(('coded NOLH for 23-29 factors'!T249-1)*(T$3-T$2)/256), T$4)","v":131},{"$f":"ROUND( U$2+(('coded NOLH for 23-29 factors'!U249-1)*(U$3-U$2)/256), U$4)","v":137},{"$f":"ROUND( V$2+(('coded NOLH for 23-29 factors'!V249-1)*(V$3-V$2)/256), V$4)","v":10},{"$f":"ROUND( W$2+(('coded NOLH for 23-29 factors'!W249-1)*(W$3-W$2)/256), W$4)","v":93},{"$f":"ROUND( X$2+(('coded NOLH for 23-29 factors'!X249-1)*(X$3-X$2)/256), X$4)","v":5},{"$f":"ROUND( Y$2+(('coded NOLH for 23-29 factors'!Y249-1)*(Y$3-Y$2)/256), Y$4)","v":60},{"$f":"ROUND( Z$2+(('coded NOLH for 23-29 factors'!Z249-1)*(Z$3-Z$2)/256), Z$4)","v":83},{"$f":"ROUND( AA$2+(('coded NOLH for 23-29 factors'!AA249-1)*(AA$3-AA$2)/256), AA$4)","v":91},{"$f":"ROUND( AB$2+(('coded NOLH for 23-29 factors'!AB249-1)*(AB$3-AB$2)/256), AB$4)","v":112},{"$f":"ROUND( AC$2+(('coded NOLH for 23-29 factors'!AC249-1)*(AC$3-AC$2)/256), AC$4)","v":216},{"$f":"ROUND( AD$2+(('coded NOLH for 23-29 factors'!AD249-1)*(AD$3-AD$2)/256), AD$4)","v":178}]
[null,{"$f":"ROUND( B$2+(('coded NOLH for 23-29 factors'!B250-1)*(B$3-B$2)/256), B$4)","v":160},{"$f":"ROUND( C$2+(('coded NOLH for 23-29 factors'!C250-1)*(C$3-C$2)/256), C$4)","v":104},{"$f":"ROUND( D$2+(('coded NOLH for 23-29 factors'!D250-1)*(D$3-D$2)/256), D$4)","v":6},{"$f":"ROUND( E$2+(('coded NOLH for 23-29 factors'!E250-1)*(E$3-E$2)/256), E$4)","v":171},{"$f":"ROUND( F$2+(('coded NOLH for 23-29 factors'!F250-1)*(F$3-F$2)/256), F$4)","v":81},{"$f":"ROUND( G$2+(('coded NOLH for 23-29 factors'!G250-1)*(G$3-G$2)/256), G$4)","v":248},{"$f":"ROUND( H$2+(('coded NOLH for 23-29 factors'!H250-1)*(H$3-H$2)/256), H$4)","v":143},{"$f":"ROUND( I$2+(('coded NOLH for 23-29 factors'!I250-1)*(I$3-I$2)/256), I$4)","v":239},{"$f":"ROUND( J$2+(('coded NOLH for 23-29 factors'!J250-1)*(J$3-J$2)/256), J$4)","v":163},{"$f":"ROUND( K$2+(('coded NOLH for 23-29 factors'!K250-1)*(K$3-K$2)/256), K$4)","v":138},{"$f":"ROUND( L$2+(('coded NOLH for 23-29 factors'!L250-1)*(L$3-L$2)/256), L$4)","v":236},{"$f":"ROUND( M$2+(('coded NOLH for 23-29 factors'!M250-1)*(M$3-M$2)/256), M$4)","v":38},{"$f":"ROUND( N$2+(('coded NOLH for 23-29 factors'!N250-1)*(N$3-N$2)/256), N$4)","v":96},{"$f":"ROUND( O$2+(('coded NOLH for 23-29 factors'!O250-1)*(O$3-O$2)/256), O$4)","v":45},{"$f":"ROUND( P$2+(('coded NOLH for 23-29 factors'!P250-1)*(P$3-P$2)/256), P$4)","v":11},{"$f":"ROUND( Q$2+(('coded NOLH for 23-29 factors'!Q250-1)*(Q$3-Q$2)/256), Q$4)","v":203},{"$f":"ROUND( R$2+(('coded NOLH for 23-29 factors'!R250-1)*(R$3-R$2)/256), R$4)","v":107},{"$f":"ROUND( S$2+(('coded NOLH for 23-29 factors'!S250-1)*(S$3-S$2)/256), S$4)","v":55},{"$f":"ROUND( T$2+(('coded NOLH for 23-29 factors'!T250-1)*(T$3-T$2)/256), T$4)","v":12},{"$f":"ROUND( U$2+(('coded NOLH for 23-29 factors'!U250-1)*(U$3-U$2)/256), U$4)","v":66},{"$f":"ROUND( V$2+(('coded NOLH for 23-29 factors'!V250-1)*(V$3-V$2)/256), V$4)","v":257},{"$f":"ROUND( W$2+(('coded NOLH for 23-29 factors'!W250-1)*(W$3-W$2)/256), W$4)","v":170},{"$f":"ROUND( X$2+(('coded NOLH for 23-29 factors'!X250-1)*(X$3-X$2)/256), X$4)","v":193},{"$f":"ROUND( Y$2+(('coded NOLH for 23-29 factors'!Y250-1)*(Y$3-Y$2)/256), Y$4)","v":117},{"$f":"ROUND( Z$2+(('coded NOLH for 23-29 factors'!Z250-1)*(Z$3-Z$2)/256), Z$4)","v":31},{"$f":"ROUND( AA$2+(('coded NOLH for 23-29 factors'!AA250-1)*(AA$3-AA$2)/256), AA$4)","v":63},{"$f":"ROUND( AB$2+(('coded NOLH for 23-29 factors'!AB250-1)*(AB$3-AB$2)/256), AB$4)","v":141},{"$f":"ROUND( AC$2+(('coded NOLH for 23-29 factors'!AC250-1)*(AC$3-AC$2)/256), AC$4)","v":174},{"$f":"ROUND( AD$2+(('coded NOLH for 23-29 factors'!AD250-1)*(AD$3-AD$2)/256), AD$4)","v":165}]
[null,{"$f":"ROUND( B$2+(('coded NOLH for 23-29 factors'!B251-1)*(B$3-B$2)/256), B$4)","v":154},{"$f":"ROUND( C$2+(('coded NOLH for 23-29 factors'!C251-1)*(C$3-C$2)/256), C$4)","v":160},{"$f":"ROUND( D$2+(('coded NOLH for 23-29 factors'!D251-1)*(D$3-D$2)/256), D$4)","v":116},{"$f":"ROUND( E$2+(('coded NOLH for 23-29 factors'!E251-1)*(E$3-E$2)/256), E$4)","v":132},{"$f":"ROUND( F$2+(('coded NOLH for 23-29 factors'!F251-1)*(F$3-F$2)/256), F$4)","v":13},{"$f":"ROUND( G$2+(('coded NOLH for 23-29 factors'!G251-1)*(G$3-G$2)/256), G$4)","v":212},{"$f":"ROUND( H$2+(('coded NOLH for 23-29 factors'!H251-1)*(H$3-H$2)/256), H$4)","v":168},{"$f":"ROUND( I$2+(('coded NOLH for 23-29 factors'!I251-1)*(I$3-I$2)/256), I$4)","v":222},{"$f":"ROUND( J$2+(('coded NOLH for 23-29 factors'!J251-1)*(J$3-J$2)/256), J$4)","v":20},{"$f":"ROUND( K$2+(('coded NOLH for 23-29 factors'!K251-1)*(K$3-K$2)/256), K$4)","v":192},{"$f":"ROUND( L$2+(('coded NOLH for 23-29 factors'!L251-1)*(L$3-L$2)/256), L$4)","v":70},{"$f":"ROUND( M$2+(('coded NOLH for 23-29 factors'!M251-1)*(M$3-M$2)/256), M$4)","v":240},{"$f":"ROUND( N$2+(('coded NOLH for 23-29 factors'!N251-1)*(N$3-N$2)/256), N$4)","v":143},{"$f":"ROUND( O$2+(('coded NOLH for 23-29 factors'!O251-1)*(O$3-O$2)/256), O$4)","v":240},{"$f":"ROUND( P$2+(('coded NOLH for 23-29 factors'!P251-1)*(P$3-P$2)/256), P$4)","v":150},{"$f":"ROUND( Q$2+(('coded NOLH for 23-29 factors'!Q251-1)*(Q$3-Q$2)/256), Q$4)","v":153},{"$f":"ROUND( R$2+(('coded NOLH for 23-29 factors'!R251-1)*(R$3-R$2)/256), R$4)","v":81},{"$f":"ROUND( S$2+(('coded NOLH for 23-29 factors'!S251-1)*(S$3-S$2)/256), S$4)","v":38},{"$f":"ROUND( T$2+(('coded NOLH for 23-29 factors'!T251-1)*(T$3-T$2)/256), T$4)","v":104},{"$f":"ROUND( U$2+(('coded NOLH for 23-29 factors'!U251-1)*(U$3-U$2)/256), U$4)","v":9},{"$f":"ROUND( V$2+(('coded NOLH for 23-29 factors'!V251-1)*(V$3-V$2)/256), V$4)","v":188},{"$f":"ROUND( W$2+(('coded NOLH for 23-29 factors'!W251-1)*(W$3-W$2)/256), W$4)","v":206},{"$f":"ROUND( X$2+(('coded NOLH for 23-29 factors'!X251-1)*(X$3-X$2)/256), X$4)","v":243},{"$f":"ROUND( Y$2+(('coded NOLH for 23-29 factors'!Y251-1)*(Y$3-Y$2)/256), Y$4)","v":24},{"$f":"ROUND( Z$2+(('coded NOLH for 23-29 factors'!Z251-1)*(Z$3-Z$2)/256), Z$4)","v":39},{"$f":"ROUND( AA$2+(('coded NOLH for 23-29 factors'!AA251-1)*(AA$3-AA$2)/256), AA$4)","v":107},{"$f":"ROUND( AB$2+(('coded NOLH for 23-29 factors'!AB251-1)*(AB$3-AB$2)/256), AB$4)","v":248},{"$f":"ROUND( AC$2+(('coded NOLH for 23-29 factors'!AC251-1)*(AC$3-AC$2)/256), AC$4)","v":138},{"$f":"ROUND( AD$2+(('coded NOLH for 23-29 factors'!AD251-1)*(AD$3-AD$2)/256), AD$4)","v":231}]
[null,{"$f":"ROUND( B$2+(('coded NOLH for 23-29 factors'!B252-1)*(B$3-B$2)/256), B$4)","v":142},{"$f":"ROUND( C$2+(('coded NOLH for 23-29 factors'!C252-1)*(C$3-C$2)/256), C$4)","v":6},{"$f":"ROUND( D$2+(('coded NOLH for 23-29 factors'!D252-1)*(D$3-D$2)/256), D$4)","v":154},{"$f":"ROUND( E$2+(('coded NOLH for 23-29 factors'!E252-1)*(E$3-E$2)/256), E$4)","v":145},{"$f":"ROUND( F$2+(('coded NOLH for 23-29 factors'!F252-1)*(F$3-F$2)/256), F$4)","v":107},{"$f":"ROUND( G$2+(('coded NOLH for 23-29 factors'!G252-1)*(G$3-G$2)/256), G$4)","v":187},{"$f":"ROUND( H$2+(('coded NOLH for 23-29 factors'!H252-1)*(H$3-H$2)/256), H$4)","v":255},{"$f":"ROUND( I$2+(('coded NOLH for 23-29 factors'!I252-1)*(I$3-I$2)/256), I$4)","v":133},{"$f":"ROUND( J$2+(('coded NOLH for 23-29 factors'!J252-1)*(J$3-J$2)/256), J$4)","v":107},{"$f":"ROUND( K$2+(('coded NOLH for 23-29 factors'!K252-1)*(K$3-K$2)/256), K$4)","v":50},{"$f":"ROUND( L$2+(('coded NOLH for 23-29 factors'!L252-1)*(L$3-L$2)/256), L$4)","v":165},{"$f":"ROUND( M$2+(('coded NOLH for 23-29 factors'!M252-1)*(M$3-M$2)/256), M$4)","v":65},{"$f":"ROUND( N$2+(('coded NOLH for 23-29 factors'!N252-1)*(N$3-N$2)/256), N$4)","v":40},{"$f":"ROUND( O$2+(('coded NOLH for 23-29 factors'!O252-1)*(O$3-O$2)/256), O$4)","v":19},{"$f":"ROUND( P$2+(('coded NOLH for 23-29 factors'!P252-1)*(P$3-P$2)/256), P$4)","v":127},{"$f":"ROUND( Q$2+(('coded NOLH for 23-29 factors'!Q252-1)*(Q$3-Q$2)/256), Q$4)","v":34},{"$f":"ROUND( R$2+(('coded NOLH for 23-29 factors'!R252-1)*(R$3-R$2)/256), R$4)","v":222},{"$f":"ROUND( S$2+(('coded NOLH for 23-29 factors'!S252-1)*(S$3-S$2)/256), S$4)","v":168},{"$f":"ROUND( T$2+(('coded NOLH for 23-29 factors'!T252-1)*(T$3-T$2)/256), T$4)","v":219},{"$f":"ROUND( U$2+(('coded NOLH for 23-29 factors'!U252-1)*(U$3-U$2)/256), U$4)","v":90},{"$f":"ROUND( V$2+(('coded NOLH for 23-29 factors'!V252-1)*(V$3-V$2)/256), V$4)","v":173},{"$f":"ROUND( W$2+(('coded NOLH for 23-29 factors'!W252-1)*(W$3-W$2)/256), W$4)","v":235},{"$f":"ROUND( X$2+(('coded NOLH for 23-29 factors'!X252-1)*(X$3-X$2)/256), X$4)","v":204},{"$f":"ROUND( Y$2+(('coded NOLH for 23-29 factors'!Y252-1)*(Y$3-Y$2)/256), Y$4)","v":38},{"$f":"ROUND( Z$2+(('coded NOLH for 23-29 factors'!Z252-1)*(Z$3-Z$2)/256), Z$4)","v":63},{"$f":"ROUND( AA$2+(('coded NOLH for 23-29 factors'!AA252-1)*(AA$3-AA$2)/256), AA$4)","v":24},{"$f":"ROUND( AB$2+(('coded NOLH for 23-29 factors'!AB252-1)*(AB$3-AB$2)/256), AB$4)","v":142},{"$f":"ROUND( AC$2+(('coded NOLH for 23-29 factors'!AC252-1)*(AC$3-AC$2)/256), AC$4)","v":184},{"$f":"ROUND( AD$2+(('coded NOLH for 23-29 factors'!AD252-1)*(AD$3-AD$2)/256), AD$4)","v":140}]
[null,{"$f":"ROUND( B$2+(('coded NOLH for 23-29 factors'!B253-1)*(B$3-B$2)/256), B$4)","v":252},{"$f":"ROUND( C$2+(('coded NOLH for 23-29 factors'!C253-1)*(C$3-C$2)/256), C$4)","v":142},{"$f":"ROUND( D$2+(('coded NOLH for 23-29 factors'!D253-1)*(D$3-D$2)/256), D$4)","v":160},{"$f":"ROUND( E$2+(('coded NOLH for 23-29 factors'!E253-1)*(E$3-E$2)/256), E$4)","v":220},{"$f":"ROUND( F$2+(('coded NOLH for 23-29 factors'!F253-1)*(F$3-F$2)/256), F$4)","v":83},{"$f":"ROUND( G$2+(('coded NOLH for 23-29 factors'!G253-1)*(G$3-G$2)/256), G$4)","v":169},{"$f":"ROUND( H$2+(('coded NOLH for 23-29 factors'!H253-1)*(H$3-H$2)/256), H$4)","v":218},{"$f":"ROUND( I$2+(('coded NOLH for 23-29 factors'!I253-1)*(I$3-I$2)/256), I$4)","v":238},{"$f":"ROUND( J$2+(('coded NOLH for 23-29 factors'!J253-1)*(J$3-J$2)/256), J$4)","v":156},{"$f":"ROUND( K$2+(('coded NOLH for 23-29 factors'!K253-1)*(K$3-K$2)/256), K$4)","v":156},{"$f":"ROUND( L$2+(('coded NOLH for 23-29 factors'!L253-1)*(L$3-L$2)/256), L$4)","v":106},{"$f":"ROUND( M$2+(('coded NOLH for 23-29 factors'!M253-1)*(M$3-M$2)/256), M$4)","v":146},{"$f":"ROUND( N$2+(('coded NOLH for 23-29 factors'!N253-1)*(N$3-N$2)/256), N$4)","v":255},{"$f":"ROUND( O$2+(('coded NOLH for 23-29 factors'!O253-1)*(O$3-O$2)/256), O$4)","v":135},{"$f":"ROUND( P$2+(('coded NOLH for 23-29 factors'!P253-1)*(P$3-P$2)/256), P$4)","v":200},{"$f":"ROUND( Q$2+(('coded NOLH for 23-29 factors'!Q253-1)*(Q$3-Q$2)/256), Q$4)","v":80},{"$f":"ROUND( R$2+(('coded NOLH for 23-29 factors'!R253-1)*(R$3-R$2)/256), R$4)","v":249},{"$f":"ROUND( S$2+(('coded NOLH for 23-29 factors'!S253-1)*(S$3-S$2)/256), S$4)","v":160},{"$f":"ROUND( T$2+(('coded NOLH for 23-29 factors'!T253-1)*(T$3-T$2)/256), T$4)","v":207},{"$f":"ROUND( U$2+(('coded NOLH for 23-29 factors'!U253-1)*(U$3-U$2)/256), U$4)","v":14},{"$f":"ROUND( V$2+(('coded NOLH for 23-29 factors'!V253-1)*(V$3-V$2)/256), V$4)","v":204},{"$f":"ROUND( W$2+(('coded NOLH for 23-29 factors'!W253-1)*(W$3-W$2)/256), W$4)","v":124},{"$f":"ROUND( X$2+(('coded NOLH for 23-29 factors'!X253-1)*(X$3-X$2)/256), X$4)","v":164},{"$f":"ROUND( Y$2+(('coded NOLH for 23-29 factors'!Y253-1)*(Y$3-Y$2)/256), Y$4)","v":22},{"$f":"ROUND( Z$2+(('coded NOLH for 23-29 factors'!Z253-1)*(Z$3-Z$2)/256), Z$4)","v":54},{"$f":"ROUND( AA$2+(('coded NOLH for 23-29 factors'!AA253-1)*(AA$3-AA$2)/256), AA$4)","v":98},{"$f":"ROUND( AB$2+(('coded NOLH for 23-29 factors'!AB253-1)*(AB$3-AB$2)/256), AB$4)","v":159},{"$f":"ROUND( AC$2+(('coded NOLH for 23-29 factors'!AC253-1)*(AC$3-AC$2)/256), AC$4)","v":207},{"$f":"ROUND( AD$2+(('coded NOLH for 23-29 factors'!AD253-1)*(AD$3-AD$2)/256), AD$4)","v":191}]
[null,{"$f":"ROUND( B$2+(('coded NOLH for 23-29 factors'!B254-1)*(B$3-B$2)/256), B$4)","v":175},{"$f":"ROUND( C$2+(('coded NOLH for 23-29 factors'!C254-1)*(C$3-C$2)/256), C$4)","v":107},{"$f":"ROUND( D$2+(('coded NOLH for 23-29 factors'!D254-1)*(D$3-D$2)/256), D$4)","v":81},{"$f":"ROUND( E$2+(('coded NOLH for 23-29 factors'!E254-1)*(E$3-E$2)/256), E$4)","v":33},{"$f":"ROUND( F$2+(('coded NOLH for 23-29 factors'!F254-1)*(F$3-F$2)/256), F$4)","v":252},{"$f":"ROUND( G$2+(('coded NOLH for 23-29 factors'!G254-1)*(G$3-G$2)/256), G$4)","v":256},{"$f":"ROUND( H$2+(('coded NOLH for 23-29 factors'!H254-1)*(H$3-H$2)/256), H$4)","v":195},{"$f":"ROUND( I$2+(('coded NOLH for 23-29 factors'!I254-1)*(I$3-I$2)/256), I$4)","v":158},{"$f":"ROUND( J$2+(('coded NOLH for 23-29 factors'!J254-1)*(J$3-J$2)/256), J$4)","v":257},{"$f":"ROUND( K$2+(('coded NOLH for 23-29 factors'!K254-1)*(K$3-K$2)/256), K$4)","v":221},{"$f":"ROUND( L$2+(('coded NOLH for 23-29 factors'!L254-1)*(L$3-L$2)/256), L$4)","v":95},{"$f":"ROUND( M$2+(('coded NOLH for 23-29 factors'!M254-1)*(M$3-M$2)/256), M$4)","v":41},{"$f":"ROUND( N$2+(('coded NOLH for 23-29 factors'!N254-1)*(N$3-N$2)/256), N$4)","v":67},{"$f":"ROUND( O$2+(('coded NOLH for 23-29 factors'!O254-1)*(O$3-O$2)/256), O$4)","v":32},{"$f":"ROUND( P$2+(('coded NOLH for 23-29 factors'!P254-1)*(P$3-P$2)/256), P$4)","v":216},{"$f":"ROUND( Q$2+(('coded NOLH for 23-29 factors'!Q254-1)*(Q$3-Q$2)/256), Q$4)","v":128},{"$f":"ROUND( R$2+(('coded NOLH for 23-29 factors'!R254-1)*(R$3-R$2)/256), R$4)","v":83},{"$f":"ROUND( S$2+(('coded NOLH for 23-29 factors'!S254-1)*(S$3-S$2)/256), S$4)","v":7},{"$f":"ROUND( T$2+(('coded NOLH for 23-29 factors'!T254-1)*(T$3-T$2)/256), T$4)","v":86},{"$f":"ROUND( U$2+(('coded NOLH for 23-29 factors'!U254-1)*(U$3-U$2)/256), U$4)","v":74},{"$f":"ROUND( V$2+(('coded NOLH for 23-29 factors'!V254-1)*(V$3-V$2)/256), V$4)","v":32},{"$f":"ROUND( W$2+(('coded NOLH for 23-29 factors'!W254-1)*(W$3-W$2)/256), W$4)","v":7},{"$f":"ROUND( X$2+(('coded NOLH for 23-29 factors'!X254-1)*(X$3-X$2)/256), X$4)","v":90},{"$f":"ROUND( Y$2+(('coded NOLH for 23-29 factors'!Y254-1)*(Y$3-Y$2)/256), Y$4)","v":164},{"$f":"ROUND( Z$2+(('coded NOLH for 23-29 factors'!Z254-1)*(Z$3-Z$2)/256), Z$4)","v":211},{"$f":"ROUND( AA$2+(('coded NOLH for 23-29 factors'!AA254-1)*(AA$3-AA$2)/256), AA$4)","v":182},{"$f":"ROUND( AB$2+(('coded NOLH for 23-29 factors'!AB254-1)*(AB$3-AB$2)/256), AB$4)","v":170},{"$f":"ROUND( AC$2+(('coded NOLH for 23-29 factors'!AC254-1)*(AC$3-AC$2)/256), AC$4)","v":204},{"$f":"ROUND( AD$2+(('coded NOLH for 23-29 factors'!AD254-1)*(AD$3-AD$2)/256), AD$4)","v":208}]
[null,{"$f":"ROUND( B$2+(('coded NOLH for 23-29 factors'!B255-1)*(B$3-B$2)/256), B$4)","v":151},{"$f":"ROUND( C$2+(('coded NOLH for 23-29 factors'!C255-1)*(C$3-C$2)/256), C$4)","v":175},{"$f":"ROUND( D$2+(('coded NOLH for 23-29 factors'!D255-1)*(D$3-D$2)/256), D$4)","v":13},{"$f":"ROUND( E$2+(('coded NOLH for 23-29 factors'!E255-1)*(E$3-E$2)/256), E$4)","v":41},{"$f":"ROUND( F$2+(('coded NOLH for 23-29 factors'!F255-1)*(F$3-F$2)/256), F$4)","v":142},{"$f":"ROUND( G$2+(('coded NOLH for 23-29 factors'!G255-1)*(G$3-G$2)/256), G$4)","v":228},{"$f":"ROUND( H$2+(('coded NOLH for 23-29 factors'!H255-1)*(H$3-H$2)/256), H$4)","v":211},{"$f":"ROUND( I$2+(('coded NOLH for 23-29 factors'!I255-1)*(I$3-I$2)/256), I$4)","v":246},{"$f":"ROUND( J$2+(('coded NOLH for 23-29 factors'!J255-1)*(J$3-J$2)/256), J$4)","v":114},{"$f":"ROUND( K$2+(('coded NOLH for 23-29 factors'!K255-1)*(K$3-K$2)/256), K$4)","v":35},{"$f":"ROUND( L$2+(('coded NOLH for 23-29 factors'!L255-1)*(L$3-L$2)/256), L$4)","v":223},{"$f":"ROUND( M$2+(('coded NOLH for 23-29 factors'!M255-1)*(M$3-M$2)/256), M$4)","v":256},{"$f":"ROUND( N$2+(('coded NOLH for 23-29 factors'!N255-1)*(N$3-N$2)/256), N$4)","v":201},{"$f":"ROUND( O$2+(('coded NOLH for 23-29 factors'!O255-1)*(O$3-O$2)/256), O$4)","v":179},{"$f":"ROUND( P$2+(('coded NOLH for 23-29 factors'!P255-1)*(P$3-P$2)/256), P$4)","v":249},{"$f":"ROUND( Q$2+(('coded NOLH for 23-29 factors'!Q255-1)*(Q$3-Q$2)/256), Q$4)","v":82},{"$f":"ROUND( R$2+(('coded NOLH for 23-29 factors'!R255-1)*(R$3-R$2)/256), R$4)","v":41},{"$f":"ROUND( S$2+(('coded NOLH for 23-29 factors'!S255-1)*(S$3-S$2)/256), S$4)","v":104},{"$f":"ROUND( T$2+(('coded NOLH for 23-29 factors'!T255-1)*(T$3-T$2)/256), T$4)","v":105},{"$f":"ROUND( U$2+(('coded NOLH for 23-29 factors'!U255-1)*(U$3-U$2)/256), U$4)","v":108},{"$f":"ROUND( V$2+(('coded NOLH for 23-29 factors'!V255-1)*(V$3-V$2)/256), V$4)","v":48},{"$f":"ROUND( W$2+(('coded NOLH for 23-29 factors'!W255-1)*(W$3-W$2)/256), W$4)","v":73},{"$f":"ROUND( X$2+(('coded NOLH for 23-29 factors'!X255-1)*(X$3-X$2)/256), X$4)","v":32},{"$f":"ROUND( Y$2+(('coded NOLH for 23-29 factors'!Y255-1)*(Y$3-Y$2)/256), Y$4)","v":196},{"$f":"ROUND( Z$2+(('coded NOLH for 23-29 factors'!Z255-1)*(Z$3-Z$2)/256), Z$4)","v":251},{"$f":"ROUND( AA$2+(('coded NOLH for 23-29 factors'!AA255-1)*(AA$3-AA$2)/256), AA$4)","v":144},{"$f":"ROUND( AB$2+(('coded NOLH for 23-29 factors'!AB255-1)*(AB$3-AB$2)/256), AB$4)","v":169},{"$f":"ROUND( AC$2+(('coded NOLH for 23-29 factors'!AC255-1)*(AC$3-AC$2)/256), AC$4)","v":128},{"$f":"ROUND( AD$2+(('coded NOLH for 23-29 factors'!AD255-1)*(AD$3-AD$2)/256), AD$4)","v":159}]
[null,{"$f":"ROUND( B$2+(('coded NOLH for 23-29 factors'!B256-1)*(B$3-B$2)/256), B$4)","v":245},{"$f":"ROUND( C$2+(('coded NOLH for 23-29 factors'!C256-1)*(C$3-C$2)/256), C$4)","v":81},{"$f":"ROUND( D$2+(('coded NOLH for 23-29 factors'!D256-1)*(D$3-D$2)/256), D$4)","v":151},{"$f":"ROUND( E$2+(('coded NOLH for 23-29 factors'!E256-1)*(E$3-E$2)/256), E$4)","v":29},{"$f":"ROUND( F$2+(('coded NOLH for 23-29 factors'!F256-1)*(F$3-F$2)/256), F$4)","v":154},{"$f":"ROUND( G$2+(('coded NOLH for 23-29 factors'!G256-1)*(G$3-G$2)/256), G$4)","v":208},{"$f":"ROUND( H$2+(('coded NOLH for 23-29 factors'!H256-1)*(H$3-H$2)/256), H$4)","v":213},{"$f":"ROUND( I$2+(('coded NOLH for 23-29 factors'!I256-1)*(I$3-I$2)/256), I$4)","v":144},{"$f":"ROUND( J$2+(('coded NOLH for 23-29 factors'!J256-1)*(J$3-J$2)/256), J$4)","v":106},{"$f":"ROUND( K$2+(('coded NOLH for 23-29 factors'!K256-1)*(K$3-K$2)/256), K$4)","v":255},{"$f":"ROUND( L$2+(('coded NOLH for 23-29 factors'!L256-1)*(L$3-L$2)/256), L$4)","v":82},{"$f":"ROUND( M$2+(('coded NOLH for 23-29 factors'!M256-1)*(M$3-M$2)/256), M$4)","v":124},{"$f":"ROUND( N$2+(('coded NOLH for 23-29 factors'!N256-1)*(N$3-N$2)/256), N$4)","v":36},{"$f":"ROUND( O$2+(('coded NOLH for 23-29 factors'!O256-1)*(O$3-O$2)/256), O$4)","v":102},{"$f":"ROUND( P$2+(('coded NOLH for 23-29 factors'!P256-1)*(P$3-P$2)/256), P$4)","v":25},{"$f":"ROUND( Q$2+(('coded NOLH for 23-29 factors'!Q256-1)*(Q$3-Q$2)/256), Q$4)","v":174},{"$f":"ROUND( R$2+(('coded NOLH for 23-29 factors'!R256-1)*(R$3-R$2)/256), R$4)","v":200},{"$f":"ROUND( S$2+(('coded NOLH for 23-29 factors'!S256-1)*(S$3-S$2)/256), S$4)","v":211},{"$f":"ROUND( T$2+(('coded NOLH for 23-29 factors'!T256-1)*(T$3-T$2)/256), T$4)","v":249},{"$f":"ROUND( U$2+(('coded NOLH for 23-29 factors'!U256-1)*(U$3-U$2)/256), U$4)","v":147},{"$f":"ROUND( V$2+(('coded NOLH for 23-29 factors'!V256-1)*(V$3-V$2)/256), V$4)","v":87},{"$f":"ROUND( W$2+(('coded NOLH for 23-29 factors'!W256-1)*(W$3-W$2)/256), W$4)","v":34},{"$f":"ROUND( X$2+(('coded NOLH for 23-29 factors'!X256-1)*(X$3-X$2)/256), X$4)","v":57},{"$f":"ROUND( Y$2+(('coded NOLH for 23-29 factors'!Y256-1)*(Y$3-Y$2)/256), Y$4)","v":194},{"$f":"ROUND( Z$2+(('coded NOLH for 23-29 factors'!Z256-1)*(Z$3-Z$2)/256), Z$4)","v":181},{"$f":"ROUND( AA$2+(('coded NOLH for 23-29 factors'!AA256-1)*(AA$3-AA$2)/256), AA$4)","v":192},{"$f":"ROUND( AB$2+(('coded NOLH for 23-29 factors'!AB256-1)*(AB$3-AB$2)/256), AB$4)","v":179},{"$f":"ROUND( AC$2+(('coded NOLH for 23-29 factors'!AC256-1)*(AC$3-AC$2)/256), AC$4)","v":225},{"$f":"ROUND( AD$2+(('coded NOLH for 23-29 factors'!AD256-1)*(AD$3-AD$2)/256), AD$4)","v":204}]
[null,{"$f":"ROUND( B$2+(('coded NOLH for 23-29 factors'!B257-1)*(B$3-B$2)/256), B$4)","v":177},{"$f":"ROUND( C$2+(('coded NOLH for 23-29 factors'!C257-1)*(C$3-C$2)/256), C$4)","v":245},{"$f":"ROUND( D$2+(('coded NOLH for 23-29 factors'!D257-1)*(D$3-D$2)/256), D$4)","v":175},{"$f":"ROUND( E$2+(('coded NOLH for 23-29 factors'!E257-1)*(E$3-E$2)/256), E$4)","v":14},{"$f":"ROUND( F$2+(('coded NOLH for 23-29 factors'!F257-1)*(F$3-F$2)/256), F$4)","v":160},{"$f":"ROUND( G$2+(('coded NOLH for 23-29 factors'!G257-1)*(G$3-G$2)/256), G$4)","v":140},{"$f":"ROUND( H$2+(('coded NOLH for 23-29 factors'!H257-1)*(H$3-H$2)/256), H$4)","v":230},{"$f":"ROUND( I$2+(('coded NOLH for 23-29 factors'!I257-1)*(I$3-I$2)/256), I$4)","v":163},{"$f":"ROUND( J$2+(('coded NOLH for 23-29 factors'!J257-1)*(J$3-J$2)/256), J$4)","v":157},{"$f":"ROUND( K$2+(('coded NOLH for 23-29 factors'!K257-1)*(K$3-K$2)/256), K$4)","v":28},{"$f":"ROUND( L$2+(('coded NOLH for 23-29 factors'!L257-1)*(L$3-L$2)/256), L$4)","v":137},{"$f":"ROUND( M$2+(('coded NOLH for 23-29 factors'!M257-1)*(M$3-M$2)/256), M$4)","v":210},{"$f":"ROUND( N$2+(('coded NOLH for 23-29 factors'!N257-1)*(N$3-N$2)/256), N$4)","v":221},{"$f":"ROUND( O$2+(('coded NOLH for 23-29 factors'!O257-1)*(O$3-O$2)/256), O$4)","v":146},{"$f":"ROUND( P$2+(('coded NOLH for 23-29 factors'!P257-1)*(P$3-P$2)/256), P$4)","v":33},{"$f":"ROUND( Q$2+(('coded NOLH for 23-29 factors'!Q257-1)*(Q$3-Q$2)/256), Q$4)","v":229},{"$f":"ROUND( R$2+(('coded NOLH for 23-29 factors'!R257-1)*(R$3-R$2)/256), R$4)","v":248},{"$f":"ROUND( S$2+(('coded NOLH for 23-29 factors'!S257-1)*(S$3-S$2)/256), S$4)","v":221},{"$f":"ROUND( T$2+(('coded NOLH for 23-29 factors'!T257-1)*(T$3-T$2)/256), T$4)","v":163},{"$f":"ROUND( U$2+(('coded NOLH for 23-29 factors'!U257-1)*(U$3-U$2)/256), U$4)","v":58},{"$f":"ROUND( V$2+(('coded NOLH for 23-29 factors'!V257-1)*(V$3-V$2)/256), V$4)","v":80},{"$f":"ROUND( W$2+(('coded NOLH for 23-29 factors'!W257-1)*(W$3-W$2)/256), W$4)","v":72},{"$f":"ROUND( X$2+(('coded NOLH for 23-29 factors'!X257-1)*(X$3-X$2)/256), X$4)","v":128},{"$f":"ROUND( Y$2+(('coded NOLH for 23-29 factors'!Y257-1)*(Y$3-Y$2)/256), Y$4)","v":249},{"$f":"ROUND( Z$2+(('coded NOLH for 23-29 factors'!Z257-1)*(Z$3-Z$2)/256), Z$4)","v":140},{"$f":"ROUND( AA$2+(('coded NOLH for 23-29 factors'!AA257-1)*(AA$3-AA$2)/256), AA$4)","v":254},{"$f":"ROUND( AB$2+(('coded NOLH for 23-29 factors'!AB257-1)*(AB$3-AB$2)/256), AB$4)","v":168},{"$f":"ROUND( AC$2+(('coded NOLH for 23-29 factors'!AC257-1)*(AC$3-AC$2)/256), AC$4)","v":215},{"$f":"ROUND( AD$2+(('coded NOLH for 23-29 factors'!AD257-1)*(AD$3-AD$2)/256), AD$4)","v":221}]
[null,{"$f":"ROUND( B$2+(('coded NOLH for 23-29 factors'!B258-1)*(B$3-B$2)/256), B$4)","v":244},{"$f":"ROUND( C$2+(('coded NOLH for 23-29 factors'!C258-1)*(C$3-C$2)/256), C$4)","v":29},{"$f":"ROUND( D$2+(('coded NOLH for 23-29 factors'!D258-1)*(D$3-D$2)/256), D$4)","v":33},{"$f":"ROUND( E$2+(('coded NOLH for 23-29 factors'!E258-1)*(E$3-E$2)/256), E$4)","v":177},{"$f":"ROUND( F$2+(('coded NOLH for 23-29 factors'!F258-1)*(F$3-F$2)/256), F$4)","v":171},{"$f":"ROUND( G$2+(('coded NOLH for 23-29 factors'!G258-1)*(G$3-G$2)/256), G$4)","v":199},{"$f":"ROUND( H$2+(('coded NOLH for 23-29 factors'!H258-1)*(H$3-H$2)/256), H$4)","v":181},{"$f":"ROUND( I$2+(('coded NOLH for 23-29 factors'!I258-1)*(I$3-I$2)/256), I$4)","v":153},{"$f":"ROUND( J$2+(('coded NOLH for 23-29 factors'!J258-1)*(J$3-J$2)/256), J$4)","v":226},{"$f":"ROUND( K$2+(('coded NOLH for 23-29 factors'!K258-1)*(K$3-K$2)/256), K$4)","v":11},{"$f":"ROUND( L$2+(('coded NOLH for 23-29 factors'!L258-1)*(L$3-L$2)/256), L$4)","v":118},{"$f":"ROUND( M$2+(('coded NOLH for 23-29 factors'!M258-1)*(M$3-M$2)/256), M$4)","v":118},{"$f":"ROUND( N$2+(('coded NOLH for 23-29 factors'!N258-1)*(N$3-N$2)/256), N$4)","v":52},{"$f":"ROUND( O$2+(('coded NOLH for 23-29 factors'!O258-1)*(O$3-O$2)/256), O$4)","v":58},{"$f":"ROUND( P$2+(('coded NOLH for 23-29 factors'!P258-1)*(P$3-P$2)/256), P$4)","v":76},{"$f":"ROUND( Q$2+(('coded NOLH for 23-29 factors'!Q258-1)*(Q$3-Q$2)/256), Q$4)","v":52},{"$f":"ROUND( R$2+(('coded NOLH for 23-29 factors'!R258-1)*(R$3-R$2)/256), R$4)","v":25},{"$f":"ROUND( S$2+(('coded NOLH for 23-29 factors'!S258-1)*(S$3-S$2)/256), S$4)","v":10},{"$f":"ROUND( T$2+(('coded NOLH for 23-29 factors'!T258-1)*(T$3-T$2)/256), T$4)","v":92},{"$f":"ROUND( U$2+(('coded NOLH for 23-29 factors'!U258-1)*(U$3-U$2)/256), U$4)","v":199},{"$f":"ROUND( V$2+(('coded NOLH for 23-29 factors'!V258-1)*(V$3-V$2)/256), V$4)","v":157},{"$f":"ROUND( W$2+(('coded NOLH for 23-29 factors'!W258-1)*(W$3-W$2)/256), W$4)","v":223},{"$f":"ROUND( X$2+(('coded NOLH for 23-29 factors'!X258-1)*(X$3-X$2)/256), X$4)","v":147},{"$f":"ROUND( Y$2+(('coded NOLH for 23-29 factors'!Y258-1)*(Y$3-Y$2)/256), Y$4)","v":250},{"$f":"ROUND( Z$2+(('coded NOLH for 23-29 factors'!Z258-1)*(Z$3-Z$2)/256), Z$4)","v":178},{"$f":"ROUND( AA$2+(('coded NOLH for 23-29 factors'!AA258-1)*(AA$3-AA$2)/256), AA$4)","v":205},{"$f":"ROUND( AB$2+(('coded NOLH for 23-29 factors'!AB258-1)*(AB$3-AB$2)/256), AB$4)","v":252},{"$f":"ROUND( AC$2+(('coded NOLH for 23-29 factors'!AC258-1)*(AC$3-AC$2)/256), AC$4)","v":242},{"$f":"ROUND( AD$2+(('coded NOLH for 23-29 factors'!AD258-1)*(AD$3-AD$2)/256), AD$4)","v":226}]
[null,{"$f":"ROUND( B$2+(('coded NOLH for 23-29 factors'!B259-1)*(B$3-B$2)/256), B$4)","v":229},{"$f":"ROUND( C$2+(('coded NOLH for 23-29 factors'!C259-1)*(C$3-C$2)/256), C$4)","v":244},{"$f":"ROUND( D$2+(('coded NOLH for 23-29 factors'!D259-1)*(D$3-D$2)/256), D$4)","v":41},{"$f":"ROUND( E$2+(('coded NOLH for 23-29 factors'!E259-1)*(E$3-E$2)/256), E$4)","v":245},{"$f":"ROUND( F$2+(('coded NOLH for 23-29 factors'!F259-1)*(F$3-F$2)/256), F$4)","v":132},{"$f":"ROUND( G$2+(('coded NOLH for 23-29 factors'!G259-1)*(G$3-G$2)/256), G$4)","v":148},{"$f":"ROUND( H$2+(('coded NOLH for 23-29 factors'!H259-1)*(H$3-H$2)/256), H$4)","v":207},{"$f":"ROUND( I$2+(('coded NOLH for 23-29 factors'!I259-1)*(I$3-I$2)/256), I$4)","v":216},{"$f":"ROUND( J$2+(('coded NOLH for 23-29 factors'!J259-1)*(J$3-J$2)/256), J$4)","v":29},{"$f":"ROUND( K$2+(('coded NOLH for 23-29 factors'!K259-1)*(K$3-K$2)/256), K$4)","v":166},{"$f":"ROUND( L$2+(('coded NOLH for 23-29 factors'!L259-1)*(L$3-L$2)/256), L$4)","v":172},{"$f":"ROUND( M$2+(('coded NOLH for 23-29 factors'!M259-1)*(M$3-M$2)/256), M$4)","v":187},{"$f":"ROUND( N$2+(('coded NOLH for 23-29 factors'!N259-1)*(N$3-N$2)/256), N$4)","v":177},{"$f":"ROUND( O$2+(('coded NOLH for 23-29 factors'!O259-1)*(O$3-O$2)/256), O$4)","v":161},{"$f":"ROUND( P$2+(('coded NOLH for 23-29 factors'!P259-1)*(P$3-P$2)/256), P$4)","v":117},{"$f":"ROUND( Q$2+(('coded NOLH for 23-29 factors'!Q259-1)*(Q$3-Q$2)/256), Q$4)","v":125},{"$f":"ROUND( R$2+(('coded NOLH for 23-29 factors'!R259-1)*(R$3-R$2)/256), R$4)","v":28},{"$f":"ROUND( S$2+(('coded NOLH for 23-29 factors'!S259-1)*(S$3-S$2)/256), S$4)","v":111},{"$f":"ROUND( T$2+(('coded NOLH for 23-29 factors'!T259-1)*(T$3-T$2)/256), T$4)","v":11},{"$f":"ROUND( U$2+(('coded NOLH for 23-29 factors'!U259-1)*(U$3-U$2)/256), U$4)","v":143},{"$f":"ROUND( V$2+(('coded NOLH for 23-29 factors'!V259-1)*(V$3-V$2)/256), V$4)","v":250},{"$f":"ROUND( W$2+(('coded NOLH for 23-29 factors'!W259-1)*(W$3-W$2)/256), W$4)","v":207},{"$f":"ROUND( X$2+(('coded NOLH for 23-29 factors'!X259-1)*(X$3-X$2)/256), X$4)","v":142},{"$f":"ROUND( Y$2+(('coded NOLH for 23-29 factors'!Y259-1)*(Y$3-Y$2)/256), Y$4)","v":192},{"$f":"ROUND( Z$2+(('coded NOLH for 23-29 factors'!Z259-1)*(Z$3-Z$2)/256), Z$4)","v":236},{"$f":"ROUND( AA$2+(('coded NOLH for 23-29 factors'!AA259-1)*(AA$3-AA$2)/256), AA$4)","v":243},{"$f":"ROUND( AB$2+(('coded NOLH for 23-29 factors'!AB259-1)*(AB$3-AB$2)/256), AB$4)","v":164},{"$f":"ROUND( AC$2+(('coded NOLH for 23-29 factors'!AC259-1)*(AC$3-AC$2)/256), AC$4)","v":201},{"$f":"ROUND( AD$2+(('coded NOLH for 23-29 factors'!AD259-1)*(AD$3-AD$2)/256), AD$4)","v":198}]
[null,{"$f":"ROUND( B$2+(('coded NOLH for 23-29 factors'!B260-1)*(B$3-B$2)/256), B$4)","v":217},{"$f":"ROUND( C$2+(('coded NOLH for 23-29 factors'!C260-1)*(C$3-C$2)/256), C$4)","v":33},{"$f":"ROUND( D$2+(('coded NOLH for 23-29 factors'!D260-1)*(D$3-D$2)/256), D$4)","v":229},{"$f":"ROUND( E$2+(('coded NOLH for 23-29 factors'!E260-1)*(E$3-E$2)/256), E$4)","v":151},{"$f":"ROUND( F$2+(('coded NOLH for 23-29 factors'!F260-1)*(F$3-F$2)/256), F$4)","v":145},{"$f":"ROUND( G$2+(('coded NOLH for 23-29 factors'!G260-1)*(G$3-G$2)/256), G$4)","v":234},{"$f":"ROUND( H$2+(('coded NOLH for 23-29 factors'!H260-1)*(H$3-H$2)/256), H$4)","v":164},{"$f":"ROUND( I$2+(('coded NOLH for 23-29 factors'!I260-1)*(I$3-I$2)/256), I$4)","v":227},{"$f":"ROUND( J$2+(('coded NOLH for 23-29 factors'!J260-1)*(J$3-J$2)/256), J$4)","v":33},{"$f":"ROUND( K$2+(('coded NOLH for 23-29 factors'!K260-1)*(K$3-K$2)/256), K$4)","v":105},{"$f":"ROUND( L$2+(('coded NOLH for 23-29 factors'!L260-1)*(L$3-L$2)/256), L$4)","v":30},{"$f":"ROUND( M$2+(('coded NOLH for 23-29 factors'!M260-1)*(M$3-M$2)/256), M$4)","v":3},{"$f":"ROUND( N$2+(('coded NOLH for 23-29 factors'!N260-1)*(N$3-N$2)/256), N$4)","v":31},{"$f":"ROUND( O$2+(('coded NOLH for 23-29 factors'!O260-1)*(O$3-O$2)/256), O$4)","v":107},{"$f":"ROUND( P$2+(('coded NOLH for 23-29 factors'!P260-1)*(P$3-P$2)/256), P$4)","v":239},{"$f":"ROUND( Q$2+(('coded NOLH for 23-29 factors'!Q260-1)*(Q$3-Q$2)/256), Q$4)","v":152},{"$f":"ROUND( R$2+(('coded NOLH for 23-29 factors'!R260-1)*(R$3-R$2)/256), R$4)","v":157},{"$f":"ROUND( S$2+(('coded NOLH for 23-29 factors'!S260-1)*(S$3-S$2)/256), S$4)","v":202},{"$f":"ROUND( T$2+(('coded NOLH for 23-29 factors'!T260-1)*(T$3-T$2)/256), T$4)","v":208},{"$f":"ROUND( U$2+(('coded NOLH for 23-29 factors'!U260-1)*(U$3-U$2)/256), U$4)","v":177},{"$f":"ROUND( V$2+(('coded NOLH for 23-29 factors'!V260-1)*(V$3-V$2)/256), V$4)","v":165},{"$f":"ROUND( W$2+(('coded NOLH for 23-29 factors'!W260-1)*(W$3-W$2)/256), W$4)","v":200},{"$f":"ROUND( X$2+(('coded NOLH for 23-29 factors'!X260-1)*(X$3-X$2)/256), X$4)","v":245},{"$f":"ROUND( Y$2+(('coded NOLH for 23-29 factors'!Y260-1)*(Y$3-Y$2)/256), Y$4)","v":217},{"$f":"ROUND( Z$2+(('coded NOLH for 23-29 factors'!Z260-1)*(Z$3-Z$2)/256), Z$4)","v":256},{"$f":"ROUND( AA$2+(('coded NOLH for 23-29 factors'!AA260-1)*(AA$3-AA$2)/256), AA$4)","v":187},{"$f":"ROUND( AB$2+(('coded NOLH for 23-29 factors'!AB260-1)*(AB$3-AB$2)/256), AB$4)","v":152},{"$f":"ROUND( AC$2+(('coded NOLH for 23-29 factors'!AC260-1)*(AC$3-AC$2)/256), AC$4)","v":137},{"$f":"ROUND( AD$2+(('coded NOLH for 23-29 factors'!AD260-1)*(AD$3-AD$2)/256), AD$4)","v":255}]
[null,{"$f":"ROUND( B$2+(('coded NOLH for 23-29 factors'!B261-1)*(B$3-B$2)/256), B$4)","v":225},{"$f":"ROUND( C$2+(('coded NOLH for 23-29 factors'!C261-1)*(C$3-C$2)/256), C$4)","v":217},{"$f":"ROUND( D$2+(('coded NOLH for 23-29 factors'!D261-1)*(D$3-D$2)/256), D$4)","v":244},{"$f":"ROUND( E$2+(('coded NOLH for 23-29 factors'!E261-1)*(E$3-E$2)/256), E$4)","v":175},{"$f":"ROUND( F$2+(('coded NOLH for 23-29 factors'!F261-1)*(F$3-F$2)/256), F$4)","v":220},{"$f":"ROUND( G$2+(('coded NOLH for 23-29 factors'!G261-1)*(G$3-G$2)/256), G$4)","v":240},{"$f":"ROUND( H$2+(('coded NOLH for 23-29 factors'!H261-1)*(H$3-H$2)/256), H$4)","v":235},{"$f":"ROUND( I$2+(('coded NOLH for 23-29 factors'!I261-1)*(I$3-I$2)/256), I$4)","v":155},{"$f":"ROUND( J$2+(('coded NOLH for 23-29 factors'!J261-1)*(J$3-J$2)/256), J$4)","v":241},{"$f":"ROUND( K$2+(('coded NOLH for 23-29 factors'!K261-1)*(K$3-K$2)/256), K$4)","v":162},{"$f":"ROUND( L$2+(('coded NOLH for 23-29 factors'!L261-1)*(L$3-L$2)/256), L$4)","v":144},{"$f":"ROUND( M$2+(('coded NOLH for 23-29 factors'!M261-1)*(M$3-M$2)/256), M$4)","v":202},{"$f":"ROUND( N$2+(('coded NOLH for 23-29 factors'!N261-1)*(N$3-N$2)/256), N$4)","v":184},{"$f":"ROUND( O$2+(('coded NOLH for 23-29 factors'!O261-1)*(O$3-O$2)/256), O$4)","v":235},{"$f":"ROUND( P$2+(('coded NOLH for 23-29 factors'!P261-1)*(P$3-P$2)/256), P$4)","v":161},{"$f":"ROUND( Q$2+(('coded NOLH for 23-29 factors'!Q261-1)*(Q$3-Q$2)/256), Q$4)","v":182},{"$f":"ROUND( R$2+(('coded NOLH for 23-29 factors'!R261-1)*(R$3-R$2)/256), R$4)","v":193},{"$f":"ROUND( S$2+(('coded NOLH for 23-29 factors'!S261-1)*(S$3-S$2)/256), S$4)","v":216},{"$f":"ROUND( T$2+(('coded NOLH for 23-29 factors'!T261-1)*(T$3-T$2)/256), T$4)","v":130},{"$f":"ROUND( U$2+(('coded NOLH for 23-29 factors'!U261-1)*(U$3-U$2)/256), U$4)","v":210},{"$f":"ROUND( V$2+(('coded NOLH for 23-29 factors'!V261-1)*(V$3-V$2)/256), V$4)","v":256},{"$f":"ROUND( W$2+(('coded NOLH for 23-29 factors'!W261-1)*(W$3-W$2)/256), W$4)","v":179},{"$f":"ROUND( X$2+(('coded NOLH for 23-29 factors'!X261-1)*(X$3-X$2)/256), X$4)","v":190},{"$f":"ROUND( Y$2+(('coded NOLH for 23-29 factors'!Y261-1)*(Y$3-Y$2)/256), Y$4)","v":174},{"$f":"ROUND( Z$2+(('coded NOLH for 23-29 factors'!Z261-1)*(Z$3-Z$2)/256), Z$4)","v":115},{"$f":"ROUND( AA$2+(('coded NOLH for 23-29 factors'!AA261-1)*(AA$3-AA$2)/256), AA$4)","v":132},{"$f":"ROUND( AB$2+(('coded NOLH for 23-29 factors'!AB261-1)*(AB$3-AB$2)/256), AB$4)","v":140},{"$f":"ROUND( AC$2+(('coded NOLH for 23-29 factors'!AC261-1)*(AC$3-AC$2)/256), AC$4)","v":243},{"$f":"ROUND( AD$2+(('coded NOLH for 23-29 factors'!AD261-1)*(AD$3-AD$2)/256), AD$4)","v":256}]